{"text_format":"1","workbook":"xlsx","n_sheets":5,"sheets":["Inicio","PPAM Fisico","PPAM Salud","PPAM Ambiental","Peligros"],"not_rendered":{"charts":0,"images":3,"macros":1,"external_links":1,"defined_names":4,"comments":0,"pivot_tables":0},"unopened":[],"bounds":{"document_bytes":16777216,"sheet_cells":100000,"rows_first":2000,"rows_last":500,"rows_between":2000,"halvings":0,"cell_chars":16384,"cell_head_chars":4096},"cells_cut":0,"cells_raw":0,"read":"whole","date_system":"1900"}

{"sheet":"Inicio","index":0,"n_rows":11,"n_cols":3,"rows_kept":11,"cut":false,"hidden":false,"merged":[[7,2,7,8],[8,2,8,8],[10,2,10,8]]}
[]
[]
[]
[]
[]
[]
[]
[null,null,"AUTOCLASIFICADOR PARA EL PROGRAMA DE"]
[null,null,"PREVENCIÓN DE ACCIDENTES MAYORES, PPAM"]
[]
[null,null,"REGLA DE LA SUMA - DECRETO 1347 DE 2021"]

{"sheet":"PPAM Fisico","index":1,"n_rows":5001,"n_cols":5,"rows_kept":5001,"cut":false,"hidden":false,"merged":[]}
[{"$f":"CONCATENATE(\"INSTALACIÓN CLASIFICADA PARA PPAM:  \",IF(E1<1,\"NO\",\"SI\"))","v":"INSTALACIÓN CLASIFICADA PARA PPAM:  NO"},"Hoja peligros FÍSICOS. CANTIDADES máximas por capacidad\n(el máximo inventario que cabe en la instalación).",null,"SUMA = ",{"$f":"SUM(E4:E5000)","v":0}]
[null,"Identificar primero por su nombre y CAS. Use el menor umbral."]
["SUSTANCIA ASOCIADA A ACCIDENTES MAYORES\nDECRETO 1347 DE 2021","IDENTIFICACIÓN EN EL ANEXO DEL DECRETO 1347 DE 2021\nPara PELIGROS, selecciónelos de la lista desplegable en cada casilla","UMBRAL TONELADAS\n(QUn)","CANTIDAD\nMÁXIMA/DÍA\n(toneladas)\n(qn)"," qn / Qun"]
["1. Nitrato de amonio (nota 1)","Por su nombre y número CAS",10000,null,{"$f":"IF(C4<>\"\",D4/C4,\"\")","v":0}]
["2. Nitrato de amonio (nota 2)","Por su nombre y número CAS",5000,null,{"$f":"IF(C5<>\"\",D5/C5,\"\")","v":0}]
["3. Nitrato de amonio (nota 3)","Por su nombre y número CAS",2500,null,0]
["4. Nitrato de amonio (nota 4)","Por su nombre y número CAS",50,null,0]
["5. Nitrato de potasio (nota 5)","Por su nombre y número CAS",10000,null,0]
["6. Nitrato de potasio (nota 6)","Por su nombre y número CAS",5000,null,0]
["7. Pentaóxido de diarsénico, ácido arsénico (V) y/o sales","Por su nombre y número CAS",2,null,0]
["8. Trióxido de arsénico, ácido arsenioso (III) y/o sales","Por su nombre y número CAS",0.1,null,0]
["9. Bromo","Por su nombre y número CAS",100,null,0]
["10. Cloro","Por su nombre y número CAS",25,null,0]
["11. Compuestos de níquel en forma pulverulenta inhalable: monóxido de níquel, dióxido de níquel, sulfuro de níquel, disulfuro de triníquel, trióxido de diníquel","Por su nombre y número CAS",1,null,0]
["12. Etilenimina","Por su nombre y número CAS",20,null,0]
["13. Flúor","Por su nombre y número CAS",20,null,0]
["14. Formaldehído (concentración del 90% o más)","Por su nombre y número CAS",50,null,0]
["15. Hidrógeno","Por su nombre y número CAS",50,null,0]
["16. Ácido clorhídrico (gas licuado)","Por su nombre y número CAS",250,null,0]
["17. Derivados de alquilplomo","Por su nombre y número CAS",50,null,0]
["18. Gases inflamables licuados de las categorías 1 o 2 (incluido el GLP) y gas natural (nota 7)","Por su nombre y número CAS",200,null,0]
["19. Acetileno","Por su nombre y número CAS",50,null,0]
["20. Óxido de etileno","Por su nombre y número CAS",50,null,0]
["21. Óxido de propileno","Por su nombre y número CAS",50,null,0]
["22. Metanol","Por su nombre y número CAS",5000,null,0]
["23. 4,4´-metilen-bis (2-cloroanilina) y/o sus sales en forma pulverulenta","Por su nombre y número CAS",0.01,null,0]
["24. Isocianato de metilo","Por su nombre y número CAS",0.15,null,0]
["25. Oxígeno","Por su nombre y número CAS",2000,null,0]
["26. 2,4-diisocianato de tolueno\n       2,6-diisocianato de tolueno","Por su nombre y número CAS",100,null,0]
["27. Dicloruro de carbonilo (fosgeno)","Por su nombre y número CAS",0.75,null,0]
["28. Arsina (trihidruro de arsénico)","Por su nombre y número CAS",1,null,0]
["29. Fosfina (trihidruro de fósforo)","Por su nombre y número CAS",1,null,0]
["30. Dicloruro de azufre","Por su nombre y número CAS",1,null,0]
["31. Trióxido de azufre","Por su nombre y número CAS",75,null,0]
["32. Policlorodibenzofuranos y policlorodibenzo-dioxinas (incluida la TCDD) calculadas en equivalente de TCDD (nota 8)","Por su nombre y número CAS",1E-3,null,0]
["33. CARCINÓGENOS o mezclas que contengan más de 5% en peso de:\n4-aminodifenilo y/o sus sales, triclorobenceno, bencidina y/o sus sales, éter bis (clorometílico), éter clorometílico y metílico, 1,2-dibromoetano, sulfato de dietilo, sulfato de dimetilo, cloruro de dimetil-carbamoilo, 1,2-dibromo-3-cloropropano, 1,2-dimetilhidracina, dimetilnitrosamina, triamida hexametilfosfórica, hidracina, 2-naftilamina y/o sus sales, 4-nitrodifenil o 1,3-propanosulfona","Por su nombre y número CAS",2,null,0]
["34. Petróleo, sus derivados y combustibles alternativos\n       a) gasolinas y naftas\n       b) querosenos (incluidos carburorreactores)\n       c) gasóleos\n      d) fuelóleos pesados\n      e) combustibles alternativos a los mencionados en las letras a) a d) destinados a los mismos fines y con propiedades similares en lo relativo a la inflamabilidad y los peligros medioambientales","Por su nombre y número CAS",25000,null,0]
["35. Amoniaco anhidro","Por su nombre y número CAS",200,null,0]
["36. Trifluoruro de boro","Por su nombre y número CAS",20,null,0]
["37. Sulfuro de hidrógeno","Por su nombre y número CAS",20,null,0]
["38. Piperidina","Por su nombre y número CAS",200,null,0]
["39. Bis(2-dimetilaminoetil) (metil)amina","Por su nombre y número CAS",200,null,0]
["40. 3-(2-etilhexiloxi) propilamina","Por su nombre y número CAS",200,null,0]
["41. Mezclas (*) de hipoclorito de sodio clasificadas como peligrosas para el ambiente acuático en la categoría 1 de peligro agudo que contengan menos de un 5% de cloro activo y no estén clasificadas en ninguna otra categoría de peligro en la parte 1 de la tabla (Sustancias por categorías de peligro - SGA)\n(*) Siempre que la mezcla, en ausencia de hipoclorito de sodio, no esté clasificada como peligrosa para el ambiente acuático en la categoría 1 de peligro agudo.","Por su nombre y número CAS",500,null,0]
["42. Propilamina","Por su nombre y número CAS",2000,null,0]
["43. Acrilato de terc-butilo","Por su nombre y número CAS",500,null,0]
["44. 2-metil-3-butenonitrilo","Por su nombre y número CAS",2000,null,0]
["45. Tetrahidro-3,5-dimetil-1,3,5-tiadiazina-2-tiona (dazomet)","Por su nombre y número CAS",200,null,0]
["46. Acrilato de metilo","Por su nombre y número CAS",2000,null,0]
["47. 3-metilpiridina","Por su nombre y número CAS",2000,null,0]
["48. 1-bromo-3-cloropropano","Por su nombre y número CAS",2000,null,0]
["49. Clorato de sodio","Por su nombre y número CAS",250,null,0]
["50. Amoniaco en solución","Por su nombre y número CAS",500,null,0]
["51. Cianuro de hidrógeno","Por su nombre y número CAS",20,null,0]
["52. Fluoruro de hidrógeno","Por su nombre y número CAS",50,null,0]
["53. Dióxido de azufre","Por su nombre y número CAS",250,null,0]
["54. Acrilonitrilo","Por su nombre y número CAS",200,null,0]
["55. Disulfoton","Por su nombre y número CAS",0.1,null,0]
["56. Paration","Por su nombre y número CAS",0.1,null,0]
["57. Aldicarb","Por su nombre y número CAS",0.1,null,0]
["58. Warfarina","Por su nombre y número CAS",0.1,null,0]
["59. Cloruro de vinilo monómero","Por su nombre y número CAS",50,null,0]
["60. Metil bromuro (bromuro de metilo / CH3Br)","Por su nombre y número CAS",200,null,0]
["61. Tetraetilo de plomo (plomo tetraetilo / Pb(C2H5)4)","Por su nombre y número CAS",50,null,0]
["A partir de aquí, escriba los nombres y al frente seleccione su peligro","Seleccione el peligro de la lista desplegable en cada casilla",null,"* * *",""]
[null,null,{"$f":"IF(B66<>\"\",VLOOKUP(B66,Peligrosppam,2,FALSE),\"\")","v":""},null,""]
[null,null,"",null,""]
[null,null,"",null,""]
[null,null,"",null,{"$f":"IF(C69<>\"\",D69/C69,\"\")","v":""}]
[null,null,"",null,""]
[null,null,"",null,""]
[null,null,"",null,""]
[null,null,"",null,""]
[null,null,"",null,""]
[null,null,"",null,""]
[null,null,"",null,""]
[null,null,"",null,""]
[null,null,"",null,""]
[null,null,"",null,""]
[null,null,"",null,""]
[null,null,"",null,""]
[null,null,"",null,""]
[null,null,"",null,""]
[null,null,"",null,""]
[null,null,"",null,""]
[null,null,"",null,""]
[null,null,"",null,""]
[null,null,"",null,""]
[null,null,"",null,""]
[null,null,"",null,""]
[null,null,"",null,""]
[null,null,"",null,""]
[null,null,"",null,""]
[null,null,"",null,""]
[null,null,"",null,""]
[null,null,"",null,""]
[null,null,"",null,""]
[null,null,"",null,""]
[null,null,"",null,""]
[null,null,"",null,""]
[null,null,"",null,""]
[null,null,"",null,""]
[null,null,"",null,""]
[null,null,"",null,""]
[null,null,"",null,""]
[null,null,"",null,""]
[null,null,"",null,""]
[null,null,"",null,""]
[null,null,"",null,""]
[null,null,"",null,""]
[null,null,"",null,""]
[null,null,"",null,""]
[null,null,"",null,""]
[null,null,"",null,""]
[null,null,"",null,""]
[null,null,"",null,""]
[null,null,"",null,""]
[null,null,"",null,""]
[null,null,"",null,""]
[null,null,"",null,""]
[null,null,"",null,""]
[null,null,"",null,""]
[null,null,"",null,""]
[null,null,"",null,""]
[null,null,"",null,""]
[null,null,"",null,""]
[null,null,"",null,""]
[null,null,"",null,""]
[null,null,"",null,""]
[null,null,{"$f":"IF(B130<>\"\",VLOOKUP(B130,Peligrosppam,2,FALSE),\"\")","v":""},null,""]
[null,null,"",null,""]
[null,null,"",null,""]
[null,null,"",null,{"$f":"IF(C133<>\"\",D133/C133,\"\")","v":""}]
[null,null,"",null,""]
[null,null,"",null,""]
[null,null,"",null,""]
[null,null,"",null,""]
[null,null,"",null,""]
[null,null,"",null,""]
[null,null,"",null,""]
[null,null,"",null,""]
[null,null,"",null,""]
[null,null,"",null,""]
[null,null,"",null,""]
[null,null,"",null,""]
[null,null,"",null,""]
[null,null,"",null,""]
[null,null,"",null,""]
[null,null,"",null,""]
[null,null,"",null,""]
[null,null,"",null,""]
[null,null,"",null,""]
[null,null,"",null,""]
[null,null,"",null,""]
[null,null,"",null,""]
[null,null,"",null,""]
[null,null,"",null,""]
[null,null,"",null,""]
[null,null,"",null,""]
[null,null,"",null,""]
[null,null,"",null,""]
[null,null,"",null,""]
[null,null,"",null,""]
[null,null,"",null,""]
[null,null,"",null,""]
[null,null,"",null,""]
[null,null,"",null,""]
[null,null,"",null,""]
[null,null,"",null,""]
[null,null,"",null,""]
[null,null,"",null,""]
[null,null,"",null,""]
[null,null,"",null,""]
[null,null,"",null,""]
[null,null,"",null,""]
[null,null,"",null,""]
[null,null,"",null,""]
[null,null,"",null,""]
[null,null,"",null,""]
[null,null,"",null,""]
[null,null,"",null,""]
[null,null,"",null,""]
[null,null,"",null,""]
[null,null,"",null,""]
[null,null,"",null,""]
[null,null,"",null,""]
[null,null,"",null,""]
[null,null,"",null,""]
[null,null,"",null,""]
[null,null,"",null,""]
[null,null,"",null,""]
[null,null,"",null,""]
[null,null,"",null,""]
[null,null,{"$f":"IF(B194<>\"\",VLOOKUP(B194,Peligrosppam,2,FALSE),\"\")","v":""},null,""]
[null,null,"",null,""]
[null,null,"",null,""]
[null,null,"",null,{"$f":"IF(C197<>\"\",D197/C197,\"\")","v":""}]
[null,null,"",null,""]
[null,null,"",null,""]
[null,null,"",null,""]
[null,null,"",null,""]
[null,null,"",null,""]
[null,null,"",null,""]
[null,null,"",null,""]
[null,null,"",null,""]
[null,null,"",null,""]
[null,null,"",null,""]
[null,null,"",null,""]
[null,null,"",null,""]
[null,null,"",null,""]
[null,null,"",null,""]
[null,null,"",null,""]
[null,null,"",null,""]
[null,null,"",null,""]
[null,null,"",null,""]
[null,null,"",null,""]
[null,null,"",null,""]
[null,null,"",null,""]
[null,null,"",null,""]
[null,null,"",null,""]
[null,null,"",null,""]
[null,null,"",null,""]
[null,null,"",null,""]
[null,null,"",null,""]
[null,null,"",null,""]
[null,null,"",null,""]
[null,null,"",null,""]
[null,null,"",null,""]
[null,null,"",null,""]
[null,null,"",null,""]
[null,null,"",null,""]
[null,null,"",null,""]
[null,null,"",null,""]
[null,null,"",null,""]
[null,null,"",null,""]
[null,null,"",null,""]
[null,null,"",null,""]
[null,null,"",null,""]
[null,null,"",null,""]
[null,null,"",null,""]
[null,null,"",null,""]
[null,null,"",null,""]
[null,null,"",null,""]
[null,null,"",null,""]
[null,null,"",null,""]
[null,null,"",null,""]
[null,null,"",null,""]
[null,null,"",null,""]
[null,null,"",null,""]
[null,null,"",null,""]
[null,null,"",null,""]
[null,null,"",null,""]
[null,null,"",null,""]
[null,null,"",null,""]
[null,null,"",null,""]
[null,null,"",null,""]
[null,null,"",null,""]
[null,null,{"$f":"IF(B258<>\"\",VLOOKUP(B258,Peligrosppam,2,FALSE),\"\")","v":""},null,""]
[null,null,"",null,""]
[null,null,"",null,""]
[null,null,"",null,{"$f":"IF(C261<>\"\",D261/C261,\"\")","v":""}]
[null,null,"",null,""]
[null,null,"",null,""]
[null,null,"",null,""]
[null,null,"",null,""]
[null,null,"",null,""]
[null,null,"",null,""]
[null,null,"",null,""]
[null,null,"",null,""]
[null,null,"",null,""]
[null,null,"",null,""]
[null,null,"",null,""]
[null,null,"",null,""]
[null,null,"",null,""]
[null,null,"",null,""]
[null,null,"",null,""]
[null,null,"",null,""]
[null,null,"",null,""]
[null,null,"",null,""]
[null,null,"",null,""]
[null,null,"",null,""]
[null,null,"",null,""]
[null,null,"",null,""]
[null,null,"",null,""]
[null,null,"",null,""]
[null,null,"",null,""]
[null,null,"",null,""]
[null,null,"",null,""]
[null,null,"",null,""]
[null,null,"",null,""]
[null,null,"",null,""]
[null,null,"",null,""]
[null,null,"",null,""]
[null,null,"",null,""]
[null,null,"",null,""]
[null,null,"",null,""]
[null,null,"",null,""]
[null,null,"",null,""]
[null,null,"",null,""]
[null,null,"",null,""]
[null,null,"",null,""]
[null,null,"",null,""]
[null,null,"",null,""]
[null,null,"",null,""]
[null,null,"",null,""]
[null,null,"",null,""]
[null,null,"",null,""]
[null,null,"",null,""]
[null,null,"",null,""]
[null,null,"",null,""]
[null,null,"",null,""]
[null,null,"",null,""]
[null,null,"",null,""]
[null,null,"",null,""]
[null,null,"",null,""]
[null,null,"",null,""]
[null,null,"",null,""]
[null,null,"",null,""]
[null,null,"",null,""]
[null,null,"",null,""]
[null,null,"",null,""]
[null,null,{"$f":"IF(B322<>\"\",VLOOKUP(B322,Peligrosppam,2,FALSE),\"\")","v":""},null,""]
[null,null,"",null,""]
[null,null,"",null,""]
[null,null,"",null,{"$f":"IF(C325<>\"\",D325/C325,\"\")","v":""}]
[null,null,"",null,""]
[null,null,"",null,""]
[null,null,"",null,""]
[null,null,"",null,""]
[null,null,"",null,""]
[null,null,"",null,""]
[null,null,"",null,""]
[null,null,"",null,""]
[null,null,"",null,""]
[null,null,"",null,""]
[null,null,"",null,""]
[null,null,"",null,""]
[null,null,"",null,""]
[null,null,"",null,""]
[null,null,"",null,""]
[null,null,"",null,""]
[null,null,"",null,""]
[null,null,"",null,""]
[null,null,"",null,""]
[null,null,"",null,""]
[null,null,"",null,""]
[null,null,"",null,""]
[null,null,"",null,""]
[null,null,"",null,""]
[null,null,"",null,""]
[null,null,"",null,""]
[null,null,"",null,""]
[null,null,"",null,""]
[null,null,"",null,""]
[null,null,"",null,""]
[null,null,"",null,""]
[null,null,"",null,""]
[null,null,"",null,""]
[null,null,"",null,""]
[null,null,"",null,""]
[null,null,"",null,""]
[null,null,"",null,""]
[null,null,"",null,""]
[null,null,"",null,""]
[null,null,"",null,""]
[null,null,"",null,""]
[null,null,"",null,""]
[null,null,"",null,""]
[null,null,"",null,""]
[null,null,"",null,""]
[null,null,"",null,""]
[null,null,"",null,""]
[null,null,"",null,""]
[null,null,"",null,""]
[null,null,"",null,""]
[null,null,"",null,""]
[null,null,"",null,""]
[null,null,"",null,""]
[null,null,"",null,""]
[null,null,"",null,""]
[null,null,"",null,""]
[null,null,"",null,""]
[null,null,"",null,""]
[null,null,"",null,""]
[null,null,"",null,""]
[null,null,{"$f":"IF(B386<>\"\",VLOOKUP(B386,Peligrosppam,2,FALSE),\"\")","v":""},null,""]
[null,null,"",null,""]
[null,null,"",null,""]
[null,null,"",null,{"$f":"IF(C389<>\"\",D389/C389,\"\")","v":""}]
[null,null,"",null,""]
[null,null,"",null,""]
[null,null,"",null,""]
[null,null,"",null,""]
[null,null,"",null,""]
[null,null,"",null,""]
[null,null,"",null,""]
[null,null,"",null,""]
[null,null,"",null,""]
[null,null,"",null,""]
[null,null,"",null,""]
[null,null,"",null,""]
[null,null,"",null,""]
[null,null,"",null,""]
[null,null,"",null,""]
[null,null,"",null,""]
[null,null,"",null,""]
[null,null,"",null,""]
[null,null,"",null,""]
[null,null,"",null,""]
[null,null,"",null,""]
[null,null,"",null,""]
[null,null,"",null,""]
[null,null,"",null,""]
[null,null,"",null,""]
[null,null,"",null,""]
[null,null,"",null,""]
[null,null,"",null,""]
[null,null,"",null,""]
[null,null,"",null,""]
[null,null,"",null,""]
[null,null,"",null,""]
[null,null,"",null,""]
[null,null,"",null,""]
[null,null,"",null,""]
[null,null,"",null,""]
[null,null,"",null,""]
[null,null,"",null,""]
[null,null,"",null,""]
[null,null,"",null,""]
[null,null,"",null,""]
[null,null,"",null,""]
[null,null,"",null,""]
[null,null,"",null,""]
[null,null,"",null,""]
[null,null,"",null,""]
[null,null,"",null,""]
[null,null,"",null,""]
[null,null,"",null,""]
[null,null,"",null,""]
[null,null,"",null,""]
[null,null,"",null,""]
[null,null,"",null,""]
[null,null,"",null,""]
[null,null,"",null,""]
[null,null,"",null,""]
[null,null,"",null,""]
[null,null,"",null,""]
[null,null,"",null,""]
[null,null,"",null,""]
[null,null,{"$f":"IF(B450<>\"\",VLOOKUP(B450,Peligrosppam,2,FALSE),\"\")","v":""},null,""]
[null,null,"",null,""]
[null,null,"",null,""]
[null,null,"",null,{"$f":"IF(C453<>\"\",D453/C453,\"\")","v":""}]
[null,null,"",null,""]
[null,null,"",null,""]
[null,null,"",null,""]
[null,null,"",null,""]
[null,null,"",null,""]
[null,null,"",null,""]
[null,null,"",null,""]
[null,null,"",null,""]
[null,null,"",null,""]
[null,null,"",null,""]
[null,null,"",null,""]
[null,null,"",null,""]
[null,null,"",null,""]
[null,null,"",null,""]
[null,null,"",null,""]
[null,null,"",null,""]
[null,null,"",null,""]
[null,null,"",null,""]
[null,null,"",null,""]
[null,null,"",null,""]
[null,null,"",null,""]
[null,null,"",null,""]
[null,null,"",null,""]
[null,null,"",null,""]
[null,null,"",null,""]
[null,null,"",null,""]
[null,null,"",null,""]
[null,null,"",null,""]
[null,null,"",null,""]
[null,null,"",null,""]
[null,null,"",null,""]
[null,null,"",null,""]
[null,null,"",null,""]
[null,null,"",null,""]
[null,null,"",null,""]
[null,null,"",null,""]
[null,null,"",null,""]
[null,null,"",null,""]
[null,null,"",null,""]
[null,null,"",null,""]
[null,null,"",null,""]
[null,null,"",null,""]
[null,null,"",null,""]
[null,null,"",null,""]
[null,null,"",null,""]
[null,null,"",null,""]
[null,null,"",null,""]
[null,null,"",null,""]
[null,null,"",null,""]
[null,null,"",null,""]
[null,null,"",null,""]
[null,null,"",null,""]
[null,null,"",null,""]
[null,null,"",null,""]
[null,null,"",null,""]
[null,null,"",null,""]
[null,null,"",null,""]
[null,null,"",null,""]
[null,null,"",null,""]
[null,null,"",null,""]
[null,null,{"$f":"IF(B514<>\"\",VLOOKUP(B514,Peligrosppam,2,FALSE),\"\")","v":""},null,""]
[null,null,"",null,""]
[null,null,"",null,""]
[null,null,"",null,{"$f":"IF(C517<>\"\",D517/C517,\"\")","v":""}]
[null,null,"",null,""]
[null,null,"",null,""]
[null,null,"",null,""]
[null,null,"",null,""]
[null,null,"",null,""]
[null,null,"",null,""]
[null,null,"",null,""]
[null,null,"",null,""]
[null,null,"",null,""]
[null,null,"",null,""]
[null,null,"",null,""]
[null,null,"",null,""]
[null,null,"",null,""]
[null,null,"",null,""]
[null,null,"",null,""]
[null,null,"",null,""]
[null,null,"",null,""]
[null,null,"",null,""]
[null,null,"",null,""]
[null,null,"",null,""]
[null,null,"",null,""]
[null,null,"",null,""]
[null,null,"",null,""]
[null,null,"",null,""]
[null,null,"",null,""]
[null,null,"",null,""]
[null,null,"",null,""]
[null,null,"",null,""]
[null,null,"",null,""]
[null,null,"",null,""]
[null,null,"",null,""]
[null,null,"",null,""]
[null,null,"",null,""]
[null,null,"",null,""]
[null,null,"",null,""]
[null,null,"",null,""]
[null,null,"",null,""]
[null,null,"",null,""]
[null,null,"",null,""]
[null,null,"",null,""]
[null,null,"",null,""]
[null,null,"",null,""]
[null,null,"",null,""]
[null,null,"",null,""]
[null,null,"",null,""]
[null,null,"",null,""]
[null,null,"",null,""]
[null,null,"",null,""]
[null,null,"",null,""]
[null,null,"",null,""]
[null,null,"",null,""]
[null,null,"",null,""]
[null,null,"",null,""]
[null,null,"",null,""]
[null,null,"",null,""]
[null,null,"",null,""]
[null,null,"",null,""]
[null,null,"",null,""]
[null,null,"",null,""]
[null,null,"",null,""]
[null,null,{"$f":"IF(B578<>\"\",VLOOKUP(B578,Peligrosppam,2,FALSE),\"\")","v":""},null,""]
[null,null,"",null,""]
[null,null,"",null,""]
[null,null,"",null,{"$f":"IF(C581<>\"\",D581/C581,\"\")","v":""}]
[null,null,"",null,""]
[null,null,"",null,""]
[null,null,"",null,""]
[null,null,"",null,""]
[null,null,"",null,""]
[null,null,"",null,""]
[null,null,"",null,""]
[null,null,"",null,""]
[null,null,"",null,""]
[null,null,"",null,""]
[null,null,"",null,""]
[null,null,"",null,""]
[null,null,"",null,""]
[null,null,"",null,""]
[null,null,"",null,""]
[null,null,"",null,""]
[null,null,"",null,""]
[null,null,"",null,""]
[null,null,"",null,""]
[null,null,"",null,""]
[null,null,"",null,""]
[null,null,"",null,""]
[null,null,"",null,""]
[null,null,"",null,""]
[null,null,"",null,""]
[null,null,"",null,""]
[null,null,"",null,""]
[null,null,"",null,""]
[null,null,"",null,""]
[null,null,"",null,""]
[null,null,"",null,""]
[null,null,"",null,""]
[null,null,"",null,""]
[null,null,"",null,""]
[null,null,"",null,""]
[null,null,"",null,""]
[null,null,"",null,""]
[null,null,"",null,""]
[null,null,"",null,""]
[null,null,"",null,""]
[null,null,"",null,""]
[null,null,"",null,""]
[null,null,"",null,""]
[null,null,"",null,""]
[null,null,"",null,""]
[null,null,"",null,""]
[null,null,"",null,""]
[null,null,"",null,""]
[null,null,"",null,""]
[null,null,"",null,""]
[null,null,"",null,""]
[null,null,"",null,""]
[null,null,"",null,""]
[null,null,"",null,""]
[null,null,"",null,""]
[null,null,"",null,""]
[null,null,"",null,""]
[null,null,"",null,""]
[null,null,"",null,""]
[null,null,"",null,""]
[null,null,{"$f":"IF(B642<>\"\",VLOOKUP(B642,Peligrosppam,2,FALSE),\"\")","v":""},null,""]
[null,null,"",null,""]
[null,null,"",null,""]
[null,null,"",null,{"$f":"IF(C645<>\"\",D645/C645,\"\")","v":""}]
[null,null,"",null,""]
[null,null,"",null,""]
[null,null,"",null,""]
[null,null,"",null,""]
[null,null,"",null,""]
[null,null,"",null,""]
[null,null,"",null,""]
[null,null,"",null,""]
[null,null,"",null,""]
[null,null,"",null,""]
[null,null,"",null,""]
[null,null,"",null,""]
[null,null,"",null,""]
[null,null,"",null,""]
[null,null,"",null,""]
[null,null,"",null,""]
[null,null,"",null,""]
[null,null,"",null,""]
[null,null,"",null,""]
[null,null,"",null,""]
[null,null,"",null,""]
[null,null,"",null,""]
[null,null,"",null,""]
[null,null,"",null,""]
[null,null,"",null,""]
[null,null,"",null,""]
[null,null,"",null,""]
[null,null,"",null,""]
[null,null,"",null,""]
[null,null,"",null,""]
[null,null,"",null,""]
[null,null,"",null,""]
[null,null,"",null,""]
[null,null,"",null,""]
[null,null,"",null,""]
[null,null,"",null,""]
[null,null,"",null,""]
[null,null,"",null,""]
[null,null,"",null,""]
[null,null,"",null,""]
[null,null,"",null,""]
[null,null,"",null,""]
[null,null,"",null,""]
[null,null,"",null,""]
[null,null,"",null,""]
[null,null,"",null,""]
[null,null,"",null,""]
[null,null,"",null,""]
[null,null,"",null,""]
[null,null,"",null,""]
[null,null,"",null,""]
[null,null,"",null,""]
[null,null,"",null,""]
[null,null,"",null,""]
[null,null,"",null,""]
[null,null,"",null,""]
[null,null,"",null,""]
[null,null,"",null,""]
[null,null,"",null,""]
[null,null,"",null,""]
[null,null,{"$f":"IF(B706<>\"\",VLOOKUP(B706,Peligrosppam,2,FALSE),\"\")","v":""},null,""]
[null,null,"",null,""]
[null,null,"",null,""]
[null,null,"",null,{"$f":"IF(C709<>\"\",D709/C709,\"\")","v":""}]
[null,null,"",null,""]
[null,null,"",null,""]
[null,null,"",null,""]
[null,null,"",null,""]
[null,null,"",null,""]
[null,null,"",null,""]
[null,null,"",null,""]
[null,null,"",null,""]
[null,null,"",null,""]
[null,null,"",null,""]
[null,null,"",null,""]
[null,null,"",null,""]
[null,null,"",null,""]
[null,null,"",null,""]
[null,null,"",null,""]
[null,null,"",null,""]
[null,null,"",null,""]
[null,null,"",null,""]
[null,null,"",null,""]
[null,null,"",null,""]
[null,null,"",null,""]
[null,null,"",null,""]
[null,null,"",null,""]
[null,null,"",null,""]
[null,null,"",null,""]
[null,null,"",null,""]
[null,null,"",null,""]
[null,null,"",null,""]
[null,null,"",null,""]
[null,null,"",null,""]
[null,null,"",null,""]
[null,null,"",null,""]
[null,null,"",null,""]
[null,null,"",null,""]
[null,null,"",null,""]
[null,null,"",null,""]
[null,null,"",null,""]
[null,null,"",null,""]
[null,null,"",null,""]
[null,null,"",null,""]
[null,null,"",null,""]
[null,null,"",null,""]
[null,null,"",null,""]
[null,null,"",null,""]
[null,null,"",null,""]
[null,null,"",null,""]
[null,null,"",null,""]
[null,null,"",null,""]
[null,null,"",null,""]
[null,null,"",null,""]
[null,null,"",null,""]
[null,null,"",null,""]
[null,null,"",null,""]
[null,null,"",null,""]
[null,null,"",null,""]
[null,null,"",null,""]
[null,null,"",null,""]
[null,null,"",null,""]
[null,null,"",null,""]
[null,null,"",null,""]
[null,null,{"$f":"IF(B770<>\"\",VLOOKUP(B770,Peligrosppam,2,FALSE),\"\")","v":""},null,""]
[null,null,"",null,""]
[null,null,"",null,""]
[null,null,"",null,{"$f":"IF(C773<>\"\",D773/C773,\"\")","v":""}]
[null,null,"",null,""]
[null,null,"",null,""]
[null,null,"",null,""]
[null,null,"",null,""]
[null,null,"",null,""]
[null,null,"",null,""]
[null,null,"",null,""]
[null,null,"",null,""]
[null,null,"",null,""]
[null,null,"",null,""]
[null,null,"",null,""]
[null,null,"",null,""]
[null,null,"",null,""]
[null,null,"",null,""]
[null,null,"",null,""]
[null,null,"",null,""]
[null,null,"",null,""]
[null,null,"",null,""]
[null,null,"",null,""]
[null,null,"",null,""]
[null,null,"",null,""]
[null,null,"",null,""]
[null,null,"",null,""]
[null,null,"",null,""]
[null,null,"",null,""]
[null,null,"",null,""]
[null,null,"",null,""]
[null,null,"",null,""]
[null,null,"",null,""]
[null,null,"",null,""]
[null,null,"",null,""]
[null,null,"",null,""]
[null,null,"",null,""]
[null,null,"",null,""]
[null,null,"",null,""]
[null,null,"",null,""]
[null,null,"",null,""]
[null,null,"",null,""]
[null,null,"",null,""]
[null,null,"",null,""]
[null,null,"",null,""]
[null,null,"",null,""]
[null,null,"",null,""]
[null,null,"",null,""]
[null,null,"",null,""]
[null,null,"",null,""]
[null,null,"",null,""]
[null,null,"",null,""]
[null,null,"",null,""]
[null,null,"",null,""]
[null,null,"",null,""]
[null,null,"",null,""]
[null,null,"",null,""]
[null,null,"",null,""]
[null,null,"",null,""]
[null,null,"",null,""]
[null,null,"",null,""]
[null,null,"",null,""]
[null,null,"",null,""]
[null,null,"",null,""]
[null,null,{"$f":"IF(B834<>\"\",VLOOKUP(B834,Peligrosppam,2,FALSE),\"\")","v":""},null,""]
[null,null,"",null,""]
[null,null,"",null,""]
[null,null,"",null,{"$f":"IF(C837<>\"\",D837/C837,\"\")","v":""}]
[null,null,"",null,""]
[null,null,"",null,""]
[null,null,"",null,""]
[null,null,"",null,""]
[null,null,"",null,""]
[null,null,"",null,""]
[null,null,"",null,""]
[null,null,"",null,""]
[null,null,"",null,""]
[null,null,"",null,""]
[null,null,"",null,""]
[null,null,"",null,""]
[null,null,"",null,""]
[null,null,"",null,""]
[null,null,"",null,""]
[null,null,"",null,""]
[null,null,"",null,""]
[null,null,"",null,""]
[null,null,"",null,""]
[null,null,"",null,""]
[null,null,"",null,""]
[null,null,"",null,""]
[null,null,"",null,""]
[null,null,"",null,""]
[null,null,"",null,""]
[null,null,"",null,""]
[null,null,"",null,""]
[null,null,"",null,""]
[null,null,"",null,""]
[null,null,"",null,""]
[null,null,"",null,""]
[null,null,"",null,""]
[null,null,"",null,""]
[null,null,"",null,""]
[null,null,"",null,""]
[null,null,"",null,""]
[null,null,"",null,""]
[null,null,"",null,""]
[null,null,"",null,""]
[null,null,"",null,""]
[null,null,"",null,""]
[null,null,"",null,""]
[null,null,"",null,""]
[null,null,"",null,""]
[null,null,"",null,""]
[null,null,"",null,""]
[null,null,"",null,""]
[null,null,"",null,""]
[null,null,"",null,""]
[null,null,"",null,""]
[null,null,"",null,""]
[null,null,"",null,""]
[null,null,"",null,""]
[null,null,"",null,""]
[null,null,"",null,""]
[null,null,"",null,""]
[null,null,"",null,""]
[null,null,"",null,""]
[null,null,"",null,""]
[null,null,"",null,""]
[null,null,{"$f":"IF(B898<>\"\",VLOOKUP(B898,Peligrosppam,2,FALSE),\"\")","v":""},null,""]
[null,null,"",null,""]
[null,null,"",null,""]
[null,null,"",null,{"$f":"IF(C901<>\"\",D901/C901,\"\")","v":""}]
[null,null,"",null,""]
[null,null,"",null,""]
[null,null,"",null,""]
[null,null,"",null,""]
[null,null,"",null,""]
[null,null,"",null,""]
[null,null,"",null,""]
[null,null,"",null,""]
[null,null,"",null,""]
[null,null,"",null,""]
[null,null,"",null,""]
[null,null,"",null,""]
[null,null,"",null,""]
[null,null,"",null,""]
[null,null,"",null,""]
[null,null,"",null,""]
[null,null,"",null,""]
[null,null,"",null,""]
[null,null,"",null,""]
[null,null,"",null,""]
[null,null,"",null,""]
[null,null,"",null,""]
[null,null,"",null,""]
[null,null,"",null,""]
[null,null,"",null,""]
[null,null,"",null,""]
[null,null,"",null,""]
[null,null,"",null,""]
[null,null,"",null,""]
[null,null,"",null,""]
[null,null,"",null,""]
[null,null,"",null,""]
[null,null,"",null,""]
[null,null,"",null,""]
[null,null,"",null,""]
[null,null,"",null,""]
[null,null,"",null,""]
[null,null,"",null,""]
[null,null,"",null,""]
[null,null,"",null,""]
[null,null,"",null,""]
[null,null,"",null,""]
[null,null,"",null,""]
[null,null,"",null,""]
[null,null,"",null,""]
[null,null,"",null,""]
[null,null,"",null,""]
[null,null,"",null,""]
[null,null,"",null,""]
[null,null,"",null,""]
[null,null,"",null,""]
[null,null,"",null,""]
[null,null,"",null,""]
[null,null,"",null,""]
[null,null,"",null,""]
[null,null,"",null,""]
[null,null,"",null,""]
[null,null,"",null,""]
[null,null,"",null,""]
[null,null,"",null,""]
[null,null,{"$f":"IF(B962<>\"\",VLOOKUP(B962,Peligrosppam,2,FALSE),\"\")","v":""},null,""]
[null,null,"",null,""]
[null,null,"",null,""]
[null,null,"",null,{"$f":"IF(C965<>\"\",D965/C965,\"\")","v":""}]
[null,null,"",null,""]
[null,null,"",null,""]
[null,null,"",null,""]
[null,null,"",null,""]
[null,null,"",null,""]
[null,null,"",null,""]
[null,null,"",null,""]
[null,null,"",null,""]
[null,null,"",null,""]
[null,null,"",null,""]
[null,null,"",null,""]
[null,null,"",null,""]
[null,null,"",null,""]
[null,null,"",null,""]
[null,null,"",null,""]
[null,null,"",null,""]
[null,null,"",null,""]
[null,null,"",null,""]
[null,null,"",null,""]
[null,null,"",null,""]
[null,null,"",null,""]
[null,null,"",null,""]
[null,null,"",null,""]
[null,null,"",null,""]
[null,null,"",null,""]
[null,null,"",null,""]
[null,null,"",null,""]
[null,null,"",null,""]
[null,null,"",null,""]
[null,null,"",null,""]
[null,null,"",null,""]
[null,null,"",null,""]
[null,null,"",null,""]
[null,null,"",null,""]
[null,null,"",null,""]
[null,null,"",null,""]
[null,null,"",null,""]
[null,null,"",null,""]
[null,null,"",null,""]
[null,null,"",null,""]
[null,null,"",null,""]
[null,null,"",null,""]
[null,null,"",null,""]
[null,null,"",null,""]
[null,null,"",null,""]
[null,null,"",null,""]
[null,null,"",null,""]
[null,null,"",null,""]
[null,null,"",null,""]
[null,null,"",null,""]
[null,null,"",null,""]
[null,null,"",null,""]
[null,null,"",null,""]
[null,null,"",null,""]
[null,null,"",null,""]
[null,null,"",null,""]
[null,null,"",null,""]
[null,null,"",null,""]
[null,null,"",null,""]
[null,null,"",null,""]
[null,null,{"$f":"IF(B1026<>\"\",VLOOKUP(B1026,Peligrosppam,2,FALSE),\"\")","v":""},null,""]
[null,null,"",null,""]
[null,null,"",null,""]
[null,null,"",null,{"$f":"IF(C1029<>\"\",D1029/C1029,\"\")","v":""}]
[null,null,"",null,""]
[null,null,"",null,""]
[null,null,"",null,""]
[null,null,"",null,""]
[null,null,"",null,""]
[null,null,"",null,""]
[null,null,"",null,""]
[null,null,"",null,""]
[null,null,"",null,""]
[null,null,"",null,""]
[null,null,"",null,""]
[null,null,"",null,""]
[null,null,"",null,""]
[null,null,"",null,""]
[null,null,"",null,""]
[null,null,"",null,""]
[null,null,"",null,""]
[null,null,"",null,""]
[null,null,"",null,""]
[null,null,"",null,""]
[null,null,"",null,""]
[null,null,"",null,""]
[null,null,"",null,""]
[null,null,"",null,""]
[null,null,"",null,""]
[null,null,"",null,""]
[null,null,"",null,""]
[null,null,"",null,""]
[null,null,"",null,""]
[null,null,"",null,""]
[null,null,"",null,""]
[null,null,"",null,""]
[null,null,"",null,""]
[null,null,"",null,""]
[null,null,"",null,""]
[null,null,"",null,""]
[null,null,"",null,""]
[null,null,"",null,""]
[null,null,"",null,""]
[null,null,"",null,""]
[null,null,"",null,""]
[null,null,"",null,""]
[null,null,"",null,""]
[null,null,"",null,""]
[null,null,"",null,""]
[null,null,"",null,""]
[null,null,"",null,""]
[null,null,"",null,""]
[null,null,"",null,""]
[null,null,"",null,""]
[null,null,"",null,""]
[null,null,"",null,""]
[null,null,"",null,""]
[null,null,"",null,""]
[null,null,"",null,""]
[null,null,"",null,""]
[null,null,"",null,""]
[null,null,"",null,""]
[null,null,"",null,""]
[null,null,"",null,""]
[null,null,{"$f":"IF(B1090<>\"\",VLOOKUP(B1090,Peligrosppam,2,FALSE),\"\")","v":""},null,""]
[null,null,"",null,""]
[null,null,"",null,""]
[null,null,"",null,{"$f":"IF(C1093<>\"\",D1093/C1093,\"\")","v":""}]
[null,null,"",null,""]
[null,null,"",null,""]
[null,null,"",null,""]
[null,null,"",null,""]
[null,null,"",null,""]
[null,null,"",null,""]
[null,null,"",null,""]
[null,null,"",null,""]
[null,null,"",null,""]
[null,null,"",null,""]
[null,null,"",null,""]
[null,null,"",null,""]
[null,null,"",null,""]
[null,null,"",null,""]
[null,null,"",null,""]
[null,null,"",null,""]
[null,null,"",null,""]
[null,null,"",null,""]
[null,null,"",null,""]
[null,null,"",null,""]
[null,null,"",null,""]
[null,null,"",null,""]
[null,null,"",null,""]
[null,null,"",null,""]
[null,null,"",null,""]
[null,null,"",null,""]
[null,null,"",null,""]
[null,null,"",null,""]
[null,null,"",null,""]
[null,null,"",null,""]
[null,null,"",null,""]
[null,null,"",null,""]
[null,null,"",null,""]
[null,null,"",null,""]
[null,null,"",null,""]
[null,null,"",null,""]
[null,null,"",null,""]
[null,null,"",null,""]
[null,null,"",null,""]
[null,null,"",null,""]
[null,null,"",null,""]
[null,null,"",null,""]
[null,null,"",null,""]
[null,null,"",null,""]
[null,null,"",null,""]
[null,null,"",null,""]
[null,null,"",null,""]
[null,null,"",null,""]
[null,null,"",null,""]
[null,null,"",null,""]
[null,null,"",null,""]
[null,null,"",null,""]
[null,null,"",null,""]
[null,null,"",null,""]
[null,null,"",null,""]
[null,null,"",null,""]
[null,null,"",null,""]
[null,null,"",null,""]
[null,null,"",null,""]
[null,null,"",null,""]
[null,null,{"$f":"IF(B1154<>\"\",VLOOKUP(B1154,Peligrosppam,2,FALSE),\"\")","v":""},null,""]
[null,null,"",null,""]
[null,null,"",null,""]
[null,null,"",null,{"$f":"IF(C1157<>\"\",D1157/C1157,\"\")","v":""}]
[null,null,"",null,""]
[null,null,"",null,""]
[null,null,"",null,""]
[null,null,"",null,""]
[null,null,"",null,""]
[null,null,"",null,""]
[null,null,"",null,""]
[null,null,"",null,""]
[null,null,"",null,""]
[null,null,"",null,""]
[null,null,"",null,""]
[null,null,"",null,""]
[null,null,"",null,""]
[null,null,"",null,""]
[null,null,"",null,""]
[null,null,"",null,""]
[null,null,"",null,""]
[null,null,"",null,""]
[null,null,"",null,""]
[null,null,"",null,""]
[null,null,"",null,""]
[null,null,"",null,""]
[null,null,"",null,""]
[null,null,"",null,""]
[null,null,"",null,""]
[null,null,"",null,""]
[null,null,"",null,""]
[null,null,"",null,""]
[null,null,"",null,""]
[null,null,"",null,""]
[null,null,"",null,""]
[null,null,"",null,""]
[null,null,"",null,""]
[null,null,"",null,""]
[null,null,"",null,""]
[null,null,"",null,""]
[null,null,"",null,""]
[null,null,"",null,""]
[null,null,"",null,""]
[null,null,"",null,""]
[null,null,"",null,""]
[null,null,"",null,""]
[null,null,"",null,""]
[null,null,"",null,""]
[null,null,"",null,""]
[null,null,"",null,""]
[null,null,"",null,""]
[null,null,"",null,""]
[null,null,"",null,""]
[null,null,"",null,""]
[null,null,"",null,""]
[null,null,"",null,""]
[null,null,"",null,""]
[null,null,"",null,""]
[null,null,"",null,""]
[null,null,"",null,""]
[null,null,"",null,""]
[null,null,"",null,""]
[null,null,"",null,""]
[null,null,"",null,""]
[null,null,{"$f":"IF(B1218<>\"\",VLOOKUP(B1218,Peligrosppam,2,FALSE),\"\")","v":""},null,""]
[null,null,"",null,""]
[null,null,"",null,""]
[null,null,"",null,{"$f":"IF(C1221<>\"\",D1221/C1221,\"\")","v":""}]
[null,null,"",null,""]
[null,null,"",null,""]
[null,null,"",null,""]
[null,null,"",null,""]
[null,null,"",null,""]
[null,null,"",null,""]
[null,null,"",null,""]
[null,null,"",null,""]
[null,null,"",null,""]
[null,null,"",null,""]
[null,null,"",null,""]
[null,null,"",null,""]
[null,null,"",null,""]
[null,null,"",null,""]
[null,null,"",null,""]
[null,null,"",null,""]
[null,null,"",null,""]
[null,null,"",null,""]
[null,null,"",null,""]
[null,null,"",null,""]
[null,null,"",null,""]
[null,null,"",null,""]
[null,null,"",null,""]
[null,null,"",null,""]
[null,null,"",null,""]
[null,null,"",null,""]
[null,null,"",null,""]
[null,null,"",null,""]
[null,null,"",null,""]
[null,null,"",null,""]
[null,null,"",null,""]
[null,null,"",null,""]
[null,null,"",null,""]
[null,null,"",null,""]
[null,null,"",null,""]
[null,null,"",null,""]
[null,null,"",null,""]
[null,null,"",null,""]
[null,null,"",null,""]
[null,null,"",null,""]
[null,null,"",null,""]
[null,null,"",null,""]
[null,null,"",null,""]
[null,null,"",null,""]
[null,null,"",null,""]
[null,null,"",null,""]
[null,null,"",null,""]
[null,null,"",null,""]
[null,null,"",null,""]
[null,null,"",null,""]
[null,null,"",null,""]
[null,null,"",null,""]
[null,null,"",null,""]
[null,null,"",null,""]
[null,null,"",null,""]
[null,null,"",null,""]
[null,null,"",null,""]
[null,null,"",null,""]
[null,null,"",null,""]
[null,null,"",null,""]
[null,null,{"$f":"IF(B1282<>\"\",VLOOKUP(B1282,Peligrosppam,2,FALSE),\"\")","v":""},null,""]
[null,null,"",null,""]
[null,null,"",null,""]
[null,null,"",null,{"$f":"IF(C1285<>\"\",D1285/C1285,\"\")","v":""}]
[null,null,"",null,""]
[null,null,"",null,""]
[null,null,"",null,""]
[null,null,"",null,""]
[null,null,"",null,""]
[null,null,"",null,""]
[null,null,"",null,""]
[null,null,"",null,""]
[null,null,"",null,""]
[null,null,"",null,""]
[null,null,"",null,""]
[null,null,"",null,""]
[null,null,"",null,""]
[null,null,"",null,""]
[null,null,"",null,""]
[null,null,"",null,""]
[null,null,"",null,""]
[null,null,"",null,""]
[null,null,"",null,""]
[null,null,"",null,""]
[null,null,"",null,""]
[null,null,"",null,""]
[null,null,"",null,""]
[null,null,"",null,""]
[null,null,"",null,""]
[null,null,"",null,""]
[null,null,"",null,""]
[null,null,"",null,""]
[null,null,"",null,""]
[null,null,"",null,""]
[null,null,"",null,""]
[null,null,"",null,""]
[null,null,"",null,""]
[null,null,"",null,""]
[null,null,"",null,""]
[null,null,"",null,""]
[null,null,"",null,""]
[null,null,"",null,""]
[null,null,"",null,""]
[null,null,"",null,""]
[null,null,"",null,""]
[null,null,"",null,""]
[null,null,"",null,""]
[null,null,"",null,""]
[null,null,"",null,""]
[null,null,"",null,""]
[null,null,"",null,""]
[null,null,"",null,""]
[null,null,"",null,""]
[null,null,"",null,""]
[null,null,"",null,""]
[null,null,"",null,""]
[null,null,"",null,""]
[null,null,"",null,""]
[null,null,"",null,""]
[null,null,"",null,""]
[null,null,"",null,""]
[null,null,"",null,""]
[null,null,"",null,""]
[null,null,"",null,""]
[null,null,{"$f":"IF(B1346<>\"\",VLOOKUP(B1346,Peligrosppam,2,FALSE),\"\")","v":""},null,""]
[null,null,"",null,""]
[null,null,"",null,""]
[null,null,"",null,{"$f":"IF(C1349<>\"\",D1349/C1349,\"\")","v":""}]
[null,null,"",null,""]
[null,null,"",null,""]
[null,null,"",null,""]
[null,null,"",null,""]
[null,null,"",null,""]
[null,null,"",null,""]
[null,null,"",null,""]
[null,null,"",null,""]
[null,null,"",null,""]
[null,null,"",null,""]
[null,null,"",null,""]
[null,null,"",null,""]
[null,null,"",null,""]
[null,null,"",null,""]
[null,null,"",null,""]
[null,null,"",null,""]
[null,null,"",null,""]
[null,null,"",null,""]
[null,null,"",null,""]
[null,null,"",null,""]
[null,null,"",null,""]
[null,null,"",null,""]
[null,null,"",null,""]
[null,null,"",null,""]
[null,null,"",null,""]
[null,null,"",null,""]
[null,null,"",null,""]
[null,null,"",null,""]
[null,null,"",null,""]
[null,null,"",null,""]
[null,null,"",null,""]
[null,null,"",null,""]
[null,null,"",null,""]
[null,null,"",null,""]
[null,null,"",null,""]
[null,null,"",null,""]
[null,null,"",null,""]
[null,null,"",null,""]
[null,null,"",null,""]
[null,null,"",null,""]
[null,null,"",null,""]
[null,null,"",null,""]
[null,null,"",null,""]
[null,null,"",null,""]
[null,null,"",null,""]
[null,null,"",null,""]
[null,null,"",null,""]
[null,null,"",null,""]
[null,null,"",null,""]
[null,null,"",null,""]
[null,null,"",null,""]
[null,null,"",null,""]
[null,null,"",null,""]
[null,null,"",null,""]
[null,null,"",null,""]
[null,null,"",null,""]
[null,null,"",null,""]
[null,null,"",null,""]
[null,null,"",null,""]
[null,null,"",null,""]
[null,null,{"$f":"IF(B1410<>\"\",VLOOKUP(B1410,Peligrosppam,2,FALSE),\"\")","v":""},null,""]
[null,null,"",null,""]
[null,null,"",null,""]
[null,null,"",null,{"$f":"IF(C1413<>\"\",D1413/C1413,\"\")","v":""}]
[null,null,"",null,""]
[null,null,"",null,""]
[null,null,"",null,""]
[null,null,"",null,""]
[null,null,"",null,""]
[null,null,"",null,""]
[null,null,"",null,""]
[null,null,"",null,""]
[null,null,"",null,""]
[null,null,"",null,""]
[null,null,"",null,""]
[null,null,"",null,""]
[null,null,"",null,""]
[null,null,"",null,""]
[null,null,"",null,""]
[null,null,"",null,""]
[null,null,"",null,""]
[null,null,"",null,""]
[null,null,"",null,""]
[null,null,"",null,""]
[null,null,"",null,""]
[null,null,"",null,""]
[null,null,"",null,""]
[null,null,"",null,""]
[null,null,"",null,""]
[null,null,"",null,""]
[null,null,"",null,""]
[null,null,"",null,""]
[null,null,"",null,""]
[null,null,"",null,""]
[null,null,"",null,""]
[null,null,"",null,""]
[null,null,"",null,""]
[null,null,"",null,""]
[null,null,"",null,""]
[null,null,"",null,""]
[null,null,"",null,""]
[null,null,"",null,""]
[null,null,"",null,""]
[null,null,"",null,""]
[null,null,"",null,""]
[null,null,"",null,""]
[null,null,"",null,""]
[null,null,"",null,""]
[null,null,"",null,""]
[null,null,"",null,""]
[null,null,"",null,""]
[null,null,"",null,""]
[null,null,"",null,""]
[null,null,"",null,""]
[null,null,"",null,""]
[null,null,"",null,""]
[null,null,"",null,""]
[null,null,"",null,""]
[null,null,"",null,""]
[null,null,"",null,""]
[null,null,"",null,""]
[null,null,"",null,""]
[null,null,"",null,""]
[null,null,"",null,""]
[null,null,{"$f":"IF(B1474<>\"\",VLOOKUP(B1474,Peligrosppam,2,FALSE),\"\")","v":""},null,""]
[null,null,"",null,""]
[null,null,"",null,""]
[null,null,"",null,{"$f":"IF(C1477<>\"\",D1477/C1477,\"\")","v":""}]
[null,null,"",null,""]
[null,null,"",null,""]
[null,null,"",null,""]
[null,null,"",null,""]
[null,null,"",null,""]
[null,null,"",null,""]
[null,null,"",null,""]
[null,null,"",null,""]
[null,null,"",null,""]
[null,null,"",null,""]
[null,null,"",null,""]
[null,null,"",null,""]
[null,null,"",null,""]
[null,null,"",null,""]
[null,null,"",null,""]
[null,null,"",null,""]
[null,null,"",null,""]
[null,null,"",null,""]
[null,null,"",null,""]
[null,null,"",null,""]
[null,null,"",null,""]
[null,null,"",null,""]
[null,null,"",null,""]
[null,null,"",null,""]
[null,null,"",null,""]
[null,null,"",null,""]
[null,null,"",null,""]
[null,null,"",null,""]
[null,null,"",null,""]
[null,null,"",null,""]
[null,null,"",null,""]
[null,null,"",null,""]
[null,null,"",null,""]
[null,null,"",null,""]
[null,null,"",null,""]
[null,null,"",null,""]
[null,null,"",null,""]
[null,null,"",null,""]
[null,null,"",null,""]
[null,null,"",null,""]
[null,null,"",null,""]
[null,null,"",null,""]
[null,null,"",null,""]
[null,null,"",null,""]
[null,null,"",null,""]
[null,null,"",null,""]
[null,null,"",null,""]
[null,null,"",null,""]
[null,null,"",null,""]
[null,null,"",null,""]
[null,null,"",null,""]
[null,null,"",null,""]
[null,null,"",null,""]
[null,null,"",null,""]
[null,null,"",null,""]
[null,null,"",null,""]
[null,null,"",null,""]
[null,null,"",null,""]
[null,null,"",null,""]
[null,null,"",null,""]
[null,null,{"$f":"IF(B1538<>\"\",VLOOKUP(B1538,Peligrosppam,2,FALSE),\"\")","v":""},null,""]
[null,null,"",null,""]
[null,null,"",null,""]
[null,null,"",null,{"$f":"IF(C1541<>\"\",D1541/C1541,\"\")","v":""}]
[null,null,"",null,""]
[null,null,"",null,""]
[null,null,"",null,""]
[null,null,"",null,""]
[null,null,"",null,""]
[null,null,"",null,""]
[null,null,"",null,""]
[null,null,"",null,""]
[null,null,"",null,""]
[null,null,"",null,""]
[null,null,"",null,""]
[null,null,"",null,""]
[null,null,"",null,""]
[null,null,"",null,""]
[null,null,"",null,""]
[null,null,"",null,""]
[null,null,"",null,""]
[null,null,"",null,""]
[null,null,"",null,""]
[null,null,"",null,""]
[null,null,"",null,""]
[null,null,"",null,""]
[null,null,"",null,""]
[null,null,"",null,""]
[null,null,"",null,""]
[null,null,"",null,""]
[null,null,"",null,""]
[null,null,"",null,""]
[null,null,"",null,""]
[null,null,"",null,""]
[null,null,"",null,""]
[null,null,"",null,""]
[null,null,"",null,""]
[null,null,"",null,""]
[null,null,"",null,""]
[null,null,"",null,""]
[null,null,"",null,""]
[null,null,"",null,""]
[null,null,"",null,""]
[null,null,"",null,""]
[null,null,"",null,""]
[null,null,"",null,""]
[null,null,"",null,""]
[null,null,"",null,""]
[null,null,"",null,""]
[null,null,"",null,""]
[null,null,"",null,""]
[null,null,"",null,""]
[null,null,"",null,""]
[null,null,"",null,""]
[null,null,"",null,""]
[null,null,"",null,""]
[null,null,"",null,""]
[null,null,"",null,""]
[null,null,"",null,""]
[null,null,"",null,""]
[null,null,"",null,""]
[null,null,"",null,""]
[null,null,"",null,""]
[null,null,"",null,""]
[null,null,{"$f":"IF(B1602<>\"\",VLOOKUP(B1602,Peligrosppam,2,FALSE),\"\")","v":""},null,""]
[null,null,"",null,""]
[null,null,"",null,""]
[null,null,"",null,{"$f":"IF(C1605<>\"\",D1605/C1605,\"\")","v":""}]
[null,null,"",null,""]
[null,null,"",null,""]
[null,null,"",null,""]
[null,null,"",null,""]
[null,null,"",null,""]
[null,null,"",null,""]
[null,null,"",null,""]
[null,null,"",null,""]
[null,null,"",null,""]
[null,null,"",null,""]
[null,null,"",null,""]
[null,null,"",null,""]
[null,null,"",null,""]
[null,null,"",null,""]
[null,null,"",null,""]
[null,null,"",null,""]
[null,null,"",null,""]
[null,null,"",null,""]
[null,null,"",null,""]
[null,null,"",null,""]
[null,null,"",null,""]
[null,null,"",null,""]
[null,null,"",null,""]
[null,null,"",null,""]
[null,null,"",null,""]
[null,null,"",null,""]
[null,null,"",null,""]
[null,null,"",null,""]
[null,null,"",null,""]
[null,null,"",null,""]
[null,null,"",null,""]
[null,null,"",null,""]
[null,null,"",null,""]
[null,null,"",null,""]
[null,null,"",null,""]
[null,null,"",null,""]
[null,null,"",null,""]
[null,null,"",null,""]
[null,null,"",null,""]
[null,null,"",null,""]
[null,null,"",null,""]
[null,null,"",null,""]
[null,null,"",null,""]
[null,null,"",null,""]
[null,null,"",null,""]
[null,null,"",null,""]
[null,null,"",null,""]
[null,null,"",null,""]
[null,null,"",null,""]
[null,null,"",null,""]
[null,null,"",null,""]
[null,null,"",null,""]
[null,null,"",null,""]
[null,null,"",null,""]
[null,null,"",null,""]
[null,null,"",null,""]
[null,null,"",null,""]
[null,null,"",null,""]
[null,null,"",null,""]
[null,null,"",null,""]
[null,null,{"$f":"IF(B1666<>\"\",VLOOKUP(B1666,Peligrosppam,2,FALSE),\"\")","v":""},null,""]
[null,null,"",null,""]
[null,null,"",null,""]
[null,null,"",null,{"$f":"IF(C1669<>\"\",D1669/C1669,\"\")","v":""}]
[null,null,"",null,""]
[null,null,"",null,""]
[null,null,"",null,""]
[null,null,"",null,""]
[null,null,"",null,""]
[null,null,"",null,""]
[null,null,"",null,""]
[null,null,"",null,""]
[null,null,"",null,""]
[null,null,"",null,""]
[null,null,"",null,""]
[null,null,"",null,""]
[null,null,"",null,""]
[null,null,"",null,""]
[null,null,"",null,""]
[null,null,"",null,""]
[null,null,"",null,""]
[null,null,"",null,""]
[null,null,"",null,""]
[null,null,"",null,""]
[null,null,"",null,""]
[null,null,"",null,""]
[null,null,"",null,""]
[null,null,"",null,""]
[null,null,"",null,""]
[null,null,"",null,""]
[null,null,"",null,""]
[null,null,"",null,""]
[null,null,"",null,""]
[null,null,"",null,""]
[null,null,"",null,""]
[null,null,"",null,""]
[null,null,"",null,""]
[null,null,"",null,""]
[null,null,"",null,""]
[null,null,"",null,""]
[null,null,"",null,""]
[null,null,"",null,""]
[null,null,"",null,""]
[null,null,"",null,""]
[null,null,"",null,""]
[null,null,"",null,""]
[null,null,"",null,""]
[null,null,"",null,""]
[null,null,"",null,""]
[null,null,"",null,""]
[null,null,"",null,""]
[null,null,"",null,""]
[null,null,"",null,""]
[null,null,"",null,""]
[null,null,"",null,""]
[null,null,"",null,""]
[null,null,"",null,""]
[null,null,"",null,""]
[null,null,"",null,""]
[null,null,"",null,""]
[null,null,"",null,""]
[null,null,"",null,""]
[null,null,"",null,""]
[null,null,"",null,""]
[null,null,{"$f":"IF(B1730<>\"\",VLOOKUP(B1730,Peligrosppam,2,FALSE),\"\")","v":""},null,""]
[null,null,"",null,""]
[null,null,"",null,""]
[null,null,"",null,{"$f":"IF(C1733<>\"\",D1733/C1733,\"\")","v":""}]
[null,null,"",null,""]
[null,null,"",null,""]
[null,null,"",null,""]
[null,null,"",null,""]
[null,null,"",null,""]
[null,null,"",null,""]
[null,null,"",null,""]
[null,null,"",null,""]
[null,null,"",null,""]
[null,null,"",null,""]
[null,null,"",null,""]
[null,null,"",null,""]
[null,null,"",null,""]
[null,null,"",null,""]
[null,null,"",null,""]
[null,null,"",null,""]
[null,null,"",null,""]
[null,null,"",null,""]
[null,null,"",null,""]
[null,null,"",null,""]
[null,null,"",null,""]
[null,null,"",null,""]
[null,null,"",null,""]
[null,null,"",null,""]
[null,null,"",null,""]
[null,null,"",null,""]
[null,null,"",null,""]
[null,null,"",null,""]
[null,null,"",null,""]
[null,null,"",null,""]
[null,null,"",null,""]
[null,null,"",null,""]
[null,null,"",null,""]
[null,null,"",null,""]
[null,null,"",null,""]
[null,null,"",null,""]
[null,null,"",null,""]
[null,null,"",null,""]
[null,null,"",null,""]
[null,null,"",null,""]
[null,null,"",null,""]
[null,null,"",null,""]
[null,null,"",null,""]
[null,null,"",null,""]
[null,null,"",null,""]
[null,null,"",null,""]
[null,null,"",null,""]
[null,null,"",null,""]
[null,null,"",null,""]
[null,null,"",null,""]
[null,null,"",null,""]
[null,null,"",null,""]
[null,null,"",null,""]
[null,null,"",null,""]
[null,null,"",null,""]
[null,null,"",null,""]
[null,null,"",null,""]
[null,null,"",null,""]
[null,null,"",null,""]
[null,null,"",null,""]
[null,null,{"$f":"IF(B1794<>\"\",VLOOKUP(B1794,Peligrosppam,2,FALSE),\"\")","v":""},null,""]
[null,null,"",null,""]
[null,null,"",null,""]
[null,null,"",null,{"$f":"IF(C1797<>\"\",D1797/C1797,\"\")","v":""}]
[null,null,"",null,""]
[null,null,"",null,""]
[null,null,"",null,""]
[null,null,"",null,""]
[null,null,"",null,""]
[null,null,"",null,""]
[null,null,"",null,""]
[null,null,"",null,""]
[null,null,"",null,""]
[null,null,"",null,""]
[null,null,"",null,""]
[null,null,"",null,""]
[null,null,"",null,""]
[null,null,"",null,""]
[null,null,"",null,""]
[null,null,"",null,""]
[null,null,"",null,""]
[null,null,"",null,""]
[null,null,"",null,""]
[null,null,"",null,""]
[null,null,"",null,""]
[null,null,"",null,""]
[null,null,"",null,""]
[null,null,"",null,""]
[null,null,"",null,""]
[null,null,"",null,""]
[null,null,"",null,""]
[null,null,"",null,""]
[null,null,"",null,""]
[null,null,"",null,""]
[null,null,"",null,""]
[null,null,"",null,""]
[null,null,"",null,""]
[null,null,"",null,""]
[null,null,"",null,""]
[null,null,"",null,""]
[null,null,"",null,""]
[null,null,"",null,""]
[null,null,"",null,""]
[null,null,"",null,""]
[null,null,"",null,""]
[null,null,"",null,""]
[null,null,"",null,""]
[null,null,"",null,""]
[null,null,"",null,""]
[null,null,"",null,""]
[null,null,"",null,""]
[null,null,"",null,""]
[null,null,"",null,""]
[null,null,"",null,""]
[null,null,"",null,""]
[null,null,"",null,""]
[null,null,"",null,""]
[null,null,"",null,""]
[null,null,"",null,""]
[null,null,"",null,""]
[null,null,"",null,""]
[null,null,"",null,""]
[null,null,"",null,""]
[null,null,"",null,""]
[null,null,{"$f":"IF(B1858<>\"\",VLOOKUP(B1858,Peligrosppam,2,FALSE),\"\")","v":""},null,""]
[null,null,"",null,""]
[null,null,"",null,""]
[null,null,"",null,{"$f":"IF(C1861<>\"\",D1861/C1861,\"\")","v":""}]
[null,null,"",null,""]
[null,null,"",null,""]
[null,null,"",null,""]
[null,null,"",null,""]
[null,null,"",null,""]
[null,null,"",null,""]
[null,null,"",null,""]
[null,null,"",null,""]
[null,null,"",null,""]
[null,null,"",null,""]
[null,null,"",null,""]
[null,null,"",null,""]
[null,null,"",null,""]
[null,null,"",null,""]
[null,null,"",null,""]
[null,null,"",null,""]
[null,null,"",null,""]
[null,null,"",null,""]
[null,null,"",null,""]
[null,null,"",null,""]
[null,null,"",null,""]
[null,null,"",null,""]
[null,null,"",null,""]
[null,null,"",null,""]
[null,null,"",null,""]
[null,null,"",null,""]
[null,null,"",null,""]
[null,null,"",null,""]
[null,null,"",null,""]
[null,null,"",null,""]
[null,null,"",null,""]
[null,null,"",null,""]
[null,null,"",null,""]
[null,null,"",null,""]
[null,null,"",null,""]
[null,null,"",null,""]
[null,null,"",null,""]
[null,null,"",null,""]
[null,null,"",null,""]
[null,null,"",null,""]
[null,null,"",null,""]
[null,null,"",null,""]
[null,null,"",null,""]
[null,null,"",null,""]
[null,null,"",null,""]
[null,null,"",null,""]
[null,null,"",null,""]
[null,null,"",null,""]
[null,null,"",null,""]
[null,null,"",null,""]
[null,null,"",null,""]
[null,null,"",null,""]
[null,null,"",null,""]
[null,null,"",null,""]
[null,null,"",null,""]
[null,null,"",null,""]
[null,null,"",null,""]
[null,null,"",null,""]
[null,null,"",null,""]
[null,null,"",null,""]
[null,null,{"$f":"IF(B1922<>\"\",VLOOKUP(B1922,Peligrosppam,2,FALSE),\"\")","v":""},null,""]
[null,null,"",null,""]
[null,null,"",null,""]
[null,null,"",null,{"$f":"IF(C1925<>\"\",D1925/C1925,\"\")","v":""}]
[null,null,"",null,""]
[null,null,"",null,""]
[null,null,"",null,""]
[null,null,"",null,""]
[null,null,"",null,""]
[null,null,"",null,""]
[null,null,"",null,""]
[null,null,"",null,""]
[null,null,"",null,""]
[null,null,"",null,""]
[null,null,"",null,""]
[null,null,"",null,""]
[null,null,"",null,""]
[null,null,"",null,""]
[null,null,"",null,""]
[null,null,"",null,""]
[null,null,"",null,""]
[null,null,"",null,""]
[null,null,"",null,""]
[null,null,"",null,""]
[null,null,"",null,""]
[null,null,"",null,""]
[null,null,"",null,""]
[null,null,"",null,""]
[null,null,"",null,""]
[null,null,"",null,""]
[null,null,"",null,""]
[null,null,"",null,""]
[null,null,"",null,""]
[null,null,"",null,""]
[null,null,"",null,""]
[null,null,"",null,""]
[null,null,"",null,""]
[null,null,"",null,""]
[null,null,"",null,""]
[null,null,"",null,""]
[null,null,"",null,""]
[null,null,"",null,""]
[null,null,"",null,""]
[null,null,"",null,""]
[null,null,"",null,""]
[null,null,"",null,""]
[null,null,"",null,""]
[null,null,"",null,""]
[null,null,"",null,""]
[null,null,"",null,""]
[null,null,"",null,""]
[null,null,"",null,""]
[null,null,"",null,""]
[null,null,"",null,""]
[null,null,"",null,""]
[null,null,"",null,""]
[null,null,"",null,""]
[null,null,"",null,""]
[null,null,"",null,""]
[null,null,"",null,""]
[null,null,"",null,""]
[null,null,"",null,""]
[null,null,"",null,""]
[null,null,"",null,""]
[null,null,{"$f":"IF(B1986<>\"\",VLOOKUP(B1986,Peligrosppam,2,FALSE),\"\")","v":""},null,""]
[null,null,"",null,""]
[null,null,"",null,""]
[null,null,"",null,{"$f":"IF(C1989<>\"\",D1989/C1989,\"\")","v":""}]
[null,null,"",null,""]
[null,null,"",null,""]
[null,null,"",null,""]
[null,null,"",null,""]
[null,null,"",null,""]
[null,null,"",null,""]
[null,null,"",null,""]
[null,null,"",null,""]
[null,null,"",null,""]
[null,null,"",null,""]
[null,null,"",null,""]
[null,null,"",null,""]
[null,null,"",null,""]
[null,null,"",null,""]
[null,null,"",null,""]
[null,null,"",null,""]
[null,null,"",null,""]
[null,null,"",null,""]
[null,null,"",null,""]
[null,null,"",null,""]
[null,null,"",null,""]
[null,null,"",null,""]
[null,null,"",null,""]
[null,null,"",null,""]
[null,null,"",null,""]
[null,null,"",null,""]
[null,null,"",null,""]
[null,null,"",null,""]
[null,null,"",null,""]
[null,null,"",null,""]
[null,null,"",null,""]
[null,null,"",null,""]
[null,null,"",null,""]
[null,null,"",null,""]
[null,null,"",null,""]
[null,null,"",null,""]
[null,null,"",null,""]
[null,null,"",null,""]
[null,null,"",null,""]
[null,null,"",null,""]
[null,null,"",null,""]
[null,null,"",null,""]
[null,null,"",null,""]
[null,null,"",null,""]
[null,null,"",null,""]
[null,null,"",null,""]
[null,null,"",null,""]
[null,null,"",null,""]
[null,null,"",null,""]
[null,null,"",null,""]
[null,null,"",null,""]
[null,null,"",null,""]
[null,null,"",null,""]
[null,null,"",null,""]
[null,null,"",null,""]
[null,null,"",null,""]
[null,null,"",null,""]
[null,null,"",null,""]
[null,null,"",null,""]
[null,null,"",null,""]
[null,null,{"$f":"IF(B2050<>\"\",VLOOKUP(B2050,Peligrosppam,2,FALSE),\"\")","v":""},null,""]
[null,null,"",null,""]
[null,null,"",null,""]
[null,null,"",null,{"$f":"IF(C2053<>\"\",D2053/C2053,\"\")","v":""}]
[null,null,"",null,""]
[null,null,"",null,""]
[null,null,"",null,""]
[null,null,"",null,""]
[null,null,"",null,""]
[null,null,"",null,""]
[null,null,"",null,""]
[null,null,"",null,""]
[null,null,"",null,""]
[null,null,"",null,""]
[null,null,"",null,""]
[null,null,"",null,""]
[null,null,"",null,""]
[null,null,"",null,""]
[null,null,"",null,""]
[null,null,"",null,""]
[null,null,"",null,""]
[null,null,"",null,""]
[null,null,"",null,""]
[null,null,"",null,""]
[null,null,"",null,""]
[null,null,"",null,""]
[null,null,"",null,""]
[null,null,"",null,""]
[null,null,"",null,""]
[null,null,"",null,""]
[null,null,"",null,""]
[null,null,"",null,""]
[null,null,"",null,""]
[null,null,"",null,""]
[null,null,"",null,""]
[null,null,"",null,""]
[null,null,"",null,""]
[null,null,"",null,""]
[null,null,"",null,""]
[null,null,"",null,""]
[null,null,"",null,""]
[null,null,"",null,""]
[null,null,"",null,""]
[null,null,"",null,""]
[null,null,"",null,""]
[null,null,"",null,""]
[null,null,"",null,""]
[null,null,"",null,""]
[null,null,"",null,""]
[null,null,"",null,""]
[null,null,"",null,""]
[null,null,"",null,""]
[null,null,"",null,""]
[null,null,"",null,""]
[null,null,"",null,""]
[null,null,"",null,""]
[null,null,"",null,""]
[null,null,"",null,""]
[null,null,"",null,""]
[null,null,"",null,""]
[null,null,"",null,""]
[null,null,"",null,""]
[null,null,"",null,""]
[null,null,"",null,""]
[null,null,{"$f":"IF(B2114<>\"\",VLOOKUP(B2114,Peligrosppam,2,FALSE),\"\")","v":""},null,""]
[null,null,"",null,""]
[null,null,"",null,""]
[null,null,"",null,{"$f":"IF(C2117<>\"\",D2117/C2117,\"\")","v":""}]
[null,null,"",null,""]
[null,null,"",null,""]
[null,null,"",null,""]
[null,null,"",null,""]
[null,null,"",null,""]
[null,null,"",null,""]
[null,null,"",null,""]
[null,null,"",null,""]
[null,null,"",null,""]
[null,null,"",null,""]
[null,null,"",null,""]
[null,null,"",null,""]
[null,null,"",null,""]
[null,null,"",null,""]
[null,null,"",null,""]
[null,null,"",null,""]
[null,null,"",null,""]
[null,null,"",null,""]
[null,null,"",null,""]
[null,null,"",null,""]
[null,null,"",null,""]
[null,null,"",null,""]
[null,null,"",null,""]
[null,null,"",null,""]
[null,null,"",null,""]
[null,null,"",null,""]
[null,null,"",null,""]
[null,null,"",null,""]
[null,null,"",null,""]
[null,null,"",null,""]
[null,null,"",null,""]
[null,null,"",null,""]
[null,null,"",null,""]
[null,null,"",null,""]
[null,null,"",null,""]
[null,null,"",null,""]
[null,null,"",null,""]
[null,null,"",null,""]
[null,null,"",null,""]
[null,null,"",null,""]
[null,null,"",null,""]
[null,null,"",null,""]
[null,null,"",null,""]
[null,null,"",null,""]
[null,null,"",null,""]
[null,null,"",null,""]
[null,null,"",null,""]
[null,null,"",null,""]
[null,null,"",null,""]
[null,null,"",null,""]
[null,null,"",null,""]
[null,null,"",null,""]
[null,null,"",null,""]
[null,null,"",null,""]
[null,null,"",null,""]
[null,null,"",null,""]
[null,null,"",null,""]
[null,null,"",null,""]
[null,null,"",null,""]
[null,null,"",null,""]
[null,null,{"$f":"IF(B2178<>\"\",VLOOKUP(B2178,Peligrosppam,2,FALSE),\"\")","v":""},null,""]
[null,null,"",null,""]
[null,null,"",null,""]
[null,null,"",null,{"$f":"IF(C2181<>\"\",D2181/C2181,\"\")","v":""}]
[null,null,"",null,""]
[null,null,"",null,""]
[null,null,"",null,""]
[null,null,"",null,""]
[null,null,"",null,""]
[null,null,"",null,""]
[null,null,"",null,""]
[null,null,"",null,""]
[null,null,"",null,""]
[null,null,"",null,""]
[null,null,"",null,""]
[null,null,"",null,""]
[null,null,"",null,""]
[null,null,"",null,""]
[null,null,"",null,""]
[null,null,"",null,""]
[null,null,"",null,""]
[null,null,"",null,""]
[null,null,"",null,""]
[null,null,"",null,""]
[null,null,"",null,""]
[null,null,"",null,""]
[null,null,"",null,""]
[null,null,"",null,""]
[null,null,"",null,""]
[null,null,"",null,""]
[null,null,"",null,""]
[null,null,"",null,""]
[null,null,"",null,""]
[null,null,"",null,""]
[null,null,"",null,""]
[null,null,"",null,""]
[null,null,"",null,""]
[null,null,"",null,""]
[null,null,"",null,""]
[null,null,"",null,""]
[null,null,"",null,""]
[null,null,"",null,""]
[null,null,"",null,""]
[null,null,"",null,""]
[null,null,"",null,""]
[null,null,"",null,""]
[null,null,"",null,""]
[null,null,"",null,""]
[null,null,"",null,""]
[null,null,"",null,""]
[null,null,"",null,""]
[null,null,"",null,""]
[null,null,"",null,""]
[null,null,"",null,""]
[null,null,"",null,""]
[null,null,"",null,""]
[null,null,"",null,""]
[null,null,"",null,""]
[null,null,"",null,""]
[null,null,"",null,""]
[null,null,"",null,""]
[null,null,"",null,""]
[null,null,"",null,""]
[null,null,"",null,""]
[null,null,{"$f":"IF(B2242<>\"\",VLOOKUP(B2242,Peligrosppam,2,FALSE),\"\")","v":""},null,""]
[null,null,"",null,""]
[null,null,"",null,""]
[null,null,"",null,{"$f":"IF(C2245<>\"\",D2245/C2245,\"\")","v":""}]
[null,null,"",null,""]
[null,null,"",null,""]
[null,null,"",null,""]
[null,null,"",null,""]
[null,null,"",null,""]
[null,null,"",null,""]
[null,null,"",null,""]
[null,null,"",null,""]
[null,null,"",null,""]
[null,null,"",null,""]
[null,null,"",null,""]
[null,null,"",null,""]
[null,null,"",null,""]
[null,null,"",null,""]
[null,null,"",null,""]
[null,null,"",null,""]
[null,null,"",null,""]
[null,null,"",null,""]
[null,null,"",null,""]
[null,null,"",null,""]
[null,null,"",null,""]
[null,null,"",null,""]
[null,null,"",null,""]
[null,null,"",null,""]
[null,null,"",null,""]
[null,null,"",null,""]
[null,null,"",null,""]
[null,null,"",null,""]
[null,null,"",null,""]
[null,null,"",null,""]
[null,null,"",null,""]
[null,null,"",null,""]
[null,null,"",null,""]
[null,null,"",null,""]
[null,null,"",null,""]
[null,null,"",null,""]
[null,null,"",null,""]
[null,null,"",null,""]
[null,null,"",null,""]
[null,null,"",null,""]
[null,null,"",null,""]
[null,null,"",null,""]
[null,null,"",null,""]
[null,null,"",null,""]
[null,null,"",null,""]
[null,null,"",null,""]
[null,null,"",null,""]
[null,null,"",null,""]
[null,null,"",null,""]
[null,null,"",null,""]
[null,null,"",null,""]
[null,null,"",null,""]
[null,null,"",null,""]
[null,null,"",null,""]
[null,null,"",null,""]
[null,null,"",null,""]
[null,null,"",null,""]
[null,null,"",null,""]
[null,null,"",null,""]
[null,null,"",null,""]
[null,null,{"$f":"IF(B2306<>\"\",VLOOKUP(B2306,Peligrosppam,2,FALSE),\"\")","v":""},null,""]
[null,null,"",null,""]
[null,null,"",null,""]
[null,null,"",null,{"$f":"IF(C2309<>\"\",D2309/C2309,\"\")","v":""}]
[null,null,"",null,""]
[null,null,"",null,""]
[null,null,"",null,""]
[null,null,"",null,""]
[null,null,"",null,""]
[null,null,"",null,""]
[null,null,"",null,""]
[null,null,"",null,""]
[null,null,"",null,""]
[null,null,"",null,""]
[null,null,"",null,""]
[null,null,"",null,""]
[null,null,"",null,""]
[null,null,"",null,""]
[null,null,"",null,""]
[null,null,"",null,""]
[null,null,"",null,""]
[null,null,"",null,""]
[null,null,"",null,""]
[null,null,"",null,""]
[null,null,"",null,""]
[null,null,"",null,""]
[null,null,"",null,""]
[null,null,"",null,""]
[null,null,"",null,""]
[null,null,"",null,""]
[null,null,"",null,""]
[null,null,"",null,""]
[null,null,"",null,""]
[null,null,"",null,""]
[null,null,"",null,""]
[null,null,"",null,""]
[null,null,"",null,""]
[null,null,"",null,""]
[null,null,"",null,""]
[null,null,"",null,""]
[null,null,"",null,""]
[null,null,"",null,""]
[null,null,"",null,""]
[null,null,"",null,""]
[null,null,"",null,""]
[null,null,"",null,""]
[null,null,"",null,""]
[null,null,"",null,""]
[null,null,"",null,""]
[null,null,"",null,""]
[null,null,"",null,""]
[null,null,"",null,""]
[null,null,"",null,""]
[null,null,"",null,""]
[null,null,"",null,""]
[null,null,"",null,""]
[null,null,"",null,""]
[null,null,"",null,""]
[null,null,"",null,""]
[null,null,"",null,""]
[null,null,"",null,""]
[null,null,"",null,""]
[null,null,"",null,""]
[null,null,"",null,""]
[null,null,{"$f":"IF(B2370<>\"\",VLOOKUP(B2370,Peligrosppam,2,FALSE),\"\")","v":""},null,""]
[null,null,"",null,""]
[null,null,"",null,""]
[null,null,"",null,{"$f":"IF(C2373<>\"\",D2373/C2373,\"\")","v":""}]
[null,null,"",null,""]
[null,null,"",null,""]
[null,null,"",null,""]
[null,null,"",null,""]
[null,null,"",null,""]
[null,null,"",null,""]
[null,null,"",null,""]
[null,null,"",null,""]
[null,null,"",null,""]
[null,null,"",null,""]
[null,null,"",null,""]
[null,null,"",null,""]
[null,null,"",null,""]
[null,null,"",null,""]
[null,null,"",null,""]
[null,null,"",null,""]
[null,null,"",null,""]
[null,null,"",null,""]
[null,null,"",null,""]
[null,null,"",null,""]
[null,null,"",null,""]
[null,null,"",null,""]
[null,null,"",null,""]
[null,null,"",null,""]
[null,null,"",null,""]
[null,null,"",null,""]
[null,null,"",null,""]
[null,null,"",null,""]
[null,null,"",null,""]
[null,null,"",null,""]
[null,null,"",null,""]
[null,null,"",null,""]
[null,null,"",null,""]
[null,null,"",null,""]
[null,null,"",null,""]
[null,null,"",null,""]
[null,null,"",null,""]
[null,null,"",null,""]
[null,null,"",null,""]
[null,null,"",null,""]
[null,null,"",null,""]
[null,null,"",null,""]
[null,null,"",null,""]
[null,null,"",null,""]
[null,null,"",null,""]
[null,null,"",null,""]
[null,null,"",null,""]
[null,null,"",null,""]
[null,null,"",null,""]
[null,null,"",null,""]
[null,null,"",null,""]
[null,null,"",null,""]
[null,null,"",null,""]
[null,null,"",null,""]
[null,null,"",null,""]
[null,null,"",null,""]
[null,null,"",null,""]
[null,null,"",null,""]
[null,null,"",null,""]
[null,null,"",null,""]
[null,null,{"$f":"IF(B2434<>\"\",VLOOKUP(B2434,Peligrosppam,2,FALSE),\"\")","v":""},null,""]
[null,null,"",null,""]
[null,null,"",null,""]
[null,null,"",null,{"$f":"IF(C2437<>\"\",D2437/C2437,\"\")","v":""}]
[null,null,"",null,""]
[null,null,"",null,""]
[null,null,"",null,""]
[null,null,"",null,""]
[null,null,"",null,""]
[null,null,"",null,""]
[null,null,"",null,""]
[null,null,"",null,""]
[null,null,"",null,""]
[null,null,"",null,""]
[null,null,"",null,""]
[null,null,"",null,""]
[null,null,"",null,""]
[null,null,"",null,""]
[null,null,"",null,""]
[null,null,"",null,""]
[null,null,"",null,""]
[null,null,"",null,""]
[null,null,"",null,""]
[null,null,"",null,""]
[null,null,"",null,""]
[null,null,"",null,""]
[null,null,"",null,""]
[null,null,"",null,""]
[null,null,"",null,""]
[null,null,"",null,""]
[null,null,"",null,""]
[null,null,"",null,""]
[null,null,"",null,""]
[null,null,"",null,""]
[null,null,"",null,""]
[null,null,"",null,""]
[null,null,"",null,""]
[null,null,"",null,""]
[null,null,"",null,""]
[null,null,"",null,""]
[null,null,"",null,""]
[null,null,"",null,""]
[null,null,"",null,""]
[null,null,"",null,""]
[null,null,"",null,""]
[null,null,"",null,""]
[null,null,"",null,""]
[null,null,"",null,""]
[null,null,"",null,""]
[null,null,"",null,""]
[null,null,"",null,""]
[null,null,"",null,""]
[null,null,"",null,""]
[null,null,"",null,""]
[null,null,"",null,""]
[null,null,"",null,""]
[null,null,"",null,""]
[null,null,"",null,""]
[null,null,"",null,""]
[null,null,"",null,""]
[null,null,"",null,""]
[null,null,"",null,""]
[null,null,"",null,""]
[null,null,"",null,""]
[null,null,{"$f":"IF(B2498<>\"\",VLOOKUP(B2498,Peligrosppam,2,FALSE),\"\")","v":""},null,""]
[null,null,"",null,""]
[null,null,"",null,""]
[null,null,"",null,{"$f":"IF(C2501<>\"\",D2501/C2501,\"\")","v":""}]
[null,null,"",null,""]
[null,null,"",null,""]
[null,null,"",null,""]
[null,null,"",null,""]
[null,null,"",null,""]
[null,null,"",null,""]
[null,null,"",null,""]
[null,null,"",null,""]
[null,null,"",null,""]
[null,null,"",null,""]
[null,null,"",null,""]
[null,null,"",null,""]
[null,null,"",null,""]
[null,null,"",null,""]
[null,null,"",null,""]
[null,null,"",null,""]
[null,null,"",null,""]
[null,null,"",null,""]
[null,null,"",null,""]
[null,null,"",null,""]
[null,null,"",null,""]
[null,null,"",null,""]
[null,null,"",null,""]
[null,null,"",null,""]
[null,null,"",null,""]
[null,null,"",null,""]
[null,null,"",null,""]
[null,null,"",null,""]
[null,null,"",null,""]
[null,null,"",null,""]
[null,null,"",null,""]
[null,null,"",null,""]
[null,null,"",null,""]
[null,null,"",null,""]
[null,null,"",null,""]
[null,null,"",null,""]
[null,null,"",null,""]
[null,null,"",null,""]
[null,null,"",null,""]
[null,null,"",null,""]
[null,null,"",null,""]
[null,null,"",null,""]
[null,null,"",null,""]
[null,null,"",null,""]
[null,null,"",null,""]
[null,null,"",null,""]
[null,null,"",null,""]
[null,null,"",null,""]
[null,null,"",null,""]
[null,null,"",null,""]
[null,null,"",null,""]
[null,null,"",null,""]
[null,null,"",null,""]
[null,null,"",null,""]
[null,null,"",null,""]
[null,null,"",null,""]
[null,null,"",null,""]
[null,null,"",null,""]
[null,null,"",null,""]
[null,null,"",null,""]
[null,null,{"$f":"IF(B2562<>\"\",VLOOKUP(B2562,Peligrosppam,2,FALSE),\"\")","v":""},null,""]
[null,null,"",null,""]
[null,null,"",null,""]
[null,null,"",null,{"$f":"IF(C2565<>\"\",D2565/C2565,\"\")","v":""}]
[null,null,"",null,""]
[null,null,"",null,""]
[null,null,"",null,""]
[null,null,"",null,""]
[null,null,"",null,""]
[null,null,"",null,""]
[null,null,"",null,""]
[null,null,"",null,""]
[null,null,"",null,""]
[null,null,"",null,""]
[null,null,"",null,""]
[null,null,"",null,""]
[null,null,"",null,""]
[null,null,"",null,""]
[null,null,"",null,""]
[null,null,"",null,""]
[null,null,"",null,""]
[null,null,"",null,""]
[null,null,"",null,""]
[null,null,"",null,""]
[null,null,"",null,""]
[null,null,"",null,""]
[null,null,"",null,""]
[null,null,"",null,""]
[null,null,"",null,""]
[null,null,"",null,""]
[null,null,"",null,""]
[null,null,"",null,""]
[null,null,"",null,""]
[null,null,"",null,""]
[null,null,"",null,""]
[null,null,"",null,""]
[null,null,"",null,""]
[null,null,"",null,""]
[null,null,"",null,""]
[null,null,"",null,""]
[null,null,"",null,""]
[null,null,"",null,""]
[null,null,"",null,""]
[null,null,"",null,""]
[null,null,"",null,""]
[null,null,"",null,""]
[null,null,"",null,""]
[null,null,"",null,""]
[null,null,"",null,""]
[null,null,"",null,""]
[null,null,"",null,""]
[null,null,"",null,""]
[null,null,"",null,""]
[null,null,"",null,""]
[null,null,"",null,""]
[null,null,"",null,""]
[null,null,"",null,""]
[null,null,"",null,""]
[null,null,"",null,""]
[null,null,"",null,""]
[null,null,"",null,""]
[null,null,"",null,""]
[null,null,"",null,""]
[null,null,"",null,""]
[null,null,{"$f":"IF(B2626<>\"\",VLOOKUP(B2626,Peligrosppam,2,FALSE),\"\")","v":""},null,""]
[null,null,"",null,""]
[null,null,"",null,""]
[null,null,"",null,{"$f":"IF(C2629<>\"\",D2629/C2629,\"\")","v":""}]
[null,null,"",null,""]
[null,null,"",null,""]
[null,null,"",null,""]
[null,null,"",null,""]
[null,null,"",null,""]
[null,null,"",null,""]
[null,null,"",null,""]
[null,null,"",null,""]
[null,null,"",null,""]
[null,null,"",null,""]
[null,null,"",null,""]
[null,null,"",null,""]
[null,null,"",null,""]
[null,null,"",null,""]
[null,null,"",null,""]
[null,null,"",null,""]
[null,null,"",null,""]
[null,null,"",null,""]
[null,null,"",null,""]
[null,null,"",null,""]
[null,null,"",null,""]
[null,null,"",null,""]
[null,null,"",null,""]
[null,null,"",null,""]
[null,null,"",null,""]
[null,null,"",null,""]
[null,null,"",null,""]
[null,null,"",null,""]
[null,null,"",null,""]
[null,null,"",null,""]
[null,null,"",null,""]
[null,null,"",null,""]
[null,null,"",null,""]
[null,null,"",null,""]
[null,null,"",null,""]
[null,null,"",null,""]
[null,null,"",null,""]
[null,null,"",null,""]
[null,null,"",null,""]
[null,null,"",null,""]
[null,null,"",null,""]
[null,null,"",null,""]
[null,null,"",null,""]
[null,null,"",null,""]
[null,null,"",null,""]
[null,null,"",null,""]
[null,null,"",null,""]
[null,null,"",null,""]
[null,null,"",null,""]
[null,null,"",null,""]
[null,null,"",null,""]
[null,null,"",null,""]
[null,null,"",null,""]
[null,null,"",null,""]
[null,null,"",null,""]
[null,null,"",null,""]
[null,null,"",null,""]
[null,null,"",null,""]
[null,null,"",null,""]
[null,null,"",null,""]
[null,null,{"$f":"IF(B2690<>\"\",VLOOKUP(B2690,Peligrosppam,2,FALSE),\"\")","v":""},null,""]
[null,null,"",null,""]
[null,null,"",null,""]
[null,null,"",null,{"$f":"IF(C2693<>\"\",D2693/C2693,\"\")","v":""}]
[null,null,"",null,""]
[null,null,"",null,""]
[null,null,"",null,""]
[null,null,"",null,""]
[null,null,"",null,""]
[null,null,"",null,""]
[null,null,"",null,""]
[null,null,"",null,""]
[null,null,"",null,""]
[null,null,"",null,""]
[null,null,"",null,""]
[null,null,"",null,""]
[null,null,"",null,""]
[null,null,"",null,""]
[null,null,"",null,""]
[null,null,"",null,""]
[null,null,"",null,""]
[null,null,"",null,""]
[null,null,"",null,""]
[null,null,"",null,""]
[null,null,"",null,""]
[null,null,"",null,""]
[null,null,"",null,""]
[null,null,"",null,""]
[null,null,"",null,""]
[null,null,"",null,""]
[null,null,"",null,""]
[null,null,"",null,""]
[null,null,"",null,""]
[null,null,"",null,""]
[null,null,"",null,""]
[null,null,"",null,""]
[null,null,"",null,""]
[null,null,"",null,""]
[null,null,"",null,""]
[null,null,"",null,""]
[null,null,"",null,""]
[null,null,"",null,""]
[null,null,"",null,""]
[null,null,"",null,""]
[null,null,"",null,""]
[null,null,"",null,""]
[null,null,"",null,""]
[null,null,"",null,""]
[null,null,"",null,""]
[null,null,"",null,""]
[null,null,"",null,""]
[null,null,"",null,""]
[null,null,"",null,""]
[null,null,"",null,""]
[null,null,"",null,""]
[null,null,"",null,""]
[null,null,"",null,""]
[null,null,"",null,""]
[null,null,"",null,""]
[null,null,"",null,""]
[null,null,"",null,""]
[null,null,"",null,""]
[null,null,"",null,""]
[null,null,"",null,""]
[null,null,{"$f":"IF(B2754<>\"\",VLOOKUP(B2754,Peligrosppam,2,FALSE),\"\")","v":""},null,""]
[null,null,"",null,""]
[null,null,"",null,""]
[null,null,"",null,{"$f":"IF(C2757<>\"\",D2757/C2757,\"\")","v":""}]
[null,null,"",null,""]
[null,null,"",null,""]
[null,null,"",null,""]
[null,null,"",null,""]
[null,null,"",null,""]
[null,null,"",null,""]
[null,null,"",null,""]
[null,null,"",null,""]
[null,null,"",null,""]
[null,null,"",null,""]
[null,null,"",null,""]
[null,null,"",null,""]
[null,null,"",null,""]
[null,null,"",null,""]
[null,null,"",null,""]
[null,null,"",null,""]
[null,null,"",null,""]
[null,null,"",null,""]
[null,null,"",null,""]
[null,null,"",null,""]
[null,null,"",null,""]
[null,null,"",null,""]
[null,null,"",null,""]
[null,null,"",null,""]
[null,null,"",null,""]
[null,null,"",null,""]
[null,null,"",null,""]
[null,null,"",null,""]
[null,null,"",null,""]
[null,null,"",null,""]
[null,null,"",null,""]
[null,null,"",null,""]
[null,null,"",null,""]
[null,null,"",null,""]
[null,null,"",null,""]
[null,null,"",null,""]
[null,null,"",null,""]
[null,null,"",null,""]
[null,null,"",null,""]
[null,null,"",null,""]
[null,null,"",null,""]
[null,null,"",null,""]
[null,null,"",null,""]
[null,null,"",null,""]
[null,null,"",null,""]
[null,null,"",null,""]
[null,null,"",null,""]
[null,null,"",null,""]
[null,null,"",null,""]
[null,null,"",null,""]
[null,null,"",null,""]
[null,null,"",null,""]
[null,null,"",null,""]
[null,null,"",null,""]
[null,null,"",null,""]
[null,null,"",null,""]
[null,null,"",null,""]
[null,null,"",null,""]
[null,null,"",null,""]
[null,null,"",null,""]
[null,null,{"$f":"IF(B2818<>\"\",VLOOKUP(B2818,Peligrosppam,2,FALSE),\"\")","v":""},null,""]
[null,null,"",null,""]
[null,null,"",null,""]
[null,null,"",null,{"$f":"IF(C2821<>\"\",D2821/C2821,\"\")","v":""}]
[null,null,"",null,""]
[null,null,"",null,""]
[null,null,"",null,""]
[null,null,"",null,""]
[null,null,"",null,""]
[null,null,"",null,""]
[null,null,"",null,""]
[null,null,"",null,""]
[null,null,"",null,""]
[null,null,"",null,""]
[null,null,"",null,""]
[null,null,"",null,""]
[null,null,"",null,""]
[null,null,"",null,""]
[null,null,"",null,""]
[null,null,"",null,""]
[null,null,"",null,""]
[null,null,"",null,""]
[null,null,"",null,""]
[null,null,"",null,""]
[null,null,"",null,""]
[null,null,"",null,""]
[null,null,"",null,""]
[null,null,"",null,""]
[null,null,"",null,""]
[null,null,"",null,""]
[null,null,"",null,""]
[null,null,"",null,""]
[null,null,"",null,""]
[null,null,"",null,""]
[null,null,"",null,""]
[null,null,"",null,""]
[null,null,"",null,""]
[null,null,"",null,""]
[null,null,"",null,""]
[null,null,"",null,""]
[null,null,"",null,""]
[null,null,"",null,""]
[null,null,"",null,""]
[null,null,"",null,""]
[null,null,"",null,""]
[null,null,"",null,""]
[null,null,"",null,""]
[null,null,"",null,""]
[null,null,"",null,""]
[null,null,"",null,""]
[null,null,"",null,""]
[null,null,"",null,""]
[null,null,"",null,""]
[null,null,"",null,""]
[null,null,"",null,""]
[null,null,"",null,""]
[null,null,"",null,""]
[null,null,"",null,""]
[null,null,"",null,""]
[null,null,"",null,""]
[null,null,"",null,""]
[null,null,"",null,""]
[null,null,"",null,""]
[null,null,"",null,""]
[null,null,{"$f":"IF(B2882<>\"\",VLOOKUP(B2882,Peligrosppam,2,FALSE),\"\")","v":""},null,""]
[null,null,"",null,""]
[null,null,"",null,""]
[null,null,"",null,{"$f":"IF(C2885<>\"\",D2885/C2885,\"\")","v":""}]
[null,null,"",null,""]
[null,null,"",null,""]
[null,null,"",null,""]
[null,null,"",null,""]
[null,null,"",null,""]
[null,null,"",null,""]
[null,null,"",null,""]
[null,null,"",null,""]
[null,null,"",null,""]
[null,null,"",null,""]
[null,null,"",null,""]
[null,null,"",null,""]
[null,null,"",null,""]
[null,null,"",null,""]
[null,null,"",null,""]
[null,null,"",null,""]
[null,null,"",null,""]
[null,null,"",null,""]
[null,null,"",null,""]
[null,null,"",null,""]
[null,null,"",null,""]
[null,null,"",null,""]
[null,null,"",null,""]
[null,null,"",null,""]
[null,null,"",null,""]
[null,null,"",null,""]
[null,null,"",null,""]
[null,null,"",null,""]
[null,null,"",null,""]
[null,null,"",null,""]
[null,null,"",null,""]
[null,null,"",null,""]
[null,null,"",null,""]
[null,null,"",null,""]
[null,null,"",null,""]
[null,null,"",null,""]
[null,null,"",null,""]
[null,null,"",null,""]
[null,null,"",null,""]
[null,null,"",null,""]
[null,null,"",null,""]
[null,null,"",null,""]
[null,null,"",null,""]
[null,null,"",null,""]
[null,null,"",null,""]
[null,null,"",null,""]
[null,null,"",null,""]
[null,null,"",null,""]
[null,null,"",null,""]
[null,null,"",null,""]
[null,null,"",null,""]
[null,null,"",null,""]
[null,null,"",null,""]
[null,null,"",null,""]
[null,null,"",null,""]
[null,null,"",null,""]
[null,null,"",null,""]
[null,null,"",null,""]
[null,null,"",null,""]
[null,null,"",null,""]
[null,null,{"$f":"IF(B2946<>\"\",VLOOKUP(B2946,Peligrosppam,2,FALSE),\"\")","v":""},null,""]
[null,null,"",null,""]
[null,null,"",null,""]
[null,null,"",null,{"$f":"IF(C2949<>\"\",D2949/C2949,\"\")","v":""}]
[null,null,"",null,""]
[null,null,"",null,""]
[null,null,"",null,""]
[null,null,"",null,""]
[null,null,"",null,""]
[null,null,"",null,""]
[null,null,"",null,""]
[null,null,"",null,""]
[null,null,"",null,""]
[null,null,"",null,""]
[null,null,"",null,""]
[null,null,"",null,""]
[null,null,"",null,""]
[null,null,"",null,""]
[null,null,"",null,""]
[null,null,"",null,""]
[null,null,"",null,""]
[null,null,"",null,""]
[null,null,"",null,""]
[null,null,"",null,""]
[null,null,"",null,""]
[null,null,"",null,""]
[null,null,"",null,""]
[null,null,"",null,""]
[null,null,"",null,""]
[null,null,"",null,""]
[null,null,"",null,""]
[null,null,"",null,""]
[null,null,"",null,""]
[null,null,"",null,""]
[null,null,"",null,""]
[null,null,"",null,""]
[null,null,"",null,""]
[null,null,"",null,""]
[null,null,"",null,""]
[null,null,"",null,""]
[null,null,"",null,""]
[null,null,"",null,""]
[null,null,"",null,""]
[null,null,"",null,""]
[null,null,"",null,""]
[null,null,"",null,""]
[null,null,"",null,""]
[null,null,"",null,""]
[null,null,"",null,""]
[null,null,"",null,""]
[null,null,"",null,""]
[null,null,"",null,""]
[null,null,"",null,""]
[null,null,"",null,""]
[null,null,"",null,""]
[null,null,"",null,""]
[null,null,"",null,""]
[null,null,"",null,""]
[null,null,"",null,""]
[null,null,"",null,""]
[null,null,"",null,""]
[null,null,"",null,""]
[null,null,"",null,""]
[null,null,"",null,""]
[null,null,{"$f":"IF(B3010<>\"\",VLOOKUP(B3010,Peligrosppam,2,FALSE),\"\")","v":""},null,""]
[null,null,"",null,""]
[null,null,"",null,""]
[null,null,"",null,{"$f":"IF(C3013<>\"\",D3013/C3013,\"\")","v":""}]
[null,null,"",null,""]
[null,null,"",null,""]
[null,null,"",null,""]
[null,null,"",null,""]
[null,null,"",null,""]
[null,null,"",null,""]
[null,null,"",null,""]
[null,null,"",null,""]
[null,null,"",null,""]
[null,null,"",null,""]
[null,null,"",null,""]
[null,null,"",null,""]
[null,null,"",null,""]
[null,null,"",null,""]
[null,null,"",null,""]
[null,null,"",null,""]
[null,null,"",null,""]
[null,null,"",null,""]
[null,null,"",null,""]
[null,null,"",null,""]
[null,null,"",null,""]
[null,null,"",null,""]
[null,null,"",null,""]
[null,null,"",null,""]
[null,null,"",null,""]
[null,null,"",null,""]
[null,null,"",null,""]
[null,null,"",null,""]
[null,null,"",null,""]
[null,null,"",null,""]
[null,null,"",null,""]
[null,null,"",null,""]
[null,null,"",null,""]
[null,null,"",null,""]
[null,null,"",null,""]
[null,null,"",null,""]
[null,null,"",null,""]
[null,null,"",null,""]
[null,null,"",null,""]
[null,null,"",null,""]
[null,null,"",null,""]
[null,null,"",null,""]
[null,null,"",null,""]
[null,null,"",null,""]
[null,null,"",null,""]
[null,null,"",null,""]
[null,null,"",null,""]
[null,null,"",null,""]
[null,null,"",null,""]
[null,null,"",null,""]
[null,null,"",null,""]
[null,null,"",null,""]
[null,null,"",null,""]
[null,null,"",null,""]
[null,null,"",null,""]
[null,null,"",null,""]
[null,null,"",null,""]
[null,null,"",null,""]
[null,null,"",null,""]
[null,null,"",null,""]
[null,null,{"$f":"IF(B3074<>\"\",VLOOKUP(B3074,Peligrosppam,2,FALSE),\"\")","v":""},null,""]
[null,null,"",null,""]
[null,null,"",null,""]
[null,null,"",null,{"$f":"IF(C3077<>\"\",D3077/C3077,\"\")","v":""}]
[null,null,"",null,""]
[null,null,"",null,""]
[null,null,"",null,""]
[null,null,"",null,""]
[null,null,"",null,""]
[null,null,"",null,""]
[null,null,"",null,""]
[null,null,"",null,""]
[null,null,"",null,""]
[null,null,"",null,""]
[null,null,"",null,""]
[null,null,"",null,""]
[null,null,"",null,""]
[null,null,"",null,""]
[null,null,"",null,""]
[null,null,"",null,""]
[null,null,"",null,""]
[null,null,"",null,""]
[null,null,"",null,""]
[null,null,"",null,""]
[null,null,"",null,""]
[null,null,"",null,""]
[null,null,"",null,""]
[null,null,"",null,""]
[null,null,"",null,""]
[null,null,"",null,""]
[null,null,"",null,""]
[null,null,"",null,""]
[null,null,"",null,""]
[null,null,"",null,""]
[null,null,"",null,""]
[null,null,"",null,""]
[null,null,"",null,""]
[null,null,"",null,""]
[null,null,"",null,""]
[null,null,"",null,""]
[null,null,"",null,""]
[null,null,"",null,""]
[null,null,"",null,""]
[null,null,"",null,""]
[null,null,"",null,""]
[null,null,"",null,""]
[null,null,"",null,""]
[null,null,"",null,""]
[null,null,"",null,""]
[null,null,"",null,""]
[null,null,"",null,""]
[null,null,"",null,""]
[null,null,"",null,""]
[null,null,"",null,""]
[null,null,"",null,""]
[null,null,"",null,""]
[null,null,"",null,""]
[null,null,"",null,""]
[null,null,"",null,""]
[null,null,"",null,""]
[null,null,"",null,""]
[null,null,"",null,""]
[null,null,"",null,""]
[null,null,"",null,""]
[null,null,{"$f":"IF(B3138<>\"\",VLOOKUP(B3138,Peligrosppam,2,FALSE),\"\")","v":""},null,""]
[null,null,"",null,""]
[null,null,"",null,""]
[null,null,"",null,{"$f":"IF(C3141<>\"\",D3141/C3141,\"\")","v":""}]
[null,null,"",null,""]
[null,null,"",null,""]
[null,null,"",null,""]
[null,null,"",null,""]
[null,null,"",null,""]
[null,null,"",null,""]
[null,null,"",null,""]
[null,null,"",null,""]
[null,null,"",null,""]
[null,null,"",null,""]
[null,null,"",null,""]
[null,null,"",null,""]
[null,null,"",null,""]
[null,null,"",null,""]
[null,null,"",null,""]
[null,null,"",null,""]
[null,null,"",null,""]
[null,null,"",null,""]
[null,null,"",null,""]
[null,null,"",null,""]
[null,null,"",null,""]
[null,null,"",null,""]
[null,null,"",null,""]
[null,null,"",null,""]
[null,null,"",null,""]
[null,null,"",null,""]
[null,null,"",null,""]
[null,null,"",null,""]
[null,null,"",null,""]
[null,null,"",null,""]
[null,null,"",null,""]
[null,null,"",null,""]
[null,null,"",null,""]
[null,null,"",null,""]
[null,null,"",null,""]
[null,null,"",null,""]
[null,null,"",null,""]
[null,null,"",null,""]
[null,null,"",null,""]
[null,null,"",null,""]
[null,null,"",null,""]
[null,null,"",null,""]
[null,null,"",null,""]
[null,null,"",null,""]
[null,null,"",null,""]
[null,null,"",null,""]
[null,null,"",null,""]
[null,null,"",null,""]
[null,null,"",null,""]
[null,null,"",null,""]
[null,null,"",null,""]
[null,null,"",null,""]
[null,null,"",null,""]
[null,null,"",null,""]
[null,null,"",null,""]
[null,null,"",null,""]
[null,null,"",null,""]
[null,null,"",null,""]
[null,null,"",null,""]
[null,null,"",null,""]
[null,null,{"$f":"IF(B3202<>\"\",VLOOKUP(B3202,Peligrosppam,2,FALSE),\"\")","v":""},null,""]
[null,null,"",null,""]
[null,null,"",null,""]
[null,null,"",null,{"$f":"IF(C3205<>\"\",D3205/C3205,\"\")","v":""}]
[null,null,"",null,""]
[null,null,"",null,""]
[null,null,"",null,""]
[null,null,"",null,""]
[null,null,"",null,""]
[null,null,"",null,""]
[null,null,"",null,""]
[null,null,"",null,""]
[null,null,"",null,""]
[null,null,"",null,""]
[null,null,"",null,""]
[null,null,"",null,""]
[null,null,"",null,""]
[null,null,"",null,""]
[null,null,"",null,""]
[null,null,"",null,""]
[null,null,"",null,""]
[null,null,"",null,""]
[null,null,"",null,""]
[null,null,"",null,""]
[null,null,"",null,""]
[null,null,"",null,""]
[null,null,"",null,""]
[null,null,"",null,""]
[null,null,"",null,""]
[null,null,"",null,""]
[null,null,"",null,""]
[null,null,"",null,""]
[null,null,"",null,""]
[null,null,"",null,""]
[null,null,"",null,""]
[null,null,"",null,""]
[null,null,"",null,""]
[null,null,"",null,""]
[null,null,"",null,""]
[null,null,"",null,""]
[null,null,"",null,""]
[null,null,"",null,""]
[null,null,"",null,""]
[null,null,"",null,""]
[null,null,"",null,""]
[null,null,"",null,""]
[null,null,"",null,""]
[null,null,"",null,""]
[null,null,"",null,""]
[null,null,"",null,""]
[null,null,"",null,""]
[null,null,"",null,""]
[null,null,"",null,""]
[null,null,"",null,""]
[null,null,"",null,""]
[null,null,"",null,""]
[null,null,"",null,""]
[null,null,"",null,""]
[null,null,"",null,""]
[null,null,"",null,""]
[null,null,"",null,""]
[null,null,"",null,""]
[null,null,"",null,""]
[null,null,"",null,""]
[null,null,{"$f":"IF(B3266<>\"\",VLOOKUP(B3266,Peligrosppam,2,FALSE),\"\")","v":""},null,""]
[null,null,"",null,""]
[null,null,"",null,""]
[null,null,"",null,{"$f":"IF(C3269<>\"\",D3269/C3269,\"\")","v":""}]
[null,null,"",null,""]
[null,null,"",null,""]
[null,null,"",null,""]
[null,null,"",null,""]
[null,null,"",null,""]
[null,null,"",null,""]
[null,null,"",null,""]
[null,null,"",null,""]
[null,null,"",null,""]
[null,null,"",null,""]
[null,null,"",null,""]
[null,null,"",null,""]
[null,null,"",null,""]
[null,null,"",null,""]
[null,null,"",null,""]
[null,null,"",null,""]
[null,null,"",null,""]
[null,null,"",null,""]
[null,null,"",null,""]
[null,null,"",null,""]
[null,null,"",null,""]
[null,null,"",null,""]
[null,null,"",null,""]
[null,null,"",null,""]
[null,null,"",null,""]
[null,null,"",null,""]
[null,null,"",null,""]
[null,null,"",null,""]
[null,null,"",null,""]
[null,null,"",null,""]
[null,null,"",null,""]
[null,null,"",null,""]
[null,null,"",null,""]
[null,null,"",null,""]
[null,null,"",null,""]
[null,null,"",null,""]
[null,null,"",null,""]
[null,null,"",null,""]
[null,null,"",null,""]
[null,null,"",null,""]
[null,null,"",null,""]
[null,null,"",null,""]
[null,null,"",null,""]
[null,null,"",null,""]
[null,null,"",null,""]
[null,null,"",null,""]
[null,null,"",null,""]
[null,null,"",null,""]
[null,null,"",null,""]
[null,null,"",null,""]
[null,null,"",null,""]
[null,null,"",null,""]
[null,null,"",null,""]
[null,null,"",null,""]
[null,null,"",null,""]
[null,null,"",null,""]
[null,null,"",null,""]
[null,null,"",null,""]
[null,null,"",null,""]
[null,null,"",null,""]
[null,null,{"$f":"IF(B3330<>\"\",VLOOKUP(B3330,Peligrosppam,2,FALSE),\"\")","v":""},null,""]
[null,null,"",null,""]
[null,null,"",null,""]
[null,null,"",null,{"$f":"IF(C3333<>\"\",D3333/C3333,\"\")","v":""}]
[null,null,"",null,""]
[null,null,"",null,""]
[null,null,"",null,""]
[null,null,"",null,""]
[null,null,"",null,""]
[null,null,"",null,""]
[null,null,"",null,""]
[null,null,"",null,""]
[null,null,"",null,""]
[null,null,"",null,""]
[null,null,"",null,""]
[null,null,"",null,""]
[null,null,"",null,""]
[null,null,"",null,""]
[null,null,"",null,""]
[null,null,"",null,""]
[null,null,"",null,""]
[null,null,"",null,""]
[null,null,"",null,""]
[null,null,"",null,""]
[null,null,"",null,""]
[null,null,"",null,""]
[null,null,"",null,""]
[null,null,"",null,""]
[null,null,"",null,""]
[null,null,"",null,""]
[null,null,"",null,""]
[null,null,"",null,""]
[null,null,"",null,""]
[null,null,"",null,""]
[null,null,"",null,""]
[null,null,"",null,""]
[null,null,"",null,""]
[null,null,"",null,""]
[null,null,"",null,""]
[null,null,"",null,""]
[null,null,"",null,""]
[null,null,"",null,""]
[null,null,"",null,""]
[null,null,"",null,""]
[null,null,"",null,""]
[null,null,"",null,""]
[null,null,"",null,""]
[null,null,"",null,""]
[null,null,"",null,""]
[null,null,"",null,""]
[null,null,"",null,""]
[null,null,"",null,""]
[null,null,"",null,""]
[null,null,"",null,""]
[null,null,"",null,""]
[null,null,"",null,""]
[null,null,"",null,""]
[null,null,"",null,""]
[null,null,"",null,""]
[null,null,"",null,""]
[null,null,"",null,""]
[null,null,"",null,""]
[null,null,"",null,""]
[null,null,"",null,""]
[null,null,{"$f":"IF(B3394<>\"\",VLOOKUP(B3394,Peligrosppam,2,FALSE),\"\")","v":""},null,""]
[null,null,"",null,""]
[null,null,"",null,""]
[null,null,"",null,{"$f":"IF(C3397<>\"\",D3397/C3397,\"\")","v":""}]
[null,null,"",null,""]
[null,null,"",null,""]
[null,null,"",null,""]
[null,null,"",null,""]
[null,null,"",null,""]
[null,null,"",null,""]
[null,null,"",null,""]
[null,null,"",null,""]
[null,null,"",null,""]
[null,null,"",null,""]
[null,null,"",null,""]
[null,null,"",null,""]
[null,null,"",null,""]
[null,null,"",null,""]
[null,null,"",null,""]
[null,null,"",null,""]
[null,null,"",null,""]
[null,null,"",null,""]
[null,null,"",null,""]
[null,null,"",null,""]
[null,null,"",null,""]
[null,null,"",null,""]
[null,null,"",null,""]
[null,null,"",null,""]
[null,null,"",null,""]
[null,null,"",null,""]
[null,null,"",null,""]
[null,null,"",null,""]
[null,null,"",null,""]
[null,null,"",null,""]
[null,null,"",null,""]
[null,null,"",null,""]
[null,null,"",null,""]
[null,null,"",null,""]
[null,null,"",null,""]
[null,null,"",null,""]
[null,null,"",null,""]
[null,null,"",null,""]
[null,null,"",null,""]
[null,null,"",null,""]
[null,null,"",null,""]
[null,null,"",null,""]
[null,null,"",null,""]
[null,null,"",null,""]
[null,null,"",null,""]
[null,null,"",null,""]
[null,null,"",null,""]
[null,null,"",null,""]
[null,null,"",null,""]
[null,null,"",null,""]
[null,null,"",null,""]
[null,null,"",null,""]
[null,null,"",null,""]
[null,null,"",null,""]
[null,null,"",null,""]
[null,null,"",null,""]
[null,null,"",null,""]
[null,null,"",null,""]
[null,null,"",null,""]
[null,null,"",null,""]
[null,null,{"$f":"IF(B3458<>\"\",VLOOKUP(B3458,Peligrosppam,2,FALSE),\"\")","v":""},null,""]
[null,null,"",null,""]
[null,null,"",null,""]
[null,null,"",null,{"$f":"IF(C3461<>\"\",D3461/C3461,\"\")","v":""}]
[null,null,"",null,""]
[null,null,"",null,""]
[null,null,"",null,""]
[null,null,"",null,""]
[null,null,"",null,""]
[null,null,"",null,""]
[null,null,"",null,""]
[null,null,"",null,""]
[null,null,"",null,""]
[null,null,"",null,""]
[null,null,"",null,""]
[null,null,"",null,""]
[null,null,"",null,""]
[null,null,"",null,""]
[null,null,"",null,""]
[null,null,"",null,""]
[null,null,"",null,""]
[null,null,"",null,""]
[null,null,"",null,""]
[null,null,"",null,""]
[null,null,"",null,""]
[null,null,"",null,""]
[null,null,"",null,""]
[null,null,"",null,""]
[null,null,"",null,""]
[null,null,"",null,""]
[null,null,"",null,""]
[null,null,"",null,""]
[null,null,"",null,""]
[null,null,"",null,""]
[null,null,"",null,""]
[null,null,"",null,""]
[null,null,"",null,""]
[null,null,"",null,""]
[null,null,"",null,""]
[null,null,"",null,""]
[null,null,"",null,""]
[null,null,"",null,""]
[null,null,"",null,""]
[null,null,"",null,""]
[null,null,"",null,""]
[null,null,"",null,""]
[null,null,"",null,""]
[null,null,"",null,""]
[null,null,"",null,""]
[null,null,"",null,""]
[null,null,"",null,""]
[null,null,"",null,""]
[null,null,"",null,""]
[null,null,"",null,""]
[null,null,"",null,""]
[null,null,"",null,""]
[null,null,"",null,""]
[null,null,"",null,""]
[null,null,"",null,""]
[null,null,"",null,""]
[null,null,"",null,""]
[null,null,"",null,""]
[null,null,"",null,""]
[null,null,"",null,""]
[null,null,{"$f":"IF(B3522<>\"\",VLOOKUP(B3522,Peligrosppam,2,FALSE),\"\")","v":""},null,""]
[null,null,"",null,""]
[null,null,"",null,""]
[null,null,"",null,{"$f":"IF(C3525<>\"\",D3525/C3525,\"\")","v":""}]
[null,null,"",null,""]
[null,null,"",null,""]
[null,null,"",null,""]
[null,null,"",null,""]
[null,null,"",null,""]
[null,null,"",null,""]
[null,null,"",null,""]
[null,null,"",null,""]
[null,null,"",null,""]
[null,null,"",null,""]
[null,null,"",null,""]
[null,null,"",null,""]
[null,null,"",null,""]
[null,null,"",null,""]
[null,null,"",null,""]
[null,null,"",null,""]
[null,null,"",null,""]
[null,null,"",null,""]
[null,null,"",null,""]
[null,null,"",null,""]
[null,null,"",null,""]
[null,null,"",null,""]
[null,null,"",null,""]
[null,null,"",null,""]
[null,null,"",null,""]
[null,null,"",null,""]
[null,null,"",null,""]
[null,null,"",null,""]
[null,null,"",null,""]
[null,null,"",null,""]
[null,null,"",null,""]
[null,null,"",null,""]
[null,null,"",null,""]
[null,null,"",null,""]
[null,null,"",null,""]
[null,null,"",null,""]
[null,null,"",null,""]
[null,null,"",null,""]
[null,null,"",null,""]
[null,null,"",null,""]
[null,null,"",null,""]
[null,null,"",null,""]
[null,null,"",null,""]
[null,null,"",null,""]
[null,null,"",null,""]
[null,null,"",null,""]
[null,null,"",null,""]
[null,null,"",null,""]
[null,null,"",null,""]
[null,null,"",null,""]
[null,null,"",null,""]
[null,null,"",null,""]
[null,null,"",null,""]
[null,null,"",null,""]
[null,null,"",null,""]
[null,null,"",null,""]
[null,null,"",null,""]
[null,null,"",null,""]
[null,null,"",null,""]
[null,null,"",null,""]
[null,null,{"$f":"IF(B3586<>\"\",VLOOKUP(B3586,Peligrosppam,2,FALSE),\"\")","v":""},null,""]
[null,null,"",null,""]
[null,null,"",null,""]
[null,null,"",null,{"$f":"IF(C3589<>\"\",D3589/C3589,\"\")","v":""}]
[null,null,"",null,""]
[null,null,"",null,""]
[null,null,"",null,""]
[null,null,"",null,""]
[null,null,"",null,""]
[null,null,"",null,""]
[null,null,"",null,""]
[null,null,"",null,""]
[null,null,"",null,""]
[null,null,"",null,""]
[null,null,"",null,""]
[null,null,"",null,""]
[null,null,"",null,""]
[null,null,"",null,""]
[null,null,"",null,""]
[null,null,"",null,""]
[null,null,"",null,""]
[null,null,"",null,""]
[null,null,"",null,""]
[null,null,"",null,""]
[null,null,"",null,""]
[null,null,"",null,""]
[null,null,"",null,""]
[null,null,"",null,""]
[null,null,"",null,""]
[null,null,"",null,""]
[null,null,"",null,""]
[null,null,"",null,""]
[null,null,"",null,""]
[null,null,"",null,""]
[null,null,"",null,""]
[null,null,"",null,""]
[null,null,"",null,""]
[null,null,"",null,""]
[null,null,"",null,""]
[null,null,"",null,""]
[null,null,"",null,""]
[null,null,"",null,""]
[null,null,"",null,""]
[null,null,"",null,""]
[null,null,"",null,""]
[null,null,"",null,""]
[null,null,"",null,""]
[null,null,"",null,""]
[null,null,"",null,""]
[null,null,"",null,""]
[null,null,"",null,""]
[null,null,"",null,""]
[null,null,"",null,""]
[null,null,"",null,""]
[null,null,"",null,""]
[null,null,"",null,""]
[null,null,"",null,""]
[null,null,"",null,""]
[null,null,"",null,""]
[null,null,"",null,""]
[null,null,"",null,""]
[null,null,"",null,""]
[null,null,"",null,""]
[null,null,"",null,""]
[null,null,{"$f":"IF(B3650<>\"\",VLOOKUP(B3650,Peligrosppam,2,FALSE),\"\")","v":""},null,""]
[null,null,"",null,""]
[null,null,"",null,""]
[null,null,"",null,{"$f":"IF(C3653<>\"\",D3653/C3653,\"\")","v":""}]
[null,null,"",null,""]
[null,null,"",null,""]
[null,null,"",null,""]
[null,null,"",null,""]
[null,null,"",null,""]
[null,null,"",null,""]
[null,null,"",null,""]
[null,null,"",null,""]
[null,null,"",null,""]
[null,null,"",null,""]
[null,null,"",null,""]
[null,null,"",null,""]
[null,null,"",null,""]
[null,null,"",null,""]
[null,null,"",null,""]
[null,null,"",null,""]
[null,null,"",null,""]
[null,null,"",null,""]
[null,null,"",null,""]
[null,null,"",null,""]
[null,null,"",null,""]
[null,null,"",null,""]
[null,null,"",null,""]
[null,null,"",null,""]
[null,null,"",null,""]
[null,null,"",null,""]
[null,null,"",null,""]
[null,null,"",null,""]
[null,null,"",null,""]
[null,null,"",null,""]
[null,null,"",null,""]
[null,null,"",null,""]
[null,null,"",null,""]
[null,null,"",null,""]
[null,null,"",null,""]
[null,null,"",null,""]
[null,null,"",null,""]
[null,null,"",null,""]
[null,null,"",null,""]
[null,null,"",null,""]
[null,null,"",null,""]
[null,null,"",null,""]
[null,null,"",null,""]
[null,null,"",null,""]
[null,null,"",null,""]
[null,null,"",null,""]
[null,null,"",null,""]
[null,null,"",null,""]
[null,null,"",null,""]
[null,null,"",null,""]
[null,null,"",null,""]
[null,null,"",null,""]
[null,null,"",null,""]
[null,null,"",null,""]
[null,null,"",null,""]
[null,null,"",null,""]
[null,null,"",null,""]
[null,null,"",null,""]
[null,null,"",null,""]
[null,null,"",null,""]
[null,null,{"$f":"IF(B3714<>\"\",VLOOKUP(B3714,Peligrosppam,2,FALSE),\"\")","v":""},null,""]
[null,null,"",null,""]
[null,null,"",null,""]
[null,null,"",null,{"$f":"IF(C3717<>\"\",D3717/C3717,\"\")","v":""}]
[null,null,"",null,""]
[null,null,"",null,""]
[null,null,"",null,""]
[null,null,"",null,""]
[null,null,"",null,""]
[null,null,"",null,""]
[null,null,"",null,""]
[null,null,"",null,""]
[null,null,"",null,""]
[null,null,"",null,""]
[null,null,"",null,""]
[null,null,"",null,""]
[null,null,"",null,""]
[null,null,"",null,""]
[null,null,"",null,""]
[null,null,"",null,""]
[null,null,"",null,""]
[null,null,"",null,""]
[null,null,"",null,""]
[null,null,"",null,""]
[null,null,"",null,""]
[null,null,"",null,""]
[null,null,"",null,""]
[null,null,"",null,""]
[null,null,"",null,""]
[null,null,"",null,""]
[null,null,"",null,""]
[null,null,"",null,""]
[null,null,"",null,""]
[null,null,"",null,""]
[null,null,"",null,""]
[null,null,"",null,""]
[null,null,"",null,""]
[null,null,"",null,""]
[null,null,"",null,""]
[null,null,"",null,""]
[null,null,"",null,""]
[null,null,"",null,""]
[null,null,"",null,""]
[null,null,"",null,""]
[null,null,"",null,""]
[null,null,"",null,""]
[null,null,"",null,""]
[null,null,"",null,""]
[null,null,"",null,""]
[null,null,"",null,""]
[null,null,"",null,""]
[null,null,"",null,""]
[null,null,"",null,""]
[null,null,"",null,""]
[null,null,"",null,""]
[null,null,"",null,""]
[null,null,"",null,""]
[null,null,"",null,""]
[null,null,"",null,""]
[null,null,"",null,""]
[null,null,"",null,""]
[null,null,"",null,""]
[null,null,"",null,""]
[null,null,"",null,""]
[null,null,{"$f":"IF(B3778<>\"\",VLOOKUP(B3778,Peligrosppam,2,FALSE),\"\")","v":""},null,""]
[null,null,"",null,""]
[null,null,"",null,""]
[null,null,"",null,{"$f":"IF(C3781<>\"\",D3781/C3781,\"\")","v":""}]
[null,null,"",null,""]
[null,null,"",null,""]
[null,null,"",null,""]
[null,null,"",null,""]
[null,null,"",null,""]
[null,null,"",null,""]
[null,null,"",null,""]
[null,null,"",null,""]
[null,null,"",null,""]
[null,null,"",null,""]
[null,null,"",null,""]
[null,null,"",null,""]
[null,null,"",null,""]
[null,null,"",null,""]
[null,null,"",null,""]
[null,null,"",null,""]
[null,null,"",null,""]
[null,null,"",null,""]
[null,null,"",null,""]
[null,null,"",null,""]
[null,null,"",null,""]
[null,null,"",null,""]
[null,null,"",null,""]
[null,null,"",null,""]
[null,null,"",null,""]
[null,null,"",null,""]
[null,null,"",null,""]
[null,null,"",null,""]
[null,null,"",null,""]
[null,null,"",null,""]
[null,null,"",null,""]
[null,null,"",null,""]
[null,null,"",null,""]
[null,null,"",null,""]
[null,null,"",null,""]
[null,null,"",null,""]
[null,null,"",null,""]
[null,null,"",null,""]
[null,null,"",null,""]
[null,null,"",null,""]
[null,null,"",null,""]
[null,null,"",null,""]
[null,null,"",null,""]
[null,null,"",null,""]
[null,null,"",null,""]
[null,null,"",null,""]
[null,null,"",null,""]
[null,null,"",null,""]
[null,null,"",null,""]
[null,null,"",null,""]
[null,null,"",null,""]
[null,null,"",null,""]
[null,null,"",null,""]
[null,null,"",null,""]
[null,null,"",null,""]
[null,null,"",null,""]
[null,null,"",null,""]
[null,null,"",null,""]
[null,null,"",null,""]
[null,null,"",null,""]
[null,null,{"$f":"IF(B3842<>\"\",VLOOKUP(B3842,Peligrosppam,2,FALSE),\"\")","v":""},null,""]
[null,null,"",null,""]
[null,null,"",null,""]
[null,null,"",null,{"$f":"IF(C3845<>\"\",D3845/C3845,\"\")","v":""}]
[null,null,"",null,""]
[null,null,"",null,""]
[null,null,"",null,""]
[null,null,"",null,""]
[null,null,"",null,""]
[null,null,"",null,""]
[null,null,"",null,""]
[null,null,"",null,""]
[null,null,"",null,""]
[null,null,"",null,""]
[null,null,"",null,""]
[null,null,"",null,""]
[null,null,"",null,""]
[null,null,"",null,""]
[null,null,"",null,""]
[null,null,"",null,""]
[null,null,"",null,""]
[null,null,"",null,""]
[null,null,"",null,""]
[null,null,"",null,""]
[null,null,"",null,""]
[null,null,"",null,""]
[null,null,"",null,""]
[null,null,"",null,""]
[null,null,"",null,""]
[null,null,"",null,""]
[null,null,"",null,""]
[null,null,"",null,""]
[null,null,"",null,""]
[null,null,"",null,""]
[null,null,"",null,""]
[null,null,"",null,""]
[null,null,"",null,""]
[null,null,"",null,""]
[null,null,"",null,""]
[null,null,"",null,""]
[null,null,"",null,""]
[null,null,"",null,""]
[null,null,"",null,""]
[null,null,"",null,""]
[null,null,"",null,""]
[null,null,"",null,""]
[null,null,"",null,""]
[null,null,"",null,""]
[null,null,"",null,""]
[null,null,"",null,""]
[null,null,"",null,""]
[null,null,"",null,""]
[null,null,"",null,""]
[null,null,"",null,""]
[null,null,"",null,""]
[null,null,"",null,""]
[null,null,"",null,""]
[null,null,"",null,""]
[null,null,"",null,""]
[null,null,"",null,""]
[null,null,"",null,""]
[null,null,"",null,""]
[null,null,"",null,""]
[null,null,"",null,""]
[null,null,{"$f":"IF(B3906<>\"\",VLOOKUP(B3906,Peligrosppam,2,FALSE),\"\")","v":""},null,""]
[null,null,"",null,""]
[null,null,"",null,""]
[null,null,"",null,{"$f":"IF(C3909<>\"\",D3909/C3909,\"\")","v":""}]
[null,null,"",null,""]
[null,null,"",null,""]
[null,null,"",null,""]
[null,null,"",null,""]
[null,null,"",null,""]
[null,null,"",null,""]
[null,null,"",null,""]
[null,null,"",null,""]
[null,null,"",null,""]
[null,null,"",null,""]
[null,null,"",null,""]
[null,null,"",null,""]
[null,null,"",null,""]
[null,null,"",null,""]
[null,null,"",null,""]
[null,null,"",null,""]
[null,null,"",null,""]
[null,null,"",null,""]
[null,null,"",null,""]
[null,null,"",null,""]
[null,null,"",null,""]
[null,null,"",null,""]
[null,null,"",null,""]
[null,null,"",null,""]
[null,null,"",null,""]
[null,null,"",null,""]
[null,null,"",null,""]
[null,null,"",null,""]
[null,null,"",null,""]
[null,null,"",null,""]
[null,null,"",null,""]
[null,null,"",null,""]
[null,null,"",null,""]
[null,null,"",null,""]
[null,null,"",null,""]
[null,null,"",null,""]
[null,null,"",null,""]
[null,null,"",null,""]
[null,null,"",null,""]
[null,null,"",null,""]
[null,null,"",null,""]
[null,null,"",null,""]
[null,null,"",null,""]
[null,null,"",null,""]
[null,null,"",null,""]
[null,null,"",null,""]
[null,null,"",null,""]
[null,null,"",null,""]
[null,null,"",null,""]
[null,null,"",null,""]
[null,null,"",null,""]
[null,null,"",null,""]
[null,null,"",null,""]
[null,null,"",null,""]
[null,null,"",null,""]
[null,null,"",null,""]
[null,null,"",null,""]
[null,null,"",null,""]
[null,null,"",null,""]
[null,null,"",null,""]
[null,null,{"$f":"IF(B3970<>\"\",VLOOKUP(B3970,Peligrosppam,2,FALSE),\"\")","v":""},null,""]
[null,null,"",null,""]
[null,null,"",null,""]
[null,null,"",null,{"$f":"IF(C3973<>\"\",D3973/C3973,\"\")","v":""}]
[null,null,"",null,""]
[null,null,"",null,""]
[null,null,"",null,""]
[null,null,"",null,""]
[null,null,"",null,""]
[null,null,"",null,""]
[null,null,"",null,""]
[null,null,"",null,""]
[null,null,"",null,""]
[null,null,"",null,""]
[null,null,"",null,""]
[null,null,"",null,""]
[null,null,"",null,""]
[null,null,"",null,""]
[null,null,"",null,""]
[null,null,"",null,""]
[null,null,"",null,""]
[null,null,"",null,""]
[null,null,"",null,""]
[null,null,"",null,""]
[null,null,"",null,""]
[null,null,"",null,""]
[null,null,"",null,""]
[null,null,"",null,""]
[null,null,"",null,""]
[null,null,"",null,""]
[null,null,"",null,""]
[null,null,"",null,""]
[null,null,"",null,""]
[null,null,"",null,""]
[null,null,"",null,""]
[null,null,"",null,""]
[null,null,"",null,""]
[null,null,"",null,""]
[null,null,"",null,""]
[null,null,"",null,""]
[null,null,"",null,""]
[null,null,"",null,""]
[null,null,"",null,""]
[null,null,"",null,""]
[null,null,"",null,""]
[null,null,"",null,""]
[null,null,"",null,""]
[null,null,"",null,""]
[null,null,"",null,""]
[null,null,"",null,""]
[null,null,"",null,""]
[null,null,"",null,""]
[null,null,"",null,""]
[null,null,"",null,""]
[null,null,"",null,""]
[null,null,"",null,""]
[null,null,"",null,""]
[null,null,"",null,""]
[null,null,"",null,""]
[null,null,"",null,""]
[null,null,"",null,""]
[null,null,"",null,""]
[null,null,"",null,""]
[null,null,"",null,""]
[null,null,{"$f":"IF(B4034<>\"\",VLOOKUP(B4034,Peligrosppam,2,FALSE),\"\")","v":""},null,""]
[null,null,"",null,""]
[null,null,"",null,""]
[null,null,"",null,{"$f":"IF(C4037<>\"\",D4037/C4037,\"\")","v":""}]
[null,null,"",null,""]
[null,null,"",null,""]
[null,null,"",null,""]
[null,null,"",null,""]
[null,null,"",null,""]
[null,null,"",null,""]
[null,null,"",null,""]
[null,null,"",null,""]
[null,null,"",null,""]
[null,null,"",null,""]
[null,null,"",null,""]
[null,null,"",null,""]
[null,null,"",null,""]
[null,null,"",null,""]
[null,null,"",null,""]
[null,null,"",null,""]
[null,null,"",null,""]
[null,null,"",null,""]
[null,null,"",null,""]
[null,null,"",null,""]
[null,null,"",null,""]
[null,null,"",null,""]
[null,null,"",null,""]
[null,null,"",null,""]
[null,null,"",null,""]
[null,null,"",null,""]
[null,null,"",null,""]
[null,null,"",null,""]
[null,null,"",null,""]
[null,null,"",null,""]
[null,null,"",null,""]
[null,null,"",null,""]
[null,null,"",null,""]
[null,null,"",null,""]
[null,null,"",null,""]
[null,null,"",null,""]
[null,null,"",null,""]
[null,null,"",null,""]
[null,null,"",null,""]
[null,null,"",null,""]
[null,null,"",null,""]
[null,null,"",null,""]
[null,null,"",null,""]
[null,null,"",null,""]
[null,null,"",null,""]
[null,null,"",null,""]
[null,null,"",null,""]
[null,null,"",null,""]
[null,null,"",null,""]
[null,null,"",null,""]
[null,null,"",null,""]
[null,null,"",null,""]
[null,null,"",null,""]
[null,null,"",null,""]
[null,null,"",null,""]
[null,null,"",null,""]
[null,null,"",null,""]
[null,null,"",null,""]
[null,null,"",null,""]
[null,null,"",null,""]
[null,null,{"$f":"IF(B4098<>\"\",VLOOKUP(B4098,Peligrosppam,2,FALSE),\"\")","v":""},null,""]
[null,null,"",null,""]
[null,null,"",null,""]
[null,null,"",null,{"$f":"IF(C4101<>\"\",D4101/C4101,\"\")","v":""}]
[null,null,"",null,""]
[null,null,"",null,""]
[null,null,"",null,""]
[null,null,"",null,""]
[null,null,"",null,""]
[null,null,"",null,""]
[null,null,"",null,""]
[null,null,"",null,""]
[null,null,"",null,""]
[null,null,"",null,""]
[null,null,"",null,""]
[null,null,"",null,""]
[null,null,"",null,""]
[null,null,"",null,""]
[null,null,"",null,""]
[null,null,"",null,""]
[null,null,"",null,""]
[null,null,"",null,""]
[null,null,"",null,""]
[null,null,"",null,""]
[null,null,"",null,""]
[null,null,"",null,""]
[null,null,"",null,""]
[null,null,"",null,""]
[null,null,"",null,""]
[null,null,"",null,""]
[null,null,"",null,""]
[null,null,"",null,""]
[null,null,"",null,""]
[null,null,"",null,""]
[null,null,"",null,""]
[null,null,"",null,""]
[null,null,"",null,""]
[null,null,"",null,""]
[null,null,"",null,""]
[null,null,"",null,""]
[null,null,"",null,""]
[null,null,"",null,""]
[null,null,"",null,""]
[null,null,"",null,""]
[null,null,"",null,""]
[null,null,"",null,""]
[null,null,"",null,""]
[null,null,"",null,""]
[null,null,"",null,""]
[null,null,"",null,""]
[null,null,"",null,""]
[null,null,"",null,""]
[null,null,"",null,""]
[null,null,"",null,""]
[null,null,"",null,""]
[null,null,"",null,""]
[null,null,"",null,""]
[null,null,"",null,""]
[null,null,"",null,""]
[null,null,"",null,""]
[null,null,"",null,""]
[null,null,"",null,""]
[null,null,"",null,""]
[null,null,"",null,""]
[null,null,{"$f":"IF(B4162<>\"\",VLOOKUP(B4162,Peligrosppam,2,FALSE),\"\")","v":""},null,""]
[null,null,"",null,""]
[null,null,"",null,""]
[null,null,"",null,{"$f":"IF(C4165<>\"\",D4165/C4165,\"\")","v":""}]
[null,null,"",null,""]
[null,null,"",null,""]
[null,null,"",null,""]
[null,null,"",null,""]
[null,null,"",null,""]
[null,null,"",null,""]
[null,null,"",null,""]
[null,null,"",null,""]
[null,null,"",null,""]
[null,null,"",null,""]
[null,null,"",null,""]
[null,null,"",null,""]
[null,null,"",null,""]
[null,null,"",null,""]
[null,null,"",null,""]
[null,null,"",null,""]
[null,null,"",null,""]
[null,null,"",null,""]
[null,null,"",null,""]
[null,null,"",null,""]
[null,null,"",null,""]
[null,null,"",null,""]
[null,null,"",null,""]
[null,null,"",null,""]
[null,null,"",null,""]
[null,null,"",null,""]
[null,null,"",null,""]
[null,null,"",null,""]
[null,null,"",null,""]
[null,null,"",null,""]
[null,null,"",null,""]
[null,null,"",null,""]
[null,null,"",null,""]
[null,null,"",null,""]
[null,null,"",null,""]
[null,null,"",null,""]
[null,null,"",null,""]
[null,null,"",null,""]
[null,null,"",null,""]
[null,null,"",null,""]
[null,null,"",null,""]
[null,null,"",null,""]
[null,null,"",null,""]
[null,null,"",null,""]
[null,null,"",null,""]
[null,null,"",null,""]
[null,null,"",null,""]
[null,null,"",null,""]
[null,null,"",null,""]
[null,null,"",null,""]
[null,null,"",null,""]
[null,null,"",null,""]
[null,null,"",null,""]
[null,null,"",null,""]
[null,null,"",null,""]
[null,null,"",null,""]
[null,null,"",null,""]
[null,null,"",null,""]
[null,null,"",null,""]
[null,null,"",null,""]
[null,null,{"$f":"IF(B4226<>\"\",VLOOKUP(B4226,Peligrosppam,2,FALSE),\"\")","v":""},null,""]
[null,null,"",null,""]
[null,null,"",null,""]
[null,null,"",null,{"$f":"IF(C4229<>\"\",D4229/C4229,\"\")","v":""}]
[null,null,"",null,""]
[null,null,"",null,""]
[null,null,"",null,""]
[null,null,"",null,""]
[null,null,"",null,""]
[null,null,"",null,""]
[null,null,"",null,""]
[null,null,"",null,""]
[null,null,"",null,""]
[null,null,"",null,""]
[null,null,"",null,""]
[null,null,"",null,""]
[null,null,"",null,""]
[null,null,"",null,""]
[null,null,"",null,""]
[null,null,"",null,""]
[null,null,"",null,""]
[null,null,"",null,""]
[null,null,"",null,""]
[null,null,"",null,""]
[null,null,"",null,""]
[null,null,"",null,""]
[null,null,"",null,""]
[null,null,"",null,""]
[null,null,"",null,""]
[null,null,"",null,""]
[null,null,"",null,""]
[null,null,"",null,""]
[null,null,"",null,""]
[null,null,"",null,""]
[null,null,"",null,""]
[null,null,"",null,""]
[null,null,"",null,""]
[null,null,"",null,""]
[null,null,"",null,""]
[null,null,"",null,""]
[null,null,"",null,""]
[null,null,"",null,""]
[null,null,"",null,""]
[null,null,"",null,""]
[null,null,"",null,""]
[null,null,"",null,""]
[null,null,"",null,""]
[null,null,"",null,""]
[null,null,"",null,""]
[null,null,"",null,""]
[null,null,"",null,""]
[null,null,"",null,""]
[null,null,"",null,""]
[null,null,"",null,""]
[null,null,"",null,""]
[null,null,"",null,""]
[null,null,"",null,""]
[null,null,"",null,""]
[null,null,"",null,""]
[null,null,"",null,""]
[null,null,"",null,""]
[null,null,"",null,""]
[null,null,"",null,""]
[null,null,"",null,""]
[null,null,{"$f":"IF(B4290<>\"\",VLOOKUP(B4290,Peligrosppam,2,FALSE),\"\")","v":""},null,""]
[null,null,"",null,""]
[null,null,"",null,""]
[null,null,"",null,{"$f":"IF(C4293<>\"\",D4293/C4293,\"\")","v":""}]
[null,null,"",null,""]
[null,null,"",null,""]
[null,null,"",null,""]
[null,null,"",null,""]
[null,null,"",null,""]
[null,null,"",null,""]
[null,null,"",null,""]
[null,null,"",null,""]
[null,null,"",null,""]
[null,null,"",null,""]
[null,null,"",null,""]
[null,null,"",null,""]
[null,null,"",null,""]
[null,null,"",null,""]
[null,null,"",null,""]
[null,null,"",null,""]
[null,null,"",null,""]
[null,null,"",null,""]
[null,null,"",null,""]
[null,null,"",null,""]
[null,null,"",null,""]
[null,null,"",null,""]
[null,null,"",null,""]
[null,null,"",null,""]
[null,null,"",null,""]
[null,null,"",null,""]
[null,null,"",null,""]
[null,null,"",null,""]
[null,null,"",null,""]
[null,null,"",null,""]
[null,null,"",null,""]
[null,null,"",null,""]
[null,null,"",null,""]
[null,null,"",null,""]
[null,null,"",null,""]
[null,null,"",null,""]
[null,null,"",null,""]
[null,null,"",null,""]
[null,null,"",null,""]
[null,null,"",null,""]
[null,null,"",null,""]
[null,null,"",null,""]
[null,null,"",null,""]
[null,null,"",null,""]
[null,null,"",null,""]
[null,null,"",null,""]
[null,null,"",null,""]
[null,null,"",null,""]
[null,null,"",null,""]
[null,null,"",null,""]
[null,null,"",null,""]
[null,null,"",null,""]
[null,null,"",null,""]
[null,null,"",null,""]
[null,null,"",null,""]
[null,null,"",null,""]
[null,null,"",null,""]
[null,null,"",null,""]
[null,null,"",null,""]
[null,null,"",null,""]
[null,null,{"$f":"IF(B4354<>\"\",VLOOKUP(B4354,Peligrosppam,2,FALSE),\"\")","v":""},null,""]
[null,null,"",null,""]
[null,null,"",null,""]
[null,null,"",null,{"$f":"IF(C4357<>\"\",D4357/C4357,\"\")","v":""}]
[null,null,"",null,""]
[null,null,"",null,""]
[null,null,"",null,""]
[null,null,"",null,""]
[null,null,"",null,""]
[null,null,"",null,""]
[null,null,"",null,""]
[null,null,"",null,""]
[null,null,"",null,""]
[null,null,"",null,""]
[null,null,"",null,""]
[null,null,"",null,""]
[null,null,"",null,""]
[null,null,"",null,""]
[null,null,"",null,""]
[null,null,"",null,""]
[null,null,"",null,""]
[null,null,"",null,""]
[null,null,"",null,""]
[null,null,"",null,""]
[null,null,"",null,""]
[null,null,"",null,""]
[null,null,"",null,""]
[null,null,"",null,""]
[null,null,"",null,""]
[null,null,"",null,""]
[null,null,"",null,""]
[null,null,"",null,""]
[null,null,"",null,""]
[null,null,"",null,""]
[null,null,"",null,""]
[null,null,"",null,""]
[null,null,"",null,""]
[null,null,"",null,""]
[null,null,"",null,""]
[null,null,"",null,""]
[null,null,"",null,""]
[null,null,"",null,""]
[null,null,"",null,""]
[null,null,"",null,""]
[null,null,"",null,""]
[null,null,"",null,""]
[null,null,"",null,""]
[null,null,"",null,""]
[null,null,"",null,""]
[null,null,"",null,""]
[null,null,"",null,""]
[null,null,"",null,""]
[null,null,"",null,""]
[null,null,"",null,""]
[null,null,"",null,""]
[null,null,"",null,""]
[null,null,"",null,""]
[null,null,"",null,""]
[null,null,"",null,""]
[null,null,"",null,""]
[null,null,"",null,""]
[null,null,"",null,""]
[null,null,"",null,""]
[null,null,"",null,""]
[null,null,{"$f":"IF(B4418<>\"\",VLOOKUP(B4418,Peligrosppam,2,FALSE),\"\")","v":""},null,""]
[null,null,"",null,""]
[null,null,"",null,""]
[null,null,"",null,{"$f":"IF(C4421<>\"\",D4421/C4421,\"\")","v":""}]
[null,null,"",null,""]
[null,null,"",null,""]
[null,null,"",null,""]
[null,null,"",null,""]
[null,null,"",null,""]
[null,null,"",null,""]
[null,null,"",null,""]
[null,null,"",null,""]
[null,null,"",null,""]
[null,null,"",null,""]
[null,null,"",null,""]
[null,null,"",null,""]
[null,null,"",null,""]
[null,null,"",null,""]
[null,null,"",null,""]
[null,null,"",null,""]
[null,null,"",null,""]
[null,null,"",null,""]
[null,null,"",null,""]
[null,null,"",null,""]
[null,null,"",null,""]
[null,null,"",null,""]
[null,null,"",null,""]
[null,null,"",null,""]
[null,null,"",null,""]
[null,null,"",null,""]
[null,null,"",null,""]
[null,null,"",null,""]
[null,null,"",null,""]
[null,null,"",null,""]
[null,null,"",null,""]
[null,null,"",null,""]
[null,null,"",null,""]
[null,null,"",null,""]
[null,null,"",null,""]
[null,null,"",null,""]
[null,null,"",null,""]
[null,null,"",null,""]
[null,null,"",null,""]
[null,null,"",null,""]
[null,null,"",null,""]
[null,null,"",null,""]
[null,null,"",null,""]
[null,null,"",null,""]
[null,null,"",null,""]
[null,null,"",null,""]
[null,null,"",null,""]
[null,null,"",null,""]
[null,null,"",null,""]
[null,null,"",null,""]
[null,null,"",null,""]
[null,null,"",null,""]
[null,null,"",null,""]
[null,null,"",null,""]
[null,null,"",null,""]
[null,null,"",null,""]
[null,null,"",null,""]
[null,null,"",null,""]
[null,null,"",null,""]
[null,null,"",null,""]
[null,null,{"$f":"IF(B4482<>\"\",VLOOKUP(B4482,Peligrosppam,2,FALSE),\"\")","v":""},null,""]
[null,null,"",null,""]
[null,null,"",null,""]
[null,null,"",null,{"$f":"IF(C4485<>\"\",D4485/C4485,\"\")","v":""}]
[null,null,"",null,""]
[null,null,"",null,""]
[null,null,"",null,""]
[null,null,"",null,""]
[null,null,"",null,""]
[null,null,"",null,""]
[null,null,"",null,""]
[null,null,"",null,""]
[null,null,"",null,""]
[null,null,"",null,""]
[null,null,"",null,""]
[null,null,"",null,""]
[null,null,"",null,""]
[null,null,"",null,""]
[null,null,"",null,""]
[null,null,"",null,""]
[null,null,"",null,""]
[null,null,"",null,""]
[null,null,"",null,""]
[null,null,"",null,""]
[null,null,"",null,""]
[null,null,"",null,""]
[null,null,"",null,""]
[null,null,"",null,""]
[null,null,"",null,""]
[null,null,"",null,""]
[null,null,"",null,""]
[null,null,"",null,""]
[null,null,"",null,""]
[null,null,"",null,""]
[null,null,"",null,""]
[null,null,"",null,""]
[null,null,"",null,""]
[null,null,"",null,""]
[null,null,"",null,""]
[null,null,"",null,""]
[null,null,"",null,""]
[null,null,"",null,""]
[null,null,"",null,""]
[null,null,"",null,""]
[null,null,"",null,""]
[null,null,"",null,""]
[null,null,"",null,""]
[null,null,"",null,""]
[null,null,"",null,""]
[null,null,"",null,""]
[null,null,"",null,""]
[null,null,"",null,""]
[null,null,"",null,""]
[null,null,"",null,""]
[null,null,"",null,""]
[null,null,"",null,""]
[null,null,"",null,""]
[null,null,"",null,""]
[null,null,"",null,""]
[null,null,"",null,""]
[null,null,"",null,""]
[null,null,"",null,""]
[null,null,"",null,""]
[null,null,"",null,""]
[null,null,{"$f":"IF(B4546<>\"\",VLOOKUP(B4546,Peligrosppam,2,FALSE),\"\")","v":""},null,""]
[null,null,"",null,""]
[null,null,"",null,""]
[null,null,"",null,{"$f":"IF(C4549<>\"\",D4549/C4549,\"\")","v":""}]
[null,null,"",null,""]
[null,null,"",null,""]
[null,null,"",null,""]
[null,null,"",null,""]
[null,null,"",null,""]
[null,null,"",null,""]
[null,null,"",null,""]
[null,null,"",null,""]
[null,null,"",null,""]
[null,null,"",null,""]
[null,null,"",null,""]
[null,null,"",null,""]
[null,null,"",null,""]
[null,null,"",null,""]
[null,null,"",null,""]
[null,null,"",null,""]
[null,null,"",null,""]
[null,null,"",null,""]
[null,null,"",null,""]
[null,null,"",null,""]
[null,null,"",null,""]
[null,null,"",null,""]
[null,null,"",null,""]
[null,null,"",null,""]
[null,null,"",null,""]
[null,null,"",null,""]
[null,null,"",null,""]
[null,null,"",null,""]
[null,null,"",null,""]
[null,null,"",null,""]
[null,null,"",null,""]
[null,null,"",null,""]
[null,null,"",null,""]
[null,null,"",null,""]
[null,null,"",null,""]
[null,null,"",null,""]
[null,null,"",null,""]
[null,null,"",null,""]
[null,null,"",null,""]
[null,null,"",null,""]
[null,null,"",null,""]
[null,null,"",null,""]
[null,null,"",null,""]
[null,null,"",null,""]
[null,null,"",null,""]
[null,null,"",null,""]
[null,null,"",null,""]
[null,null,"",null,""]
[null,null,"",null,""]
[null,null,"",null,""]
[null,null,"",null,""]
[null,null,"",null,""]
[null,null,"",null,""]
[null,null,"",null,""]
[null,null,"",null,""]
[null,null,"",null,""]
[null,null,"",null,""]
[null,null,"",null,""]
[null,null,"",null,""]
[null,null,"",null,""]
[null,null,{"$f":"IF(B4610<>\"\",VLOOKUP(B4610,Peligrosppam,2,FALSE),\"\")","v":""},null,""]
[null,null,"",null,""]
[null,null,"",null,""]
[null,null,"",null,{"$f":"IF(C4613<>\"\",D4613/C4613,\"\")","v":""}]
[null,null,"",null,""]
[null,null,"",null,""]
[null,null,"",null,""]
[null,null,"",null,""]
[null,null,"",null,""]
[null,null,"",null,""]
[null,null,"",null,""]
[null,null,"",null,""]
[null,null,"",null,""]
[null,null,"",null,""]
[null,null,"",null,""]
[null,null,"",null,""]
[null,null,"",null,""]
[null,null,"",null,""]
[null,null,"",null,""]
[null,null,"",null,""]
[null,null,"",null,""]
[null,null,"",null,""]
[null,null,"",null,""]
[null,null,"",null,""]
[null,null,"",null,""]
[null,null,"",null,""]
[null,null,"",null,""]
[null,null,"",null,""]
[null,null,"",null,""]
[null,null,"",null,""]
[null,null,"",null,""]
[null,null,"",null,""]
[null,null,"",null,""]
[null,null,"",null,""]
[null,null,"",null,""]
[null,null,"",null,""]
[null,null,"",null,""]
[null,null,"",null,""]
[null,null,"",null,""]
[null,null,"",null,""]
[null,null,"",null,""]
[null,null,"",null,""]
[null,null,"",null,""]
[null,null,"",null,""]
[null,null,"",null,""]
[null,null,"",null,""]
[null,null,"",null,""]
[null,null,"",null,""]
[null,null,"",null,""]
[null,null,"",null,""]
[null,null,"",null,""]
[null,null,"",null,""]
[null,null,"",null,""]
[null,null,"",null,""]
[null,null,"",null,""]
[null,null,"",null,""]
[null,null,"",null,""]
[null,null,"",null,""]
[null,null,"",null,""]
[null,null,"",null,""]
[null,null,"",null,""]
[null,null,"",null,""]
[null,null,"",null,""]
[null,null,"",null,""]
[null,null,{"$f":"IF(B4674<>\"\",VLOOKUP(B4674,Peligrosppam,2,FALSE),\"\")","v":""},null,""]
[null,null,"",null,""]
[null,null,"",null,""]
[null,null,"",null,{"$f":"IF(C4677<>\"\",D4677/C4677,\"\")","v":""}]
[null,null,"",null,""]
[null,null,"",null,""]
[null,null,"",null,""]
[null,null,"",null,""]
[null,null,"",null,""]
[null,null,"",null,""]
[null,null,"",null,""]
[null,null,"",null,""]
[null,null,"",null,""]
[null,null,"",null,""]
[null,null,"",null,""]
[null,null,"",null,""]
[null,null,"",null,""]
[null,null,"",null,""]
[null,null,"",null,""]
[null,null,"",null,""]
[null,null,"",null,""]
[null,null,"",null,""]
[null,null,"",null,""]
[null,null,"",null,""]
[null,null,"",null,""]
[null,null,"",null,""]
[null,null,"",null,""]
[null,null,"",null,""]
[null,null,"",null,""]
[null,null,"",null,""]
[null,null,"",null,""]
[null,null,"",null,""]
[null,null,"",null,""]
[null,null,"",null,""]
[null,null,"",null,""]
[null,null,"",null,""]
[null,null,"",null,""]
[null,null,"",null,""]
[null,null,"",null,""]
[null,null,"",null,""]
[null,null,"",null,""]
[null,null,"",null,""]
[null,null,"",null,""]
[null,null,"",null,""]
[null,null,"",null,""]
[null,null,"",null,""]
[null,null,"",null,""]
[null,null,"",null,""]
[null,null,"",null,""]
[null,null,"",null,""]
[null,null,"",null,""]
[null,null,"",null,""]
[null,null,"",null,""]
[null,null,"",null,""]
[null,null,"",null,""]
[null,null,"",null,""]
[null,null,"",null,""]
[null,null,"",null,""]
[null,null,"",null,""]
[null,null,"",null,""]
[null,null,"",null,""]
[null,null,"",null,""]
[null,null,"",null,""]
[null,null,"",null,""]
[null,null,{"$f":"IF(B4738<>\"\",VLOOKUP(B4738,Peligrosppam,2,FALSE),\"\")","v":""},null,""]
[null,null,"",null,""]
[null,null,"",null,""]
[null,null,"",null,{"$f":"IF(C4741<>\"\",D4741/C4741,\"\")","v":""}]
[null,null,"",null,""]
[null,null,"",null,""]
[null,null,"",null,""]
[null,null,"",null,""]
[null,null,"",null,""]
[null,null,"",null,""]
[null,null,"",null,""]
[null,null,"",null,""]
[null,null,"",null,""]
[null,null,"",null,""]
[null,null,"",null,""]
[null,null,"",null,""]
[null,null,"",null,""]
[null,null,"",null,""]
[null,null,"",null,""]
[null,null,"",null,""]
[null,null,"",null,""]
[null,null,"",null,""]
[null,null,"",null,""]
[null,null,"",null,""]
[null,null,"",null,""]
[null,null,"",null,""]
[null,null,"",null,""]
[null,null,"",null,""]
[null,null,"",null,""]
[null,null,"",null,""]
[null,null,"",null,""]
[null,null,"",null,""]
[null,null,"",null,""]
[null,null,"",null,""]
[null,null,"",null,""]
[null,null,"",null,""]
[null,null,"",null,""]
[null,null,"",null,""]
[null,null,"",null,""]
[null,null,"",null,""]
[null,null,"",null,""]
[null,null,"",null,""]
[null,null,"",null,""]
[null,null,"",null,""]
[null,null,"",null,""]
[null,null,"",null,""]
[null,null,"",null,""]
[null,null,"",null,""]
[null,null,"",null,""]
[null,null,"",null,""]
[null,null,"",null,""]
[null,null,"",null,""]
[null,null,"",null,""]
[null,null,"",null,""]
[null,null,"",null,""]
[null,null,"",null,""]
[null,null,"",null,""]
[null,null,"",null,""]
[null,null,"",null,""]
[null,null,"",null,""]
[null,null,"",null,""]
[null,null,"",null,""]
[null,null,"",null,""]
[null,null,"",null,""]
[null,null,{"$f":"IF(B4802<>\"\",VLOOKUP(B4802,Peligrosppam,2,FALSE),\"\")","v":""},null,""]
[null,null,"",null,""]
[null,null,"",null,""]
[null,null,"",null,{"$f":"IF(C4805<>\"\",D4805/C4805,\"\")","v":""}]
[null,null,"",null,""]
[null,null,"",null,""]
[null,null,"",null,""]
[null,null,"",null,""]
[null,null,"",null,""]
[null,null,"",null,""]
[null,null,"",null,""]
[null,null,"",null,""]
[null,null,"",null,""]
[null,null,"",null,""]
[null,null,"",null,""]
[null,null,"",null,""]
[null,null,"",null,""]
[null,null,"",null,""]
[null,null,"",null,""]
[null,null,"",null,""]
[null,null,"",null,""]
[null,null,"",null,""]
[null,null,"",null,""]
[null,null,"",null,""]
[null,null,"",null,""]
[null,null,"",null,""]
[null,null,"",null,""]
[null,null,"",null,""]
[null,null,"",null,""]
[null,null,"",null,""]
[null,null,"",null,""]
[null,null,"",null,""]
[null,null,"",null,""]
[null,null,"",null,""]
[null,null,"",null,""]
[null,null,"",null,""]
[null,null,"",null,""]
[null,null,"",null,""]
[null,null,"",null,""]
[null,null,"",null,""]
[null,null,"",null,""]
[null,null,"",null,""]
[null,null,"",null,""]
[null,null,"",null,""]
[null,null,"",null,""]
[null,null,"",null,""]
[null,null,"",null,""]
[null,null,"",null,""]
[null,null,"",null,""]
[null,null,"",null,""]
[null,null,"",null,""]
[null,null,"",null,""]
[null,null,"",null,""]
[null,null,"",null,""]
[null,null,"",null,""]
[null,null,"",null,""]
[null,null,"",null,""]
[null,null,"",null,""]
[null,null,"",null,""]
[null,null,"",null,""]
[null,null,"",null,""]
[null,null,"",null,""]
[null,null,"",null,""]
[null,null,"",null,""]
[null,null,{"$f":"IF(B4866<>\"\",VLOOKUP(B4866,Peligrosppam,2,FALSE),\"\")","v":""},null,""]
[null,null,"",null,""]
[null,null,"",null,""]
[null,null,"",null,{"$f":"IF(C4869<>\"\",D4869/C4869,\"\")","v":""}]
[null,null,"",null,""]
[null,null,"",null,""]
[null,null,"",null,""]
[null,null,"",null,""]
[null,null,"",null,""]
[null,null,"",null,""]
[null,null,"",null,""]
[null,null,"",null,""]
[null,null,"",null,""]
[null,null,"",null,""]
[null,null,"",null,""]
[null,null,"",null,""]
[null,null,"",null,""]
[null,null,"",null,""]
[null,null,"",null,""]
[null,null,"",null,""]
[null,null,"",null,""]
[null,null,"",null,""]
[null,null,"",null,""]
[null,null,"",null,""]
[null,null,"",null,""]
[null,null,"",null,""]
[null,null,"",null,""]
[null,null,"",null,""]
[null,null,"",null,""]
[null,null,"",null,""]
[null,null,"",null,""]
[null,null,"",null,""]
[null,null,"",null,""]
[null,null,"",null,""]
[null,null,"",null,""]
[null,null,"",null,""]
[null,null,"",null,""]
[null,null,"",null,""]
[null,null,"",null,""]
[null,null,"",null,""]
[null,null,"",null,""]
[null,null,"",null,""]
[null,null,"",null,""]
[null,null,"",null,""]
[null,null,"",null,""]
[null,null,"",null,""]
[null,null,"",null,""]
[null,null,"",null,""]
[null,null,"",null,""]
[null,null,"",null,""]
[null,null,"",null,""]
[null,null,"",null,""]
[null,null,"",null,""]
[null,null,"",null,""]
[null,null,"",null,""]
[null,null,"",null,""]
[null,null,"",null,""]
[null,null,"",null,""]
[null,null,"",null,""]
[null,null,"",null,""]
[null,null,"",null,""]
[null,null,"",null,""]
[null,null,"",null,""]
[null,null,"",null,""]
[null,null,{"$f":"IF(B4930<>\"\",VLOOKUP(B4930,Peligrosppam,2,FALSE),\"\")","v":""},null,""]
[null,null,"",null,""]
[null,null,"",null,""]
[null,null,"",null,{"$f":"IF(C4933<>\"\",D4933/C4933,\"\")","v":""}]
[null,null,"",null,""]
[null,null,"",null,""]
[null,null,"",null,""]
[null,null,"",null,""]
[null,null,"",null,""]
[null,null,"",null,""]
[null,null,"",null,""]
[null,null,"",null,""]
[null,null,"",null,""]
[null,null,"",null,""]
[null,null,"",null,""]
[null,null,"",null,""]
[null,null,"",null,""]
[null,null,"",null,""]
[null,null,"",null,""]
[null,null,"",null,""]
[null,null,"",null,""]
[null,null,"",null,""]
[null,null,"",null,""]
[null,null,"",null,""]
[null,null,"",null,""]
[null,null,"",null,""]
[null,null,"",null,""]
[null,null,"",null,""]
[null,null,"",null,""]
[null,null,"",null,""]
[null,null,"",null,""]
[null,null,"",null,""]
[null,null,"",null,""]
[null,null,"",null,""]
[null,null,"",null,""]
[null,null,"",null,""]
[null,null,"",null,""]
[null,null,"",null,""]
[null,null,"",null,""]
[null,null,"",null,""]
[null,null,"",null,""]
[null,null,"",null,""]
[null,null,"",null,""]
[null,null,"",null,""]
[null,null,"",null,""]
[null,null,"",null,""]
[null,null,"",null,""]
[null,null,"",null,""]
[null,null,"",null,""]
[null,null,"",null,""]
[null,null,"",null,""]
[null,null,"",null,""]
[null,null,"",null,""]
[null,null,"",null,""]
[null,null,"",null,""]
[null,null,"",null,""]
[null,null,"",null,""]
[null,null,"",null,""]
[null,null,"",null,""]
[null,null,"",null,""]
[null,null,"",null,""]
[null,null,"",null,""]
[null,null,"",null,""]
[null,null,"",null,""]
[null,null,{"$f":"IF(B4994<>\"\",VLOOKUP(B4994,Peligrosppam,2,FALSE),\"\")","v":""},null,""]
[null,null,"",null,""]
[null,null,"",null,""]
[null,null,"",null,{"$f":"IF(C4997<>\"\",D4997/C4997,\"\")","v":""}]
[null,null,"",null,""]
[null,null,"",null,""]
[null,null,"",null,""]
["Demasiados datos","X",{"$error":"#N/A"},"X","X"]

{"sheet":"PPAM Salud","index":2,"n_rows":5001,"n_cols":5,"rows_kept":5001,"cut":false,"hidden":false,"merged":[]}
[{"$f":"CONCATENATE(\"INSTALACIÓN CLASIFICADA PARA PPAM:  \",IF(E1<1,\"NO\",\"SI\"))","v":"INSTALACIÓN CLASIFICADA PARA PPAM:  NO"},"Hoja peligros a SALUD. CANTIDADES máximas por capacidad\n(el máximo inventario que cabe en la instalación).",null,"SUMA = ",{"$f":"SUM(E4:E5000)","v":0}]
[null,"Identificar primero por su nombre y CAS. Use el menor umbral."]
["SUSTANCIA ASOCIADA A ACCIDENTES MAYORES\nDECRETO 1347 DE 2021","IDENTIFICACIÓN EN EL ANEXO DEL DECRETO 1347 DE 2021\nPara PELIGROS, selecciónelos de la lista desplegable en cada casilla","UMBRAL TONELADAS\n(QUn)","CANTIDAD\nMÁXIMA/DÍA\n(toneladas)\n(qn)"," qn / Qun"]
["1. Nitrato de amonio (nota 1)","Por su nombre y número CAS",10000,null,{"$f":"IF(C4<>\"\",D4/C4,\"\")","v":0}]
["2. Nitrato de amonio (nota 2)","Por su nombre y número CAS",5000,null,{"$f":"IF(C5<>\"\",D5/C5,\"\")","v":0}]
["3. Nitrato de amonio (nota 3)","Por su nombre y número CAS",2500,null,0]
["4. Nitrato de amonio (nota 4)","Por su nombre y número CAS",50,null,0]
["5. Nitrato de potasio (nota 5)","Por su nombre y número CAS",10000,null,0]
["6. Nitrato de potasio (nota 6)","Por su nombre y número CAS",5000,null,0]
["7. Pentaóxido de diarsénico, ácido arsénico (V) y/o sales","Por su nombre y número CAS",2,null,0]
["8. Trióxido de arsénico, ácido arsenioso (III) y/o sales","Por su nombre y número CAS",0.1,null,0]
["9. Bromo","Por su nombre y número CAS",100,null,0]
["10. Cloro","Por su nombre y número CAS",25,null,0]
["11. Compuestos de níquel en forma pulverulenta inhalable: monóxido de níquel, dióxido de níquel, sulfuro de níquel, disulfuro de triníquel, trióxido de diníquel","Por su nombre y número CAS",1,null,0]
["12. Etilenimina","Por su nombre y número CAS",20,null,0]
["13. Flúor","Por su nombre y número CAS",20,null,0]
["14. Formaldehído (concentración del 90% o más)","Por su nombre y número CAS",50,null,0]
["15. Hidrógeno","Por su nombre y número CAS",50,null,0]
["16. Ácido clorhídrico (gas licuado)","Por su nombre y número CAS",250,null,0]
["17. Derivados de alquilplomo","Por su nombre y número CAS",50,null,0]
["18. Gases inflamables licuados de las categorías 1 o 2 (incluido el GLP) y gas natural (nota 7)","Por su nombre y número CAS",200,null,0]
["19. Acetileno","Por su nombre y número CAS",50,null,0]
["20. Óxido de etileno","Por su nombre y número CAS",50,null,0]
["21. Óxido de propileno","Por su nombre y número CAS",50,null,0]
["22. Metanol","Por su nombre y número CAS",5000,null,0]
["23. 4,4´-metilen-bis (2-cloroanilina) y/o sus sales en forma pulverulenta","Por su nombre y número CAS",0.01,null,0]
["24. Isocianato de metilo","Por su nombre y número CAS",0.15,null,0]
["25. Oxígeno","Por su nombre y número CAS",2000,null,0]
["26. 2,4-diisocianato de tolueno\n       2,6-diisocianato de tolueno","Por su nombre y número CAS",100,null,0]
["27. Dicloruro de carbonilo (fosgeno)","Por su nombre y número CAS",0.75,null,0]
["28. Arsina (trihidruro de arsénico)","Por su nombre y número CAS",1,null,0]
["29. Fosfina (trihidruro de fósforo)","Por su nombre y número CAS",1,null,0]
["30. Dicloruro de azufre","Por su nombre y número CAS",1,null,0]
["31. Trióxido de azufre","Por su nombre y número CAS",75,null,0]
["32. Policlorodibenzofuranos y policlorodibenzo-dioxinas (incluida la TCDD) calculadas en equivalente de TCDD (nota 8)","Por su nombre y número CAS",1E-3,null,0]
["33. CARCINÓGENOS o mezclas que contengan más de 5% en peso de:\n4-aminodifenilo y/o sus sales, triclorobenceno, bencidina y/o sus sales, éter bis (clorometílico), éter clorometílico y metílico, 1,2-dibromoetano, sulfato de dietilo, sulfato de dimetilo, cloruro de dimetil-carbamoilo, 1,2-dibromo-3-cloropropano, 1,2-dimetilhidracina, dimetilnitrosamina, triamida hexametilfosfórica, hidracina, 2-naftilamina y/o sus sales, 4-nitrodifenil o 1,3-propanosulfona","Por su nombre y número CAS",2,null,0]
["34. Petróleo, sus derivados y combustibles alternativos\n       a) gasolinas y naftas\n       b) querosenos (incluidos carburorreactores)\n       c) gasóleos\n      d) fuelóleos pesados\n      e) combustibles alternativos a los mencionados en las letras a) a d) destinados a los mismos fines y con propiedades similares en lo relativo a la inflamabilidad y los peligros medioambientales","Por su nombre y número CAS",25000,null,0]
["35. Amoniaco anhidro","Por su nombre y número CAS",200,null,0]
["36. Trifluoruro de boro","Por su nombre y número CAS",20,null,0]
["37. Sulfuro de hidrógeno","Por su nombre y número CAS",20,null,0]
["38. Piperidina","Por su nombre y número CAS",200,null,0]
["39. Bis(2-dimetilaminoetil) (metil)amina","Por su nombre y número CAS",200,null,0]
["40. 3-(2-etilhexiloxi) propilamina","Por su nombre y número CAS",200,null,0]
["41. Mezclas (*) de hipoclorito de sodio clasificadas como peligrosas para el ambiente acuático en la categoría 1 de peligro agudo que contengan menos de un 5% de cloro activo y no estén clasificadas en ninguna otra categoría de peligro en la parte 1 de la tabla (Sustancias por categorías de peligro - SGA)\n(*) Siempre que la mezcla, en ausencia de hipoclorito de sodio, no esté clasificada como peligrosa para el ambiente acuático en la categoría 1 de peligro agudo.","Por su nombre y número CAS",500,null,0]
["42. Propilamina","Por su nombre y número CAS",2000,null,0]
["43. Acrilato de terc-butilo","Por su nombre y número CAS",500,null,0]
["44. 2-metil-3-butenonitrilo","Por su nombre y número CAS",2000,null,0]
["45. Tetrahidro-3,5-dimetil-1,3,5-tiadiazina-2-tiona (dazomet)","Por su nombre y número CAS",200,null,0]
["46. Acrilato de metilo","Por su nombre y número CAS",2000,null,0]
["47. 3-metilpiridina","Por su nombre y número CAS",2000,null,0]
["48. 1-bromo-3-cloropropano","Por su nombre y número CAS",2000,null,0]
["49. Clorato de sodio","Por su nombre y número CAS",250,null,0]
["50. Amoniaco en solución","Por su nombre y número CAS",500,null,0]
["51. Cianuro de hidrógeno","Por su nombre y número CAS",20,null,0]
["52. Fluoruro de hidrógeno","Por su nombre y número CAS",50,null,0]
["53. Dióxido de azufre","Por su nombre y número CAS",250,null,0]
["54. Acrilonitrilo","Por su nombre y número CAS",200,null,0]
["55. Disulfoton","Por su nombre y número CAS",0.1,null,0]
["56. Paration","Por su nombre y número CAS",0.1,null,0]
["57. Aldicarb","Por su nombre y número CAS",0.1,null,0]
["58. Warfarina","Por su nombre y número CAS",0.1,null,0]
["59. Cloruro de vinilo monómero","Por su nombre y número CAS",50,null,0]
["60. Metil bromuro (bromuro de metilo / CH3Br)","Por su nombre y número CAS",200,null,0]
["61. Tetraetilo de plomo (plomo tetraetilo / Pb(C2H5)4)","Por su nombre y número CAS",50,null,0]
["A partir de aquí, escriba los nombres y al frente seleccione su peligro","Seleccione el peligro de la lista desplegable en cada casilla",null,"* * *",""]
[null,null,{"$f":"IF(B66<>\"\",VLOOKUP(B66,Peligrosppam,2,FALSE),\"\")","v":""},null,""]
[null,null,{"$f":"IF(B67<>\"\",VLOOKUP(B67,[1]Desplegables!$BA$2:$BB$19,2,FALSE),\"\")","v":""},null,""]
[null,null,{"$f":"IF(B68<>\"\",VLOOKUP(B68,[1]Desplegables!$BA$2:$BB$19,2,FALSE),\"\")","v":""},null,""]
[null,null,{"$f":"IF(B69<>\"\",VLOOKUP(B69,[1]Desplegables!$BA$2:$BB$19,2,FALSE),\"\")","v":""},null,{"$f":"IF(C69<>\"\",D69/C69,\"\")","v":""}]
[null,null,{"$f":"IF(B70<>\"\",VLOOKUP(B70,[1]Desplegables!$BA$2:$BB$19,2,FALSE),\"\")","v":""},null,""]
[null,null,{"$f":"IF(B71<>\"\",VLOOKUP(B71,[1]Desplegables!$BA$2:$BB$19,2,FALSE),\"\")","v":""},null,""]
[null,null,{"$f":"IF(B72<>\"\",VLOOKUP(B72,[1]Desplegables!$BA$2:$BB$19,2,FALSE),\"\")","v":""},null,""]
[null,null,{"$f":"IF(B73<>\"\",VLOOKUP(B73,[1]Desplegables!$BA$2:$BB$19,2,FALSE),\"\")","v":""},null,""]
[null,null,{"$f":"IF(B74<>\"\",VLOOKUP(B74,[1]Desplegables!$BA$2:$BB$19,2,FALSE),\"\")","v":""},null,""]
[null,null,{"$f":"IF(B75<>\"\",VLOOKUP(B75,[1]Desplegables!$BA$2:$BB$19,2,FALSE),\"\")","v":""},null,""]
[null,null,{"$f":"IF(B76<>\"\",VLOOKUP(B76,[1]Desplegables!$BA$2:$BB$19,2,FALSE),\"\")","v":""},null,""]
[null,null,{"$f":"IF(B77<>\"\",VLOOKUP(B77,[1]Desplegables!$BA$2:$BB$19,2,FALSE),\"\")","v":""},null,""]
[null,null,{"$f":"IF(B78<>\"\",VLOOKUP(B78,[1]Desplegables!$BA$2:$BB$19,2,FALSE),\"\")","v":""},null,""]
[null,null,{"$f":"IF(B79<>\"\",VLOOKUP(B79,[1]Desplegables!$BA$2:$BB$19,2,FALSE),\"\")","v":""},null,""]
[null,null,{"$f":"IF(B80<>\"\",VLOOKUP(B80,[1]Desplegables!$BA$2:$BB$19,2,FALSE),\"\")","v":""},null,""]
[null,null,{"$f":"IF(B81<>\"\",VLOOKUP(B81,[1]Desplegables!$BA$2:$BB$19,2,FALSE),\"\")","v":""},null,""]
[null,null,{"$f":"IF(B82<>\"\",VLOOKUP(B82,[1]Desplegables!$BA$2:$BB$19,2,FALSE),\"\")","v":""},null,""]
[null,null,{"$f":"IF(B83<>\"\",VLOOKUP(B83,[1]Desplegables!$BA$2:$BB$19,2,FALSE),\"\")","v":""},null,""]
[null,null,{"$f":"IF(B84<>\"\",VLOOKUP(B84,[1]Desplegables!$BA$2:$BB$19,2,FALSE),\"\")","v":""},null,""]
[null,null,{"$f":"IF(B85<>\"\",VLOOKUP(B85,[1]Desplegables!$BA$2:$BB$19,2,FALSE),\"\")","v":""},null,""]
[null,null,{"$f":"IF(B86<>\"\",VLOOKUP(B86,[1]Desplegables!$BA$2:$BB$19,2,FALSE),\"\")","v":""},null,""]
[null,null,{"$f":"IF(B87<>\"\",VLOOKUP(B87,[1]Desplegables!$BA$2:$BB$19,2,FALSE),\"\")","v":""},null,""]
[null,null,{"$f":"IF(B88<>\"\",VLOOKUP(B88,[1]Desplegables!$BA$2:$BB$19,2,FALSE),\"\")","v":""},null,""]
[null,null,{"$f":"IF(B89<>\"\",VLOOKUP(B89,[1]Desplegables!$BA$2:$BB$19,2,FALSE),\"\")","v":""},null,""]
[null,null,{"$f":"IF(B90<>\"\",VLOOKUP(B90,[1]Desplegables!$BA$2:$BB$19,2,FALSE),\"\")","v":""},null,""]
[null,null,{"$f":"IF(B91<>\"\",VLOOKUP(B91,[1]Desplegables!$BA$2:$BB$19,2,FALSE),\"\")","v":""},null,""]
[null,null,{"$f":"IF(B92<>\"\",VLOOKUP(B92,[1]Desplegables!$BA$2:$BB$19,2,FALSE),\"\")","v":""},null,""]
[null,null,{"$f":"IF(B93<>\"\",VLOOKUP(B93,[1]Desplegables!$BA$2:$BB$19,2,FALSE),\"\")","v":""},null,""]
[null,null,{"$f":"IF(B94<>\"\",VLOOKUP(B94,[1]Desplegables!$BA$2:$BB$19,2,FALSE),\"\")","v":""},null,""]
[null,null,{"$f":"IF(B95<>\"\",VLOOKUP(B95,[1]Desplegables!$BA$2:$BB$19,2,FALSE),\"\")","v":""},null,""]
[null,null,{"$f":"IF(B96<>\"\",VLOOKUP(B96,[1]Desplegables!$BA$2:$BB$19,2,FALSE),\"\")","v":""},null,""]
[null,null,{"$f":"IF(B97<>\"\",VLOOKUP(B97,[1]Desplegables!$BA$2:$BB$19,2,FALSE),\"\")","v":""},null,""]
[null,null,{"$f":"IF(B98<>\"\",VLOOKUP(B98,[1]Desplegables!$BA$2:$BB$19,2,FALSE),\"\")","v":""},null,""]
[null,null,{"$f":"IF(B99<>\"\",VLOOKUP(B99,[1]Desplegables!$BA$2:$BB$19,2,FALSE),\"\")","v":""},null,""]
[null,null,{"$f":"IF(B100<>\"\",VLOOKUP(B100,[1]Desplegables!$BA$2:$BB$19,2,FALSE),\"\")","v":""},null,""]
[null,null,{"$f":"IF(B101<>\"\",VLOOKUP(B101,[1]Desplegables!$BA$2:$BB$19,2,FALSE),\"\")","v":""},null,""]
[null,null,{"$f":"IF(B102<>\"\",VLOOKUP(B102,[1]Desplegables!$BA$2:$BB$19,2,FALSE),\"\")","v":""},null,""]
[null,null,{"$f":"IF(B103<>\"\",VLOOKUP(B103,[1]Desplegables!$BA$2:$BB$19,2,FALSE),\"\")","v":""},null,""]
[null,null,{"$f":"IF(B104<>\"\",VLOOKUP(B104,[1]Desplegables!$BA$2:$BB$19,2,FALSE),\"\")","v":""},null,""]
[null,null,{"$f":"IF(B105<>\"\",VLOOKUP(B105,[1]Desplegables!$BA$2:$BB$19,2,FALSE),\"\")","v":""},null,""]
[null,null,{"$f":"IF(B106<>\"\",VLOOKUP(B106,[1]Desplegables!$BA$2:$BB$19,2,FALSE),\"\")","v":""},null,""]
[null,null,{"$f":"IF(B107<>\"\",VLOOKUP(B107,[1]Desplegables!$BA$2:$BB$19,2,FALSE),\"\")","v":""},null,""]
[null,null,{"$f":"IF(B108<>\"\",VLOOKUP(B108,[1]Desplegables!$BA$2:$BB$19,2,FALSE),\"\")","v":""},null,""]
[null,null,{"$f":"IF(B109<>\"\",VLOOKUP(B109,[1]Desplegables!$BA$2:$BB$19,2,FALSE),\"\")","v":""},null,""]
[null,null,{"$f":"IF(B110<>\"\",VLOOKUP(B110,[1]Desplegables!$BA$2:$BB$19,2,FALSE),\"\")","v":""},null,""]
[null,null,{"$f":"IF(B111<>\"\",VLOOKUP(B111,[1]Desplegables!$BA$2:$BB$19,2,FALSE),\"\")","v":""},null,""]
[null,null,{"$f":"IF(B112<>\"\",VLOOKUP(B112,[1]Desplegables!$BA$2:$BB$19,2,FALSE),\"\")","v":""},null,""]
[null,null,{"$f":"IF(B113<>\"\",VLOOKUP(B113,[1]Desplegables!$BA$2:$BB$19,2,FALSE),\"\")","v":""},null,""]
[null,null,{"$f":"IF(B114<>\"\",VLOOKUP(B114,[1]Desplegables!$BA$2:$BB$19,2,FALSE),\"\")","v":""},null,""]
[null,null,{"$f":"IF(B115<>\"\",VLOOKUP(B115,[1]Desplegables!$BA$2:$BB$19,2,FALSE),\"\")","v":""},null,""]
[null,null,{"$f":"IF(B116<>\"\",VLOOKUP(B116,[1]Desplegables!$BA$2:$BB$19,2,FALSE),\"\")","v":""},null,""]
[null,null,{"$f":"IF(B117<>\"\",VLOOKUP(B117,[1]Desplegables!$BA$2:$BB$19,2,FALSE),\"\")","v":""},null,""]
[null,null,{"$f":"IF(B118<>\"\",VLOOKUP(B118,[1]Desplegables!$BA$2:$BB$19,2,FALSE),\"\")","v":""},null,""]
[null,null,{"$f":"IF(B119<>\"\",VLOOKUP(B119,[1]Desplegables!$BA$2:$BB$19,2,FALSE),\"\")","v":""},null,""]
[null,null,{"$f":"IF(B120<>\"\",VLOOKUP(B120,[1]Desplegables!$BA$2:$BB$19,2,FALSE),\"\")","v":""},null,""]
[null,null,{"$f":"IF(B121<>\"\",VLOOKUP(B121,[1]Desplegables!$BA$2:$BB$19,2,FALSE),\"\")","v":""},null,""]
[null,null,{"$f":"IF(B122<>\"\",VLOOKUP(B122,[1]Desplegables!$BA$2:$BB$19,2,FALSE),\"\")","v":""},null,""]
[null,null,{"$f":"IF(B123<>\"\",VLOOKUP(B123,[1]Desplegables!$BA$2:$BB$19,2,FALSE),\"\")","v":""},null,""]
[null,null,{"$f":"IF(B124<>\"\",VLOOKUP(B124,[1]Desplegables!$BA$2:$BB$19,2,FALSE),\"\")","v":""},null,""]
[null,null,{"$f":"IF(B125<>\"\",VLOOKUP(B125,[1]Desplegables!$BA$2:$BB$19,2,FALSE),\"\")","v":""},null,""]
[null,null,{"$f":"IF(B126<>\"\",VLOOKUP(B126,[1]Desplegables!$BA$2:$BB$19,2,FALSE),\"\")","v":""},null,""]
[null,null,{"$f":"IF(B127<>\"\",VLOOKUP(B127,[1]Desplegables!$BA$2:$BB$19,2,FALSE),\"\")","v":""},null,""]
[null,null,{"$f":"IF(B128<>\"\",VLOOKUP(B128,[1]Desplegables!$BA$2:$BB$19,2,FALSE),\"\")","v":""},null,""]
[null,null,{"$f":"IF(B129<>\"\",VLOOKUP(B129,[1]Desplegables!$BA$2:$BB$19,2,FALSE),\"\")","v":""},null,""]
[null,null,{"$f":"IF(B130<>\"\",VLOOKUP(B130,[1]Desplegables!$BA$2:$BB$19,2,FALSE),\"\")","v":""},null,""]
[null,null,{"$f":"IF(B131<>\"\",VLOOKUP(B131,[1]Desplegables!$BA$2:$BB$19,2,FALSE),\"\")","v":""},null,""]
[null,null,{"$f":"IF(B132<>\"\",VLOOKUP(B132,[1]Desplegables!$BA$2:$BB$19,2,FALSE),\"\")","v":""},null,""]
[null,null,{"$f":"IF(B133<>\"\",VLOOKUP(B133,[1]Desplegables!$BA$2:$BB$19,2,FALSE),\"\")","v":""},null,{"$f":"IF(C133<>\"\",D133/C133,\"\")","v":""}]
[null,null,{"$f":"IF(B134<>\"\",VLOOKUP(B134,[1]Desplegables!$BA$2:$BB$19,2,FALSE),\"\")","v":""},null,""]
[null,null,{"$f":"IF(B135<>\"\",VLOOKUP(B135,[1]Desplegables!$BA$2:$BB$19,2,FALSE),\"\")","v":""},null,""]
[null,null,{"$f":"IF(B136<>\"\",VLOOKUP(B136,[1]Desplegables!$BA$2:$BB$19,2,FALSE),\"\")","v":""},null,""]
[null,null,{"$f":"IF(B137<>\"\",VLOOKUP(B137,[1]Desplegables!$BA$2:$BB$19,2,FALSE),\"\")","v":""},null,""]
[null,null,{"$f":"IF(B138<>\"\",VLOOKUP(B138,[1]Desplegables!$BA$2:$BB$19,2,FALSE),\"\")","v":""},null,""]
[null,null,{"$f":"IF(B139<>\"\",VLOOKUP(B139,[1]Desplegables!$BA$2:$BB$19,2,FALSE),\"\")","v":""},null,""]
[null,null,{"$f":"IF(B140<>\"\",VLOOKUP(B140,[1]Desplegables!$BA$2:$BB$19,2,FALSE),\"\")","v":""},null,""]
[null,null,{"$f":"IF(B141<>\"\",VLOOKUP(B141,[1]Desplegables!$BA$2:$BB$19,2,FALSE),\"\")","v":""},null,""]
[null,null,{"$f":"IF(B142<>\"\",VLOOKUP(B142,[1]Desplegables!$BA$2:$BB$19,2,FALSE),\"\")","v":""},null,""]
[null,null,{"$f":"IF(B143<>\"\",VLOOKUP(B143,[1]Desplegables!$BA$2:$BB$19,2,FALSE),\"\")","v":""},null,""]
[null,null,{"$f":"IF(B144<>\"\",VLOOKUP(B144,[1]Desplegables!$BA$2:$BB$19,2,FALSE),\"\")","v":""},null,""]
[null,null,{"$f":"IF(B145<>\"\",VLOOKUP(B145,[1]Desplegables!$BA$2:$BB$19,2,FALSE),\"\")","v":""},null,""]
[null,null,{"$f":"IF(B146<>\"\",VLOOKUP(B146,[1]Desplegables!$BA$2:$BB$19,2,FALSE),\"\")","v":""},null,""]
[null,null,{"$f":"IF(B147<>\"\",VLOOKUP(B147,[1]Desplegables!$BA$2:$BB$19,2,FALSE),\"\")","v":""},null,""]
[null,null,{"$f":"IF(B148<>\"\",VLOOKUP(B148,[1]Desplegables!$BA$2:$BB$19,2,FALSE),\"\")","v":""},null,""]
[null,null,{"$f":"IF(B149<>\"\",VLOOKUP(B149,[1]Desplegables!$BA$2:$BB$19,2,FALSE),\"\")","v":""},null,""]
[null,null,{"$f":"IF(B150<>\"\",VLOOKUP(B150,[1]Desplegables!$BA$2:$BB$19,2,FALSE),\"\")","v":""},null,""]
[null,null,{"$f":"IF(B151<>\"\",VLOOKUP(B151,[1]Desplegables!$BA$2:$BB$19,2,FALSE),\"\")","v":""},null,""]
[null,null,{"$f":"IF(B152<>\"\",VLOOKUP(B152,[1]Desplegables!$BA$2:$BB$19,2,FALSE),\"\")","v":""},null,""]
[null,null,{"$f":"IF(B153<>\"\",VLOOKUP(B153,[1]Desplegables!$BA$2:$BB$19,2,FALSE),\"\")","v":""},null,""]
[null,null,{"$f":"IF(B154<>\"\",VLOOKUP(B154,[1]Desplegables!$BA$2:$BB$19,2,FALSE),\"\")","v":""},null,""]
[null,null,{"$f":"IF(B155<>\"\",VLOOKUP(B155,[1]Desplegables!$BA$2:$BB$19,2,FALSE),\"\")","v":""},null,""]
[null,null,{"$f":"IF(B156<>\"\",VLOOKUP(B156,[1]Desplegables!$BA$2:$BB$19,2,FALSE),\"\")","v":""},null,""]
[null,null,{"$f":"IF(B157<>\"\",VLOOKUP(B157,[1]Desplegables!$BA$2:$BB$19,2,FALSE),\"\")","v":""},null,""]
[null,null,{"$f":"IF(B158<>\"\",VLOOKUP(B158,[1]Desplegables!$BA$2:$BB$19,2,FALSE),\"\")","v":""},null,""]
[null,null,{"$f":"IF(B159<>\"\",VLOOKUP(B159,[1]Desplegables!$BA$2:$BB$19,2,FALSE),\"\")","v":""},null,""]
[null,null,{"$f":"IF(B160<>\"\",VLOOKUP(B160,[1]Desplegables!$BA$2:$BB$19,2,FALSE),\"\")","v":""},null,""]
[null,null,{"$f":"IF(B161<>\"\",VLOOKUP(B161,[1]Desplegables!$BA$2:$BB$19,2,FALSE),\"\")","v":""},null,""]
[null,null,{"$f":"IF(B162<>\"\",VLOOKUP(B162,[1]Desplegables!$BA$2:$BB$19,2,FALSE),\"\")","v":""},null,""]
[null,null,{"$f":"IF(B163<>\"\",VLOOKUP(B163,[1]Desplegables!$BA$2:$BB$19,2,FALSE),\"\")","v":""},null,""]
[null,null,{"$f":"IF(B164<>\"\",VLOOKUP(B164,[1]Desplegables!$BA$2:$BB$19,2,FALSE),\"\")","v":""},null,""]
[null,null,{"$f":"IF(B165<>\"\",VLOOKUP(B165,[1]Desplegables!$BA$2:$BB$19,2,FALSE),\"\")","v":""},null,""]
[null,null,{"$f":"IF(B166<>\"\",VLOOKUP(B166,[1]Desplegables!$BA$2:$BB$19,2,FALSE),\"\")","v":""},null,""]
[null,null,{"$f":"IF(B167<>\"\",VLOOKUP(B167,[1]Desplegables!$BA$2:$BB$19,2,FALSE),\"\")","v":""},null,""]
[null,null,{"$f":"IF(B168<>\"\",VLOOKUP(B168,[1]Desplegables!$BA$2:$BB$19,2,FALSE),\"\")","v":""},null,""]
[null,null,{"$f":"IF(B169<>\"\",VLOOKUP(B169,[1]Desplegables!$BA$2:$BB$19,2,FALSE),\"\")","v":""},null,""]
[null,null,{"$f":"IF(B170<>\"\",VLOOKUP(B170,[1]Desplegables!$BA$2:$BB$19,2,FALSE),\"\")","v":""},null,""]
[null,null,{"$f":"IF(B171<>\"\",VLOOKUP(B171,[1]Desplegables!$BA$2:$BB$19,2,FALSE),\"\")","v":""},null,""]
[null,null,{"$f":"IF(B172<>\"\",VLOOKUP(B172,[1]Desplegables!$BA$2:$BB$19,2,FALSE),\"\")","v":""},null,""]
[null,null,{"$f":"IF(B173<>\"\",VLOOKUP(B173,[1]Desplegables!$BA$2:$BB$19,2,FALSE),\"\")","v":""},null,""]
[null,null,{"$f":"IF(B174<>\"\",VLOOKUP(B174,[1]Desplegables!$BA$2:$BB$19,2,FALSE),\"\")","v":""},null,""]
[null,null,{"$f":"IF(B175<>\"\",VLOOKUP(B175,[1]Desplegables!$BA$2:$BB$19,2,FALSE),\"\")","v":""},null,""]
[null,null,{"$f":"IF(B176<>\"\",VLOOKUP(B176,[1]Desplegables!$BA$2:$BB$19,2,FALSE),\"\")","v":""},null,""]
[null,null,{"$f":"IF(B177<>\"\",VLOOKUP(B177,[1]Desplegables!$BA$2:$BB$19,2,FALSE),\"\")","v":""},null,""]
[null,null,{"$f":"IF(B178<>\"\",VLOOKUP(B178,[1]Desplegables!$BA$2:$BB$19,2,FALSE),\"\")","v":""},null,""]
[null,null,{"$f":"IF(B179<>\"\",VLOOKUP(B179,[1]Desplegables!$BA$2:$BB$19,2,FALSE),\"\")","v":""},null,""]
[null,null,{"$f":"IF(B180<>\"\",VLOOKUP(B180,[1]Desplegables!$BA$2:$BB$19,2,FALSE),\"\")","v":""},null,""]
[null,null,{"$f":"IF(B181<>\"\",VLOOKUP(B181,[1]Desplegables!$BA$2:$BB$19,2,FALSE),\"\")","v":""},null,""]
[null,null,{"$f":"IF(B182<>\"\",VLOOKUP(B182,[1]Desplegables!$BA$2:$BB$19,2,FALSE),\"\")","v":""},null,""]
[null,null,{"$f":"IF(B183<>\"\",VLOOKUP(B183,[1]Desplegables!$BA$2:$BB$19,2,FALSE),\"\")","v":""},null,""]
[null,null,{"$f":"IF(B184<>\"\",VLOOKUP(B184,[1]Desplegables!$BA$2:$BB$19,2,FALSE),\"\")","v":""},null,""]
[null,null,{"$f":"IF(B185<>\"\",VLOOKUP(B185,[1]Desplegables!$BA$2:$BB$19,2,FALSE),\"\")","v":""},null,""]
[null,null,{"$f":"IF(B186<>\"\",VLOOKUP(B186,[1]Desplegables!$BA$2:$BB$19,2,FALSE),\"\")","v":""},null,""]
[null,null,{"$f":"IF(B187<>\"\",VLOOKUP(B187,[1]Desplegables!$BA$2:$BB$19,2,FALSE),\"\")","v":""},null,""]
[null,null,{"$f":"IF(B188<>\"\",VLOOKUP(B188,[1]Desplegables!$BA$2:$BB$19,2,FALSE),\"\")","v":""},null,""]
[null,null,{"$f":"IF(B189<>\"\",VLOOKUP(B189,[1]Desplegables!$BA$2:$BB$19,2,FALSE),\"\")","v":""},null,""]
[null,null,{"$f":"IF(B190<>\"\",VLOOKUP(B190,[1]Desplegables!$BA$2:$BB$19,2,FALSE),\"\")","v":""},null,""]
[null,null,{"$f":"IF(B191<>\"\",VLOOKUP(B191,[1]Desplegables!$BA$2:$BB$19,2,FALSE),\"\")","v":""},null,""]
[null,null,{"$f":"IF(B192<>\"\",VLOOKUP(B192,[1]Desplegables!$BA$2:$BB$19,2,FALSE),\"\")","v":""},null,""]
[null,null,{"$f":"IF(B193<>\"\",VLOOKUP(B193,[1]Desplegables!$BA$2:$BB$19,2,FALSE),\"\")","v":""},null,""]
[null,null,{"$f":"IF(B194<>\"\",VLOOKUP(B194,[1]Desplegables!$BA$2:$BB$19,2,FALSE),\"\")","v":""},null,""]
[null,null,{"$f":"IF(B195<>\"\",VLOOKUP(B195,[1]Desplegables!$BA$2:$BB$19,2,FALSE),\"\")","v":""},null,""]
[null,null,{"$f":"IF(B196<>\"\",VLOOKUP(B196,[1]Desplegables!$BA$2:$BB$19,2,FALSE),\"\")","v":""},null,""]
[null,null,{"$f":"IF(B197<>\"\",VLOOKUP(B197,[1]Desplegables!$BA$2:$BB$19,2,FALSE),\"\")","v":""},null,{"$f":"IF(C197<>\"\",D197/C197,\"\")","v":""}]
[null,null,{"$f":"IF(B198<>\"\",VLOOKUP(B198,[1]Desplegables!$BA$2:$BB$19,2,FALSE),\"\")","v":""},null,""]
[null,null,{"$f":"IF(B199<>\"\",VLOOKUP(B199,[1]Desplegables!$BA$2:$BB$19,2,FALSE),\"\")","v":""},null,""]
[null,null,{"$f":"IF(B200<>\"\",VLOOKUP(B200,[1]Desplegables!$BA$2:$BB$19,2,FALSE),\"\")","v":""},null,""]
[null,null,{"$f":"IF(B201<>\"\",VLOOKUP(B201,[1]Desplegables!$BA$2:$BB$19,2,FALSE),\"\")","v":""},null,""]
[null,null,{"$f":"IF(B202<>\"\",VLOOKUP(B202,[1]Desplegables!$BA$2:$BB$19,2,FALSE),\"\")","v":""},null,""]
[null,null,{"$f":"IF(B203<>\"\",VLOOKUP(B203,[1]Desplegables!$BA$2:$BB$19,2,FALSE),\"\")","v":""},null,""]
[null,null,{"$f":"IF(B204<>\"\",VLOOKUP(B204,[1]Desplegables!$BA$2:$BB$19,2,FALSE),\"\")","v":""},null,""]
[null,null,{"$f":"IF(B205<>\"\",VLOOKUP(B205,[1]Desplegables!$BA$2:$BB$19,2,FALSE),\"\")","v":""},null,""]
[null,null,{"$f":"IF(B206<>\"\",VLOOKUP(B206,[1]Desplegables!$BA$2:$BB$19,2,FALSE),\"\")","v":""},null,""]
[null,null,{"$f":"IF(B207<>\"\",VLOOKUP(B207,[1]Desplegables!$BA$2:$BB$19,2,FALSE),\"\")","v":""},null,""]
[null,null,{"$f":"IF(B208<>\"\",VLOOKUP(B208,[1]Desplegables!$BA$2:$BB$19,2,FALSE),\"\")","v":""},null,""]
[null,null,{"$f":"IF(B209<>\"\",VLOOKUP(B209,[1]Desplegables!$BA$2:$BB$19,2,FALSE),\"\")","v":""},null,""]
[null,null,{"$f":"IF(B210<>\"\",VLOOKUP(B210,[1]Desplegables!$BA$2:$BB$19,2,FALSE),\"\")","v":""},null,""]
[null,null,{"$f":"IF(B211<>\"\",VLOOKUP(B211,[1]Desplegables!$BA$2:$BB$19,2,FALSE),\"\")","v":""},null,""]
[null,null,{"$f":"IF(B212<>\"\",VLOOKUP(B212,[1]Desplegables!$BA$2:$BB$19,2,FALSE),\"\")","v":""},null,""]
[null,null,{"$f":"IF(B213<>\"\",VLOOKUP(B213,[1]Desplegables!$BA$2:$BB$19,2,FALSE),\"\")","v":""},null,""]
[null,null,{"$f":"IF(B214<>\"\",VLOOKUP(B214,[1]Desplegables!$BA$2:$BB$19,2,FALSE),\"\")","v":""},null,""]
[null,null,{"$f":"IF(B215<>\"\",VLOOKUP(B215,[1]Desplegables!$BA$2:$BB$19,2,FALSE),\"\")","v":""},null,""]
[null,null,{"$f":"IF(B216<>\"\",VLOOKUP(B216,[1]Desplegables!$BA$2:$BB$19,2,FALSE),\"\")","v":""},null,""]
[null,null,{"$f":"IF(B217<>\"\",VLOOKUP(B217,[1]Desplegables!$BA$2:$BB$19,2,FALSE),\"\")","v":""},null,""]
[null,null,{"$f":"IF(B218<>\"\",VLOOKUP(B218,[1]Desplegables!$BA$2:$BB$19,2,FALSE),\"\")","v":""},null,""]
[null,null,{"$f":"IF(B219<>\"\",VLOOKUP(B219,[1]Desplegables!$BA$2:$BB$19,2,FALSE),\"\")","v":""},null,""]
[null,null,{"$f":"IF(B220<>\"\",VLOOKUP(B220,[1]Desplegables!$BA$2:$BB$19,2,FALSE),\"\")","v":""},null,""]
[null,null,{"$f":"IF(B221<>\"\",VLOOKUP(B221,[1]Desplegables!$BA$2:$BB$19,2,FALSE),\"\")","v":""},null,""]
[null,null,{"$f":"IF(B222<>\"\",VLOOKUP(B222,[1]Desplegables!$BA$2:$BB$19,2,FALSE),\"\")","v":""},null,""]
[null,null,{"$f":"IF(B223<>\"\",VLOOKUP(B223,[1]Desplegables!$BA$2:$BB$19,2,FALSE),\"\")","v":""},null,""]
[null,null,{"$f":"IF(B224<>\"\",VLOOKUP(B224,[1]Desplegables!$BA$2:$BB$19,2,FALSE),\"\")","v":""},null,""]
[null,null,{"$f":"IF(B225<>\"\",VLOOKUP(B225,[1]Desplegables!$BA$2:$BB$19,2,FALSE),\"\")","v":""},null,""]
[null,null,{"$f":"IF(B226<>\"\",VLOOKUP(B226,[1]Desplegables!$BA$2:$BB$19,2,FALSE),\"\")","v":""},null,""]
[null,null,{"$f":"IF(B227<>\"\",VLOOKUP(B227,[1]Desplegables!$BA$2:$BB$19,2,FALSE),\"\")","v":""},null,""]
[null,null,{"$f":"IF(B228<>\"\",VLOOKUP(B228,[1]Desplegables!$BA$2:$BB$19,2,FALSE),\"\")","v":""},null,""]
[null,null,{"$f":"IF(B229<>\"\",VLOOKUP(B229,[1]Desplegables!$BA$2:$BB$19,2,FALSE),\"\")","v":""},null,""]
[null,null,{"$f":"IF(B230<>\"\",VLOOKUP(B230,[1]Desplegables!$BA$2:$BB$19,2,FALSE),\"\")","v":""},null,""]
[null,null,{"$f":"IF(B231<>\"\",VLOOKUP(B231,[1]Desplegables!$BA$2:$BB$19,2,FALSE),\"\")","v":""},null,""]
[null,null,{"$f":"IF(B232<>\"\",VLOOKUP(B232,[1]Desplegables!$BA$2:$BB$19,2,FALSE),\"\")","v":""},null,""]
[null,null,{"$f":"IF(B233<>\"\",VLOOKUP(B233,[1]Desplegables!$BA$2:$BB$19,2,FALSE),\"\")","v":""},null,""]
[null,null,{"$f":"IF(B234<>\"\",VLOOKUP(B234,[1]Desplegables!$BA$2:$BB$19,2,FALSE),\"\")","v":""},null,""]
[null,null,{"$f":"IF(B235<>\"\",VLOOKUP(B235,[1]Desplegables!$BA$2:$BB$19,2,FALSE),\"\")","v":""},null,""]
[null,null,{"$f":"IF(B236<>\"\",VLOOKUP(B236,[1]Desplegables!$BA$2:$BB$19,2,FALSE),\"\")","v":""},null,""]
[null,null,{"$f":"IF(B237<>\"\",VLOOKUP(B237,[1]Desplegables!$BA$2:$BB$19,2,FALSE),\"\")","v":""},null,""]
[null,null,{"$f":"IF(B238<>\"\",VLOOKUP(B238,[1]Desplegables!$BA$2:$BB$19,2,FALSE),\"\")","v":""},null,""]
[null,null,{"$f":"IF(B239<>\"\",VLOOKUP(B239,[1]Desplegables!$BA$2:$BB$19,2,FALSE),\"\")","v":""},null,""]
[null,null,{"$f":"IF(B240<>\"\",VLOOKUP(B240,[1]Desplegables!$BA$2:$BB$19,2,FALSE),\"\")","v":""},null,""]
[null,null,{"$f":"IF(B241<>\"\",VLOOKUP(B241,[1]Desplegables!$BA$2:$BB$19,2,FALSE),\"\")","v":""},null,""]
[null,null,{"$f":"IF(B242<>\"\",VLOOKUP(B242,[1]Desplegables!$BA$2:$BB$19,2,FALSE),\"\")","v":""},null,""]
[null,null,{"$f":"IF(B243<>\"\",VLOOKUP(B243,[1]Desplegables!$BA$2:$BB$19,2,FALSE),\"\")","v":""},null,""]
[null,null,{"$f":"IF(B244<>\"\",VLOOKUP(B244,[1]Desplegables!$BA$2:$BB$19,2,FALSE),\"\")","v":""},null,""]
[null,null,{"$f":"IF(B245<>\"\",VLOOKUP(B245,[1]Desplegables!$BA$2:$BB$19,2,FALSE),\"\")","v":""},null,""]
[null,null,{"$f":"IF(B246<>\"\",VLOOKUP(B246,[1]Desplegables!$BA$2:$BB$19,2,FALSE),\"\")","v":""},null,""]
[null,null,{"$f":"IF(B247<>\"\",VLOOKUP(B247,[1]Desplegables!$BA$2:$BB$19,2,FALSE),\"\")","v":""},null,""]
[null,null,{"$f":"IF(B248<>\"\",VLOOKUP(B248,[1]Desplegables!$BA$2:$BB$19,2,FALSE),\"\")","v":""},null,""]
[null,null,{"$f":"IF(B249<>\"\",VLOOKUP(B249,[1]Desplegables!$BA$2:$BB$19,2,FALSE),\"\")","v":""},null,""]
[null,null,{"$f":"IF(B250<>\"\",VLOOKUP(B250,[1]Desplegables!$BA$2:$BB$19,2,FALSE),\"\")","v":""},null,""]
[null,null,{"$f":"IF(B251<>\"\",VLOOKUP(B251,[1]Desplegables!$BA$2:$BB$19,2,FALSE),\"\")","v":""},null,""]
[null,null,{"$f":"IF(B252<>\"\",VLOOKUP(B252,[1]Desplegables!$BA$2:$BB$19,2,FALSE),\"\")","v":""},null,""]
[null,null,{"$f":"IF(B253<>\"\",VLOOKUP(B253,[1]Desplegables!$BA$2:$BB$19,2,FALSE),\"\")","v":""},null,""]
[null,null,{"$f":"IF(B254<>\"\",VLOOKUP(B254,[1]Desplegables!$BA$2:$BB$19,2,FALSE),\"\")","v":""},null,""]
[null,null,{"$f":"IF(B255<>\"\",VLOOKUP(B255,[1]Desplegables!$BA$2:$BB$19,2,FALSE),\"\")","v":""},null,""]
[null,null,{"$f":"IF(B256<>\"\",VLOOKUP(B256,[1]Desplegables!$BA$2:$BB$19,2,FALSE),\"\")","v":""},null,""]
[null,null,{"$f":"IF(B257<>\"\",VLOOKUP(B257,[1]Desplegables!$BA$2:$BB$19,2,FALSE),\"\")","v":""},null,""]
[null,null,{"$f":"IF(B258<>\"\",VLOOKUP(B258,[1]Desplegables!$BA$2:$BB$19,2,FALSE),\"\")","v":""},null,""]
[null,null,{"$f":"IF(B259<>\"\",VLOOKUP(B259,[1]Desplegables!$BA$2:$BB$19,2,FALSE),\"\")","v":""},null,""]
[null,null,{"$f":"IF(B260<>\"\",VLOOKUP(B260,[1]Desplegables!$BA$2:$BB$19,2,FALSE),\"\")","v":""},null,""]
[null,null,{"$f":"IF(B261<>\"\",VLOOKUP(B261,[1]Desplegables!$BA$2:$BB$19,2,FALSE),\"\")","v":""},null,{"$f":"IF(C261<>\"\",D261/C261,\"\")","v":""}]
[null,null,{"$f":"IF(B262<>\"\",VLOOKUP(B262,[1]Desplegables!$BA$2:$BB$19,2,FALSE),\"\")","v":""},null,""]
[null,null,{"$f":"IF(B263<>\"\",VLOOKUP(B263,[1]Desplegables!$BA$2:$BB$19,2,FALSE),\"\")","v":""},null,""]
[null,null,{"$f":"IF(B264<>\"\",VLOOKUP(B264,[1]Desplegables!$BA$2:$BB$19,2,FALSE),\"\")","v":""},null,""]
[null,null,{"$f":"IF(B265<>\"\",VLOOKUP(B265,[1]Desplegables!$BA$2:$BB$19,2,FALSE),\"\")","v":""},null,""]
[null,null,{"$f":"IF(B266<>\"\",VLOOKUP(B266,[1]Desplegables!$BA$2:$BB$19,2,FALSE),\"\")","v":""},null,""]
[null,null,{"$f":"IF(B267<>\"\",VLOOKUP(B267,[1]Desplegables!$BA$2:$BB$19,2,FALSE),\"\")","v":""},null,""]
[null,null,{"$f":"IF(B268<>\"\",VLOOKUP(B268,[1]Desplegables!$BA$2:$BB$19,2,FALSE),\"\")","v":""},null,""]
[null,null,{"$f":"IF(B269<>\"\",VLOOKUP(B269,[1]Desplegables!$BA$2:$BB$19,2,FALSE),\"\")","v":""},null,""]
[null,null,{"$f":"IF(B270<>\"\",VLOOKUP(B270,[1]Desplegables!$BA$2:$BB$19,2,FALSE),\"\")","v":""},null,""]
[null,null,{"$f":"IF(B271<>\"\",VLOOKUP(B271,[1]Desplegables!$BA$2:$BB$19,2,FALSE),\"\")","v":""},null,""]
[null,null,{"$f":"IF(B272<>\"\",VLOOKUP(B272,[1]Desplegables!$BA$2:$BB$19,2,FALSE),\"\")","v":""},null,""]
[null,null,{"$f":"IF(B273<>\"\",VLOOKUP(B273,[1]Desplegables!$BA$2:$BB$19,2,FALSE),\"\")","v":""},null,""]
[null,null,{"$f":"IF(B274<>\"\",VLOOKUP(B274,[1]Desplegables!$BA$2:$BB$19,2,FALSE),\"\")","v":""},null,""]
[null,null,{"$f":"IF(B275<>\"\",VLOOKUP(B275,[1]Desplegables!$BA$2:$BB$19,2,FALSE),\"\")","v":""},null,""]
[null,null,{"$f":"IF(B276<>\"\",VLOOKUP(B276,[1]Desplegables!$BA$2:$BB$19,2,FALSE),\"\")","v":""},null,""]
[null,null,{"$f":"IF(B277<>\"\",VLOOKUP(B277,[1]Desplegables!$BA$2:$BB$19,2,FALSE),\"\")","v":""},null,""]
[null,null,{"$f":"IF(B278<>\"\",VLOOKUP(B278,[1]Desplegables!$BA$2:$BB$19,2,FALSE),\"\")","v":""},null,""]
[null,null,{"$f":"IF(B279<>\"\",VLOOKUP(B279,[1]Desplegables!$BA$2:$BB$19,2,FALSE),\"\")","v":""},null,""]
[null,null,{"$f":"IF(B280<>\"\",VLOOKUP(B280,[1]Desplegables!$BA$2:$BB$19,2,FALSE),\"\")","v":""},null,""]
[null,null,{"$f":"IF(B281<>\"\",VLOOKUP(B281,[1]Desplegables!$BA$2:$BB$19,2,FALSE),\"\")","v":""},null,""]
[null,null,{"$f":"IF(B282<>\"\",VLOOKUP(B282,[1]Desplegables!$BA$2:$BB$19,2,FALSE),\"\")","v":""},null,""]
[null,null,{"$f":"IF(B283<>\"\",VLOOKUP(B283,[1]Desplegables!$BA$2:$BB$19,2,FALSE),\"\")","v":""},null,""]
[null,null,{"$f":"IF(B284<>\"\",VLOOKUP(B284,[1]Desplegables!$BA$2:$BB$19,2,FALSE),\"\")","v":""},null,""]
[null,null,{"$f":"IF(B285<>\"\",VLOOKUP(B285,[1]Desplegables!$BA$2:$BB$19,2,FALSE),\"\")","v":""},null,""]
[null,null,{"$f":"IF(B286<>\"\",VLOOKUP(B286,[1]Desplegables!$BA$2:$BB$19,2,FALSE),\"\")","v":""},null,""]
[null,null,{"$f":"IF(B287<>\"\",VLOOKUP(B287,[1]Desplegables!$BA$2:$BB$19,2,FALSE),\"\")","v":""},null,""]
[null,null,{"$f":"IF(B288<>\"\",VLOOKUP(B288,[1]Desplegables!$BA$2:$BB$19,2,FALSE),\"\")","v":""},null,""]
[null,null,{"$f":"IF(B289<>\"\",VLOOKUP(B289,[1]Desplegables!$BA$2:$BB$19,2,FALSE),\"\")","v":""},null,""]
[null,null,{"$f":"IF(B290<>\"\",VLOOKUP(B290,[1]Desplegables!$BA$2:$BB$19,2,FALSE),\"\")","v":""},null,""]
[null,null,{"$f":"IF(B291<>\"\",VLOOKUP(B291,[1]Desplegables!$BA$2:$BB$19,2,FALSE),\"\")","v":""},null,""]
[null,null,{"$f":"IF(B292<>\"\",VLOOKUP(B292,[1]Desplegables!$BA$2:$BB$19,2,FALSE),\"\")","v":""},null,""]
[null,null,{"$f":"IF(B293<>\"\",VLOOKUP(B293,[1]Desplegables!$BA$2:$BB$19,2,FALSE),\"\")","v":""},null,""]
[null,null,{"$f":"IF(B294<>\"\",VLOOKUP(B294,[1]Desplegables!$BA$2:$BB$19,2,FALSE),\"\")","v":""},null,""]
[null,null,{"$f":"IF(B295<>\"\",VLOOKUP(B295,[1]Desplegables!$BA$2:$BB$19,2,FALSE),\"\")","v":""},null,""]
[null,null,{"$f":"IF(B296<>\"\",VLOOKUP(B296,[1]Desplegables!$BA$2:$BB$19,2,FALSE),\"\")","v":""},null,""]
[null,null,{"$f":"IF(B297<>\"\",VLOOKUP(B297,[1]Desplegables!$BA$2:$BB$19,2,FALSE),\"\")","v":""},null,""]
[null,null,{"$f":"IF(B298<>\"\",VLOOKUP(B298,[1]Desplegables!$BA$2:$BB$19,2,FALSE),\"\")","v":""},null,""]
[null,null,{"$f":"IF(B299<>\"\",VLOOKUP(B299,[1]Desplegables!$BA$2:$BB$19,2,FALSE),\"\")","v":""},null,""]
[null,null,{"$f":"IF(B300<>\"\",VLOOKUP(B300,[1]Desplegables!$BA$2:$BB$19,2,FALSE),\"\")","v":""},null,""]
[null,null,{"$f":"IF(B301<>\"\",VLOOKUP(B301,[1]Desplegables!$BA$2:$BB$19,2,FALSE),\"\")","v":""},null,""]
[null,null,{"$f":"IF(B302<>\"\",VLOOKUP(B302,[1]Desplegables!$BA$2:$BB$19,2,FALSE),\"\")","v":""},null,""]
[null,null,{"$f":"IF(B303<>\"\",VLOOKUP(B303,[1]Desplegables!$BA$2:$BB$19,2,FALSE),\"\")","v":""},null,""]
[null,null,{"$f":"IF(B304<>\"\",VLOOKUP(B304,[1]Desplegables!$BA$2:$BB$19,2,FALSE),\"\")","v":""},null,""]
[null,null,{"$f":"IF(B305<>\"\",VLOOKUP(B305,[1]Desplegables!$BA$2:$BB$19,2,FALSE),\"\")","v":""},null,""]
[null,null,{"$f":"IF(B306<>\"\",VLOOKUP(B306,[1]Desplegables!$BA$2:$BB$19,2,FALSE),\"\")","v":""},null,""]
[null,null,{"$f":"IF(B307<>\"\",VLOOKUP(B307,[1]Desplegables!$BA$2:$BB$19,2,FALSE),\"\")","v":""},null,""]
[null,null,{"$f":"IF(B308<>\"\",VLOOKUP(B308,[1]Desplegables!$BA$2:$BB$19,2,FALSE),\"\")","v":""},null,""]
[null,null,{"$f":"IF(B309<>\"\",VLOOKUP(B309,[1]Desplegables!$BA$2:$BB$19,2,FALSE),\"\")","v":""},null,""]
[null,null,{"$f":"IF(B310<>\"\",VLOOKUP(B310,[1]Desplegables!$BA$2:$BB$19,2,FALSE),\"\")","v":""},null,""]
[null,null,{"$f":"IF(B311<>\"\",VLOOKUP(B311,[1]Desplegables!$BA$2:$BB$19,2,FALSE),\"\")","v":""},null,""]
[null,null,{"$f":"IF(B312<>\"\",VLOOKUP(B312,[1]Desplegables!$BA$2:$BB$19,2,FALSE),\"\")","v":""},null,""]
[null,null,{"$f":"IF(B313<>\"\",VLOOKUP(B313,[1]Desplegables!$BA$2:$BB$19,2,FALSE),\"\")","v":""},null,""]
[null,null,{"$f":"IF(B314<>\"\",VLOOKUP(B314,[1]Desplegables!$BA$2:$BB$19,2,FALSE),\"\")","v":""},null,""]
[null,null,{"$f":"IF(B315<>\"\",VLOOKUP(B315,[1]Desplegables!$BA$2:$BB$19,2,FALSE),\"\")","v":""},null,""]
[null,null,{"$f":"IF(B316<>\"\",VLOOKUP(B316,[1]Desplegables!$BA$2:$BB$19,2,FALSE),\"\")","v":""},null,""]
[null,null,{"$f":"IF(B317<>\"\",VLOOKUP(B317,[1]Desplegables!$BA$2:$BB$19,2,FALSE),\"\")","v":""},null,""]
[null,null,{"$f":"IF(B318<>\"\",VLOOKUP(B318,[1]Desplegables!$BA$2:$BB$19,2,FALSE),\"\")","v":""},null,""]
[null,null,{"$f":"IF(B319<>\"\",VLOOKUP(B319,[1]Desplegables!$BA$2:$BB$19,2,FALSE),\"\")","v":""},null,""]
[null,null,{"$f":"IF(B320<>\"\",VLOOKUP(B320,[1]Desplegables!$BA$2:$BB$19,2,FALSE),\"\")","v":""},null,""]
[null,null,{"$f":"IF(B321<>\"\",VLOOKUP(B321,[1]Desplegables!$BA$2:$BB$19,2,FALSE),\"\")","v":""},null,""]
[null,null,{"$f":"IF(B322<>\"\",VLOOKUP(B322,[1]Desplegables!$BA$2:$BB$19,2,FALSE),\"\")","v":""},null,""]
[null,null,{"$f":"IF(B323<>\"\",VLOOKUP(B323,[1]Desplegables!$BA$2:$BB$19,2,FALSE),\"\")","v":""},null,""]
[null,null,{"$f":"IF(B324<>\"\",VLOOKUP(B324,[1]Desplegables!$BA$2:$BB$19,2,FALSE),\"\")","v":""},null,""]
[null,null,{"$f":"IF(B325<>\"\",VLOOKUP(B325,[1]Desplegables!$BA$2:$BB$19,2,FALSE),\"\")","v":""},null,{"$f":"IF(C325<>\"\",D325/C325,\"\")","v":""}]
[null,null,{"$f":"IF(B326<>\"\",VLOOKUP(B326,[1]Desplegables!$BA$2:$BB$19,2,FALSE),\"\")","v":""},null,""]
[null,null,{"$f":"IF(B327<>\"\",VLOOKUP(B327,[1]Desplegables!$BA$2:$BB$19,2,FALSE),\"\")","v":""},null,""]
[null,null,{"$f":"IF(B328<>\"\",VLOOKUP(B328,[1]Desplegables!$BA$2:$BB$19,2,FALSE),\"\")","v":""},null,""]
[null,null,{"$f":"IF(B329<>\"\",VLOOKUP(B329,[1]Desplegables!$BA$2:$BB$19,2,FALSE),\"\")","v":""},null,""]
[null,null,{"$f":"IF(B330<>\"\",VLOOKUP(B330,[1]Desplegables!$BA$2:$BB$19,2,FALSE),\"\")","v":""},null,""]
[null,null,{"$f":"IF(B331<>\"\",VLOOKUP(B331,[1]Desplegables!$BA$2:$BB$19,2,FALSE),\"\")","v":""},null,""]
[null,null,{"$f":"IF(B332<>\"\",VLOOKUP(B332,[1]Desplegables!$BA$2:$BB$19,2,FALSE),\"\")","v":""},null,""]
[null,null,{"$f":"IF(B333<>\"\",VLOOKUP(B333,[1]Desplegables!$BA$2:$BB$19,2,FALSE),\"\")","v":""},null,""]
[null,null,{"$f":"IF(B334<>\"\",VLOOKUP(B334,[1]Desplegables!$BA$2:$BB$19,2,FALSE),\"\")","v":""},null,""]
[null,null,{"$f":"IF(B335<>\"\",VLOOKUP(B335,[1]Desplegables!$BA$2:$BB$19,2,FALSE),\"\")","v":""},null,""]
[null,null,{"$f":"IF(B336<>\"\",VLOOKUP(B336,[1]Desplegables!$BA$2:$BB$19,2,FALSE),\"\")","v":""},null,""]
[null,null,{"$f":"IF(B337<>\"\",VLOOKUP(B337,[1]Desplegables!$BA$2:$BB$19,2,FALSE),\"\")","v":""},null,""]
[null,null,{"$f":"IF(B338<>\"\",VLOOKUP(B338,[1]Desplegables!$BA$2:$BB$19,2,FALSE),\"\")","v":""},null,""]
[null,null,{"$f":"IF(B339<>\"\",VLOOKUP(B339,[1]Desplegables!$BA$2:$BB$19,2,FALSE),\"\")","v":""},null,""]
[null,null,{"$f":"IF(B340<>\"\",VLOOKUP(B340,[1]Desplegables!$BA$2:$BB$19,2,FALSE),\"\")","v":""},null,""]
[null,null,{"$f":"IF(B341<>\"\",VLOOKUP(B341,[1]Desplegables!$BA$2:$BB$19,2,FALSE),\"\")","v":""},null,""]
[null,null,{"$f":"IF(B342<>\"\",VLOOKUP(B342,[1]Desplegables!$BA$2:$BB$19,2,FALSE),\"\")","v":""},null,""]
[null,null,{"$f":"IF(B343<>\"\",VLOOKUP(B343,[1]Desplegables!$BA$2:$BB$19,2,FALSE),\"\")","v":""},null,""]
[null,null,{"$f":"IF(B344<>\"\",VLOOKUP(B344,[1]Desplegables!$BA$2:$BB$19,2,FALSE),\"\")","v":""},null,""]
[null,null,{"$f":"IF(B345<>\"\",VLOOKUP(B345,[1]Desplegables!$BA$2:$BB$19,2,FALSE),\"\")","v":""},null,""]
[null,null,{"$f":"IF(B346<>\"\",VLOOKUP(B346,[1]Desplegables!$BA$2:$BB$19,2,FALSE),\"\")","v":""},null,""]
[null,null,{"$f":"IF(B347<>\"\",VLOOKUP(B347,[1]Desplegables!$BA$2:$BB$19,2,FALSE),\"\")","v":""},null,""]
[null,null,{"$f":"IF(B348<>\"\",VLOOKUP(B348,[1]Desplegables!$BA$2:$BB$19,2,FALSE),\"\")","v":""},null,""]
[null,null,{"$f":"IF(B349<>\"\",VLOOKUP(B349,[1]Desplegables!$BA$2:$BB$19,2,FALSE),\"\")","v":""},null,""]
[null,null,{"$f":"IF(B350<>\"\",VLOOKUP(B350,[1]Desplegables!$BA$2:$BB$19,2,FALSE),\"\")","v":""},null,""]
[null,null,{"$f":"IF(B351<>\"\",VLOOKUP(B351,[1]Desplegables!$BA$2:$BB$19,2,FALSE),\"\")","v":""},null,""]
[null,null,{"$f":"IF(B352<>\"\",VLOOKUP(B352,[1]Desplegables!$BA$2:$BB$19,2,FALSE),\"\")","v":""},null,""]
[null,null,{"$f":"IF(B353<>\"\",VLOOKUP(B353,[1]Desplegables!$BA$2:$BB$19,2,FALSE),\"\")","v":""},null,""]
[null,null,{"$f":"IF(B354<>\"\",VLOOKUP(B354,[1]Desplegables!$BA$2:$BB$19,2,FALSE),\"\")","v":""},null,""]
[null,null,{"$f":"IF(B355<>\"\",VLOOKUP(B355,[1]Desplegables!$BA$2:$BB$19,2,FALSE),\"\")","v":""},null,""]
[null,null,{"$f":"IF(B356<>\"\",VLOOKUP(B356,[1]Desplegables!$BA$2:$BB$19,2,FALSE),\"\")","v":""},null,""]
[null,null,{"$f":"IF(B357<>\"\",VLOOKUP(B357,[1]Desplegables!$BA$2:$BB$19,2,FALSE),\"\")","v":""},null,""]
[null,null,{"$f":"IF(B358<>\"\",VLOOKUP(B358,[1]Desplegables!$BA$2:$BB$19,2,FALSE),\"\")","v":""},null,""]
[null,null,{"$f":"IF(B359<>\"\",VLOOKUP(B359,[1]Desplegables!$BA$2:$BB$19,2,FALSE),\"\")","v":""},null,""]
[null,null,{"$f":"IF(B360<>\"\",VLOOKUP(B360,[1]Desplegables!$BA$2:$BB$19,2,FALSE),\"\")","v":""},null,""]
[null,null,{"$f":"IF(B361<>\"\",VLOOKUP(B361,[1]Desplegables!$BA$2:$BB$19,2,FALSE),\"\")","v":""},null,""]
[null,null,{"$f":"IF(B362<>\"\",VLOOKUP(B362,[1]Desplegables!$BA$2:$BB$19,2,FALSE),\"\")","v":""},null,""]
[null,null,{"$f":"IF(B363<>\"\",VLOOKUP(B363,[1]Desplegables!$BA$2:$BB$19,2,FALSE),\"\")","v":""},null,""]
[null,null,{"$f":"IF(B364<>\"\",VLOOKUP(B364,[1]Desplegables!$BA$2:$BB$19,2,FALSE),\"\")","v":""},null,""]
[null,null,{"$f":"IF(B365<>\"\",VLOOKUP(B365,[1]Desplegables!$BA$2:$BB$19,2,FALSE),\"\")","v":""},null,""]
[null,null,{"$f":"IF(B366<>\"\",VLOOKUP(B366,[1]Desplegables!$BA$2:$BB$19,2,FALSE),\"\")","v":""},null,""]
[null,null,{"$f":"IF(B367<>\"\",VLOOKUP(B367,[1]Desplegables!$BA$2:$BB$19,2,FALSE),\"\")","v":""},null,""]
[null,null,{"$f":"IF(B368<>\"\",VLOOKUP(B368,[1]Desplegables!$BA$2:$BB$19,2,FALSE),\"\")","v":""},null,""]
[null,null,{"$f":"IF(B369<>\"\",VLOOKUP(B369,[1]Desplegables!$BA$2:$BB$19,2,FALSE),\"\")","v":""},null,""]
[null,null,{"$f":"IF(B370<>\"\",VLOOKUP(B370,[1]Desplegables!$BA$2:$BB$19,2,FALSE),\"\")","v":""},null,""]
[null,null,{"$f":"IF(B371<>\"\",VLOOKUP(B371,[1]Desplegables!$BA$2:$BB$19,2,FALSE),\"\")","v":""},null,""]
[null,null,{"$f":"IF(B372<>\"\",VLOOKUP(B372,[1]Desplegables!$BA$2:$BB$19,2,FALSE),\"\")","v":""},null,""]
[null,null,{"$f":"IF(B373<>\"\",VLOOKUP(B373,[1]Desplegables!$BA$2:$BB$19,2,FALSE),\"\")","v":""},null,""]
[null,null,{"$f":"IF(B374<>\"\",VLOOKUP(B374,[1]Desplegables!$BA$2:$BB$19,2,FALSE),\"\")","v":""},null,""]
[null,null,{"$f":"IF(B375<>\"\",VLOOKUP(B375,[1]Desplegables!$BA$2:$BB$19,2,FALSE),\"\")","v":""},null,""]
[null,null,{"$f":"IF(B376<>\"\",VLOOKUP(B376,[1]Desplegables!$BA$2:$BB$19,2,FALSE),\"\")","v":""},null,""]
[null,null,{"$f":"IF(B377<>\"\",VLOOKUP(B377,[1]Desplegables!$BA$2:$BB$19,2,FALSE),\"\")","v":""},null,""]
[null,null,{"$f":"IF(B378<>\"\",VLOOKUP(B378,[1]Desplegables!$BA$2:$BB$19,2,FALSE),\"\")","v":""},null,""]
[null,null,{"$f":"IF(B379<>\"\",VLOOKUP(B379,[1]Desplegables!$BA$2:$BB$19,2,FALSE),\"\")","v":""},null,""]
[null,null,{"$f":"IF(B380<>\"\",VLOOKUP(B380,[1]Desplegables!$BA$2:$BB$19,2,FALSE),\"\")","v":""},null,""]
[null,null,{"$f":"IF(B381<>\"\",VLOOKUP(B381,[1]Desplegables!$BA$2:$BB$19,2,FALSE),\"\")","v":""},null,""]
[null,null,{"$f":"IF(B382<>\"\",VLOOKUP(B382,[1]Desplegables!$BA$2:$BB$19,2,FALSE),\"\")","v":""},null,""]
[null,null,{"$f":"IF(B383<>\"\",VLOOKUP(B383,[1]Desplegables!$BA$2:$BB$19,2,FALSE),\"\")","v":""},null,""]
[null,null,{"$f":"IF(B384<>\"\",VLOOKUP(B384,[1]Desplegables!$BA$2:$BB$19,2,FALSE),\"\")","v":""},null,""]
[null,null,{"$f":"IF(B385<>\"\",VLOOKUP(B385,[1]Desplegables!$BA$2:$BB$19,2,FALSE),\"\")","v":""},null,""]
[null,null,{"$f":"IF(B386<>\"\",VLOOKUP(B386,[1]Desplegables!$BA$2:$BB$19,2,FALSE),\"\")","v":""},null,""]
[null,null,{"$f":"IF(B387<>\"\",VLOOKUP(B387,[1]Desplegables!$BA$2:$BB$19,2,FALSE),\"\")","v":""},null,""]
[null,null,{"$f":"IF(B388<>\"\",VLOOKUP(B388,[1]Desplegables!$BA$2:$BB$19,2,FALSE),\"\")","v":""},null,""]
[null,null,{"$f":"IF(B389<>\"\",VLOOKUP(B389,[1]Desplegables!$BA$2:$BB$19,2,FALSE),\"\")","v":""},null,{"$f":"IF(C389<>\"\",D389/C389,\"\")","v":""}]
[null,null,{"$f":"IF(B390<>\"\",VLOOKUP(B390,[1]Desplegables!$BA$2:$BB$19,2,FALSE),\"\")","v":""},null,""]
[null,null,{"$f":"IF(B391<>\"\",VLOOKUP(B391,[1]Desplegables!$BA$2:$BB$19,2,FALSE),\"\")","v":""},null,""]
[null,null,{"$f":"IF(B392<>\"\",VLOOKUP(B392,[1]Desplegables!$BA$2:$BB$19,2,FALSE),\"\")","v":""},null,""]
[null,null,{"$f":"IF(B393<>\"\",VLOOKUP(B393,[1]Desplegables!$BA$2:$BB$19,2,FALSE),\"\")","v":""},null,""]
[null,null,{"$f":"IF(B394<>\"\",VLOOKUP(B394,[1]Desplegables!$BA$2:$BB$19,2,FALSE),\"\")","v":""},null,""]
[null,null,{"$f":"IF(B395<>\"\",VLOOKUP(B395,[1]Desplegables!$BA$2:$BB$19,2,FALSE),\"\")","v":""},null,""]
[null,null,{"$f":"IF(B396<>\"\",VLOOKUP(B396,[1]Desplegables!$BA$2:$BB$19,2,FALSE),\"\")","v":""},null,""]
[null,null,{"$f":"IF(B397<>\"\",VLOOKUP(B397,[1]Desplegables!$BA$2:$BB$19,2,FALSE),\"\")","v":""},null,""]
[null,null,{"$f":"IF(B398<>\"\",VLOOKUP(B398,[1]Desplegables!$BA$2:$BB$19,2,FALSE),\"\")","v":""},null,""]
[null,null,{"$f":"IF(B399<>\"\",VLOOKUP(B399,[1]Desplegables!$BA$2:$BB$19,2,FALSE),\"\")","v":""},null,""]
[null,null,{"$f":"IF(B400<>\"\",VLOOKUP(B400,[1]Desplegables!$BA$2:$BB$19,2,FALSE),\"\")","v":""},null,""]
[null,null,{"$f":"IF(B401<>\"\",VLOOKUP(B401,[1]Desplegables!$BA$2:$BB$19,2,FALSE),\"\")","v":""},null,""]
[null,null,{"$f":"IF(B402<>\"\",VLOOKUP(B402,[1]Desplegables!$BA$2:$BB$19,2,FALSE),\"\")","v":""},null,""]
[null,null,{"$f":"IF(B403<>\"\",VLOOKUP(B403,[1]Desplegables!$BA$2:$BB$19,2,FALSE),\"\")","v":""},null,""]
[null,null,{"$f":"IF(B404<>\"\",VLOOKUP(B404,[1]Desplegables!$BA$2:$BB$19,2,FALSE),\"\")","v":""},null,""]
[null,null,{"$f":"IF(B405<>\"\",VLOOKUP(B405,[1]Desplegables!$BA$2:$BB$19,2,FALSE),\"\")","v":""},null,""]
[null,null,{"$f":"IF(B406<>\"\",VLOOKUP(B406,[1]Desplegables!$BA$2:$BB$19,2,FALSE),\"\")","v":""},null,""]
[null,null,{"$f":"IF(B407<>\"\",VLOOKUP(B407,[1]Desplegables!$BA$2:$BB$19,2,FALSE),\"\")","v":""},null,""]
[null,null,{"$f":"IF(B408<>\"\",VLOOKUP(B408,[1]Desplegables!$BA$2:$BB$19,2,FALSE),\"\")","v":""},null,""]
[null,null,{"$f":"IF(B409<>\"\",VLOOKUP(B409,[1]Desplegables!$BA$2:$BB$19,2,FALSE),\"\")","v":""},null,""]
[null,null,{"$f":"IF(B410<>\"\",VLOOKUP(B410,[1]Desplegables!$BA$2:$BB$19,2,FALSE),\"\")","v":""},null,""]
[null,null,{"$f":"IF(B411<>\"\",VLOOKUP(B411,[1]Desplegables!$BA$2:$BB$19,2,FALSE),\"\")","v":""},null,""]
[null,null,{"$f":"IF(B412<>\"\",VLOOKUP(B412,[1]Desplegables!$BA$2:$BB$19,2,FALSE),\"\")","v":""},null,""]
[null,null,{"$f":"IF(B413<>\"\",VLOOKUP(B413,[1]Desplegables!$BA$2:$BB$19,2,FALSE),\"\")","v":""},null,""]
[null,null,{"$f":"IF(B414<>\"\",VLOOKUP(B414,[1]Desplegables!$BA$2:$BB$19,2,FALSE),\"\")","v":""},null,""]
[null,null,{"$f":"IF(B415<>\"\",VLOOKUP(B415,[1]Desplegables!$BA$2:$BB$19,2,FALSE),\"\")","v":""},null,""]
[null,null,{"$f":"IF(B416<>\"\",VLOOKUP(B416,[1]Desplegables!$BA$2:$BB$19,2,FALSE),\"\")","v":""},null,""]
[null,null,{"$f":"IF(B417<>\"\",VLOOKUP(B417,[1]Desplegables!$BA$2:$BB$19,2,FALSE),\"\")","v":""},null,""]
[null,null,{"$f":"IF(B418<>\"\",VLOOKUP(B418,[1]Desplegables!$BA$2:$BB$19,2,FALSE),\"\")","v":""},null,""]
[null,null,{"$f":"IF(B419<>\"\",VLOOKUP(B419,[1]Desplegables!$BA$2:$BB$19,2,FALSE),\"\")","v":""},null,""]
[null,null,{"$f":"IF(B420<>\"\",VLOOKUP(B420,[1]Desplegables!$BA$2:$BB$19,2,FALSE),\"\")","v":""},null,""]
[null,null,{"$f":"IF(B421<>\"\",VLOOKUP(B421,[1]Desplegables!$BA$2:$BB$19,2,FALSE),\"\")","v":""},null,""]
[null,null,{"$f":"IF(B422<>\"\",VLOOKUP(B422,[1]Desplegables!$BA$2:$BB$19,2,FALSE),\"\")","v":""},null,""]
[null,null,{"$f":"IF(B423<>\"\",VLOOKUP(B423,[1]Desplegables!$BA$2:$BB$19,2,FALSE),\"\")","v":""},null,""]
[null,null,{"$f":"IF(B424<>\"\",VLOOKUP(B424,[1]Desplegables!$BA$2:$BB$19,2,FALSE),\"\")","v":""},null,""]
[null,null,{"$f":"IF(B425<>\"\",VLOOKUP(B425,[1]Desplegables!$BA$2:$BB$19,2,FALSE),\"\")","v":""},null,""]
[null,null,{"$f":"IF(B426<>\"\",VLOOKUP(B426,[1]Desplegables!$BA$2:$BB$19,2,FALSE),\"\")","v":""},null,""]
[null,null,{"$f":"IF(B427<>\"\",VLOOKUP(B427,[1]Desplegables!$BA$2:$BB$19,2,FALSE),\"\")","v":""},null,""]
[null,null,{"$f":"IF(B428<>\"\",VLOOKUP(B428,[1]Desplegables!$BA$2:$BB$19,2,FALSE),\"\")","v":""},null,""]
[null,null,{"$f":"IF(B429<>\"\",VLOOKUP(B429,[1]Desplegables!$BA$2:$BB$19,2,FALSE),\"\")","v":""},null,""]
[null,null,{"$f":"IF(B430<>\"\",VLOOKUP(B430,[1]Desplegables!$BA$2:$BB$19,2,FALSE),\"\")","v":""},null,""]
[null,null,{"$f":"IF(B431<>\"\",VLOOKUP(B431,[1]Desplegables!$BA$2:$BB$19,2,FALSE),\"\")","v":""},null,""]
[null,null,{"$f":"IF(B432<>\"\",VLOOKUP(B432,[1]Desplegables!$BA$2:$BB$19,2,FALSE),\"\")","v":""},null,""]
[null,null,{"$f":"IF(B433<>\"\",VLOOKUP(B433,[1]Desplegables!$BA$2:$BB$19,2,FALSE),\"\")","v":""},null,""]
[null,null,{"$f":"IF(B434<>\"\",VLOOKUP(B434,[1]Desplegables!$BA$2:$BB$19,2,FALSE),\"\")","v":""},null,""]
[null,null,{"$f":"IF(B435<>\"\",VLOOKUP(B435,[1]Desplegables!$BA$2:$BB$19,2,FALSE),\"\")","v":""},null,""]
[null,null,{"$f":"IF(B436<>\"\",VLOOKUP(B436,[1]Desplegables!$BA$2:$BB$19,2,FALSE),\"\")","v":""},null,""]
[null,null,{"$f":"IF(B437<>\"\",VLOOKUP(B437,[1]Desplegables!$BA$2:$BB$19,2,FALSE),\"\")","v":""},null,""]
[null,null,{"$f":"IF(B438<>\"\",VLOOKUP(B438,[1]Desplegables!$BA$2:$BB$19,2,FALSE),\"\")","v":""},null,""]
[null,null,{"$f":"IF(B439<>\"\",VLOOKUP(B439,[1]Desplegables!$BA$2:$BB$19,2,FALSE),\"\")","v":""},null,""]
[null,null,{"$f":"IF(B440<>\"\",VLOOKUP(B440,[1]Desplegables!$BA$2:$BB$19,2,FALSE),\"\")","v":""},null,""]
[null,null,{"$f":"IF(B441<>\"\",VLOOKUP(B441,[1]Desplegables!$BA$2:$BB$19,2,FALSE),\"\")","v":""},null,""]
[null,null,{"$f":"IF(B442<>\"\",VLOOKUP(B442,[1]Desplegables!$BA$2:$BB$19,2,FALSE),\"\")","v":""},null,""]
[null,null,{"$f":"IF(B443<>\"\",VLOOKUP(B443,[1]Desplegables!$BA$2:$BB$19,2,FALSE),\"\")","v":""},null,""]
[null,null,{"$f":"IF(B444<>\"\",VLOOKUP(B444,[1]Desplegables!$BA$2:$BB$19,2,FALSE),\"\")","v":""},null,""]
[null,null,{"$f":"IF(B445<>\"\",VLOOKUP(B445,[1]Desplegables!$BA$2:$BB$19,2,FALSE),\"\")","v":""},null,""]
[null,null,{"$f":"IF(B446<>\"\",VLOOKUP(B446,[1]Desplegables!$BA$2:$BB$19,2,FALSE),\"\")","v":""},null,""]
[null,null,{"$f":"IF(B447<>\"\",VLOOKUP(B447,[1]Desplegables!$BA$2:$BB$19,2,FALSE),\"\")","v":""},null,""]
[null,null,{"$f":"IF(B448<>\"\",VLOOKUP(B448,[1]Desplegables!$BA$2:$BB$19,2,FALSE),\"\")","v":""},null,""]
[null,null,{"$f":"IF(B449<>\"\",VLOOKUP(B449,[1]Desplegables!$BA$2:$BB$19,2,FALSE),\"\")","v":""},null,""]
[null,null,{"$f":"IF(B450<>\"\",VLOOKUP(B450,[1]Desplegables!$BA$2:$BB$19,2,FALSE),\"\")","v":""},null,""]
[null,null,{"$f":"IF(B451<>\"\",VLOOKUP(B451,[1]Desplegables!$BA$2:$BB$19,2,FALSE),\"\")","v":""},null,""]
[null,null,{"$f":"IF(B452<>\"\",VLOOKUP(B452,[1]Desplegables!$BA$2:$BB$19,2,FALSE),\"\")","v":""},null,""]
[null,null,{"$f":"IF(B453<>\"\",VLOOKUP(B453,[1]Desplegables!$BA$2:$BB$19,2,FALSE),\"\")","v":""},null,{"$f":"IF(C453<>\"\",D453/C453,\"\")","v":""}]
[null,null,{"$f":"IF(B454<>\"\",VLOOKUP(B454,[1]Desplegables!$BA$2:$BB$19,2,FALSE),\"\")","v":""},null,""]
[null,null,{"$f":"IF(B455<>\"\",VLOOKUP(B455,[1]Desplegables!$BA$2:$BB$19,2,FALSE),\"\")","v":""},null,""]
[null,null,{"$f":"IF(B456<>\"\",VLOOKUP(B456,[1]Desplegables!$BA$2:$BB$19,2,FALSE),\"\")","v":""},null,""]
[null,null,{"$f":"IF(B457<>\"\",VLOOKUP(B457,[1]Desplegables!$BA$2:$BB$19,2,FALSE),\"\")","v":""},null,""]
[null,null,{"$f":"IF(B458<>\"\",VLOOKUP(B458,[1]Desplegables!$BA$2:$BB$19,2,FALSE),\"\")","v":""},null,""]
[null,null,{"$f":"IF(B459<>\"\",VLOOKUP(B459,[1]Desplegables!$BA$2:$BB$19,2,FALSE),\"\")","v":""},null,""]
[null,null,{"$f":"IF(B460<>\"\",VLOOKUP(B460,[1]Desplegables!$BA$2:$BB$19,2,FALSE),\"\")","v":""},null,""]
[null,null,{"$f":"IF(B461<>\"\",VLOOKUP(B461,[1]Desplegables!$BA$2:$BB$19,2,FALSE),\"\")","v":""},null,""]
[null,null,{"$f":"IF(B462<>\"\",VLOOKUP(B462,[1]Desplegables!$BA$2:$BB$19,2,FALSE),\"\")","v":""},null,""]
[null,null,{"$f":"IF(B463<>\"\",VLOOKUP(B463,[1]Desplegables!$BA$2:$BB$19,2,FALSE),\"\")","v":""},null,""]
[null,null,{"$f":"IF(B464<>\"\",VLOOKUP(B464,[1]Desplegables!$BA$2:$BB$19,2,FALSE),\"\")","v":""},null,""]
[null,null,{"$f":"IF(B465<>\"\",VLOOKUP(B465,[1]Desplegables!$BA$2:$BB$19,2,FALSE),\"\")","v":""},null,""]
[null,null,{"$f":"IF(B466<>\"\",VLOOKUP(B466,[1]Desplegables!$BA$2:$BB$19,2,FALSE),\"\")","v":""},null,""]
[null,null,{"$f":"IF(B467<>\"\",VLOOKUP(B467,[1]Desplegables!$BA$2:$BB$19,2,FALSE),\"\")","v":""},null,""]
[null,null,{"$f":"IF(B468<>\"\",VLOOKUP(B468,[1]Desplegables!$BA$2:$BB$19,2,FALSE),\"\")","v":""},null,""]
[null,null,{"$f":"IF(B469<>\"\",VLOOKUP(B469,[1]Desplegables!$BA$2:$BB$19,2,FALSE),\"\")","v":""},null,""]
[null,null,{"$f":"IF(B470<>\"\",VLOOKUP(B470,[1]Desplegables!$BA$2:$BB$19,2,FALSE),\"\")","v":""},null,""]
[null,null,{"$f":"IF(B471<>\"\",VLOOKUP(B471,[1]Desplegables!$BA$2:$BB$19,2,FALSE),\"\")","v":""},null,""]
[null,null,{"$f":"IF(B472<>\"\",VLOOKUP(B472,[1]Desplegables!$BA$2:$BB$19,2,FALSE),\"\")","v":""},null,""]
[null,null,{"$f":"IF(B473<>\"\",VLOOKUP(B473,[1]Desplegables!$BA$2:$BB$19,2,FALSE),\"\")","v":""},null,""]
[null,null,{"$f":"IF(B474<>\"\",VLOOKUP(B474,[1]Desplegables!$BA$2:$BB$19,2,FALSE),\"\")","v":""},null,""]
[null,null,{"$f":"IF(B475<>\"\",VLOOKUP(B475,[1]Desplegables!$BA$2:$BB$19,2,FALSE),\"\")","v":""},null,""]
[null,null,{"$f":"IF(B476<>\"\",VLOOKUP(B476,[1]Desplegables!$BA$2:$BB$19,2,FALSE),\"\")","v":""},null,""]
[null,null,{"$f":"IF(B477<>\"\",VLOOKUP(B477,[1]Desplegables!$BA$2:$BB$19,2,FALSE),\"\")","v":""},null,""]
[null,null,{"$f":"IF(B478<>\"\",VLOOKUP(B478,[1]Desplegables!$BA$2:$BB$19,2,FALSE),\"\")","v":""},null,""]
[null,null,{"$f":"IF(B479<>\"\",VLOOKUP(B479,[1]Desplegables!$BA$2:$BB$19,2,FALSE),\"\")","v":""},null,""]
[null,null,{"$f":"IF(B480<>\"\",VLOOKUP(B480,[1]Desplegables!$BA$2:$BB$19,2,FALSE),\"\")","v":""},null,""]
[null,null,{"$f":"IF(B481<>\"\",VLOOKUP(B481,[1]Desplegables!$BA$2:$BB$19,2,FALSE),\"\")","v":""},null,""]
[null,null,{"$f":"IF(B482<>\"\",VLOOKUP(B482,[1]Desplegables!$BA$2:$BB$19,2,FALSE),\"\")","v":""},null,""]
[null,null,{"$f":"IF(B483<>\"\",VLOOKUP(B483,[1]Desplegables!$BA$2:$BB$19,2,FALSE),\"\")","v":""},null,""]
[null,null,{"$f":"IF(B484<>\"\",VLOOKUP(B484,[1]Desplegables!$BA$2:$BB$19,2,FALSE),\"\")","v":""},null,""]
[null,null,{"$f":"IF(B485<>\"\",VLOOKUP(B485,[1]Desplegables!$BA$2:$BB$19,2,FALSE),\"\")","v":""},null,""]
[null,null,{"$f":"IF(B486<>\"\",VLOOKUP(B486,[1]Desplegables!$BA$2:$BB$19,2,FALSE),\"\")","v":""},null,""]
[null,null,{"$f":"IF(B487<>\"\",VLOOKUP(B487,[1]Desplegables!$BA$2:$BB$19,2,FALSE),\"\")","v":""},null,""]
[null,null,{"$f":"IF(B488<>\"\",VLOOKUP(B488,[1]Desplegables!$BA$2:$BB$19,2,FALSE),\"\")","v":""},null,""]
[null,null,{"$f":"IF(B489<>\"\",VLOOKUP(B489,[1]Desplegables!$BA$2:$BB$19,2,FALSE),\"\")","v":""},null,""]
[null,null,{"$f":"IF(B490<>\"\",VLOOKUP(B490,[1]Desplegables!$BA$2:$BB$19,2,FALSE),\"\")","v":""},null,""]
[null,null,{"$f":"IF(B491<>\"\",VLOOKUP(B491,[1]Desplegables!$BA$2:$BB$19,2,FALSE),\"\")","v":""},null,""]
[null,null,{"$f":"IF(B492<>\"\",VLOOKUP(B492,[1]Desplegables!$BA$2:$BB$19,2,FALSE),\"\")","v":""},null,""]
[null,null,{"$f":"IF(B493<>\"\",VLOOKUP(B493,[1]Desplegables!$BA$2:$BB$19,2,FALSE),\"\")","v":""},null,""]
[null,null,{"$f":"IF(B494<>\"\",VLOOKUP(B494,[1]Desplegables!$BA$2:$BB$19,2,FALSE),\"\")","v":""},null,""]
[null,null,{"$f":"IF(B495<>\"\",VLOOKUP(B495,[1]Desplegables!$BA$2:$BB$19,2,FALSE),\"\")","v":""},null,""]
[null,null,{"$f":"IF(B496<>\"\",VLOOKUP(B496,[1]Desplegables!$BA$2:$BB$19,2,FALSE),\"\")","v":""},null,""]
[null,null,{"$f":"IF(B497<>\"\",VLOOKUP(B497,[1]Desplegables!$BA$2:$BB$19,2,FALSE),\"\")","v":""},null,""]
[null,null,{"$f":"IF(B498<>\"\",VLOOKUP(B498,[1]Desplegables!$BA$2:$BB$19,2,FALSE),\"\")","v":""},null,""]
[null,null,{"$f":"IF(B499<>\"\",VLOOKUP(B499,[1]Desplegables!$BA$2:$BB$19,2,FALSE),\"\")","v":""},null,""]
[null,null,{"$f":"IF(B500<>\"\",VLOOKUP(B500,[1]Desplegables!$BA$2:$BB$19,2,FALSE),\"\")","v":""},null,""]
[null,null,{"$f":"IF(B501<>\"\",VLOOKUP(B501,[1]Desplegables!$BA$2:$BB$19,2,FALSE),\"\")","v":""},null,""]
[null,null,{"$f":"IF(B502<>\"\",VLOOKUP(B502,[1]Desplegables!$BA$2:$BB$19,2,FALSE),\"\")","v":""},null,""]
[null,null,{"$f":"IF(B503<>\"\",VLOOKUP(B503,[1]Desplegables!$BA$2:$BB$19,2,FALSE),\"\")","v":""},null,""]
[null,null,{"$f":"IF(B504<>\"\",VLOOKUP(B504,[1]Desplegables!$BA$2:$BB$19,2,FALSE),\"\")","v":""},null,""]
[null,null,{"$f":"IF(B505<>\"\",VLOOKUP(B505,[1]Desplegables!$BA$2:$BB$19,2,FALSE),\"\")","v":""},null,""]
[null,null,{"$f":"IF(B506<>\"\",VLOOKUP(B506,[1]Desplegables!$BA$2:$BB$19,2,FALSE),\"\")","v":""},null,""]
[null,null,{"$f":"IF(B507<>\"\",VLOOKUP(B507,[1]Desplegables!$BA$2:$BB$19,2,FALSE),\"\")","v":""},null,""]
[null,null,{"$f":"IF(B508<>\"\",VLOOKUP(B508,[1]Desplegables!$BA$2:$BB$19,2,FALSE),\"\")","v":""},null,""]
[null,null,{"$f":"IF(B509<>\"\",VLOOKUP(B509,[1]Desplegables!$BA$2:$BB$19,2,FALSE),\"\")","v":""},null,""]
[null,null,{"$f":"IF(B510<>\"\",VLOOKUP(B510,[1]Desplegables!$BA$2:$BB$19,2,FALSE),\"\")","v":""},null,""]
[null,null,{"$f":"IF(B511<>\"\",VLOOKUP(B511,[1]Desplegables!$BA$2:$BB$19,2,FALSE),\"\")","v":""},null,""]
[null,null,{"$f":"IF(B512<>\"\",VLOOKUP(B512,[1]Desplegables!$BA$2:$BB$19,2,FALSE),\"\")","v":""},null,""]
[null,null,{"$f":"IF(B513<>\"\",VLOOKUP(B513,[1]Desplegables!$BA$2:$BB$19,2,FALSE),\"\")","v":""},null,""]
[null,null,{"$f":"IF(B514<>\"\",VLOOKUP(B514,[1]Desplegables!$BA$2:$BB$19,2,FALSE),\"\")","v":""},null,""]
[null,null,{"$f":"IF(B515<>\"\",VLOOKUP(B515,[1]Desplegables!$BA$2:$BB$19,2,FALSE),\"\")","v":""},null,""]
[null,null,{"$f":"IF(B516<>\"\",VLOOKUP(B516,[1]Desplegables!$BA$2:$BB$19,2,FALSE),\"\")","v":""},null,""]
[null,null,{"$f":"IF(B517<>\"\",VLOOKUP(B517,[1]Desplegables!$BA$2:$BB$19,2,FALSE),\"\")","v":""},null,{"$f":"IF(C517<>\"\",D517/C517,\"\")","v":""}]
[null,null,{"$f":"IF(B518<>\"\",VLOOKUP(B518,[1]Desplegables!$BA$2:$BB$19,2,FALSE),\"\")","v":""},null,""]
[null,null,{"$f":"IF(B519<>\"\",VLOOKUP(B519,[1]Desplegables!$BA$2:$BB$19,2,FALSE),\"\")","v":""},null,""]
[null,null,{"$f":"IF(B520<>\"\",VLOOKUP(B520,[1]Desplegables!$BA$2:$BB$19,2,FALSE),\"\")","v":""},null,""]
[null,null,{"$f":"IF(B521<>\"\",VLOOKUP(B521,[1]Desplegables!$BA$2:$BB$19,2,FALSE),\"\")","v":""},null,""]
[null,null,{"$f":"IF(B522<>\"\",VLOOKUP(B522,[1]Desplegables!$BA$2:$BB$19,2,FALSE),\"\")","v":""},null,""]
[null,null,{"$f":"IF(B523<>\"\",VLOOKUP(B523,[1]Desplegables!$BA$2:$BB$19,2,FALSE),\"\")","v":""},null,""]
[null,null,{"$f":"IF(B524<>\"\",VLOOKUP(B524,[1]Desplegables!$BA$2:$BB$19,2,FALSE),\"\")","v":""},null,""]
[null,null,{"$f":"IF(B525<>\"\",VLOOKUP(B525,[1]Desplegables!$BA$2:$BB$19,2,FALSE),\"\")","v":""},null,""]
[null,null,{"$f":"IF(B526<>\"\",VLOOKUP(B526,[1]Desplegables!$BA$2:$BB$19,2,FALSE),\"\")","v":""},null,""]
[null,null,{"$f":"IF(B527<>\"\",VLOOKUP(B527,[1]Desplegables!$BA$2:$BB$19,2,FALSE),\"\")","v":""},null,""]
[null,null,{"$f":"IF(B528<>\"\",VLOOKUP(B528,[1]Desplegables!$BA$2:$BB$19,2,FALSE),\"\")","v":""},null,""]
[null,null,{"$f":"IF(B529<>\"\",VLOOKUP(B529,[1]Desplegables!$BA$2:$BB$19,2,FALSE),\"\")","v":""},null,""]
[null,null,{"$f":"IF(B530<>\"\",VLOOKUP(B530,[1]Desplegables!$BA$2:$BB$19,2,FALSE),\"\")","v":""},null,""]
[null,null,{"$f":"IF(B531<>\"\",VLOOKUP(B531,[1]Desplegables!$BA$2:$BB$19,2,FALSE),\"\")","v":""},null,""]
[null,null,{"$f":"IF(B532<>\"\",VLOOKUP(B532,[1]Desplegables!$BA$2:$BB$19,2,FALSE),\"\")","v":""},null,""]
[null,null,{"$f":"IF(B533<>\"\",VLOOKUP(B533,[1]Desplegables!$BA$2:$BB$19,2,FALSE),\"\")","v":""},null,""]
[null,null,{"$f":"IF(B534<>\"\",VLOOKUP(B534,[1]Desplegables!$BA$2:$BB$19,2,FALSE),\"\")","v":""},null,""]
[null,null,{"$f":"IF(B535<>\"\",VLOOKUP(B535,[1]Desplegables!$BA$2:$BB$19,2,FALSE),\"\")","v":""},null,""]
[null,null,{"$f":"IF(B536<>\"\",VLOOKUP(B536,[1]Desplegables!$BA$2:$BB$19,2,FALSE),\"\")","v":""},null,""]
[null,null,{"$f":"IF(B537<>\"\",VLOOKUP(B537,[1]Desplegables!$BA$2:$BB$19,2,FALSE),\"\")","v":""},null,""]
[null,null,{"$f":"IF(B538<>\"\",VLOOKUP(B538,[1]Desplegables!$BA$2:$BB$19,2,FALSE),\"\")","v":""},null,""]
[null,null,{"$f":"IF(B539<>\"\",VLOOKUP(B539,[1]Desplegables!$BA$2:$BB$19,2,FALSE),\"\")","v":""},null,""]
[null,null,{"$f":"IF(B540<>\"\",VLOOKUP(B540,[1]Desplegables!$BA$2:$BB$19,2,FALSE),\"\")","v":""},null,""]
[null,null,{"$f":"IF(B541<>\"\",VLOOKUP(B541,[1]Desplegables!$BA$2:$BB$19,2,FALSE),\"\")","v":""},null,""]
[null,null,{"$f":"IF(B542<>\"\",VLOOKUP(B542,[1]Desplegables!$BA$2:$BB$19,2,FALSE),\"\")","v":""},null,""]
[null,null,{"$f":"IF(B543<>\"\",VLOOKUP(B543,[1]Desplegables!$BA$2:$BB$19,2,FALSE),\"\")","v":""},null,""]
[null,null,{"$f":"IF(B544<>\"\",VLOOKUP(B544,[1]Desplegables!$BA$2:$BB$19,2,FALSE),\"\")","v":""},null,""]
[null,null,{"$f":"IF(B545<>\"\",VLOOKUP(B545,[1]Desplegables!$BA$2:$BB$19,2,FALSE),\"\")","v":""},null,""]
[null,null,{"$f":"IF(B546<>\"\",VLOOKUP(B546,[1]Desplegables!$BA$2:$BB$19,2,FALSE),\"\")","v":""},null,""]
[null,null,{"$f":"IF(B547<>\"\",VLOOKUP(B547,[1]Desplegables!$BA$2:$BB$19,2,FALSE),\"\")","v":""},null,""]
[null,null,{"$f":"IF(B548<>\"\",VLOOKUP(B548,[1]Desplegables!$BA$2:$BB$19,2,FALSE),\"\")","v":""},null,""]
[null,null,{"$f":"IF(B549<>\"\",VLOOKUP(B549,[1]Desplegables!$BA$2:$BB$19,2,FALSE),\"\")","v":""},null,""]
[null,null,{"$f":"IF(B550<>\"\",VLOOKUP(B550,[1]Desplegables!$BA$2:$BB$19,2,FALSE),\"\")","v":""},null,""]
[null,null,{"$f":"IF(B551<>\"\",VLOOKUP(B551,[1]Desplegables!$BA$2:$BB$19,2,FALSE),\"\")","v":""},null,""]
[null,null,{"$f":"IF(B552<>\"\",VLOOKUP(B552,[1]Desplegables!$BA$2:$BB$19,2,FALSE),\"\")","v":""},null,""]
[null,null,{"$f":"IF(B553<>\"\",VLOOKUP(B553,[1]Desplegables!$BA$2:$BB$19,2,FALSE),\"\")","v":""},null,""]
[null,null,{"$f":"IF(B554<>\"\",VLOOKUP(B554,[1]Desplegables!$BA$2:$BB$19,2,FALSE),\"\")","v":""},null,""]
[null,null,{"$f":"IF(B555<>\"\",VLOOKUP(B555,[1]Desplegables!$BA$2:$BB$19,2,FALSE),\"\")","v":""},null,""]
[null,null,{"$f":"IF(B556<>\"\",VLOOKUP(B556,[1]Desplegables!$BA$2:$BB$19,2,FALSE),\"\")","v":""},null,""]
[null,null,{"$f":"IF(B557<>\"\",VLOOKUP(B557,[1]Desplegables!$BA$2:$BB$19,2,FALSE),\"\")","v":""},null,""]
[null,null,{"$f":"IF(B558<>\"\",VLOOKUP(B558,[1]Desplegables!$BA$2:$BB$19,2,FALSE),\"\")","v":""},null,""]
[null,null,{"$f":"IF(B559<>\"\",VLOOKUP(B559,[1]Desplegables!$BA$2:$BB$19,2,FALSE),\"\")","v":""},null,""]
[null,null,{"$f":"IF(B560<>\"\",VLOOKUP(B560,[1]Desplegables!$BA$2:$BB$19,2,FALSE),\"\")","v":""},null,""]
[null,null,{"$f":"IF(B561<>\"\",VLOOKUP(B561,[1]Desplegables!$BA$2:$BB$19,2,FALSE),\"\")","v":""},null,""]
[null,null,{"$f":"IF(B562<>\"\",VLOOKUP(B562,[1]Desplegables!$BA$2:$BB$19,2,FALSE),\"\")","v":""},null,""]
[null,null,{"$f":"IF(B563<>\"\",VLOOKUP(B563,[1]Desplegables!$BA$2:$BB$19,2,FALSE),\"\")","v":""},null,""]
[null,null,{"$f":"IF(B564<>\"\",VLOOKUP(B564,[1]Desplegables!$BA$2:$BB$19,2,FALSE),\"\")","v":""},null,""]
[null,null,{"$f":"IF(B565<>\"\",VLOOKUP(B565,[1]Desplegables!$BA$2:$BB$19,2,FALSE),\"\")","v":""},null,""]
[null,null,{"$f":"IF(B566<>\"\",VLOOKUP(B566,[1]Desplegables!$BA$2:$BB$19,2,FALSE),\"\")","v":""},null,""]
[null,null,{"$f":"IF(B567<>\"\",VLOOKUP(B567,[1]Desplegables!$BA$2:$BB$19,2,FALSE),\"\")","v":""},null,""]
[null,null,{"$f":"IF(B568<>\"\",VLOOKUP(B568,[1]Desplegables!$BA$2:$BB$19,2,FALSE),\"\")","v":""},null,""]
[null,null,{"$f":"IF(B569<>\"\",VLOOKUP(B569,[1]Desplegables!$BA$2:$BB$19,2,FALSE),\"\")","v":""},null,""]
[null,null,{"$f":"IF(B570<>\"\",VLOOKUP(B570,[1]Desplegables!$BA$2:$BB$19,2,FALSE),\"\")","v":""},null,""]
[null,null,{"$f":"IF(B571<>\"\",VLOOKUP(B571,[1]Desplegables!$BA$2:$BB$19,2,FALSE),\"\")","v":""},null,""]
[null,null,{"$f":"IF(B572<>\"\",VLOOKUP(B572,[1]Desplegables!$BA$2:$BB$19,2,FALSE),\"\")","v":""},null,""]
[null,null,{"$f":"IF(B573<>\"\",VLOOKUP(B573,[1]Desplegables!$BA$2:$BB$19,2,FALSE),\"\")","v":""},null,""]
[null,null,{"$f":"IF(B574<>\"\",VLOOKUP(B574,[1]Desplegables!$BA$2:$BB$19,2,FALSE),\"\")","v":""},null,""]
[null,null,{"$f":"IF(B575<>\"\",VLOOKUP(B575,[1]Desplegables!$BA$2:$BB$19,2,FALSE),\"\")","v":""},null,""]
[null,null,{"$f":"IF(B576<>\"\",VLOOKUP(B576,[1]Desplegables!$BA$2:$BB$19,2,FALSE),\"\")","v":""},null,""]
[null,null,{"$f":"IF(B577<>\"\",VLOOKUP(B577,[1]Desplegables!$BA$2:$BB$19,2,FALSE),\"\")","v":""},null,""]
[null,null,{"$f":"IF(B578<>\"\",VLOOKUP(B578,[1]Desplegables!$BA$2:$BB$19,2,FALSE),\"\")","v":""},null,""]
[null,null,{"$f":"IF(B579<>\"\",VLOOKUP(B579,[1]Desplegables!$BA$2:$BB$19,2,FALSE),\"\")","v":""},null,""]
[null,null,{"$f":"IF(B580<>\"\",VLOOKUP(B580,[1]Desplegables!$BA$2:$BB$19,2,FALSE),\"\")","v":""},null,""]
[null,null,{"$f":"IF(B581<>\"\",VLOOKUP(B581,[1]Desplegables!$BA$2:$BB$19,2,FALSE),\"\")","v":""},null,{"$f":"IF(C581<>\"\",D581/C581,\"\")","v":""}]
[null,null,{"$f":"IF(B582<>\"\",VLOOKUP(B582,[1]Desplegables!$BA$2:$BB$19,2,FALSE),\"\")","v":""},null,""]
[null,null,{"$f":"IF(B583<>\"\",VLOOKUP(B583,[1]Desplegables!$BA$2:$BB$19,2,FALSE),\"\")","v":""},null,""]
[null,null,{"$f":"IF(B584<>\"\",VLOOKUP(B584,[1]Desplegables!$BA$2:$BB$19,2,FALSE),\"\")","v":""},null,""]
[null,null,{"$f":"IF(B585<>\"\",VLOOKUP(B585,[1]Desplegables!$BA$2:$BB$19,2,FALSE),\"\")","v":""},null,""]
[null,null,{"$f":"IF(B586<>\"\",VLOOKUP(B586,[1]Desplegables!$BA$2:$BB$19,2,FALSE),\"\")","v":""},null,""]
[null,null,{"$f":"IF(B587<>\"\",VLOOKUP(B587,[1]Desplegables!$BA$2:$BB$19,2,FALSE),\"\")","v":""},null,""]
[null,null,{"$f":"IF(B588<>\"\",VLOOKUP(B588,[1]Desplegables!$BA$2:$BB$19,2,FALSE),\"\")","v":""},null,""]
[null,null,{"$f":"IF(B589<>\"\",VLOOKUP(B589,[1]Desplegables!$BA$2:$BB$19,2,FALSE),\"\")","v":""},null,""]
[null,null,{"$f":"IF(B590<>\"\",VLOOKUP(B590,[1]Desplegables!$BA$2:$BB$19,2,FALSE),\"\")","v":""},null,""]
[null,null,{"$f":"IF(B591<>\"\",VLOOKUP(B591,[1]Desplegables!$BA$2:$BB$19,2,FALSE),\"\")","v":""},null,""]
[null,null,{"$f":"IF(B592<>\"\",VLOOKUP(B592,[1]Desplegables!$BA$2:$BB$19,2,FALSE),\"\")","v":""},null,""]
[null,null,{"$f":"IF(B593<>\"\",VLOOKUP(B593,[1]Desplegables!$BA$2:$BB$19,2,FALSE),\"\")","v":""},null,""]
[null,null,{"$f":"IF(B594<>\"\",VLOOKUP(B594,[1]Desplegables!$BA$2:$BB$19,2,FALSE),\"\")","v":""},null,""]
[null,null,{"$f":"IF(B595<>\"\",VLOOKUP(B595,[1]Desplegables!$BA$2:$BB$19,2,FALSE),\"\")","v":""},null,""]
[null,null,{"$f":"IF(B596<>\"\",VLOOKUP(B596,[1]Desplegables!$BA$2:$BB$19,2,FALSE),\"\")","v":""},null,""]
[null,null,{"$f":"IF(B597<>\"\",VLOOKUP(B597,[1]Desplegables!$BA$2:$BB$19,2,FALSE),\"\")","v":""},null,""]
[null,null,{"$f":"IF(B598<>\"\",VLOOKUP(B598,[1]Desplegables!$BA$2:$BB$19,2,FALSE),\"\")","v":""},null,""]
[null,null,{"$f":"IF(B599<>\"\",VLOOKUP(B599,[1]Desplegables!$BA$2:$BB$19,2,FALSE),\"\")","v":""},null,""]
[null,null,{"$f":"IF(B600<>\"\",VLOOKUP(B600,[1]Desplegables!$BA$2:$BB$19,2,FALSE),\"\")","v":""},null,""]
[null,null,{"$f":"IF(B601<>\"\",VLOOKUP(B601,[1]Desplegables!$BA$2:$BB$19,2,FALSE),\"\")","v":""},null,""]
[null,null,{"$f":"IF(B602<>\"\",VLOOKUP(B602,[1]Desplegables!$BA$2:$BB$19,2,FALSE),\"\")","v":""},null,""]
[null,null,{"$f":"IF(B603<>\"\",VLOOKUP(B603,[1]Desplegables!$BA$2:$BB$19,2,FALSE),\"\")","v":""},null,""]
[null,null,{"$f":"IF(B604<>\"\",VLOOKUP(B604,[1]Desplegables!$BA$2:$BB$19,2,FALSE),\"\")","v":""},null,""]
[null,null,{"$f":"IF(B605<>\"\",VLOOKUP(B605,[1]Desplegables!$BA$2:$BB$19,2,FALSE),\"\")","v":""},null,""]
[null,null,{"$f":"IF(B606<>\"\",VLOOKUP(B606,[1]Desplegables!$BA$2:$BB$19,2,FALSE),\"\")","v":""},null,""]
[null,null,{"$f":"IF(B607<>\"\",VLOOKUP(B607,[1]Desplegables!$BA$2:$BB$19,2,FALSE),\"\")","v":""},null,""]
[null,null,{"$f":"IF(B608<>\"\",VLOOKUP(B608,[1]Desplegables!$BA$2:$BB$19,2,FALSE),\"\")","v":""},null,""]
[null,null,{"$f":"IF(B609<>\"\",VLOOKUP(B609,[1]Desplegables!$BA$2:$BB$19,2,FALSE),\"\")","v":""},null,""]
[null,null,{"$f":"IF(B610<>\"\",VLOOKUP(B610,[1]Desplegables!$BA$2:$BB$19,2,FALSE),\"\")","v":""},null,""]
[null,null,{"$f":"IF(B611<>\"\",VLOOKUP(B611,[1]Desplegables!$BA$2:$BB$19,2,FALSE),\"\")","v":""},null,""]
[null,null,{"$f":"IF(B612<>\"\",VLOOKUP(B612,[1]Desplegables!$BA$2:$BB$19,2,FALSE),\"\")","v":""},null,""]
[null,null,{"$f":"IF(B613<>\"\",VLOOKUP(B613,[1]Desplegables!$BA$2:$BB$19,2,FALSE),\"\")","v":""},null,""]
[null,null,{"$f":"IF(B614<>\"\",VLOOKUP(B614,[1]Desplegables!$BA$2:$BB$19,2,FALSE),\"\")","v":""},null,""]
[null,null,{"$f":"IF(B615<>\"\",VLOOKUP(B615,[1]Desplegables!$BA$2:$BB$19,2,FALSE),\"\")","v":""},null,""]
[null,null,{"$f":"IF(B616<>\"\",VLOOKUP(B616,[1]Desplegables!$BA$2:$BB$19,2,FALSE),\"\")","v":""},null,""]
[null,null,{"$f":"IF(B617<>\"\",VLOOKUP(B617,[1]Desplegables!$BA$2:$BB$19,2,FALSE),\"\")","v":""},null,""]
[null,null,{"$f":"IF(B618<>\"\",VLOOKUP(B618,[1]Desplegables!$BA$2:$BB$19,2,FALSE),\"\")","v":""},null,""]
[null,null,{"$f":"IF(B619<>\"\",VLOOKUP(B619,[1]Desplegables!$BA$2:$BB$19,2,FALSE),\"\")","v":""},null,""]
[null,null,{"$f":"IF(B620<>\"\",VLOOKUP(B620,[1]Desplegables!$BA$2:$BB$19,2,FALSE),\"\")","v":""},null,""]
[null,null,{"$f":"IF(B621<>\"\",VLOOKUP(B621,[1]Desplegables!$BA$2:$BB$19,2,FALSE),\"\")","v":""},null,""]
[null,null,{"$f":"IF(B622<>\"\",VLOOKUP(B622,[1]Desplegables!$BA$2:$BB$19,2,FALSE),\"\")","v":""},null,""]
[null,null,{"$f":"IF(B623<>\"\",VLOOKUP(B623,[1]Desplegables!$BA$2:$BB$19,2,FALSE),\"\")","v":""},null,""]
[null,null,{"$f":"IF(B624<>\"\",VLOOKUP(B624,[1]Desplegables!$BA$2:$BB$19,2,FALSE),\"\")","v":""},null,""]
[null,null,{"$f":"IF(B625<>\"\",VLOOKUP(B625,[1]Desplegables!$BA$2:$BB$19,2,FALSE),\"\")","v":""},null,""]
[null,null,{"$f":"IF(B626<>\"\",VLOOKUP(B626,[1]Desplegables!$BA$2:$BB$19,2,FALSE),\"\")","v":""},null,""]
[null,null,{"$f":"IF(B627<>\"\",VLOOKUP(B627,[1]Desplegables!$BA$2:$BB$19,2,FALSE),\"\")","v":""},null,""]
[null,null,{"$f":"IF(B628<>\"\",VLOOKUP(B628,[1]Desplegables!$BA$2:$BB$19,2,FALSE),\"\")","v":""},null,""]
[null,null,{"$f":"IF(B629<>\"\",VLOOKUP(B629,[1]Desplegables!$BA$2:$BB$19,2,FALSE),\"\")","v":""},null,""]
[null,null,{"$f":"IF(B630<>\"\",VLOOKUP(B630,[1]Desplegables!$BA$2:$BB$19,2,FALSE),\"\")","v":""},null,""]
[null,null,{"$f":"IF(B631<>\"\",VLOOKUP(B631,[1]Desplegables!$BA$2:$BB$19,2,FALSE),\"\")","v":""},null,""]
[null,null,{"$f":"IF(B632<>\"\",VLOOKUP(B632,[1]Desplegables!$BA$2:$BB$19,2,FALSE),\"\")","v":""},null,""]
[null,null,{"$f":"IF(B633<>\"\",VLOOKUP(B633,[1]Desplegables!$BA$2:$BB$19,2,FALSE),\"\")","v":""},null,""]
[null,null,{"$f":"IF(B634<>\"\",VLOOKUP(B634,[1]Desplegables!$BA$2:$BB$19,2,FALSE),\"\")","v":""},null,""]
[null,null,{"$f":"IF(B635<>\"\",VLOOKUP(B635,[1]Desplegables!$BA$2:$BB$19,2,FALSE),\"\")","v":""},null,""]
[null,null,{"$f":"IF(B636<>\"\",VLOOKUP(B636,[1]Desplegables!$BA$2:$BB$19,2,FALSE),\"\")","v":""},null,""]
[null,null,{"$f":"IF(B637<>\"\",VLOOKUP(B637,[1]Desplegables!$BA$2:$BB$19,2,FALSE),\"\")","v":""},null,""]
[null,null,{"$f":"IF(B638<>\"\",VLOOKUP(B638,[1]Desplegables!$BA$2:$BB$19,2,FALSE),\"\")","v":""},null,""]
[null,null,{"$f":"IF(B639<>\"\",VLOOKUP(B639,[1]Desplegables!$BA$2:$BB$19,2,FALSE),\"\")","v":""},null,""]
[null,null,{"$f":"IF(B640<>\"\",VLOOKUP(B640,[1]Desplegables!$BA$2:$BB$19,2,FALSE),\"\")","v":""},null,""]
[null,null,{"$f":"IF(B641<>\"\",VLOOKUP(B641,[1]Desplegables!$BA$2:$BB$19,2,FALSE),\"\")","v":""},null,""]
[null,null,{"$f":"IF(B642<>\"\",VLOOKUP(B642,[1]Desplegables!$BA$2:$BB$19,2,FALSE),\"\")","v":""},null,""]
[null,null,{"$f":"IF(B643<>\"\",VLOOKUP(B643,[1]Desplegables!$BA$2:$BB$19,2,FALSE),\"\")","v":""},null,""]
[null,null,{"$f":"IF(B644<>\"\",VLOOKUP(B644,[1]Desplegables!$BA$2:$BB$19,2,FALSE),\"\")","v":""},null,""]
[null,null,{"$f":"IF(B645<>\"\",VLOOKUP(B645,[1]Desplegables!$BA$2:$BB$19,2,FALSE),\"\")","v":""},null,{"$f":"IF(C645<>\"\",D645/C645,\"\")","v":""}]
[null,null,{"$f":"IF(B646<>\"\",VLOOKUP(B646,[1]Desplegables!$BA$2:$BB$19,2,FALSE),\"\")","v":""},null,""]
[null,null,{"$f":"IF(B647<>\"\",VLOOKUP(B647,[1]Desplegables!$BA$2:$BB$19,2,FALSE),\"\")","v":""},null,""]
[null,null,{"$f":"IF(B648<>\"\",VLOOKUP(B648,[1]Desplegables!$BA$2:$BB$19,2,FALSE),\"\")","v":""},null,""]
[null,null,{"$f":"IF(B649<>\"\",VLOOKUP(B649,[1]Desplegables!$BA$2:$BB$19,2,FALSE),\"\")","v":""},null,""]
[null,null,{"$f":"IF(B650<>\"\",VLOOKUP(B650,[1]Desplegables!$BA$2:$BB$19,2,FALSE),\"\")","v":""},null,""]
[null,null,{"$f":"IF(B651<>\"\",VLOOKUP(B651,[1]Desplegables!$BA$2:$BB$19,2,FALSE),\"\")","v":""},null,""]
[null,null,{"$f":"IF(B652<>\"\",VLOOKUP(B652,[1]Desplegables!$BA$2:$BB$19,2,FALSE),\"\")","v":""},null,""]
[null,null,{"$f":"IF(B653<>\"\",VLOOKUP(B653,[1]Desplegables!$BA$2:$BB$19,2,FALSE),\"\")","v":""},null,""]
[null,null,{"$f":"IF(B654<>\"\",VLOOKUP(B654,[1]Desplegables!$BA$2:$BB$19,2,FALSE),\"\")","v":""},null,""]
[null,null,{"$f":"IF(B655<>\"\",VLOOKUP(B655,[1]Desplegables!$BA$2:$BB$19,2,FALSE),\"\")","v":""},null,""]
[null,null,{"$f":"IF(B656<>\"\",VLOOKUP(B656,[1]Desplegables!$BA$2:$BB$19,2,FALSE),\"\")","v":""},null,""]
[null,null,{"$f":"IF(B657<>\"\",VLOOKUP(B657,[1]Desplegables!$BA$2:$BB$19,2,FALSE),\"\")","v":""},null,""]
[null,null,{"$f":"IF(B658<>\"\",VLOOKUP(B658,[1]Desplegables!$BA$2:$BB$19,2,FALSE),\"\")","v":""},null,""]
[null,null,{"$f":"IF(B659<>\"\",VLOOKUP(B659,[1]Desplegables!$BA$2:$BB$19,2,FALSE),\"\")","v":""},null,""]
[null,null,{"$f":"IF(B660<>\"\",VLOOKUP(B660,[1]Desplegables!$BA$2:$BB$19,2,FALSE),\"\")","v":""},null,""]
[null,null,{"$f":"IF(B661<>\"\",VLOOKUP(B661,[1]Desplegables!$BA$2:$BB$19,2,FALSE),\"\")","v":""},null,""]
[null,null,{"$f":"IF(B662<>\"\",VLOOKUP(B662,[1]Desplegables!$BA$2:$BB$19,2,FALSE),\"\")","v":""},null,""]
[null,null,{"$f":"IF(B663<>\"\",VLOOKUP(B663,[1]Desplegables!$BA$2:$BB$19,2,FALSE),\"\")","v":""},null,""]
[null,null,{"$f":"IF(B664<>\"\",VLOOKUP(B664,[1]Desplegables!$BA$2:$BB$19,2,FALSE),\"\")","v":""},null,""]
[null,null,{"$f":"IF(B665<>\"\",VLOOKUP(B665,[1]Desplegables!$BA$2:$BB$19,2,FALSE),\"\")","v":""},null,""]
[null,null,{"$f":"IF(B666<>\"\",VLOOKUP(B666,[1]Desplegables!$BA$2:$BB$19,2,FALSE),\"\")","v":""},null,""]
[null,null,{"$f":"IF(B667<>\"\",VLOOKUP(B667,[1]Desplegables!$BA$2:$BB$19,2,FALSE),\"\")","v":""},null,""]
[null,null,{"$f":"IF(B668<>\"\",VLOOKUP(B668,[1]Desplegables!$BA$2:$BB$19,2,FALSE),\"\")","v":""},null,""]
[null,null,{"$f":"IF(B669<>\"\",VLOOKUP(B669,[1]Desplegables!$BA$2:$BB$19,2,FALSE),\"\")","v":""},null,""]
[null,null,{"$f":"IF(B670<>\"\",VLOOKUP(B670,[1]Desplegables!$BA$2:$BB$19,2,FALSE),\"\")","v":""},null,""]
[null,null,{"$f":"IF(B671<>\"\",VLOOKUP(B671,[1]Desplegables!$BA$2:$BB$19,2,FALSE),\"\")","v":""},null,""]
[null,null,{"$f":"IF(B672<>\"\",VLOOKUP(B672,[1]Desplegables!$BA$2:$BB$19,2,FALSE),\"\")","v":""},null,""]
[null,null,{"$f":"IF(B673<>\"\",VLOOKUP(B673,[1]Desplegables!$BA$2:$BB$19,2,FALSE),\"\")","v":""},null,""]
[null,null,{"$f":"IF(B674<>\"\",VLOOKUP(B674,[1]Desplegables!$BA$2:$BB$19,2,FALSE),\"\")","v":""},null,""]
[null,null,{"$f":"IF(B675<>\"\",VLOOKUP(B675,[1]Desplegables!$BA$2:$BB$19,2,FALSE),\"\")","v":""},null,""]
[null,null,{"$f":"IF(B676<>\"\",VLOOKUP(B676,[1]Desplegables!$BA$2:$BB$19,2,FALSE),\"\")","v":""},null,""]
[null,null,{"$f":"IF(B677<>\"\",VLOOKUP(B677,[1]Desplegables!$BA$2:$BB$19,2,FALSE),\"\")","v":""},null,""]
[null,null,{"$f":"IF(B678<>\"\",VLOOKUP(B678,[1]Desplegables!$BA$2:$BB$19,2,FALSE),\"\")","v":""},null,""]
[null,null,{"$f":"IF(B679<>\"\",VLOOKUP(B679,[1]Desplegables!$BA$2:$BB$19,2,FALSE),\"\")","v":""},null,""]
[null,null,{"$f":"IF(B680<>\"\",VLOOKUP(B680,[1]Desplegables!$BA$2:$BB$19,2,FALSE),\"\")","v":""},null,""]
[null,null,{"$f":"IF(B681<>\"\",VLOOKUP(B681,[1]Desplegables!$BA$2:$BB$19,2,FALSE),\"\")","v":""},null,""]
[null,null,{"$f":"IF(B682<>\"\",VLOOKUP(B682,[1]Desplegables!$BA$2:$BB$19,2,FALSE),\"\")","v":""},null,""]
[null,null,{"$f":"IF(B683<>\"\",VLOOKUP(B683,[1]Desplegables!$BA$2:$BB$19,2,FALSE),\"\")","v":""},null,""]
[null,null,{"$f":"IF(B684<>\"\",VLOOKUP(B684,[1]Desplegables!$BA$2:$BB$19,2,FALSE),\"\")","v":""},null,""]
[null,null,{"$f":"IF(B685<>\"\",VLOOKUP(B685,[1]Desplegables!$BA$2:$BB$19,2,FALSE),\"\")","v":""},null,""]
[null,null,{"$f":"IF(B686<>\"\",VLOOKUP(B686,[1]Desplegables!$BA$2:$BB$19,2,FALSE),\"\")","v":""},null,""]
[null,null,{"$f":"IF(B687<>\"\",VLOOKUP(B687,[1]Desplegables!$BA$2:$BB$19,2,FALSE),\"\")","v":""},null,""]
[null,null,{"$f":"IF(B688<>\"\",VLOOKUP(B688,[1]Desplegables!$BA$2:$BB$19,2,FALSE),\"\")","v":""},null,""]
[null,null,{"$f":"IF(B689<>\"\",VLOOKUP(B689,[1]Desplegables!$BA$2:$BB$19,2,FALSE),\"\")","v":""},null,""]
[null,null,{"$f":"IF(B690<>\"\",VLOOKUP(B690,[1]Desplegables!$BA$2:$BB$19,2,FALSE),\"\")","v":""},null,""]
[null,null,{"$f":"IF(B691<>\"\",VLOOKUP(B691,[1]Desplegables!$BA$2:$BB$19,2,FALSE),\"\")","v":""},null,""]
[null,null,{"$f":"IF(B692<>\"\",VLOOKUP(B692,[1]Desplegables!$BA$2:$BB$19,2,FALSE),\"\")","v":""},null,""]
[null,null,{"$f":"IF(B693<>\"\",VLOOKUP(B693,[1]Desplegables!$BA$2:$BB$19,2,FALSE),\"\")","v":""},null,""]
[null,null,{"$f":"IF(B694<>\"\",VLOOKUP(B694,[1]Desplegables!$BA$2:$BB$19,2,FALSE),\"\")","v":""},null,""]
[null,null,{"$f":"IF(B695<>\"\",VLOOKUP(B695,[1]Desplegables!$BA$2:$BB$19,2,FALSE),\"\")","v":""},null,""]
[null,null,{"$f":"IF(B696<>\"\",VLOOKUP(B696,[1]Desplegables!$BA$2:$BB$19,2,FALSE),\"\")","v":""},null,""]
[null,null,{"$f":"IF(B697<>\"\",VLOOKUP(B697,[1]Desplegables!$BA$2:$BB$19,2,FALSE),\"\")","v":""},null,""]
[null,null,{"$f":"IF(B698<>\"\",VLOOKUP(B698,[1]Desplegables!$BA$2:$BB$19,2,FALSE),\"\")","v":""},null,""]
[null,null,{"$f":"IF(B699<>\"\",VLOOKUP(B699,[1]Desplegables!$BA$2:$BB$19,2,FALSE),\"\")","v":""},null,""]
[null,null,{"$f":"IF(B700<>\"\",VLOOKUP(B700,[1]Desplegables!$BA$2:$BB$19,2,FALSE),\"\")","v":""},null,""]
[null,null,{"$f":"IF(B701<>\"\",VLOOKUP(B701,[1]Desplegables!$BA$2:$BB$19,2,FALSE),\"\")","v":""},null,""]
[null,null,{"$f":"IF(B702<>\"\",VLOOKUP(B702,[1]Desplegables!$BA$2:$BB$19,2,FALSE),\"\")","v":""},null,""]
[null,null,{"$f":"IF(B703<>\"\",VLOOKUP(B703,[1]Desplegables!$BA$2:$BB$19,2,FALSE),\"\")","v":""},null,""]
[null,null,{"$f":"IF(B704<>\"\",VLOOKUP(B704,[1]Desplegables!$BA$2:$BB$19,2,FALSE),\"\")","v":""},null,""]
[null,null,{"$f":"IF(B705<>\"\",VLOOKUP(B705,[1]Desplegables!$BA$2:$BB$19,2,FALSE),\"\")","v":""},null,""]
[null,null,{"$f":"IF(B706<>\"\",VLOOKUP(B706,[1]Desplegables!$BA$2:$BB$19,2,FALSE),\"\")","v":""},null,""]
[null,null,{"$f":"IF(B707<>\"\",VLOOKUP(B707,[1]Desplegables!$BA$2:$BB$19,2,FALSE),\"\")","v":""},null,""]
[null,null,{"$f":"IF(B708<>\"\",VLOOKUP(B708,[1]Desplegables!$BA$2:$BB$19,2,FALSE),\"\")","v":""},null,""]
[null,null,{"$f":"IF(B709<>\"\",VLOOKUP(B709,[1]Desplegables!$BA$2:$BB$19,2,FALSE),\"\")","v":""},null,{"$f":"IF(C709<>\"\",D709/C709,\"\")","v":""}]
[null,null,{"$f":"IF(B710<>\"\",VLOOKUP(B710,[1]Desplegables!$BA$2:$BB$19,2,FALSE),\"\")","v":""},null,""]
[null,null,{"$f":"IF(B711<>\"\",VLOOKUP(B711,[1]Desplegables!$BA$2:$BB$19,2,FALSE),\"\")","v":""},null,""]
[null,null,{"$f":"IF(B712<>\"\",VLOOKUP(B712,[1]Desplegables!$BA$2:$BB$19,2,FALSE),\"\")","v":""},null,""]
[null,null,{"$f":"IF(B713<>\"\",VLOOKUP(B713,[1]Desplegables!$BA$2:$BB$19,2,FALSE),\"\")","v":""},null,""]
[null,null,{"$f":"IF(B714<>\"\",VLOOKUP(B714,[1]Desplegables!$BA$2:$BB$19,2,FALSE),\"\")","v":""},null,""]
[null,null,{"$f":"IF(B715<>\"\",VLOOKUP(B715,[1]Desplegables!$BA$2:$BB$19,2,FALSE),\"\")","v":""},null,""]
[null,null,{"$f":"IF(B716<>\"\",VLOOKUP(B716,[1]Desplegables!$BA$2:$BB$19,2,FALSE),\"\")","v":""},null,""]
[null,null,{"$f":"IF(B717<>\"\",VLOOKUP(B717,[1]Desplegables!$BA$2:$BB$19,2,FALSE),\"\")","v":""},null,""]
[null,null,{"$f":"IF(B718<>\"\",VLOOKUP(B718,[1]Desplegables!$BA$2:$BB$19,2,FALSE),\"\")","v":""},null,""]
[null,null,{"$f":"IF(B719<>\"\",VLOOKUP(B719,[1]Desplegables!$BA$2:$BB$19,2,FALSE),\"\")","v":""},null,""]
[null,null,{"$f":"IF(B720<>\"\",VLOOKUP(B720,[1]Desplegables!$BA$2:$BB$19,2,FALSE),\"\")","v":""},null,""]
[null,null,{"$f":"IF(B721<>\"\",VLOOKUP(B721,[1]Desplegables!$BA$2:$BB$19,2,FALSE),\"\")","v":""},null,""]
[null,null,{"$f":"IF(B722<>\"\",VLOOKUP(B722,[1]Desplegables!$BA$2:$BB$19,2,FALSE),\"\")","v":""},null,""]
[null,null,{"$f":"IF(B723<>\"\",VLOOKUP(B723,[1]Desplegables!$BA$2:$BB$19,2,FALSE),\"\")","v":""},null,""]
[null,null,{"$f":"IF(B724<>\"\",VLOOKUP(B724,[1]Desplegables!$BA$2:$BB$19,2,FALSE),\"\")","v":""},null,""]
[null,null,{"$f":"IF(B725<>\"\",VLOOKUP(B725,[1]Desplegables!$BA$2:$BB$19,2,FALSE),\"\")","v":""},null,""]
[null,null,{"$f":"IF(B726<>\"\",VLOOKUP(B726,[1]Desplegables!$BA$2:$BB$19,2,FALSE),\"\")","v":""},null,""]
[null,null,{"$f":"IF(B727<>\"\",VLOOKUP(B727,[1]Desplegables!$BA$2:$BB$19,2,FALSE),\"\")","v":""},null,""]
[null,null,{"$f":"IF(B728<>\"\",VLOOKUP(B728,[1]Desplegables!$BA$2:$BB$19,2,FALSE),\"\")","v":""},null,""]
[null,null,{"$f":"IF(B729<>\"\",VLOOKUP(B729,[1]Desplegables!$BA$2:$BB$19,2,FALSE),\"\")","v":""},null,""]
[null,null,{"$f":"IF(B730<>\"\",VLOOKUP(B730,[1]Desplegables!$BA$2:$BB$19,2,FALSE),\"\")","v":""},null,""]
[null,null,{"$f":"IF(B731<>\"\",VLOOKUP(B731,[1]Desplegables!$BA$2:$BB$19,2,FALSE),\"\")","v":""},null,""]
[null,null,{"$f":"IF(B732<>\"\",VLOOKUP(B732,[1]Desplegables!$BA$2:$BB$19,2,FALSE),\"\")","v":""},null,""]
[null,null,{"$f":"IF(B733<>\"\",VLOOKUP(B733,[1]Desplegables!$BA$2:$BB$19,2,FALSE),\"\")","v":""},null,""]
[null,null,{"$f":"IF(B734<>\"\",VLOOKUP(B734,[1]Desplegables!$BA$2:$BB$19,2,FALSE),\"\")","v":""},null,""]
[null,null,{"$f":"IF(B735<>\"\",VLOOKUP(B735,[1]Desplegables!$BA$2:$BB$19,2,FALSE),\"\")","v":""},null,""]
[null,null,{"$f":"IF(B736<>\"\",VLOOKUP(B736,[1]Desplegables!$BA$2:$BB$19,2,FALSE),\"\")","v":""},null,""]
[null,null,{"$f":"IF(B737<>\"\",VLOOKUP(B737,[1]Desplegables!$BA$2:$BB$19,2,FALSE),\"\")","v":""},null,""]
[null,null,{"$f":"IF(B738<>\"\",VLOOKUP(B738,[1]Desplegables!$BA$2:$BB$19,2,FALSE),\"\")","v":""},null,""]
[null,null,{"$f":"IF(B739<>\"\",VLOOKUP(B739,[1]Desplegables!$BA$2:$BB$19,2,FALSE),\"\")","v":""},null,""]
[null,null,{"$f":"IF(B740<>\"\",VLOOKUP(B740,[1]Desplegables!$BA$2:$BB$19,2,FALSE),\"\")","v":""},null,""]
[null,null,{"$f":"IF(B741<>\"\",VLOOKUP(B741,[1]Desplegables!$BA$2:$BB$19,2,FALSE),\"\")","v":""},null,""]
[null,null,{"$f":"IF(B742<>\"\",VLOOKUP(B742,[1]Desplegables!$BA$2:$BB$19,2,FALSE),\"\")","v":""},null,""]
[null,null,{"$f":"IF(B743<>\"\",VLOOKUP(B743,[1]Desplegables!$BA$2:$BB$19,2,FALSE),\"\")","v":""},null,""]
[null,null,{"$f":"IF(B744<>\"\",VLOOKUP(B744,[1]Desplegables!$BA$2:$BB$19,2,FALSE),\"\")","v":""},null,""]
[null,null,{"$f":"IF(B745<>\"\",VLOOKUP(B745,[1]Desplegables!$BA$2:$BB$19,2,FALSE),\"\")","v":""},null,""]
[null,null,{"$f":"IF(B746<>\"\",VLOOKUP(B746,[1]Desplegables!$BA$2:$BB$19,2,FALSE),\"\")","v":""},null,""]
[null,null,{"$f":"IF(B747<>\"\",VLOOKUP(B747,[1]Desplegables!$BA$2:$BB$19,2,FALSE),\"\")","v":""},null,""]
[null,null,{"$f":"IF(B748<>\"\",VLOOKUP(B748,[1]Desplegables!$BA$2:$BB$19,2,FALSE),\"\")","v":""},null,""]
[null,null,{"$f":"IF(B749<>\"\",VLOOKUP(B749,[1]Desplegables!$BA$2:$BB$19,2,FALSE),\"\")","v":""},null,""]
[null,null,{"$f":"IF(B750<>\"\",VLOOKUP(B750,[1]Desplegables!$BA$2:$BB$19,2,FALSE),\"\")","v":""},null,""]
[null,null,{"$f":"IF(B751<>\"\",VLOOKUP(B751,[1]Desplegables!$BA$2:$BB$19,2,FALSE),\"\")","v":""},null,""]
[null,null,{"$f":"IF(B752<>\"\",VLOOKUP(B752,[1]Desplegables!$BA$2:$BB$19,2,FALSE),\"\")","v":""},null,""]
[null,null,{"$f":"IF(B753<>\"\",VLOOKUP(B753,[1]Desplegables!$BA$2:$BB$19,2,FALSE),\"\")","v":""},null,""]
[null,null,{"$f":"IF(B754<>\"\",VLOOKUP(B754,[1]Desplegables!$BA$2:$BB$19,2,FALSE),\"\")","v":""},null,""]
[null,null,{"$f":"IF(B755<>\"\",VLOOKUP(B755,[1]Desplegables!$BA$2:$BB$19,2,FALSE),\"\")","v":""},null,""]
[null,null,{"$f":"IF(B756<>\"\",VLOOKUP(B756,[1]Desplegables!$BA$2:$BB$19,2,FALSE),\"\")","v":""},null,""]
[null,null,{"$f":"IF(B757<>\"\",VLOOKUP(B757,[1]Desplegables!$BA$2:$BB$19,2,FALSE),\"\")","v":""},null,""]
[null,null,{"$f":"IF(B758<>\"\",VLOOKUP(B758,[1]Desplegables!$BA$2:$BB$19,2,FALSE),\"\")","v":""},null,""]
[null,null,{"$f":"IF(B759<>\"\",VLOOKUP(B759,[1]Desplegables!$BA$2:$BB$19,2,FALSE),\"\")","v":""},null,""]
[null,null,{"$f":"IF(B760<>\"\",VLOOKUP(B760,[1]Desplegables!$BA$2:$BB$19,2,FALSE),\"\")","v":""},null,""]
[null,null,{"$f":"IF(B761<>\"\",VLOOKUP(B761,[1]Desplegables!$BA$2:$BB$19,2,FALSE),\"\")","v":""},null,""]
[null,null,{"$f":"IF(B762<>\"\",VLOOKUP(B762,[1]Desplegables!$BA$2:$BB$19,2,FALSE),\"\")","v":""},null,""]
[null,null,{"$f":"IF(B763<>\"\",VLOOKUP(B763,[1]Desplegables!$BA$2:$BB$19,2,FALSE),\"\")","v":""},null,""]
[null,null,{"$f":"IF(B764<>\"\",VLOOKUP(B764,[1]Desplegables!$BA$2:$BB$19,2,FALSE),\"\")","v":""},null,""]
[null,null,{"$f":"IF(B765<>\"\",VLOOKUP(B765,[1]Desplegables!$BA$2:$BB$19,2,FALSE),\"\")","v":""},null,""]
[null,null,{"$f":"IF(B766<>\"\",VLOOKUP(B766,[1]Desplegables!$BA$2:$BB$19,2,FALSE),\"\")","v":""},null,""]
[null,null,{"$f":"IF(B767<>\"\",VLOOKUP(B767,[1]Desplegables!$BA$2:$BB$19,2,FALSE),\"\")","v":""},null,""]
[null,null,{"$f":"IF(B768<>\"\",VLOOKUP(B768,[1]Desplegables!$BA$2:$BB$19,2,FALSE),\"\")","v":""},null,""]
[null,null,{"$f":"IF(B769<>\"\",VLOOKUP(B769,[1]Desplegables!$BA$2:$BB$19,2,FALSE),\"\")","v":""},null,""]
[null,null,{"$f":"IF(B770<>\"\",VLOOKUP(B770,[1]Desplegables!$BA$2:$BB$19,2,FALSE),\"\")","v":""},null,""]
[null,null,{"$f":"IF(B771<>\"\",VLOOKUP(B771,[1]Desplegables!$BA$2:$BB$19,2,FALSE),\"\")","v":""},null,""]
[null,null,{"$f":"IF(B772<>\"\",VLOOKUP(B772,[1]Desplegables!$BA$2:$BB$19,2,FALSE),\"\")","v":""},null,""]
[null,null,{"$f":"IF(B773<>\"\",VLOOKUP(B773,[1]Desplegables!$BA$2:$BB$19,2,FALSE),\"\")","v":""},null,{"$f":"IF(C773<>\"\",D773/C773,\"\")","v":""}]
[null,null,{"$f":"IF(B774<>\"\",VLOOKUP(B774,[1]Desplegables!$BA$2:$BB$19,2,FALSE),\"\")","v":""},null,""]
[null,null,{"$f":"IF(B775<>\"\",VLOOKUP(B775,[1]Desplegables!$BA$2:$BB$19,2,FALSE),\"\")","v":""},null,""]
[null,null,{"$f":"IF(B776<>\"\",VLOOKUP(B776,[1]Desplegables!$BA$2:$BB$19,2,FALSE),\"\")","v":""},null,""]
[null,null,{"$f":"IF(B777<>\"\",VLOOKUP(B777,[1]Desplegables!$BA$2:$BB$19,2,FALSE),\"\")","v":""},null,""]
[null,null,{"$f":"IF(B778<>\"\",VLOOKUP(B778,[1]Desplegables!$BA$2:$BB$19,2,FALSE),\"\")","v":""},null,""]
[null,null,{"$f":"IF(B779<>\"\",VLOOKUP(B779,[1]Desplegables!$BA$2:$BB$19,2,FALSE),\"\")","v":""},null,""]
[null,null,{"$f":"IF(B780<>\"\",VLOOKUP(B780,[1]Desplegables!$BA$2:$BB$19,2,FALSE),\"\")","v":""},null,""]
[null,null,{"$f":"IF(B781<>\"\",VLOOKUP(B781,[1]Desplegables!$BA$2:$BB$19,2,FALSE),\"\")","v":""},null,""]
[null,null,{"$f":"IF(B782<>\"\",VLOOKUP(B782,[1]Desplegables!$BA$2:$BB$19,2,FALSE),\"\")","v":""},null,""]
[null,null,{"$f":"IF(B783<>\"\",VLOOKUP(B783,[1]Desplegables!$BA$2:$BB$19,2,FALSE),\"\")","v":""},null,""]
[null,null,{"$f":"IF(B784<>\"\",VLOOKUP(B784,[1]Desplegables!$BA$2:$BB$19,2,FALSE),\"\")","v":""},null,""]
[null,null,{"$f":"IF(B785<>\"\",VLOOKUP(B785,[1]Desplegables!$BA$2:$BB$19,2,FALSE),\"\")","v":""},null,""]
[null,null,{"$f":"IF(B786<>\"\",VLOOKUP(B786,[1]Desplegables!$BA$2:$BB$19,2,FALSE),\"\")","v":""},null,""]
[null,null,{"$f":"IF(B787<>\"\",VLOOKUP(B787,[1]Desplegables!$BA$2:$BB$19,2,FALSE),\"\")","v":""},null,""]
[null,null,{"$f":"IF(B788<>\"\",VLOOKUP(B788,[1]Desplegables!$BA$2:$BB$19,2,FALSE),\"\")","v":""},null,""]
[null,null,{"$f":"IF(B789<>\"\",VLOOKUP(B789,[1]Desplegables!$BA$2:$BB$19,2,FALSE),\"\")","v":""},null,""]
[null,null,{"$f":"IF(B790<>\"\",VLOOKUP(B790,[1]Desplegables!$BA$2:$BB$19,2,FALSE),\"\")","v":""},null,""]
[null,null,{"$f":"IF(B791<>\"\",VLOOKUP(B791,[1]Desplegables!$BA$2:$BB$19,2,FALSE),\"\")","v":""},null,""]
[null,null,{"$f":"IF(B792<>\"\",VLOOKUP(B792,[1]Desplegables!$BA$2:$BB$19,2,FALSE),\"\")","v":""},null,""]
[null,null,{"$f":"IF(B793<>\"\",VLOOKUP(B793,[1]Desplegables!$BA$2:$BB$19,2,FALSE),\"\")","v":""},null,""]
[null,null,{"$f":"IF(B794<>\"\",VLOOKUP(B794,[1]Desplegables!$BA$2:$BB$19,2,FALSE),\"\")","v":""},null,""]
[null,null,{"$f":"IF(B795<>\"\",VLOOKUP(B795,[1]Desplegables!$BA$2:$BB$19,2,FALSE),\"\")","v":""},null,""]
[null,null,{"$f":"IF(B796<>\"\",VLOOKUP(B796,[1]Desplegables!$BA$2:$BB$19,2,FALSE),\"\")","v":""},null,""]
[null,null,{"$f":"IF(B797<>\"\",VLOOKUP(B797,[1]Desplegables!$BA$2:$BB$19,2,FALSE),\"\")","v":""},null,""]
[null,null,{"$f":"IF(B798<>\"\",VLOOKUP(B798,[1]Desplegables!$BA$2:$BB$19,2,FALSE),\"\")","v":""},null,""]
[null,null,{"$f":"IF(B799<>\"\",VLOOKUP(B799,[1]Desplegables!$BA$2:$BB$19,2,FALSE),\"\")","v":""},null,""]
[null,null,{"$f":"IF(B800<>\"\",VLOOKUP(B800,[1]Desplegables!$BA$2:$BB$19,2,FALSE),\"\")","v":""},null,""]
[null,null,{"$f":"IF(B801<>\"\",VLOOKUP(B801,[1]Desplegables!$BA$2:$BB$19,2,FALSE),\"\")","v":""},null,""]
[null,null,{"$f":"IF(B802<>\"\",VLOOKUP(B802,[1]Desplegables!$BA$2:$BB$19,2,FALSE),\"\")","v":""},null,""]
[null,null,{"$f":"IF(B803<>\"\",VLOOKUP(B803,[1]Desplegables!$BA$2:$BB$19,2,FALSE),\"\")","v":""},null,""]
[null,null,{"$f":"IF(B804<>\"\",VLOOKUP(B804,[1]Desplegables!$BA$2:$BB$19,2,FALSE),\"\")","v":""},null,""]
[null,null,{"$f":"IF(B805<>\"\",VLOOKUP(B805,[1]Desplegables!$BA$2:$BB$19,2,FALSE),\"\")","v":""},null,""]
[null,null,{"$f":"IF(B806<>\"\",VLOOKUP(B806,[1]Desplegables!$BA$2:$BB$19,2,FALSE),\"\")","v":""},null,""]
[null,null,{"$f":"IF(B807<>\"\",VLOOKUP(B807,[1]Desplegables!$BA$2:$BB$19,2,FALSE),\"\")","v":""},null,""]
[null,null,{"$f":"IF(B808<>\"\",VLOOKUP(B808,[1]Desplegables!$BA$2:$BB$19,2,FALSE),\"\")","v":""},null,""]
[null,null,{"$f":"IF(B809<>\"\",VLOOKUP(B809,[1]Desplegables!$BA$2:$BB$19,2,FALSE),\"\")","v":""},null,""]
[null,null,{"$f":"IF(B810<>\"\",VLOOKUP(B810,[1]Desplegables!$BA$2:$BB$19,2,FALSE),\"\")","v":""},null,""]
[null,null,{"$f":"IF(B811<>\"\",VLOOKUP(B811,[1]Desplegables!$BA$2:$BB$19,2,FALSE),\"\")","v":""},null,""]
[null,null,{"$f":"IF(B812<>\"\",VLOOKUP(B812,[1]Desplegables!$BA$2:$BB$19,2,FALSE),\"\")","v":""},null,""]
[null,null,{"$f":"IF(B813<>\"\",VLOOKUP(B813,[1]Desplegables!$BA$2:$BB$19,2,FALSE),\"\")","v":""},null,""]
[null,null,{"$f":"IF(B814<>\"\",VLOOKUP(B814,[1]Desplegables!$BA$2:$BB$19,2,FALSE),\"\")","v":""},null,""]
[null,null,{"$f":"IF(B815<>\"\",VLOOKUP(B815,[1]Desplegables!$BA$2:$BB$19,2,FALSE),\"\")","v":""},null,""]
[null,null,{"$f":"IF(B816<>\"\",VLOOKUP(B816,[1]Desplegables!$BA$2:$BB$19,2,FALSE),\"\")","v":""},null,""]
[null,null,{"$f":"IF(B817<>\"\",VLOOKUP(B817,[1]Desplegables!$BA$2:$BB$19,2,FALSE),\"\")","v":""},null,""]
[null,null,{"$f":"IF(B818<>\"\",VLOOKUP(B818,[1]Desplegables!$BA$2:$BB$19,2,FALSE),\"\")","v":""},null,""]
[null,null,{"$f":"IF(B819<>\"\",VLOOKUP(B819,[1]Desplegables!$BA$2:$BB$19,2,FALSE),\"\")","v":""},null,""]
[null,null,{"$f":"IF(B820<>\"\",VLOOKUP(B820,[1]Desplegables!$BA$2:$BB$19,2,FALSE),\"\")","v":""},null,""]
[null,null,{"$f":"IF(B821<>\"\",VLOOKUP(B821,[1]Desplegables!$BA$2:$BB$19,2,FALSE),\"\")","v":""},null,""]
[null,null,{"$f":"IF(B822<>\"\",VLOOKUP(B822,[1]Desplegables!$BA$2:$BB$19,2,FALSE),\"\")","v":""},null,""]
[null,null,{"$f":"IF(B823<>\"\",VLOOKUP(B823,[1]Desplegables!$BA$2:$BB$19,2,FALSE),\"\")","v":""},null,""]
[null,null,{"$f":"IF(B824<>\"\",VLOOKUP(B824,[1]Desplegables!$BA$2:$BB$19,2,FALSE),\"\")","v":""},null,""]
[null,null,{"$f":"IF(B825<>\"\",VLOOKUP(B825,[1]Desplegables!$BA$2:$BB$19,2,FALSE),\"\")","v":""},null,""]
[null,null,{"$f":"IF(B826<>\"\",VLOOKUP(B826,[1]Desplegables!$BA$2:$BB$19,2,FALSE),\"\")","v":""},null,""]
[null,null,{"$f":"IF(B827<>\"\",VLOOKUP(B827,[1]Desplegables!$BA$2:$BB$19,2,FALSE),\"\")","v":""},null,""]
[null,null,{"$f":"IF(B828<>\"\",VLOOKUP(B828,[1]Desplegables!$BA$2:$BB$19,2,FALSE),\"\")","v":""},null,""]
[null,null,{"$f":"IF(B829<>\"\",VLOOKUP(B829,[1]Desplegables!$BA$2:$BB$19,2,FALSE),\"\")","v":""},null,""]
[null,null,{"$f":"IF(B830<>\"\",VLOOKUP(B830,[1]Desplegables!$BA$2:$BB$19,2,FALSE),\"\")","v":""},null,""]
[null,null,{"$f":"IF(B831<>\"\",VLOOKUP(B831,[1]Desplegables!$BA$2:$BB$19,2,FALSE),\"\")","v":""},null,""]
[null,null,{"$f":"IF(B832<>\"\",VLOOKUP(B832,[1]Desplegables!$BA$2:$BB$19,2,FALSE),\"\")","v":""},null,""]
[null,null,{"$f":"IF(B833<>\"\",VLOOKUP(B833,[1]Desplegables!$BA$2:$BB$19,2,FALSE),\"\")","v":""},null,""]
[null,null,{"$f":"IF(B834<>\"\",VLOOKUP(B834,[1]Desplegables!$BA$2:$BB$19,2,FALSE),\"\")","v":""},null,""]
[null,null,{"$f":"IF(B835<>\"\",VLOOKUP(B835,[1]Desplegables!$BA$2:$BB$19,2,FALSE),\"\")","v":""},null,""]
[null,null,{"$f":"IF(B836<>\"\",VLOOKUP(B836,[1]Desplegables!$BA$2:$BB$19,2,FALSE),\"\")","v":""},null,""]
[null,null,{"$f":"IF(B837<>\"\",VLOOKUP(B837,[1]Desplegables!$BA$2:$BB$19,2,FALSE),\"\")","v":""},null,{"$f":"IF(C837<>\"\",D837/C837,\"\")","v":""}]
[null,null,{"$f":"IF(B838<>\"\",VLOOKUP(B838,[1]Desplegables!$BA$2:$BB$19,2,FALSE),\"\")","v":""},null,""]
[null,null,{"$f":"IF(B839<>\"\",VLOOKUP(B839,[1]Desplegables!$BA$2:$BB$19,2,FALSE),\"\")","v":""},null,""]
[null,null,{"$f":"IF(B840<>\"\",VLOOKUP(B840,[1]Desplegables!$BA$2:$BB$19,2,FALSE),\"\")","v":""},null,""]
[null,null,{"$f":"IF(B841<>\"\",VLOOKUP(B841,[1]Desplegables!$BA$2:$BB$19,2,FALSE),\"\")","v":""},null,""]
[null,null,{"$f":"IF(B842<>\"\",VLOOKUP(B842,[1]Desplegables!$BA$2:$BB$19,2,FALSE),\"\")","v":""},null,""]
[null,null,{"$f":"IF(B843<>\"\",VLOOKUP(B843,[1]Desplegables!$BA$2:$BB$19,2,FALSE),\"\")","v":""},null,""]
[null,null,{"$f":"IF(B844<>\"\",VLOOKUP(B844,[1]Desplegables!$BA$2:$BB$19,2,FALSE),\"\")","v":""},null,""]
[null,null,{"$f":"IF(B845<>\"\",VLOOKUP(B845,[1]Desplegables!$BA$2:$BB$19,2,FALSE),\"\")","v":""},null,""]
[null,null,{"$f":"IF(B846<>\"\",VLOOKUP(B846,[1]Desplegables!$BA$2:$BB$19,2,FALSE),\"\")","v":""},null,""]
[null,null,{"$f":"IF(B847<>\"\",VLOOKUP(B847,[1]Desplegables!$BA$2:$BB$19,2,FALSE),\"\")","v":""},null,""]
[null,null,{"$f":"IF(B848<>\"\",VLOOKUP(B848,[1]Desplegables!$BA$2:$BB$19,2,FALSE),\"\")","v":""},null,""]
[null,null,{"$f":"IF(B849<>\"\",VLOOKUP(B849,[1]Desplegables!$BA$2:$BB$19,2,FALSE),\"\")","v":""},null,""]
[null,null,{"$f":"IF(B850<>\"\",VLOOKUP(B850,[1]Desplegables!$BA$2:$BB$19,2,FALSE),\"\")","v":""},null,""]
[null,null,{"$f":"IF(B851<>\"\",VLOOKUP(B851,[1]Desplegables!$BA$2:$BB$19,2,FALSE),\"\")","v":""},null,""]
[null,null,{"$f":"IF(B852<>\"\",VLOOKUP(B852,[1]Desplegables!$BA$2:$BB$19,2,FALSE),\"\")","v":""},null,""]
[null,null,{"$f":"IF(B853<>\"\",VLOOKUP(B853,[1]Desplegables!$BA$2:$BB$19,2,FALSE),\"\")","v":""},null,""]
[null,null,{"$f":"IF(B854<>\"\",VLOOKUP(B854,[1]Desplegables!$BA$2:$BB$19,2,FALSE),\"\")","v":""},null,""]
[null,null,{"$f":"IF(B855<>\"\",VLOOKUP(B855,[1]Desplegables!$BA$2:$BB$19,2,FALSE),\"\")","v":""},null,""]
[null,null,{"$f":"IF(B856<>\"\",VLOOKUP(B856,[1]Desplegables!$BA$2:$BB$19,2,FALSE),\"\")","v":""},null,""]
[null,null,{"$f":"IF(B857<>\"\",VLOOKUP(B857,[1]Desplegables!$BA$2:$BB$19,2,FALSE),\"\")","v":""},null,""]
[null,null,{"$f":"IF(B858<>\"\",VLOOKUP(B858,[1]Desplegables!$BA$2:$BB$19,2,FALSE),\"\")","v":""},null,""]
[null,null,{"$f":"IF(B859<>\"\",VLOOKUP(B859,[1]Desplegables!$BA$2:$BB$19,2,FALSE),\"\")","v":""},null,""]
[null,null,{"$f":"IF(B860<>\"\",VLOOKUP(B860,[1]Desplegables!$BA$2:$BB$19,2,FALSE),\"\")","v":""},null,""]
[null,null,{"$f":"IF(B861<>\"\",VLOOKUP(B861,[1]Desplegables!$BA$2:$BB$19,2,FALSE),\"\")","v":""},null,""]
[null,null,{"$f":"IF(B862<>\"\",VLOOKUP(B862,[1]Desplegables!$BA$2:$BB$19,2,FALSE),\"\")","v":""},null,""]
[null,null,{"$f":"IF(B863<>\"\",VLOOKUP(B863,[1]Desplegables!$BA$2:$BB$19,2,FALSE),\"\")","v":""},null,""]
[null,null,{"$f":"IF(B864<>\"\",VLOOKUP(B864,[1]Desplegables!$BA$2:$BB$19,2,FALSE),\"\")","v":""},null,""]
[null,null,{"$f":"IF(B865<>\"\",VLOOKUP(B865,[1]Desplegables!$BA$2:$BB$19,2,FALSE),\"\")","v":""},null,""]
[null,null,{"$f":"IF(B866<>\"\",VLOOKUP(B866,[1]Desplegables!$BA$2:$BB$19,2,FALSE),\"\")","v":""},null,""]
[null,null,{"$f":"IF(B867<>\"\",VLOOKUP(B867,[1]Desplegables!$BA$2:$BB$19,2,FALSE),\"\")","v":""},null,""]
[null,null,{"$f":"IF(B868<>\"\",VLOOKUP(B868,[1]Desplegables!$BA$2:$BB$19,2,FALSE),\"\")","v":""},null,""]
[null,null,{"$f":"IF(B869<>\"\",VLOOKUP(B869,[1]Desplegables!$BA$2:$BB$19,2,FALSE),\"\")","v":""},null,""]
[null,null,{"$f":"IF(B870<>\"\",VLOOKUP(B870,[1]Desplegables!$BA$2:$BB$19,2,FALSE),\"\")","v":""},null,""]
[null,null,{"$f":"IF(B871<>\"\",VLOOKUP(B871,[1]Desplegables!$BA$2:$BB$19,2,FALSE),\"\")","v":""},null,""]
[null,null,{"$f":"IF(B872<>\"\",VLOOKUP(B872,[1]Desplegables!$BA$2:$BB$19,2,FALSE),\"\")","v":""},null,""]
[null,null,{"$f":"IF(B873<>\"\",VLOOKUP(B873,[1]Desplegables!$BA$2:$BB$19,2,FALSE),\"\")","v":""},null,""]
[null,null,{"$f":"IF(B874<>\"\",VLOOKUP(B874,[1]Desplegables!$BA$2:$BB$19,2,FALSE),\"\")","v":""},null,""]
[null,null,{"$f":"IF(B875<>\"\",VLOOKUP(B875,[1]Desplegables!$BA$2:$BB$19,2,FALSE),\"\")","v":""},null,""]
[null,null,{"$f":"IF(B876<>\"\",VLOOKUP(B876,[1]Desplegables!$BA$2:$BB$19,2,FALSE),\"\")","v":""},null,""]
[null,null,{"$f":"IF(B877<>\"\",VLOOKUP(B877,[1]Desplegables!$BA$2:$BB$19,2,FALSE),\"\")","v":""},null,""]
[null,null,{"$f":"IF(B878<>\"\",VLOOKUP(B878,[1]Desplegables!$BA$2:$BB$19,2,FALSE),\"\")","v":""},null,""]
[null,null,{"$f":"IF(B879<>\"\",VLOOKUP(B879,[1]Desplegables!$BA$2:$BB$19,2,FALSE),\"\")","v":""},null,""]
[null,null,{"$f":"IF(B880<>\"\",VLOOKUP(B880,[1]Desplegables!$BA$2:$BB$19,2,FALSE),\"\")","v":""},null,""]
[null,null,{"$f":"IF(B881<>\"\",VLOOKUP(B881,[1]Desplegables!$BA$2:$BB$19,2,FALSE),\"\")","v":""},null,""]
[null,null,{"$f":"IF(B882<>\"\",VLOOKUP(B882,[1]Desplegables!$BA$2:$BB$19,2,FALSE),\"\")","v":""},null,""]
[null,null,{"$f":"IF(B883<>\"\",VLOOKUP(B883,[1]Desplegables!$BA$2:$BB$19,2,FALSE),\"\")","v":""},null,""]
[null,null,{"$f":"IF(B884<>\"\",VLOOKUP(B884,[1]Desplegables!$BA$2:$BB$19,2,FALSE),\"\")","v":""},null,""]
[null,null,{"$f":"IF(B885<>\"\",VLOOKUP(B885,[1]Desplegables!$BA$2:$BB$19,2,FALSE),\"\")","v":""},null,""]
[null,null,{"$f":"IF(B886<>\"\",VLOOKUP(B886,[1]Desplegables!$BA$2:$BB$19,2,FALSE),\"\")","v":""},null,""]
[null,null,{"$f":"IF(B887<>\"\",VLOOKUP(B887,[1]Desplegables!$BA$2:$BB$19,2,FALSE),\"\")","v":""},null,""]
[null,null,{"$f":"IF(B888<>\"\",VLOOKUP(B888,[1]Desplegables!$BA$2:$BB$19,2,FALSE),\"\")","v":""},null,""]
[null,null,{"$f":"IF(B889<>\"\",VLOOKUP(B889,[1]Desplegables!$BA$2:$BB$19,2,FALSE),\"\")","v":""},null,""]
[null,null,{"$f":"IF(B890<>\"\",VLOOKUP(B890,[1]Desplegables!$BA$2:$BB$19,2,FALSE),\"\")","v":""},null,""]
[null,null,{"$f":"IF(B891<>\"\",VLOOKUP(B891,[1]Desplegables!$BA$2:$BB$19,2,FALSE),\"\")","v":""},null,""]
[null,null,{"$f":"IF(B892<>\"\",VLOOKUP(B892,[1]Desplegables!$BA$2:$BB$19,2,FALSE),\"\")","v":""},null,""]
[null,null,{"$f":"IF(B893<>\"\",VLOOKUP(B893,[1]Desplegables!$BA$2:$BB$19,2,FALSE),\"\")","v":""},null,""]
[null,null,{"$f":"IF(B894<>\"\",VLOOKUP(B894,[1]Desplegables!$BA$2:$BB$19,2,FALSE),\"\")","v":""},null,""]
[null,null,{"$f":"IF(B895<>\"\",VLOOKUP(B895,[1]Desplegables!$BA$2:$BB$19,2,FALSE),\"\")","v":""},null,""]
[null,null,{"$f":"IF(B896<>\"\",VLOOKUP(B896,[1]Desplegables!$BA$2:$BB$19,2,FALSE),\"\")","v":""},null,""]
[null,null,{"$f":"IF(B897<>\"\",VLOOKUP(B897,[1]Desplegables!$BA$2:$BB$19,2,FALSE),\"\")","v":""},null,""]
[null,null,{"$f":"IF(B898<>\"\",VLOOKUP(B898,[1]Desplegables!$BA$2:$BB$19,2,FALSE),\"\")","v":""},null,""]
[null,null,{"$f":"IF(B899<>\"\",VLOOKUP(B899,[1]Desplegables!$BA$2:$BB$19,2,FALSE),\"\")","v":""},null,""]
[null,null,{"$f":"IF(B900<>\"\",VLOOKUP(B900,[1]Desplegables!$BA$2:$BB$19,2,FALSE),\"\")","v":""},null,""]
[null,null,{"$f":"IF(B901<>\"\",VLOOKUP(B901,[1]Desplegables!$BA$2:$BB$19,2,FALSE),\"\")","v":""},null,{"$f":"IF(C901<>\"\",D901/C901,\"\")","v":""}]
[null,null,{"$f":"IF(B902<>\"\",VLOOKUP(B902,[1]Desplegables!$BA$2:$BB$19,2,FALSE),\"\")","v":""},null,""]
[null,null,{"$f":"IF(B903<>\"\",VLOOKUP(B903,[1]Desplegables!$BA$2:$BB$19,2,FALSE),\"\")","v":""},null,""]
[null,null,{"$f":"IF(B904<>\"\",VLOOKUP(B904,[1]Desplegables!$BA$2:$BB$19,2,FALSE),\"\")","v":""},null,""]
[null,null,{"$f":"IF(B905<>\"\",VLOOKUP(B905,[1]Desplegables!$BA$2:$BB$19,2,FALSE),\"\")","v":""},null,""]
[null,null,{"$f":"IF(B906<>\"\",VLOOKUP(B906,[1]Desplegables!$BA$2:$BB$19,2,FALSE),\"\")","v":""},null,""]
[null,null,{"$f":"IF(B907<>\"\",VLOOKUP(B907,[1]Desplegables!$BA$2:$BB$19,2,FALSE),\"\")","v":""},null,""]
[null,null,{"$f":"IF(B908<>\"\",VLOOKUP(B908,[1]Desplegables!$BA$2:$BB$19,2,FALSE),\"\")","v":""},null,""]
[null,null,{"$f":"IF(B909<>\"\",VLOOKUP(B909,[1]Desplegables!$BA$2:$BB$19,2,FALSE),\"\")","v":""},null,""]
[null,null,{"$f":"IF(B910<>\"\",VLOOKUP(B910,[1]Desplegables!$BA$2:$BB$19,2,FALSE),\"\")","v":""},null,""]
[null,null,{"$f":"IF(B911<>\"\",VLOOKUP(B911,[1]Desplegables!$BA$2:$BB$19,2,FALSE),\"\")","v":""},null,""]
[null,null,{"$f":"IF(B912<>\"\",VLOOKUP(B912,[1]Desplegables!$BA$2:$BB$19,2,FALSE),\"\")","v":""},null,""]
[null,null,{"$f":"IF(B913<>\"\",VLOOKUP(B913,[1]Desplegables!$BA$2:$BB$19,2,FALSE),\"\")","v":""},null,""]
[null,null,{"$f":"IF(B914<>\"\",VLOOKUP(B914,[1]Desplegables!$BA$2:$BB$19,2,FALSE),\"\")","v":""},null,""]
[null,null,{"$f":"IF(B915<>\"\",VLOOKUP(B915,[1]Desplegables!$BA$2:$BB$19,2,FALSE),\"\")","v":""},null,""]
[null,null,{"$f":"IF(B916<>\"\",VLOOKUP(B916,[1]Desplegables!$BA$2:$BB$19,2,FALSE),\"\")","v":""},null,""]
[null,null,{"$f":"IF(B917<>\"\",VLOOKUP(B917,[1]Desplegables!$BA$2:$BB$19,2,FALSE),\"\")","v":""},null,""]
[null,null,{"$f":"IF(B918<>\"\",VLOOKUP(B918,[1]Desplegables!$BA$2:$BB$19,2,FALSE),\"\")","v":""},null,""]
[null,null,{"$f":"IF(B919<>\"\",VLOOKUP(B919,[1]Desplegables!$BA$2:$BB$19,2,FALSE),\"\")","v":""},null,""]
[null,null,{"$f":"IF(B920<>\"\",VLOOKUP(B920,[1]Desplegables!$BA$2:$BB$19,2,FALSE),\"\")","v":""},null,""]
[null,null,{"$f":"IF(B921<>\"\",VLOOKUP(B921,[1]Desplegables!$BA$2:$BB$19,2,FALSE),\"\")","v":""},null,""]
[null,null,{"$f":"IF(B922<>\"\",VLOOKUP(B922,[1]Desplegables!$BA$2:$BB$19,2,FALSE),\"\")","v":""},null,""]
[null,null,{"$f":"IF(B923<>\"\",VLOOKUP(B923,[1]Desplegables!$BA$2:$BB$19,2,FALSE),\"\")","v":""},null,""]
[null,null,{"$f":"IF(B924<>\"\",VLOOKUP(B924,[1]Desplegables!$BA$2:$BB$19,2,FALSE),\"\")","v":""},null,""]
[null,null,{"$f":"IF(B925<>\"\",VLOOKUP(B925,[1]Desplegables!$BA$2:$BB$19,2,FALSE),\"\")","v":""},null,""]
[null,null,{"$f":"IF(B926<>\"\",VLOOKUP(B926,[1]Desplegables!$BA$2:$BB$19,2,FALSE),\"\")","v":""},null,""]
[null,null,{"$f":"IF(B927<>\"\",VLOOKUP(B927,[1]Desplegables!$BA$2:$BB$19,2,FALSE),\"\")","v":""},null,""]
[null,null,{"$f":"IF(B928<>\"\",VLOOKUP(B928,[1]Desplegables!$BA$2:$BB$19,2,FALSE),\"\")","v":""},null,""]
[null,null,{"$f":"IF(B929<>\"\",VLOOKUP(B929,[1]Desplegables!$BA$2:$BB$19,2,FALSE),\"\")","v":""},null,""]
[null,null,{"$f":"IF(B930<>\"\",VLOOKUP(B930,[1]Desplegables!$BA$2:$BB$19,2,FALSE),\"\")","v":""},null,""]
[null,null,{"$f":"IF(B931<>\"\",VLOOKUP(B931,[1]Desplegables!$BA$2:$BB$19,2,FALSE),\"\")","v":""},null,""]
[null,null,{"$f":"IF(B932<>\"\",VLOOKUP(B932,[1]Desplegables!$BA$2:$BB$19,2,FALSE),\"\")","v":""},null,""]
[null,null,{"$f":"IF(B933<>\"\",VLOOKUP(B933,[1]Desplegables!$BA$2:$BB$19,2,FALSE),\"\")","v":""},null,""]
[null,null,{"$f":"IF(B934<>\"\",VLOOKUP(B934,[1]Desplegables!$BA$2:$BB$19,2,FALSE),\"\")","v":""},null,""]
[null,null,{"$f":"IF(B935<>\"\",VLOOKUP(B935,[1]Desplegables!$BA$2:$BB$19,2,FALSE),\"\")","v":""},null,""]
[null,null,{"$f":"IF(B936<>\"\",VLOOKUP(B936,[1]Desplegables!$BA$2:$BB$19,2,FALSE),\"\")","v":""},null,""]
[null,null,{"$f":"IF(B937<>\"\",VLOOKUP(B937,[1]Desplegables!$BA$2:$BB$19,2,FALSE),\"\")","v":""},null,""]
[null,null,{"$f":"IF(B938<>\"\",VLOOKUP(B938,[1]Desplegables!$BA$2:$BB$19,2,FALSE),\"\")","v":""},null,""]
[null,null,{"$f":"IF(B939<>\"\",VLOOKUP(B939,[1]Desplegables!$BA$2:$BB$19,2,FALSE),\"\")","v":""},null,""]
[null,null,{"$f":"IF(B940<>\"\",VLOOKUP(B940,[1]Desplegables!$BA$2:$BB$19,2,FALSE),\"\")","v":""},null,""]
[null,null,{"$f":"IF(B941<>\"\",VLOOKUP(B941,[1]Desplegables!$BA$2:$BB$19,2,FALSE),\"\")","v":""},null,""]
[null,null,{"$f":"IF(B942<>\"\",VLOOKUP(B942,[1]Desplegables!$BA$2:$BB$19,2,FALSE),\"\")","v":""},null,""]
[null,null,{"$f":"IF(B943<>\"\",VLOOKUP(B943,[1]Desplegables!$BA$2:$BB$19,2,FALSE),\"\")","v":""},null,""]
[null,null,{"$f":"IF(B944<>\"\",VLOOKUP(B944,[1]Desplegables!$BA$2:$BB$19,2,FALSE),\"\")","v":""},null,""]
[null,null,{"$f":"IF(B945<>\"\",VLOOKUP(B945,[1]Desplegables!$BA$2:$BB$19,2,FALSE),\"\")","v":""},null,""]
[null,null,{"$f":"IF(B946<>\"\",VLOOKUP(B946,[1]Desplegables!$BA$2:$BB$19,2,FALSE),\"\")","v":""},null,""]
[null,null,{"$f":"IF(B947<>\"\",VLOOKUP(B947,[1]Desplegables!$BA$2:$BB$19,2,FALSE),\"\")","v":""},null,""]
[null,null,{"$f":"IF(B948<>\"\",VLOOKUP(B948,[1]Desplegables!$BA$2:$BB$19,2,FALSE),\"\")","v":""},null,""]
[null,null,{"$f":"IF(B949<>\"\",VLOOKUP(B949,[1]Desplegables!$BA$2:$BB$19,2,FALSE),\"\")","v":""},null,""]
[null,null,{"$f":"IF(B950<>\"\",VLOOKUP(B950,[1]Desplegables!$BA$2:$BB$19,2,FALSE),\"\")","v":""},null,""]
[null,null,{"$f":"IF(B951<>\"\",VLOOKUP(B951,[1]Desplegables!$BA$2:$BB$19,2,FALSE),\"\")","v":""},null,""]
[null,null,{"$f":"IF(B952<>\"\",VLOOKUP(B952,[1]Desplegables!$BA$2:$BB$19,2,FALSE),\"\")","v":""},null,""]
[null,null,{"$f":"IF(B953<>\"\",VLOOKUP(B953,[1]Desplegables!$BA$2:$BB$19,2,FALSE),\"\")","v":""},null,""]
[null,null,{"$f":"IF(B954<>\"\",VLOOKUP(B954,[1]Desplegables!$BA$2:$BB$19,2,FALSE),\"\")","v":""},null,""]
[null,null,{"$f":"IF(B955<>\"\",VLOOKUP(B955,[1]Desplegables!$BA$2:$BB$19,2,FALSE),\"\")","v":""},null,""]
[null,null,{"$f":"IF(B956<>\"\",VLOOKUP(B956,[1]Desplegables!$BA$2:$BB$19,2,FALSE),\"\")","v":""},null,""]
[null,null,{"$f":"IF(B957<>\"\",VLOOKUP(B957,[1]Desplegables!$BA$2:$BB$19,2,FALSE),\"\")","v":""},null,""]
[null,null,{"$f":"IF(B958<>\"\",VLOOKUP(B958,[1]Desplegables!$BA$2:$BB$19,2,FALSE),\"\")","v":""},null,""]
[null,null,{"$f":"IF(B959<>\"\",VLOOKUP(B959,[1]Desplegables!$BA$2:$BB$19,2,FALSE),\"\")","v":""},null,""]
[null,null,{"$f":"IF(B960<>\"\",VLOOKUP(B960,[1]Desplegables!$BA$2:$BB$19,2,FALSE),\"\")","v":""},null,""]
[null,null,{"$f":"IF(B961<>\"\",VLOOKUP(B961,[1]Desplegables!$BA$2:$BB$19,2,FALSE),\"\")","v":""},null,""]
[null,null,{"$f":"IF(B962<>\"\",VLOOKUP(B962,[1]Desplegables!$BA$2:$BB$19,2,FALSE),\"\")","v":""},null,""]
[null,null,{"$f":"IF(B963<>\"\",VLOOKUP(B963,[1]Desplegables!$BA$2:$BB$19,2,FALSE),\"\")","v":""},null,""]
[null,null,{"$f":"IF(B964<>\"\",VLOOKUP(B964,[1]Desplegables!$BA$2:$BB$19,2,FALSE),\"\")","v":""},null,""]
[null,null,{"$f":"IF(B965<>\"\",VLOOKUP(B965,[1]Desplegables!$BA$2:$BB$19,2,FALSE),\"\")","v":""},null,{"$f":"IF(C965<>\"\",D965/C965,\"\")","v":""}]
[null,null,{"$f":"IF(B966<>\"\",VLOOKUP(B966,[1]Desplegables!$BA$2:$BB$19,2,FALSE),\"\")","v":""},null,""]
[null,null,{"$f":"IF(B967<>\"\",VLOOKUP(B967,[1]Desplegables!$BA$2:$BB$19,2,FALSE),\"\")","v":""},null,""]
[null,null,{"$f":"IF(B968<>\"\",VLOOKUP(B968,[1]Desplegables!$BA$2:$BB$19,2,FALSE),\"\")","v":""},null,""]
[null,null,{"$f":"IF(B969<>\"\",VLOOKUP(B969,[1]Desplegables!$BA$2:$BB$19,2,FALSE),\"\")","v":""},null,""]
[null,null,{"$f":"IF(B970<>\"\",VLOOKUP(B970,[1]Desplegables!$BA$2:$BB$19,2,FALSE),\"\")","v":""},null,""]
[null,null,{"$f":"IF(B971<>\"\",VLOOKUP(B971,[1]Desplegables!$BA$2:$BB$19,2,FALSE),\"\")","v":""},null,""]
[null,null,{"$f":"IF(B972<>\"\",VLOOKUP(B972,[1]Desplegables!$BA$2:$BB$19,2,FALSE),\"\")","v":""},null,""]
[null,null,{"$f":"IF(B973<>\"\",VLOOKUP(B973,[1]Desplegables!$BA$2:$BB$19,2,FALSE),\"\")","v":""},null,""]
[null,null,{"$f":"IF(B974<>\"\",VLOOKUP(B974,[1]Desplegables!$BA$2:$BB$19,2,FALSE),\"\")","v":""},null,""]
[null,null,{"$f":"IF(B975<>\"\",VLOOKUP(B975,[1]Desplegables!$BA$2:$BB$19,2,FALSE),\"\")","v":""},null,""]
[null,null,{"$f":"IF(B976<>\"\",VLOOKUP(B976,[1]Desplegables!$BA$2:$BB$19,2,FALSE),\"\")","v":""},null,""]
[null,null,{"$f":"IF(B977<>\"\",VLOOKUP(B977,[1]Desplegables!$BA$2:$BB$19,2,FALSE),\"\")","v":""},null,""]
[null,null,{"$f":"IF(B978<>\"\",VLOOKUP(B978,[1]Desplegables!$BA$2:$BB$19,2,FALSE),\"\")","v":""},null,""]
[null,null,{"$f":"IF(B979<>\"\",VLOOKUP(B979,[1]Desplegables!$BA$2:$BB$19,2,FALSE),\"\")","v":""},null,""]
[null,null,{"$f":"IF(B980<>\"\",VLOOKUP(B980,[1]Desplegables!$BA$2:$BB$19,2,FALSE),\"\")","v":""},null,""]
[null,null,{"$f":"IF(B981<>\"\",VLOOKUP(B981,[1]Desplegables!$BA$2:$BB$19,2,FALSE),\"\")","v":""},null,""]
[null,null,{"$f":"IF(B982<>\"\",VLOOKUP(B982,[1]Desplegables!$BA$2:$BB$19,2,FALSE),\"\")","v":""},null,""]
[null,null,{"$f":"IF(B983<>\"\",VLOOKUP(B983,[1]Desplegables!$BA$2:$BB$19,2,FALSE),\"\")","v":""},null,""]
[null,null,{"$f":"IF(B984<>\"\",VLOOKUP(B984,[1]Desplegables!$BA$2:$BB$19,2,FALSE),\"\")","v":""},null,""]
[null,null,{"$f":"IF(B985<>\"\",VLOOKUP(B985,[1]Desplegables!$BA$2:$BB$19,2,FALSE),\"\")","v":""},null,""]
[null,null,{"$f":"IF(B986<>\"\",VLOOKUP(B986,[1]Desplegables!$BA$2:$BB$19,2,FALSE),\"\")","v":""},null,""]
[null,null,{"$f":"IF(B987<>\"\",VLOOKUP(B987,[1]Desplegables!$BA$2:$BB$19,2,FALSE),\"\")","v":""},null,""]
[null,null,{"$f":"IF(B988<>\"\",VLOOKUP(B988,[1]Desplegables!$BA$2:$BB$19,2,FALSE),\"\")","v":""},null,""]
[null,null,{"$f":"IF(B989<>\"\",VLOOKUP(B989,[1]Desplegables!$BA$2:$BB$19,2,FALSE),\"\")","v":""},null,""]
[null,null,{"$f":"IF(B990<>\"\",VLOOKUP(B990,[1]Desplegables!$BA$2:$BB$19,2,FALSE),\"\")","v":""},null,""]
[null,null,{"$f":"IF(B991<>\"\",VLOOKUP(B991,[1]Desplegables!$BA$2:$BB$19,2,FALSE),\"\")","v":""},null,""]
[null,null,{"$f":"IF(B992<>\"\",VLOOKUP(B992,[1]Desplegables!$BA$2:$BB$19,2,FALSE),\"\")","v":""},null,""]
[null,null,{"$f":"IF(B993<>\"\",VLOOKUP(B993,[1]Desplegables!$BA$2:$BB$19,2,FALSE),\"\")","v":""},null,""]
[null,null,{"$f":"IF(B994<>\"\",VLOOKUP(B994,[1]Desplegables!$BA$2:$BB$19,2,FALSE),\"\")","v":""},null,""]
[null,null,{"$f":"IF(B995<>\"\",VLOOKUP(B995,[1]Desplegables!$BA$2:$BB$19,2,FALSE),\"\")","v":""},null,""]
[null,null,{"$f":"IF(B996<>\"\",VLOOKUP(B996,[1]Desplegables!$BA$2:$BB$19,2,FALSE),\"\")","v":""},null,""]
[null,null,{"$f":"IF(B997<>\"\",VLOOKUP(B997,[1]Desplegables!$BA$2:$BB$19,2,FALSE),\"\")","v":""},null,""]
[null,null,{"$f":"IF(B998<>\"\",VLOOKUP(B998,[1]Desplegables!$BA$2:$BB$19,2,FALSE),\"\")","v":""},null,""]
[null,null,{"$f":"IF(B999<>\"\",VLOOKUP(B999,[1]Desplegables!$BA$2:$BB$19,2,FALSE),\"\")","v":""},null,""]
[null,null,{"$f":"IF(B1000<>\"\",VLOOKUP(B1000,[1]Desplegables!$BA$2:$BB$19,2,FALSE),\"\")","v":""},null,""]
[null,null,{"$f":"IF(B1001<>\"\",VLOOKUP(B1001,[1]Desplegables!$BA$2:$BB$19,2,FALSE),\"\")","v":""},null,""]
[null,null,{"$f":"IF(B1002<>\"\",VLOOKUP(B1002,[1]Desplegables!$BA$2:$BB$19,2,FALSE),\"\")","v":""},null,""]
[null,null,{"$f":"IF(B1003<>\"\",VLOOKUP(B1003,[1]Desplegables!$BA$2:$BB$19,2,FALSE),\"\")","v":""},null,""]
[null,null,{"$f":"IF(B1004<>\"\",VLOOKUP(B1004,[1]Desplegables!$BA$2:$BB$19,2,FALSE),\"\")","v":""},null,""]
[null,null,{"$f":"IF(B1005<>\"\",VLOOKUP(B1005,[1]Desplegables!$BA$2:$BB$19,2,FALSE),\"\")","v":""},null,""]
[null,null,{"$f":"IF(B1006<>\"\",VLOOKUP(B1006,[1]Desplegables!$BA$2:$BB$19,2,FALSE),\"\")","v":""},null,""]
[null,null,{"$f":"IF(B1007<>\"\",VLOOKUP(B1007,[1]Desplegables!$BA$2:$BB$19,2,FALSE),\"\")","v":""},null,""]
[null,null,{"$f":"IF(B1008<>\"\",VLOOKUP(B1008,[1]Desplegables!$BA$2:$BB$19,2,FALSE),\"\")","v":""},null,""]
[null,null,{"$f":"IF(B1009<>\"\",VLOOKUP(B1009,[1]Desplegables!$BA$2:$BB$19,2,FALSE),\"\")","v":""},null,""]
[null,null,{"$f":"IF(B1010<>\"\",VLOOKUP(B1010,[1]Desplegables!$BA$2:$BB$19,2,FALSE),\"\")","v":""},null,""]
[null,null,{"$f":"IF(B1011<>\"\",VLOOKUP(B1011,[1]Desplegables!$BA$2:$BB$19,2,FALSE),\"\")","v":""},null,""]
[null,null,{"$f":"IF(B1012<>\"\",VLOOKUP(B1012,[1]Desplegables!$BA$2:$BB$19,2,FALSE),\"\")","v":""},null,""]
[null,null,{"$f":"IF(B1013<>\"\",VLOOKUP(B1013,[1]Desplegables!$BA$2:$BB$19,2,FALSE),\"\")","v":""},null,""]
[null,null,{"$f":"IF(B1014<>\"\",VLOOKUP(B1014,[1]Desplegables!$BA$2:$BB$19,2,FALSE),\"\")","v":""},null,""]
[null,null,{"$f":"IF(B1015<>\"\",VLOOKUP(B1015,[1]Desplegables!$BA$2:$BB$19,2,FALSE),\"\")","v":""},null,""]
[null,null,{"$f":"IF(B1016<>\"\",VLOOKUP(B1016,[1]Desplegables!$BA$2:$BB$19,2,FALSE),\"\")","v":""},null,""]
[null,null,{"$f":"IF(B1017<>\"\",VLOOKUP(B1017,[1]Desplegables!$BA$2:$BB$19,2,FALSE),\"\")","v":""},null,""]
[null,null,{"$f":"IF(B1018<>\"\",VLOOKUP(B1018,[1]Desplegables!$BA$2:$BB$19,2,FALSE),\"\")","v":""},null,""]
[null,null,{"$f":"IF(B1019<>\"\",VLOOKUP(B1019,[1]Desplegables!$BA$2:$BB$19,2,FALSE),\"\")","v":""},null,""]
[null,null,{"$f":"IF(B1020<>\"\",VLOOKUP(B1020,[1]Desplegables!$BA$2:$BB$19,2,FALSE),\"\")","v":""},null,""]
[null,null,{"$f":"IF(B1021<>\"\",VLOOKUP(B1021,[1]Desplegables!$BA$2:$BB$19,2,FALSE),\"\")","v":""},null,""]
[null,null,{"$f":"IF(B1022<>\"\",VLOOKUP(B1022,[1]Desplegables!$BA$2:$BB$19,2,FALSE),\"\")","v":""},null,""]
[null,null,{"$f":"IF(B1023<>\"\",VLOOKUP(B1023,[1]Desplegables!$BA$2:$BB$19,2,FALSE),\"\")","v":""},null,""]
[null,null,{"$f":"IF(B1024<>\"\",VLOOKUP(B1024,[1]Desplegables!$BA$2:$BB$19,2,FALSE),\"\")","v":""},null,""]
[null,null,{"$f":"IF(B1025<>\"\",VLOOKUP(B1025,[1]Desplegables!$BA$2:$BB$19,2,FALSE),\"\")","v":""},null,""]
[null,null,{"$f":"IF(B1026<>\"\",VLOOKUP(B1026,[1]Desplegables!$BA$2:$BB$19,2,FALSE),\"\")","v":""},null,""]
[null,null,{"$f":"IF(B1027<>\"\",VLOOKUP(B1027,[1]Desplegables!$BA$2:$BB$19,2,FALSE),\"\")","v":""},null,""]
[null,null,{"$f":"IF(B1028<>\"\",VLOOKUP(B1028,[1]Desplegables!$BA$2:$BB$19,2,FALSE),\"\")","v":""},null,""]
[null,null,{"$f":"IF(B1029<>\"\",VLOOKUP(B1029,[1]Desplegables!$BA$2:$BB$19,2,FALSE),\"\")","v":""},null,{"$f":"IF(C1029<>\"\",D1029/C1029,\"\")","v":""}]
[null,null,{"$f":"IF(B1030<>\"\",VLOOKUP(B1030,[1]Desplegables!$BA$2:$BB$19,2,FALSE),\"\")","v":""},null,""]
[null,null,{"$f":"IF(B1031<>\"\",VLOOKUP(B1031,[1]Desplegables!$BA$2:$BB$19,2,FALSE),\"\")","v":""},null,""]
[null,null,{"$f":"IF(B1032<>\"\",VLOOKUP(B1032,[1]Desplegables!$BA$2:$BB$19,2,FALSE),\"\")","v":""},null,""]
[null,null,{"$f":"IF(B1033<>\"\",VLOOKUP(B1033,[1]Desplegables!$BA$2:$BB$19,2,FALSE),\"\")","v":""},null,""]
[null,null,{"$f":"IF(B1034<>\"\",VLOOKUP(B1034,[1]Desplegables!$BA$2:$BB$19,2,FALSE),\"\")","v":""},null,""]
[null,null,{"$f":"IF(B1035<>\"\",VLOOKUP(B1035,[1]Desplegables!$BA$2:$BB$19,2,FALSE),\"\")","v":""},null,""]
[null,null,{"$f":"IF(B1036<>\"\",VLOOKUP(B1036,[1]Desplegables!$BA$2:$BB$19,2,FALSE),\"\")","v":""},null,""]
[null,null,{"$f":"IF(B1037<>\"\",VLOOKUP(B1037,[1]Desplegables!$BA$2:$BB$19,2,FALSE),\"\")","v":""},null,""]
[null,null,{"$f":"IF(B1038<>\"\",VLOOKUP(B1038,[1]Desplegables!$BA$2:$BB$19,2,FALSE),\"\")","v":""},null,""]
[null,null,{"$f":"IF(B1039<>\"\",VLOOKUP(B1039,[1]Desplegables!$BA$2:$BB$19,2,FALSE),\"\")","v":""},null,""]
[null,null,{"$f":"IF(B1040<>\"\",VLOOKUP(B1040,[1]Desplegables!$BA$2:$BB$19,2,FALSE),\"\")","v":""},null,""]
[null,null,{"$f":"IF(B1041<>\"\",VLOOKUP(B1041,[1]Desplegables!$BA$2:$BB$19,2,FALSE),\"\")","v":""},null,""]
[null,null,{"$f":"IF(B1042<>\"\",VLOOKUP(B1042,[1]Desplegables!$BA$2:$BB$19,2,FALSE),\"\")","v":""},null,""]
[null,null,{"$f":"IF(B1043<>\"\",VLOOKUP(B1043,[1]Desplegables!$BA$2:$BB$19,2,FALSE),\"\")","v":""},null,""]
[null,null,{"$f":"IF(B1044<>\"\",VLOOKUP(B1044,[1]Desplegables!$BA$2:$BB$19,2,FALSE),\"\")","v":""},null,""]
[null,null,{"$f":"IF(B1045<>\"\",VLOOKUP(B1045,[1]Desplegables!$BA$2:$BB$19,2,FALSE),\"\")","v":""},null,""]
[null,null,{"$f":"IF(B1046<>\"\",VLOOKUP(B1046,[1]Desplegables!$BA$2:$BB$19,2,FALSE),\"\")","v":""},null,""]
[null,null,{"$f":"IF(B1047<>\"\",VLOOKUP(B1047,[1]Desplegables!$BA$2:$BB$19,2,FALSE),\"\")","v":""},null,""]
[null,null,{"$f":"IF(B1048<>\"\",VLOOKUP(B1048,[1]Desplegables!$BA$2:$BB$19,2,FALSE),\"\")","v":""},null,""]
[null,null,{"$f":"IF(B1049<>\"\",VLOOKUP(B1049,[1]Desplegables!$BA$2:$BB$19,2,FALSE),\"\")","v":""},null,""]
[null,null,{"$f":"IF(B1050<>\"\",VLOOKUP(B1050,[1]Desplegables!$BA$2:$BB$19,2,FALSE),\"\")","v":""},null,""]
[null,null,{"$f":"IF(B1051<>\"\",VLOOKUP(B1051,[1]Desplegables!$BA$2:$BB$19,2,FALSE),\"\")","v":""},null,""]
[null,null,{"$f":"IF(B1052<>\"\",VLOOKUP(B1052,[1]Desplegables!$BA$2:$BB$19,2,FALSE),\"\")","v":""},null,""]
[null,null,{"$f":"IF(B1053<>\"\",VLOOKUP(B1053,[1]Desplegables!$BA$2:$BB$19,2,FALSE),\"\")","v":""},null,""]
[null,null,{"$f":"IF(B1054<>\"\",VLOOKUP(B1054,[1]Desplegables!$BA$2:$BB$19,2,FALSE),\"\")","v":""},null,""]
[null,null,{"$f":"IF(B1055<>\"\",VLOOKUP(B1055,[1]Desplegables!$BA$2:$BB$19,2,FALSE),\"\")","v":""},null,""]
[null,null,{"$f":"IF(B1056<>\"\",VLOOKUP(B1056,[1]Desplegables!$BA$2:$BB$19,2,FALSE),\"\")","v":""},null,""]
[null,null,{"$f":"IF(B1057<>\"\",VLOOKUP(B1057,[1]Desplegables!$BA$2:$BB$19,2,FALSE),\"\")","v":""},null,""]
[null,null,{"$f":"IF(B1058<>\"\",VLOOKUP(B1058,[1]Desplegables!$BA$2:$BB$19,2,FALSE),\"\")","v":""},null,""]
[null,null,{"$f":"IF(B1059<>\"\",VLOOKUP(B1059,[1]Desplegables!$BA$2:$BB$19,2,FALSE),\"\")","v":""},null,""]
[null,null,{"$f":"IF(B1060<>\"\",VLOOKUP(B1060,[1]Desplegables!$BA$2:$BB$19,2,FALSE),\"\")","v":""},null,""]
[null,null,{"$f":"IF(B1061<>\"\",VLOOKUP(B1061,[1]Desplegables!$BA$2:$BB$19,2,FALSE),\"\")","v":""},null,""]
[null,null,{"$f":"IF(B1062<>\"\",VLOOKUP(B1062,[1]Desplegables!$BA$2:$BB$19,2,FALSE),\"\")","v":""},null,""]
[null,null,{"$f":"IF(B1063<>\"\",VLOOKUP(B1063,[1]Desplegables!$BA$2:$BB$19,2,FALSE),\"\")","v":""},null,""]
[null,null,{"$f":"IF(B1064<>\"\",VLOOKUP(B1064,[1]Desplegables!$BA$2:$BB$19,2,FALSE),\"\")","v":""},null,""]
[null,null,{"$f":"IF(B1065<>\"\",VLOOKUP(B1065,[1]Desplegables!$BA$2:$BB$19,2,FALSE),\"\")","v":""},null,""]
[null,null,{"$f":"IF(B1066<>\"\",VLOOKUP(B1066,[1]Desplegables!$BA$2:$BB$19,2,FALSE),\"\")","v":""},null,""]
[null,null,{"$f":"IF(B1067<>\"\",VLOOKUP(B1067,[1]Desplegables!$BA$2:$BB$19,2,FALSE),\"\")","v":""},null,""]
[null,null,{"$f":"IF(B1068<>\"\",VLOOKUP(B1068,[1]Desplegables!$BA$2:$BB$19,2,FALSE),\"\")","v":""},null,""]
[null,null,{"$f":"IF(B1069<>\"\",VLOOKUP(B1069,[1]Desplegables!$BA$2:$BB$19,2,FALSE),\"\")","v":""},null,""]
[null,null,{"$f":"IF(B1070<>\"\",VLOOKUP(B1070,[1]Desplegables!$BA$2:$BB$19,2,FALSE),\"\")","v":""},null,""]
[null,null,{"$f":"IF(B1071<>\"\",VLOOKUP(B1071,[1]Desplegables!$BA$2:$BB$19,2,FALSE),\"\")","v":""},null,""]
[null,null,{"$f":"IF(B1072<>\"\",VLOOKUP(B1072,[1]Desplegables!$BA$2:$BB$19,2,FALSE),\"\")","v":""},null,""]
[null,null,{"$f":"IF(B1073<>\"\",VLOOKUP(B1073,[1]Desplegables!$BA$2:$BB$19,2,FALSE),\"\")","v":""},null,""]
[null,null,{"$f":"IF(B1074<>\"\",VLOOKUP(B1074,[1]Desplegables!$BA$2:$BB$19,2,FALSE),\"\")","v":""},null,""]
[null,null,{"$f":"IF(B1075<>\"\",VLOOKUP(B1075,[1]Desplegables!$BA$2:$BB$19,2,FALSE),\"\")","v":""},null,""]
[null,null,{"$f":"IF(B1076<>\"\",VLOOKUP(B1076,[1]Desplegables!$BA$2:$BB$19,2,FALSE),\"\")","v":""},null,""]
[null,null,{"$f":"IF(B1077<>\"\",VLOOKUP(B1077,[1]Desplegables!$BA$2:$BB$19,2,FALSE),\"\")","v":""},null,""]
[null,null,{"$f":"IF(B1078<>\"\",VLOOKUP(B1078,[1]Desplegables!$BA$2:$BB$19,2,FALSE),\"\")","v":""},null,""]
[null,null,{"$f":"IF(B1079<>\"\",VLOOKUP(B1079,[1]Desplegables!$BA$2:$BB$19,2,FALSE),\"\")","v":""},null,""]
[null,null,{"$f":"IF(B1080<>\"\",VLOOKUP(B1080,[1]Desplegables!$BA$2:$BB$19,2,FALSE),\"\")","v":""},null,""]
[null,null,{"$f":"IF(B1081<>\"\",VLOOKUP(B1081,[1]Desplegables!$BA$2:$BB$19,2,FALSE),\"\")","v":""},null,""]
[null,null,{"$f":"IF(B1082<>\"\",VLOOKUP(B1082,[1]Desplegables!$BA$2:$BB$19,2,FALSE),\"\")","v":""},null,""]
[null,null,{"$f":"IF(B1083<>\"\",VLOOKUP(B1083,[1]Desplegables!$BA$2:$BB$19,2,FALSE),\"\")","v":""},null,""]
[null,null,{"$f":"IF(B1084<>\"\",VLOOKUP(B1084,[1]Desplegables!$BA$2:$BB$19,2,FALSE),\"\")","v":""},null,""]
[null,null,{"$f":"IF(B1085<>\"\",VLOOKUP(B1085,[1]Desplegables!$BA$2:$BB$19,2,FALSE),\"\")","v":""},null,""]
[null,null,{"$f":"IF(B1086<>\"\",VLOOKUP(B1086,[1]Desplegables!$BA$2:$BB$19,2,FALSE),\"\")","v":""},null,""]
[null,null,{"$f":"IF(B1087<>\"\",VLOOKUP(B1087,[1]Desplegables!$BA$2:$BB$19,2,FALSE),\"\")","v":""},null,""]
[null,null,{"$f":"IF(B1088<>\"\",VLOOKUP(B1088,[1]Desplegables!$BA$2:$BB$19,2,FALSE),\"\")","v":""},null,""]
[null,null,{"$f":"IF(B1089<>\"\",VLOOKUP(B1089,[1]Desplegables!$BA$2:$BB$19,2,FALSE),\"\")","v":""},null,""]
[null,null,{"$f":"IF(B1090<>\"\",VLOOKUP(B1090,[1]Desplegables!$BA$2:$BB$19,2,FALSE),\"\")","v":""},null,""]
[null,null,{"$f":"IF(B1091<>\"\",VLOOKUP(B1091,[1]Desplegables!$BA$2:$BB$19,2,FALSE),\"\")","v":""},null,""]
[null,null,{"$f":"IF(B1092<>\"\",VLOOKUP(B1092,[1]Desplegables!$BA$2:$BB$19,2,FALSE),\"\")","v":""},null,""]
[null,null,{"$f":"IF(B1093<>\"\",VLOOKUP(B1093,[1]Desplegables!$BA$2:$BB$19,2,FALSE),\"\")","v":""},null,{"$f":"IF(C1093<>\"\",D1093/C1093,\"\")","v":""}]
[null,null,{"$f":"IF(B1094<>\"\",VLOOKUP(B1094,[1]Desplegables!$BA$2:$BB$19,2,FALSE),\"\")","v":""},null,""]
[null,null,{"$f":"IF(B1095<>\"\",VLOOKUP(B1095,[1]Desplegables!$BA$2:$BB$19,2,FALSE),\"\")","v":""},null,""]
[null,null,{"$f":"IF(B1096<>\"\",VLOOKUP(B1096,[1]Desplegables!$BA$2:$BB$19,2,FALSE),\"\")","v":""},null,""]
[null,null,{"$f":"IF(B1097<>\"\",VLOOKUP(B1097,[1]Desplegables!$BA$2:$BB$19,2,FALSE),\"\")","v":""},null,""]
[null,null,{"$f":"IF(B1098<>\"\",VLOOKUP(B1098,[1]Desplegables!$BA$2:$BB$19,2,FALSE),\"\")","v":""},null,""]
[null,null,{"$f":"IF(B1099<>\"\",VLOOKUP(B1099,[1]Desplegables!$BA$2:$BB$19,2,FALSE),\"\")","v":""},null,""]
[null,null,{"$f":"IF(B1100<>\"\",VLOOKUP(B1100,[1]Desplegables!$BA$2:$BB$19,2,FALSE),\"\")","v":""},null,""]
[null,null,{"$f":"IF(B1101<>\"\",VLOOKUP(B1101,[1]Desplegables!$BA$2:$BB$19,2,FALSE),\"\")","v":""},null,""]
[null,null,{"$f":"IF(B1102<>\"\",VLOOKUP(B1102,[1]Desplegables!$BA$2:$BB$19,2,FALSE),\"\")","v":""},null,""]
[null,null,{"$f":"IF(B1103<>\"\",VLOOKUP(B1103,[1]Desplegables!$BA$2:$BB$19,2,FALSE),\"\")","v":""},null,""]
[null,null,{"$f":"IF(B1104<>\"\",VLOOKUP(B1104,[1]Desplegables!$BA$2:$BB$19,2,FALSE),\"\")","v":""},null,""]
[null,null,{"$f":"IF(B1105<>\"\",VLOOKUP(B1105,[1]Desplegables!$BA$2:$BB$19,2,FALSE),\"\")","v":""},null,""]
[null,null,{"$f":"IF(B1106<>\"\",VLOOKUP(B1106,[1]Desplegables!$BA$2:$BB$19,2,FALSE),\"\")","v":""},null,""]
[null,null,{"$f":"IF(B1107<>\"\",VLOOKUP(B1107,[1]Desplegables!$BA$2:$BB$19,2,FALSE),\"\")","v":""},null,""]
[null,null,{"$f":"IF(B1108<>\"\",VLOOKUP(B1108,[1]Desplegables!$BA$2:$BB$19,2,FALSE),\"\")","v":""},null,""]
[null,null,{"$f":"IF(B1109<>\"\",VLOOKUP(B1109,[1]Desplegables!$BA$2:$BB$19,2,FALSE),\"\")","v":""},null,""]
[null,null,{"$f":"IF(B1110<>\"\",VLOOKUP(B1110,[1]Desplegables!$BA$2:$BB$19,2,FALSE),\"\")","v":""},null,""]
[null,null,{"$f":"IF(B1111<>\"\",VLOOKUP(B1111,[1]Desplegables!$BA$2:$BB$19,2,FALSE),\"\")","v":""},null,""]
[null,null,{"$f":"IF(B1112<>\"\",VLOOKUP(B1112,[1]Desplegables!$BA$2:$BB$19,2,FALSE),\"\")","v":""},null,""]
[null,null,{"$f":"IF(B1113<>\"\",VLOOKUP(B1113,[1]Desplegables!$BA$2:$BB$19,2,FALSE),\"\")","v":""},null,""]
[null,null,{"$f":"IF(B1114<>\"\",VLOOKUP(B1114,[1]Desplegables!$BA$2:$BB$19,2,FALSE),\"\")","v":""},null,""]
[null,null,{"$f":"IF(B1115<>\"\",VLOOKUP(B1115,[1]Desplegables!$BA$2:$BB$19,2,FALSE),\"\")","v":""},null,""]
[null,null,{"$f":"IF(B1116<>\"\",VLOOKUP(B1116,[1]Desplegables!$BA$2:$BB$19,2,FALSE),\"\")","v":""},null,""]
[null,null,{"$f":"IF(B1117<>\"\",VLOOKUP(B1117,[1]Desplegables!$BA$2:$BB$19,2,FALSE),\"\")","v":""},null,""]
[null,null,{"$f":"IF(B1118<>\"\",VLOOKUP(B1118,[1]Desplegables!$BA$2:$BB$19,2,FALSE),\"\")","v":""},null,""]
[null,null,{"$f":"IF(B1119<>\"\",VLOOKUP(B1119,[1]Desplegables!$BA$2:$BB$19,2,FALSE),\"\")","v":""},null,""]
[null,null,{"$f":"IF(B1120<>\"\",VLOOKUP(B1120,[1]Desplegables!$BA$2:$BB$19,2,FALSE),\"\")","v":""},null,""]
[null,null,{"$f":"IF(B1121<>\"\",VLOOKUP(B1121,[1]Desplegables!$BA$2:$BB$19,2,FALSE),\"\")","v":""},null,""]
[null,null,{"$f":"IF(B1122<>\"\",VLOOKUP(B1122,[1]Desplegables!$BA$2:$BB$19,2,FALSE),\"\")","v":""},null,""]
[null,null,{"$f":"IF(B1123<>\"\",VLOOKUP(B1123,[1]Desplegables!$BA$2:$BB$19,2,FALSE),\"\")","v":""},null,""]
[null,null,{"$f":"IF(B1124<>\"\",VLOOKUP(B1124,[1]Desplegables!$BA$2:$BB$19,2,FALSE),\"\")","v":""},null,""]
[null,null,{"$f":"IF(B1125<>\"\",VLOOKUP(B1125,[1]Desplegables!$BA$2:$BB$19,2,FALSE),\"\")","v":""},null,""]
[null,null,{"$f":"IF(B1126<>\"\",VLOOKUP(B1126,[1]Desplegables!$BA$2:$BB$19,2,FALSE),\"\")","v":""},null,""]
[null,null,{"$f":"IF(B1127<>\"\",VLOOKUP(B1127,[1]Desplegables!$BA$2:$BB$19,2,FALSE),\"\")","v":""},null,""]
[null,null,{"$f":"IF(B1128<>\"\",VLOOKUP(B1128,[1]Desplegables!$BA$2:$BB$19,2,FALSE),\"\")","v":""},null,""]
[null,null,{"$f":"IF(B1129<>\"\",VLOOKUP(B1129,[1]Desplegables!$BA$2:$BB$19,2,FALSE),\"\")","v":""},null,""]
[null,null,{"$f":"IF(B1130<>\"\",VLOOKUP(B1130,[1]Desplegables!$BA$2:$BB$19,2,FALSE),\"\")","v":""},null,""]
[null,null,{"$f":"IF(B1131<>\"\",VLOOKUP(B1131,[1]Desplegables!$BA$2:$BB$19,2,FALSE),\"\")","v":""},null,""]
[null,null,{"$f":"IF(B1132<>\"\",VLOOKUP(B1132,[1]Desplegables!$BA$2:$BB$19,2,FALSE),\"\")","v":""},null,""]
[null,null,{"$f":"IF(B1133<>\"\",VLOOKUP(B1133,[1]Desplegables!$BA$2:$BB$19,2,FALSE),\"\")","v":""},null,""]
[null,null,{"$f":"IF(B1134<>\"\",VLOOKUP(B1134,[1]Desplegables!$BA$2:$BB$19,2,FALSE),\"\")","v":""},null,""]
[null,null,{"$f":"IF(B1135<>\"\",VLOOKUP(B1135,[1]Desplegables!$BA$2:$BB$19,2,FALSE),\"\")","v":""},null,""]
[null,null,{"$f":"IF(B1136<>\"\",VLOOKUP(B1136,[1]Desplegables!$BA$2:$BB$19,2,FALSE),\"\")","v":""},null,""]
[null,null,{"$f":"IF(B1137<>\"\",VLOOKUP(B1137,[1]Desplegables!$BA$2:$BB$19,2,FALSE),\"\")","v":""},null,""]
[null,null,{"$f":"IF(B1138<>\"\",VLOOKUP(B1138,[1]Desplegables!$BA$2:$BB$19,2,FALSE),\"\")","v":""},null,""]
[null,null,{"$f":"IF(B1139<>\"\",VLOOKUP(B1139,[1]Desplegables!$BA$2:$BB$19,2,FALSE),\"\")","v":""},null,""]
[null,null,{"$f":"IF(B1140<>\"\",VLOOKUP(B1140,[1]Desplegables!$BA$2:$BB$19,2,FALSE),\"\")","v":""},null,""]
[null,null,{"$f":"IF(B1141<>\"\",VLOOKUP(B1141,[1]Desplegables!$BA$2:$BB$19,2,FALSE),\"\")","v":""},null,""]
[null,null,{"$f":"IF(B1142<>\"\",VLOOKUP(B1142,[1]Desplegables!$BA$2:$BB$19,2,FALSE),\"\")","v":""},null,""]
[null,null,{"$f":"IF(B1143<>\"\",VLOOKUP(B1143,[1]Desplegables!$BA$2:$BB$19,2,FALSE),\"\")","v":""},null,""]
[null,null,{"$f":"IF(B1144<>\"\",VLOOKUP(B1144,[1]Desplegables!$BA$2:$BB$19,2,FALSE),\"\")","v":""},null,""]
[null,null,{"$f":"IF(B1145<>\"\",VLOOKUP(B1145,[1]Desplegables!$BA$2:$BB$19,2,FALSE),\"\")","v":""},null,""]
[null,null,{"$f":"IF(B1146<>\"\",VLOOKUP(B1146,[1]Desplegables!$BA$2:$BB$19,2,FALSE),\"\")","v":""},null,""]
[null,null,{"$f":"IF(B1147<>\"\",VLOOKUP(B1147,[1]Desplegables!$BA$2:$BB$19,2,FALSE),\"\")","v":""},null,""]
[null,null,{"$f":"IF(B1148<>\"\",VLOOKUP(B1148,[1]Desplegables!$BA$2:$BB$19,2,FALSE),\"\")","v":""},null,""]
[null,null,{"$f":"IF(B1149<>\"\",VLOOKUP(B1149,[1]Desplegables!$BA$2:$BB$19,2,FALSE),\"\")","v":""},null,""]
[null,null,{"$f":"IF(B1150<>\"\",VLOOKUP(B1150,[1]Desplegables!$BA$2:$BB$19,2,FALSE),\"\")","v":""},null,""]
[null,null,{"$f":"IF(B1151<>\"\",VLOOKUP(B1151,[1]Desplegables!$BA$2:$BB$19,2,FALSE),\"\")","v":""},null,""]
[null,null,{"$f":"IF(B1152<>\"\",VLOOKUP(B1152,[1]Desplegables!$BA$2:$BB$19,2,FALSE),\"\")","v":""},null,""]
[null,null,{"$f":"IF(B1153<>\"\",VLOOKUP(B1153,[1]Desplegables!$BA$2:$BB$19,2,FALSE),\"\")","v":""},null,""]
[null,null,{"$f":"IF(B1154<>\"\",VLOOKUP(B1154,[1]Desplegables!$BA$2:$BB$19,2,FALSE),\"\")","v":""},null,""]
[null,null,{"$f":"IF(B1155<>\"\",VLOOKUP(B1155,[1]Desplegables!$BA$2:$BB$19,2,FALSE),\"\")","v":""},null,""]
[null,null,{"$f":"IF(B1156<>\"\",VLOOKUP(B1156,[1]Desplegables!$BA$2:$BB$19,2,FALSE),\"\")","v":""},null,""]
[null,null,{"$f":"IF(B1157<>\"\",VLOOKUP(B1157,[1]Desplegables!$BA$2:$BB$19,2,FALSE),\"\")","v":""},null,{"$f":"IF(C1157<>\"\",D1157/C1157,\"\")","v":""}]
[null,null,{"$f":"IF(B1158<>\"\",VLOOKUP(B1158,[1]Desplegables!$BA$2:$BB$19,2,FALSE),\"\")","v":""},null,""]
[null,null,{"$f":"IF(B1159<>\"\",VLOOKUP(B1159,[1]Desplegables!$BA$2:$BB$19,2,FALSE),\"\")","v":""},null,""]
[null,null,{"$f":"IF(B1160<>\"\",VLOOKUP(B1160,[1]Desplegables!$BA$2:$BB$19,2,FALSE),\"\")","v":""},null,""]
[null,null,{"$f":"IF(B1161<>\"\",VLOOKUP(B1161,[1]Desplegables!$BA$2:$BB$19,2,FALSE),\"\")","v":""},null,""]
[null,null,{"$f":"IF(B1162<>\"\",VLOOKUP(B1162,[1]Desplegables!$BA$2:$BB$19,2,FALSE),\"\")","v":""},null,""]
[null,null,{"$f":"IF(B1163<>\"\",VLOOKUP(B1163,[1]Desplegables!$BA$2:$BB$19,2,FALSE),\"\")","v":""},null,""]
[null,null,{"$f":"IF(B1164<>\"\",VLOOKUP(B1164,[1]Desplegables!$BA$2:$BB$19,2,FALSE),\"\")","v":""},null,""]
[null,null,{"$f":"IF(B1165<>\"\",VLOOKUP(B1165,[1]Desplegables!$BA$2:$BB$19,2,FALSE),\"\")","v":""},null,""]
[null,null,{"$f":"IF(B1166<>\"\",VLOOKUP(B1166,[1]Desplegables!$BA$2:$BB$19,2,FALSE),\"\")","v":""},null,""]
[null,null,{"$f":"IF(B1167<>\"\",VLOOKUP(B1167,[1]Desplegables!$BA$2:$BB$19,2,FALSE),\"\")","v":""},null,""]
[null,null,{"$f":"IF(B1168<>\"\",VLOOKUP(B1168,[1]Desplegables!$BA$2:$BB$19,2,FALSE),\"\")","v":""},null,""]
[null,null,{"$f":"IF(B1169<>\"\",VLOOKUP(B1169,[1]Desplegables!$BA$2:$BB$19,2,FALSE),\"\")","v":""},null,""]
[null,null,{"$f":"IF(B1170<>\"\",VLOOKUP(B1170,[1]Desplegables!$BA$2:$BB$19,2,FALSE),\"\")","v":""},null,""]
[null,null,{"$f":"IF(B1171<>\"\",VLOOKUP(B1171,[1]Desplegables!$BA$2:$BB$19,2,FALSE),\"\")","v":""},null,""]
[null,null,{"$f":"IF(B1172<>\"\",VLOOKUP(B1172,[1]Desplegables!$BA$2:$BB$19,2,FALSE),\"\")","v":""},null,""]
[null,null,{"$f":"IF(B1173<>\"\",VLOOKUP(B1173,[1]Desplegables!$BA$2:$BB$19,2,FALSE),\"\")","v":""},null,""]
[null,null,{"$f":"IF(B1174<>\"\",VLOOKUP(B1174,[1]Desplegables!$BA$2:$BB$19,2,FALSE),\"\")","v":""},null,""]
[null,null,{"$f":"IF(B1175<>\"\",VLOOKUP(B1175,[1]Desplegables!$BA$2:$BB$19,2,FALSE),\"\")","v":""},null,""]
[null,null,{"$f":"IF(B1176<>\"\",VLOOKUP(B1176,[1]Desplegables!$BA$2:$BB$19,2,FALSE),\"\")","v":""},null,""]
[null,null,{"$f":"IF(B1177<>\"\",VLOOKUP(B1177,[1]Desplegables!$BA$2:$BB$19,2,FALSE),\"\")","v":""},null,""]
[null,null,{"$f":"IF(B1178<>\"\",VLOOKUP(B1178,[1]Desplegables!$BA$2:$BB$19,2,FALSE),\"\")","v":""},null,""]
[null,null,{"$f":"IF(B1179<>\"\",VLOOKUP(B1179,[1]Desplegables!$BA$2:$BB$19,2,FALSE),\"\")","v":""},null,""]
[null,null,{"$f":"IF(B1180<>\"\",VLOOKUP(B1180,[1]Desplegables!$BA$2:$BB$19,2,FALSE),\"\")","v":""},null,""]
[null,null,{"$f":"IF(B1181<>\"\",VLOOKUP(B1181,[1]Desplegables!$BA$2:$BB$19,2,FALSE),\"\")","v":""},null,""]
[null,null,{"$f":"IF(B1182<>\"\",VLOOKUP(B1182,[1]Desplegables!$BA$2:$BB$19,2,FALSE),\"\")","v":""},null,""]
[null,null,{"$f":"IF(B1183<>\"\",VLOOKUP(B1183,[1]Desplegables!$BA$2:$BB$19,2,FALSE),\"\")","v":""},null,""]
[null,null,{"$f":"IF(B1184<>\"\",VLOOKUP(B1184,[1]Desplegables!$BA$2:$BB$19,2,FALSE),\"\")","v":""},null,""]
[null,null,{"$f":"IF(B1185<>\"\",VLOOKUP(B1185,[1]Desplegables!$BA$2:$BB$19,2,FALSE),\"\")","v":""},null,""]
[null,null,{"$f":"IF(B1186<>\"\",VLOOKUP(B1186,[1]Desplegables!$BA$2:$BB$19,2,FALSE),\"\")","v":""},null,""]
[null,null,{"$f":"IF(B1187<>\"\",VLOOKUP(B1187,[1]Desplegables!$BA$2:$BB$19,2,FALSE),\"\")","v":""},null,""]
[null,null,{"$f":"IF(B1188<>\"\",VLOOKUP(B1188,[1]Desplegables!$BA$2:$BB$19,2,FALSE),\"\")","v":""},null,""]
[null,null,{"$f":"IF(B1189<>\"\",VLOOKUP(B1189,[1]Desplegables!$BA$2:$BB$19,2,FALSE),\"\")","v":""},null,""]
[null,null,{"$f":"IF(B1190<>\"\",VLOOKUP(B1190,[1]Desplegables!$BA$2:$BB$19,2,FALSE),\"\")","v":""},null,""]
[null,null,{"$f":"IF(B1191<>\"\",VLOOKUP(B1191,[1]Desplegables!$BA$2:$BB$19,2,FALSE),\"\")","v":""},null,""]
[null,null,{"$f":"IF(B1192<>\"\",VLOOKUP(B1192,[1]Desplegables!$BA$2:$BB$19,2,FALSE),\"\")","v":""},null,""]
[null,null,{"$f":"IF(B1193<>\"\",VLOOKUP(B1193,[1]Desplegables!$BA$2:$BB$19,2,FALSE),\"\")","v":""},null,""]
[null,null,{"$f":"IF(B1194<>\"\",VLOOKUP(B1194,[1]Desplegables!$BA$2:$BB$19,2,FALSE),\"\")","v":""},null,""]
[null,null,{"$f":"IF(B1195<>\"\",VLOOKUP(B1195,[1]Desplegables!$BA$2:$BB$19,2,FALSE),\"\")","v":""},null,""]
[null,null,{"$f":"IF(B1196<>\"\",VLOOKUP(B1196,[1]Desplegables!$BA$2:$BB$19,2,FALSE),\"\")","v":""},null,""]
[null,null,{"$f":"IF(B1197<>\"\",VLOOKUP(B1197,[1]Desplegables!$BA$2:$BB$19,2,FALSE),\"\")","v":""},null,""]
[null,null,{"$f":"IF(B1198<>\"\",VLOOKUP(B1198,[1]Desplegables!$BA$2:$BB$19,2,FALSE),\"\")","v":""},null,""]
[null,null,{"$f":"IF(B1199<>\"\",VLOOKUP(B1199,[1]Desplegables!$BA$2:$BB$19,2,FALSE),\"\")","v":""},null,""]
[null,null,{"$f":"IF(B1200<>\"\",VLOOKUP(B1200,[1]Desplegables!$BA$2:$BB$19,2,FALSE),\"\")","v":""},null,""]
[null,null,{"$f":"IF(B1201<>\"\",VLOOKUP(B1201,[1]Desplegables!$BA$2:$BB$19,2,FALSE),\"\")","v":""},null,""]
[null,null,{"$f":"IF(B1202<>\"\",VLOOKUP(B1202,[1]Desplegables!$BA$2:$BB$19,2,FALSE),\"\")","v":""},null,""]
[null,null,{"$f":"IF(B1203<>\"\",VLOOKUP(B1203,[1]Desplegables!$BA$2:$BB$19,2,FALSE),\"\")","v":""},null,""]
[null,null,{"$f":"IF(B1204<>\"\",VLOOKUP(B1204,[1]Desplegables!$BA$2:$BB$19,2,FALSE),\"\")","v":""},null,""]
[null,null,{"$f":"IF(B1205<>\"\",VLOOKUP(B1205,[1]Desplegables!$BA$2:$BB$19,2,FALSE),\"\")","v":""},null,""]
[null,null,{"$f":"IF(B1206<>\"\",VLOOKUP(B1206,[1]Desplegables!$BA$2:$BB$19,2,FALSE),\"\")","v":""},null,""]
[null,null,{"$f":"IF(B1207<>\"\",VLOOKUP(B1207,[1]Desplegables!$BA$2:$BB$19,2,FALSE),\"\")","v":""},null,""]
[null,null,{"$f":"IF(B1208<>\"\",VLOOKUP(B1208,[1]Desplegables!$BA$2:$BB$19,2,FALSE),\"\")","v":""},null,""]
[null,null,{"$f":"IF(B1209<>\"\",VLOOKUP(B1209,[1]Desplegables!$BA$2:$BB$19,2,FALSE),\"\")","v":""},null,""]
[null,null,{"$f":"IF(B1210<>\"\",VLOOKUP(B1210,[1]Desplegables!$BA$2:$BB$19,2,FALSE),\"\")","v":""},null,""]
[null,null,{"$f":"IF(B1211<>\"\",VLOOKUP(B1211,[1]Desplegables!$BA$2:$BB$19,2,FALSE),\"\")","v":""},null,""]
[null,null,{"$f":"IF(B1212<>\"\",VLOOKUP(B1212,[1]Desplegables!$BA$2:$BB$19,2,FALSE),\"\")","v":""},null,""]
[null,null,{"$f":"IF(B1213<>\"\",VLOOKUP(B1213,[1]Desplegables!$BA$2:$BB$19,2,FALSE),\"\")","v":""},null,""]
[null,null,{"$f":"IF(B1214<>\"\",VLOOKUP(B1214,[1]Desplegables!$BA$2:$BB$19,2,FALSE),\"\")","v":""},null,""]
[null,null,{"$f":"IF(B1215<>\"\",VLOOKUP(B1215,[1]Desplegables!$BA$2:$BB$19,2,FALSE),\"\")","v":""},null,""]
[null,null,{"$f":"IF(B1216<>\"\",VLOOKUP(B1216,[1]Desplegables!$BA$2:$BB$19,2,FALSE),\"\")","v":""},null,""]
[null,null,{"$f":"IF(B1217<>\"\",VLOOKUP(B1217,[1]Desplegables!$BA$2:$BB$19,2,FALSE),\"\")","v":""},null,""]
[null,null,{"$f":"IF(B1218<>\"\",VLOOKUP(B1218,[1]Desplegables!$BA$2:$BB$19,2,FALSE),\"\")","v":""},null,""]
[null,null,{"$f":"IF(B1219<>\"\",VLOOKUP(B1219,[1]Desplegables!$BA$2:$BB$19,2,FALSE),\"\")","v":""},null,""]
[null,null,{"$f":"IF(B1220<>\"\",VLOOKUP(B1220,[1]Desplegables!$BA$2:$BB$19,2,FALSE),\"\")","v":""},null,""]
[null,null,{"$f":"IF(B1221<>\"\",VLOOKUP(B1221,[1]Desplegables!$BA$2:$BB$19,2,FALSE),\"\")","v":""},null,{"$f":"IF(C1221<>\"\",D1221/C1221,\"\")","v":""}]
[null,null,{"$f":"IF(B1222<>\"\",VLOOKUP(B1222,[1]Desplegables!$BA$2:$BB$19,2,FALSE),\"\")","v":""},null,""]
[null,null,{"$f":"IF(B1223<>\"\",VLOOKUP(B1223,[1]Desplegables!$BA$2:$BB$19,2,FALSE),\"\")","v":""},null,""]
[null,null,{"$f":"IF(B1224<>\"\",VLOOKUP(B1224,[1]Desplegables!$BA$2:$BB$19,2,FALSE),\"\")","v":""},null,""]
[null,null,{"$f":"IF(B1225<>\"\",VLOOKUP(B1225,[1]Desplegables!$BA$2:$BB$19,2,FALSE),\"\")","v":""},null,""]
[null,null,{"$f":"IF(B1226<>\"\",VLOOKUP(B1226,[1]Desplegables!$BA$2:$BB$19,2,FALSE),\"\")","v":""},null,""]
[null,null,{"$f":"IF(B1227<>\"\",VLOOKUP(B1227,[1]Desplegables!$BA$2:$BB$19,2,FALSE),\"\")","v":""},null,""]
[null,null,{"$f":"IF(B1228<>\"\",VLOOKUP(B1228,[1]Desplegables!$BA$2:$BB$19,2,FALSE),\"\")","v":""},null,""]
[null,null,{"$f":"IF(B1229<>\"\",VLOOKUP(B1229,[1]Desplegables!$BA$2:$BB$19,2,FALSE),\"\")","v":""},null,""]
[null,null,{"$f":"IF(B1230<>\"\",VLOOKUP(B1230,[1]Desplegables!$BA$2:$BB$19,2,FALSE),\"\")","v":""},null,""]
[null,null,{"$f":"IF(B1231<>\"\",VLOOKUP(B1231,[1]Desplegables!$BA$2:$BB$19,2,FALSE),\"\")","v":""},null,""]
[null,null,{"$f":"IF(B1232<>\"\",VLOOKUP(B1232,[1]Desplegables!$BA$2:$BB$19,2,FALSE),\"\")","v":""},null,""]
[null,null,{"$f":"IF(B1233<>\"\",VLOOKUP(B1233,[1]Desplegables!$BA$2:$BB$19,2,FALSE),\"\")","v":""},null,""]
[null,null,{"$f":"IF(B1234<>\"\",VLOOKUP(B1234,[1]Desplegables!$BA$2:$BB$19,2,FALSE),\"\")","v":""},null,""]
[null,null,{"$f":"IF(B1235<>\"\",VLOOKUP(B1235,[1]Desplegables!$BA$2:$BB$19,2,FALSE),\"\")","v":""},null,""]
[null,null,{"$f":"IF(B1236<>\"\",VLOOKUP(B1236,[1]Desplegables!$BA$2:$BB$19,2,FALSE),\"\")","v":""},null,""]
[null,null,{"$f":"IF(B1237<>\"\",VLOOKUP(B1237,[1]Desplegables!$BA$2:$BB$19,2,FALSE),\"\")","v":""},null,""]
[null,null,{"$f":"IF(B1238<>\"\",VLOOKUP(B1238,[1]Desplegables!$BA$2:$BB$19,2,FALSE),\"\")","v":""},null,""]
[null,null,{"$f":"IF(B1239<>\"\",VLOOKUP(B1239,[1]Desplegables!$BA$2:$BB$19,2,FALSE),\"\")","v":""},null,""]
[null,null,{"$f":"IF(B1240<>\"\",VLOOKUP(B1240,[1]Desplegables!$BA$2:$BB$19,2,FALSE),\"\")","v":""},null,""]
[null,null,{"$f":"IF(B1241<>\"\",VLOOKUP(B1241,[1]Desplegables!$BA$2:$BB$19,2,FALSE),\"\")","v":""},null,""]
[null,null,{"$f":"IF(B1242<>\"\",VLOOKUP(B1242,[1]Desplegables!$BA$2:$BB$19,2,FALSE),\"\")","v":""},null,""]
[null,null,{"$f":"IF(B1243<>\"\",VLOOKUP(B1243,[1]Desplegables!$BA$2:$BB$19,2,FALSE),\"\")","v":""},null,""]
[null,null,{"$f":"IF(B1244<>\"\",VLOOKUP(B1244,[1]Desplegables!$BA$2:$BB$19,2,FALSE),\"\")","v":""},null,""]
[null,null,{"$f":"IF(B1245<>\"\",VLOOKUP(B1245,[1]Desplegables!$BA$2:$BB$19,2,FALSE),\"\")","v":""},null,""]
[null,null,{"$f":"IF(B1246<>\"\",VLOOKUP(B1246,[1]Desplegables!$BA$2:$BB$19,2,FALSE),\"\")","v":""},null,""]
[null,null,{"$f":"IF(B1247<>\"\",VLOOKUP(B1247,[1]Desplegables!$BA$2:$BB$19,2,FALSE),\"\")","v":""},null,""]
[null,null,{"$f":"IF(B1248<>\"\",VLOOKUP(B1248,[1]Desplegables!$BA$2:$BB$19,2,FALSE),\"\")","v":""},null,""]
[null,null,{"$f":"IF(B1249<>\"\",VLOOKUP(B1249,[1]Desplegables!$BA$2:$BB$19,2,FALSE),\"\")","v":""},null,""]
[null,null,{"$f":"IF(B1250<>\"\",VLOOKUP(B1250,[1]Desplegables!$BA$2:$BB$19,2,FALSE),\"\")","v":""},null,""]
[null,null,{"$f":"IF(B1251<>\"\",VLOOKUP(B1251,[1]Desplegables!$BA$2:$BB$19,2,FALSE),\"\")","v":""},null,""]
[null,null,{"$f":"IF(B1252<>\"\",VLOOKUP(B1252,[1]Desplegables!$BA$2:$BB$19,2,FALSE),\"\")","v":""},null,""]
[null,null,{"$f":"IF(B1253<>\"\",VLOOKUP(B1253,[1]Desplegables!$BA$2:$BB$19,2,FALSE),\"\")","v":""},null,""]
[null,null,{"$f":"IF(B1254<>\"\",VLOOKUP(B1254,[1]Desplegables!$BA$2:$BB$19,2,FALSE),\"\")","v":""},null,""]
[null,null,{"$f":"IF(B1255<>\"\",VLOOKUP(B1255,[1]Desplegables!$BA$2:$BB$19,2,FALSE),\"\")","v":""},null,""]
[null,null,{"$f":"IF(B1256<>\"\",VLOOKUP(B1256,[1]Desplegables!$BA$2:$BB$19,2,FALSE),\"\")","v":""},null,""]
[null,null,{"$f":"IF(B1257<>\"\",VLOOKUP(B1257,[1]Desplegables!$BA$2:$BB$19,2,FALSE),\"\")","v":""},null,""]
[null,null,{"$f":"IF(B1258<>\"\",VLOOKUP(B1258,[1]Desplegables!$BA$2:$BB$19,2,FALSE),\"\")","v":""},null,""]
[null,null,{"$f":"IF(B1259<>\"\",VLOOKUP(B1259,[1]Desplegables!$BA$2:$BB$19,2,FALSE),\"\")","v":""},null,""]
[null,null,{"$f":"IF(B1260<>\"\",VLOOKUP(B1260,[1]Desplegables!$BA$2:$BB$19,2,FALSE),\"\")","v":""},null,""]
[null,null,{"$f":"IF(B1261<>\"\",VLOOKUP(B1261,[1]Desplegables!$BA$2:$BB$19,2,FALSE),\"\")","v":""},null,""]
[null,null,{"$f":"IF(B1262<>\"\",VLOOKUP(B1262,[1]Desplegables!$BA$2:$BB$19,2,FALSE),\"\")","v":""},null,""]
[null,null,{"$f":"IF(B1263<>\"\",VLOOKUP(B1263,[1]Desplegables!$BA$2:$BB$19,2,FALSE),\"\")","v":""},null,""]
[null,null,{"$f":"IF(B1264<>\"\",VLOOKUP(B1264,[1]Desplegables!$BA$2:$BB$19,2,FALSE),\"\")","v":""},null,""]
[null,null,{"$f":"IF(B1265<>\"\",VLOOKUP(B1265,[1]Desplegables!$BA$2:$BB$19,2,FALSE),\"\")","v":""},null,""]
[null,null,{"$f":"IF(B1266<>\"\",VLOOKUP(B1266,[1]Desplegables!$BA$2:$BB$19,2,FALSE),\"\")","v":""},null,""]
[null,null,{"$f":"IF(B1267<>\"\",VLOOKUP(B1267,[1]Desplegables!$BA$2:$BB$19,2,FALSE),\"\")","v":""},null,""]
[null,null,{"$f":"IF(B1268<>\"\",VLOOKUP(B1268,[1]Desplegables!$BA$2:$BB$19,2,FALSE),\"\")","v":""},null,""]
[null,null,{"$f":"IF(B1269<>\"\",VLOOKUP(B1269,[1]Desplegables!$BA$2:$BB$19,2,FALSE),\"\")","v":""},null,""]
[null,null,{"$f":"IF(B1270<>\"\",VLOOKUP(B1270,[1]Desplegables!$BA$2:$BB$19,2,FALSE),\"\")","v":""},null,""]
[null,null,{"$f":"IF(B1271<>\"\",VLOOKUP(B1271,[1]Desplegables!$BA$2:$BB$19,2,FALSE),\"\")","v":""},null,""]
[null,null,{"$f":"IF(B1272<>\"\",VLOOKUP(B1272,[1]Desplegables!$BA$2:$BB$19,2,FALSE),\"\")","v":""},null,""]
[null,null,{"$f":"IF(B1273<>\"\",VLOOKUP(B1273,[1]Desplegables!$BA$2:$BB$19,2,FALSE),\"\")","v":""},null,""]
[null,null,{"$f":"IF(B1274<>\"\",VLOOKUP(B1274,[1]Desplegables!$BA$2:$BB$19,2,FALSE),\"\")","v":""},null,""]
[null,null,{"$f":"IF(B1275<>\"\",VLOOKUP(B1275,[1]Desplegables!$BA$2:$BB$19,2,FALSE),\"\")","v":""},null,""]
[null,null,{"$f":"IF(B1276<>\"\",VLOOKUP(B1276,[1]Desplegables!$BA$2:$BB$19,2,FALSE),\"\")","v":""},null,""]
[null,null,{"$f":"IF(B1277<>\"\",VLOOKUP(B1277,[1]Desplegables!$BA$2:$BB$19,2,FALSE),\"\")","v":""},null,""]
[null,null,{"$f":"IF(B1278<>\"\",VLOOKUP(B1278,[1]Desplegables!$BA$2:$BB$19,2,FALSE),\"\")","v":""},null,""]
[null,null,{"$f":"IF(B1279<>\"\",VLOOKUP(B1279,[1]Desplegables!$BA$2:$BB$19,2,FALSE),\"\")","v":""},null,""]
[null,null,{"$f":"IF(B1280<>\"\",VLOOKUP(B1280,[1]Desplegables!$BA$2:$BB$19,2,FALSE),\"\")","v":""},null,""]
[null,null,{"$f":"IF(B1281<>\"\",VLOOKUP(B1281,[1]Desplegables!$BA$2:$BB$19,2,FALSE),\"\")","v":""},null,""]
[null,null,{"$f":"IF(B1282<>\"\",VLOOKUP(B1282,[1]Desplegables!$BA$2:$BB$19,2,FALSE),\"\")","v":""},null,""]
[null,null,{"$f":"IF(B1283<>\"\",VLOOKUP(B1283,[1]Desplegables!$BA$2:$BB$19,2,FALSE),\"\")","v":""},null,""]
[null,null,{"$f":"IF(B1284<>\"\",VLOOKUP(B1284,[1]Desplegables!$BA$2:$BB$19,2,FALSE),\"\")","v":""},null,""]
[null,null,{"$f":"IF(B1285<>\"\",VLOOKUP(B1285,[1]Desplegables!$BA$2:$BB$19,2,FALSE),\"\")","v":""},null,{"$f":"IF(C1285<>\"\",D1285/C1285,\"\")","v":""}]
[null,null,{"$f":"IF(B1286<>\"\",VLOOKUP(B1286,[1]Desplegables!$BA$2:$BB$19,2,FALSE),\"\")","v":""},null,""]
[null,null,{"$f":"IF(B1287<>\"\",VLOOKUP(B1287,[1]Desplegables!$BA$2:$BB$19,2,FALSE),\"\")","v":""},null,""]
[null,null,{"$f":"IF(B1288<>\"\",VLOOKUP(B1288,[1]Desplegables!$BA$2:$BB$19,2,FALSE),\"\")","v":""},null,""]
[null,null,{"$f":"IF(B1289<>\"\",VLOOKUP(B1289,[1]Desplegables!$BA$2:$BB$19,2,FALSE),\"\")","v":""},null,""]
[null,null,{"$f":"IF(B1290<>\"\",VLOOKUP(B1290,[1]Desplegables!$BA$2:$BB$19,2,FALSE),\"\")","v":""},null,""]
[null,null,{"$f":"IF(B1291<>\"\",VLOOKUP(B1291,[1]Desplegables!$BA$2:$BB$19,2,FALSE),\"\")","v":""},null,""]
[null,null,{"$f":"IF(B1292<>\"\",VLOOKUP(B1292,[1]Desplegables!$BA$2:$BB$19,2,FALSE),\"\")","v":""},null,""]
[null,null,{"$f":"IF(B1293<>\"\",VLOOKUP(B1293,[1]Desplegables!$BA$2:$BB$19,2,FALSE),\"\")","v":""},null,""]
[null,null,{"$f":"IF(B1294<>\"\",VLOOKUP(B1294,[1]Desplegables!$BA$2:$BB$19,2,FALSE),\"\")","v":""},null,""]
[null,null,{"$f":"IF(B1295<>\"\",VLOOKUP(B1295,[1]Desplegables!$BA$2:$BB$19,2,FALSE),\"\")","v":""},null,""]
[null,null,{"$f":"IF(B1296<>\"\",VLOOKUP(B1296,[1]Desplegables!$BA$2:$BB$19,2,FALSE),\"\")","v":""},null,""]
[null,null,{"$f":"IF(B1297<>\"\",VLOOKUP(B1297,[1]Desplegables!$BA$2:$BB$19,2,FALSE),\"\")","v":""},null,""]
[null,null,{"$f":"IF(B1298<>\"\",VLOOKUP(B1298,[1]Desplegables!$BA$2:$BB$19,2,FALSE),\"\")","v":""},null,""]
[null,null,{"$f":"IF(B1299<>\"\",VLOOKUP(B1299,[1]Desplegables!$BA$2:$BB$19,2,FALSE),\"\")","v":""},null,""]
[null,null,{"$f":"IF(B1300<>\"\",VLOOKUP(B1300,[1]Desplegables!$BA$2:$BB$19,2,FALSE),\"\")","v":""},null,""]
[null,null,{"$f":"IF(B1301<>\"\",VLOOKUP(B1301,[1]Desplegables!$BA$2:$BB$19,2,FALSE),\"\")","v":""},null,""]
[null,null,{"$f":"IF(B1302<>\"\",VLOOKUP(B1302,[1]Desplegables!$BA$2:$BB$19,2,FALSE),\"\")","v":""},null,""]
[null,null,{"$f":"IF(B1303<>\"\",VLOOKUP(B1303,[1]Desplegables!$BA$2:$BB$19,2,FALSE),\"\")","v":""},null,""]
[null,null,{"$f":"IF(B1304<>\"\",VLOOKUP(B1304,[1]Desplegables!$BA$2:$BB$19,2,FALSE),\"\")","v":""},null,""]
[null,null,{"$f":"IF(B1305<>\"\",VLOOKUP(B1305,[1]Desplegables!$BA$2:$BB$19,2,FALSE),\"\")","v":""},null,""]
[null,null,{"$f":"IF(B1306<>\"\",VLOOKUP(B1306,[1]Desplegables!$BA$2:$BB$19,2,FALSE),\"\")","v":""},null,""]
[null,null,{"$f":"IF(B1307<>\"\",VLOOKUP(B1307,[1]Desplegables!$BA$2:$BB$19,2,FALSE),\"\")","v":""},null,""]
[null,null,{"$f":"IF(B1308<>\"\",VLOOKUP(B1308,[1]Desplegables!$BA$2:$BB$19,2,FALSE),\"\")","v":""},null,""]
[null,null,{"$f":"IF(B1309<>\"\",VLOOKUP(B1309,[1]Desplegables!$BA$2:$BB$19,2,FALSE),\"\")","v":""},null,""]
[null,null,{"$f":"IF(B1310<>\"\",VLOOKUP(B1310,[1]Desplegables!$BA$2:$BB$19,2,FALSE),\"\")","v":""},null,""]
[null,null,{"$f":"IF(B1311<>\"\",VLOOKUP(B1311,[1]Desplegables!$BA$2:$BB$19,2,FALSE),\"\")","v":""},null,""]
[null,null,{"$f":"IF(B1312<>\"\",VLOOKUP(B1312,[1]Desplegables!$BA$2:$BB$19,2,FALSE),\"\")","v":""},null,""]
[null,null,{"$f":"IF(B1313<>\"\",VLOOKUP(B1313,[1]Desplegables!$BA$2:$BB$19,2,FALSE),\"\")","v":""},null,""]
[null,null,{"$f":"IF(B1314<>\"\",VLOOKUP(B1314,[1]Desplegables!$BA$2:$BB$19,2,FALSE),\"\")","v":""},null,""]
[null,null,{"$f":"IF(B1315<>\"\",VLOOKUP(B1315,[1]Desplegables!$BA$2:$BB$19,2,FALSE),\"\")","v":""},null,""]
[null,null,{"$f":"IF(B1316<>\"\",VLOOKUP(B1316,[1]Desplegables!$BA$2:$BB$19,2,FALSE),\"\")","v":""},null,""]
[null,null,{"$f":"IF(B1317<>\"\",VLOOKUP(B1317,[1]Desplegables!$BA$2:$BB$19,2,FALSE),\"\")","v":""},null,""]
[null,null,{"$f":"IF(B1318<>\"\",VLOOKUP(B1318,[1]Desplegables!$BA$2:$BB$19,2,FALSE),\"\")","v":""},null,""]
[null,null,{"$f":"IF(B1319<>\"\",VLOOKUP(B1319,[1]Desplegables!$BA$2:$BB$19,2,FALSE),\"\")","v":""},null,""]
[null,null,{"$f":"IF(B1320<>\"\",VLOOKUP(B1320,[1]Desplegables!$BA$2:$BB$19,2,FALSE),\"\")","v":""},null,""]
[null,null,{"$f":"IF(B1321<>\"\",VLOOKUP(B1321,[1]Desplegables!$BA$2:$BB$19,2,FALSE),\"\")","v":""},null,""]
[null,null,{"$f":"IF(B1322<>\"\",VLOOKUP(B1322,[1]Desplegables!$BA$2:$BB$19,2,FALSE),\"\")","v":""},null,""]
[null,null,{"$f":"IF(B1323<>\"\",VLOOKUP(B1323,[1]Desplegables!$BA$2:$BB$19,2,FALSE),\"\")","v":""},null,""]
[null,null,{"$f":"IF(B1324<>\"\",VLOOKUP(B1324,[1]Desplegables!$BA$2:$BB$19,2,FALSE),\"\")","v":""},null,""]
[null,null,{"$f":"IF(B1325<>\"\",VLOOKUP(B1325,[1]Desplegables!$BA$2:$BB$19,2,FALSE),\"\")","v":""},null,""]
[null,null,{"$f":"IF(B1326<>\"\",VLOOKUP(B1326,[1]Desplegables!$BA$2:$BB$19,2,FALSE),\"\")","v":""},null,""]
[null,null,{"$f":"IF(B1327<>\"\",VLOOKUP(B1327,[1]Desplegables!$BA$2:$BB$19,2,FALSE),\"\")","v":""},null,""]
[null,null,{"$f":"IF(B1328<>\"\",VLOOKUP(B1328,[1]Desplegables!$BA$2:$BB$19,2,FALSE),\"\")","v":""},null,""]
[null,null,{"$f":"IF(B1329<>\"\",VLOOKUP(B1329,[1]Desplegables!$BA$2:$BB$19,2,FALSE),\"\")","v":""},null,""]
[null,null,{"$f":"IF(B1330<>\"\",VLOOKUP(B1330,[1]Desplegables!$BA$2:$BB$19,2,FALSE),\"\")","v":""},null,""]
[null,null,{"$f":"IF(B1331<>\"\",VLOOKUP(B1331,[1]Desplegables!$BA$2:$BB$19,2,FALSE),\"\")","v":""},null,""]
[null,null,{"$f":"IF(B1332<>\"\",VLOOKUP(B1332,[1]Desplegables!$BA$2:$BB$19,2,FALSE),\"\")","v":""},null,""]
[null,null,{"$f":"IF(B1333<>\"\",VLOOKUP(B1333,[1]Desplegables!$BA$2:$BB$19,2,FALSE),\"\")","v":""},null,""]
[null,null,{"$f":"IF(B1334<>\"\",VLOOKUP(B1334,[1]Desplegables!$BA$2:$BB$19,2,FALSE),\"\")","v":""},null,""]
[null,null,{"$f":"IF(B1335<>\"\",VLOOKUP(B1335,[1]Desplegables!$BA$2:$BB$19,2,FALSE),\"\")","v":""},null,""]
[null,null,{"$f":"IF(B1336<>\"\",VLOOKUP(B1336,[1]Desplegables!$BA$2:$BB$19,2,FALSE),\"\")","v":""},null,""]
[null,null,{"$f":"IF(B1337<>\"\",VLOOKUP(B1337,[1]Desplegables!$BA$2:$BB$19,2,FALSE),\"\")","v":""},null,""]
[null,null,{"$f":"IF(B1338<>\"\",VLOOKUP(B1338,[1]Desplegables!$BA$2:$BB$19,2,FALSE),\"\")","v":""},null,""]
[null,null,{"$f":"IF(B1339<>\"\",VLOOKUP(B1339,[1]Desplegables!$BA$2:$BB$19,2,FALSE),\"\")","v":""},null,""]
[null,null,{"$f":"IF(B1340<>\"\",VLOOKUP(B1340,[1]Desplegables!$BA$2:$BB$19,2,FALSE),\"\")","v":""},null,""]
[null,null,{"$f":"IF(B1341<>\"\",VLOOKUP(B1341,[1]Desplegables!$BA$2:$BB$19,2,FALSE),\"\")","v":""},null,""]
[null,null,{"$f":"IF(B1342<>\"\",VLOOKUP(B1342,[1]Desplegables!$BA$2:$BB$19,2,FALSE),\"\")","v":""},null,""]
[null,null,{"$f":"IF(B1343<>\"\",VLOOKUP(B1343,[1]Desplegables!$BA$2:$BB$19,2,FALSE),\"\")","v":""},null,""]
[null,null,{"$f":"IF(B1344<>\"\",VLOOKUP(B1344,[1]Desplegables!$BA$2:$BB$19,2,FALSE),\"\")","v":""},null,""]
[null,null,{"$f":"IF(B1345<>\"\",VLOOKUP(B1345,[1]Desplegables!$BA$2:$BB$19,2,FALSE),\"\")","v":""},null,""]
[null,null,{"$f":"IF(B1346<>\"\",VLOOKUP(B1346,[1]Desplegables!$BA$2:$BB$19,2,FALSE),\"\")","v":""},null,""]
[null,null,{"$f":"IF(B1347<>\"\",VLOOKUP(B1347,[1]Desplegables!$BA$2:$BB$19,2,FALSE),\"\")","v":""},null,""]
[null,null,{"$f":"IF(B1348<>\"\",VLOOKUP(B1348,[1]Desplegables!$BA$2:$BB$19,2,FALSE),\"\")","v":""},null,""]
[null,null,{"$f":"IF(B1349<>\"\",VLOOKUP(B1349,[1]Desplegables!$BA$2:$BB$19,2,FALSE),\"\")","v":""},null,{"$f":"IF(C1349<>\"\",D1349/C1349,\"\")","v":""}]
[null,null,{"$f":"IF(B1350<>\"\",VLOOKUP(B1350,[1]Desplegables!$BA$2:$BB$19,2,FALSE),\"\")","v":""},null,""]
[null,null,{"$f":"IF(B1351<>\"\",VLOOKUP(B1351,[1]Desplegables!$BA$2:$BB$19,2,FALSE),\"\")","v":""},null,""]
[null,null,{"$f":"IF(B1352<>\"\",VLOOKUP(B1352,[1]Desplegables!$BA$2:$BB$19,2,FALSE),\"\")","v":""},null,""]
[null,null,{"$f":"IF(B1353<>\"\",VLOOKUP(B1353,[1]Desplegables!$BA$2:$BB$19,2,FALSE),\"\")","v":""},null,""]
[null,null,{"$f":"IF(B1354<>\"\",VLOOKUP(B1354,[1]Desplegables!$BA$2:$BB$19,2,FALSE),\"\")","v":""},null,""]
[null,null,{"$f":"IF(B1355<>\"\",VLOOKUP(B1355,[1]Desplegables!$BA$2:$BB$19,2,FALSE),\"\")","v":""},null,""]
[null,null,{"$f":"IF(B1356<>\"\",VLOOKUP(B1356,[1]Desplegables!$BA$2:$BB$19,2,FALSE),\"\")","v":""},null,""]
[null,null,{"$f":"IF(B1357<>\"\",VLOOKUP(B1357,[1]Desplegables!$BA$2:$BB$19,2,FALSE),\"\")","v":""},null,""]
[null,null,{"$f":"IF(B1358<>\"\",VLOOKUP(B1358,[1]Desplegables!$BA$2:$BB$19,2,FALSE),\"\")","v":""},null,""]
[null,null,{"$f":"IF(B1359<>\"\",VLOOKUP(B1359,[1]Desplegables!$BA$2:$BB$19,2,FALSE),\"\")","v":""},null,""]
[null,null,{"$f":"IF(B1360<>\"\",VLOOKUP(B1360,[1]Desplegables!$BA$2:$BB$19,2,FALSE),\"\")","v":""},null,""]
[null,null,{"$f":"IF(B1361<>\"\",VLOOKUP(B1361,[1]Desplegables!$BA$2:$BB$19,2,FALSE),\"\")","v":""},null,""]
[null,null,{"$f":"IF(B1362<>\"\",VLOOKUP(B1362,[1]Desplegables!$BA$2:$BB$19,2,FALSE),\"\")","v":""},null,""]
[null,null,{"$f":"IF(B1363<>\"\",VLOOKUP(B1363,[1]Desplegables!$BA$2:$BB$19,2,FALSE),\"\")","v":""},null,""]
[null,null,{"$f":"IF(B1364<>\"\",VLOOKUP(B1364,[1]Desplegables!$BA$2:$BB$19,2,FALSE),\"\")","v":""},null,""]
[null,null,{"$f":"IF(B1365<>\"\",VLOOKUP(B1365,[1]Desplegables!$BA$2:$BB$19,2,FALSE),\"\")","v":""},null,""]
[null,null,{"$f":"IF(B1366<>\"\",VLOOKUP(B1366,[1]Desplegables!$BA$2:$BB$19,2,FALSE),\"\")","v":""},null,""]
[null,null,{"$f":"IF(B1367<>\"\",VLOOKUP(B1367,[1]Desplegables!$BA$2:$BB$19,2,FALSE),\"\")","v":""},null,""]
[null,null,{"$f":"IF(B1368<>\"\",VLOOKUP(B1368,[1]Desplegables!$BA$2:$BB$19,2,FALSE),\"\")","v":""},null,""]
[null,null,{"$f":"IF(B1369<>\"\",VLOOKUP(B1369,[1]Desplegables!$BA$2:$BB$19,2,FALSE),\"\")","v":""},null,""]
[null,null,{"$f":"IF(B1370<>\"\",VLOOKUP(B1370,[1]Desplegables!$BA$2:$BB$19,2,FALSE),\"\")","v":""},null,""]
[null,null,{"$f":"IF(B1371<>\"\",VLOOKUP(B1371,[1]Desplegables!$BA$2:$BB$19,2,FALSE),\"\")","v":""},null,""]
[null,null,{"$f":"IF(B1372<>\"\",VLOOKUP(B1372,[1]Desplegables!$BA$2:$BB$19,2,FALSE),\"\")","v":""},null,""]
[null,null,{"$f":"IF(B1373<>\"\",VLOOKUP(B1373,[1]Desplegables!$BA$2:$BB$19,2,FALSE),\"\")","v":""},null,""]
[null,null,{"$f":"IF(B1374<>\"\",VLOOKUP(B1374,[1]Desplegables!$BA$2:$BB$19,2,FALSE),\"\")","v":""},null,""]
[null,null,{"$f":"IF(B1375<>\"\",VLOOKUP(B1375,[1]Desplegables!$BA$2:$BB$19,2,FALSE),\"\")","v":""},null,""]
[null,null,{"$f":"IF(B1376<>\"\",VLOOKUP(B1376,[1]Desplegables!$BA$2:$BB$19,2,FALSE),\"\")","v":""},null,""]
[null,null,{"$f":"IF(B1377<>\"\",VLOOKUP(B1377,[1]Desplegables!$BA$2:$BB$19,2,FALSE),\"\")","v":""},null,""]
[null,null,{"$f":"IF(B1378<>\"\",VLOOKUP(B1378,[1]Desplegables!$BA$2:$BB$19,2,FALSE),\"\")","v":""},null,""]
[null,null,{"$f":"IF(B1379<>\"\",VLOOKUP(B1379,[1]Desplegables!$BA$2:$BB$19,2,FALSE),\"\")","v":""},null,""]
[null,null,{"$f":"IF(B1380<>\"\",VLOOKUP(B1380,[1]Desplegables!$BA$2:$BB$19,2,FALSE),\"\")","v":""},null,""]
[null,null,{"$f":"IF(B1381<>\"\",VLOOKUP(B1381,[1]Desplegables!$BA$2:$BB$19,2,FALSE),\"\")","v":""},null,""]
[null,null,{"$f":"IF(B1382<>\"\",VLOOKUP(B1382,[1]Desplegables!$BA$2:$BB$19,2,FALSE),\"\")","v":""},null,""]
[null,null,{"$f":"IF(B1383<>\"\",VLOOKUP(B1383,[1]Desplegables!$BA$2:$BB$19,2,FALSE),\"\")","v":""},null,""]
[null,null,{"$f":"IF(B1384<>\"\",VLOOKUP(B1384,[1]Desplegables!$BA$2:$BB$19,2,FALSE),\"\")","v":""},null,""]
[null,null,{"$f":"IF(B1385<>\"\",VLOOKUP(B1385,[1]Desplegables!$BA$2:$BB$19,2,FALSE),\"\")","v":""},null,""]
[null,null,{"$f":"IF(B1386<>\"\",VLOOKUP(B1386,[1]Desplegables!$BA$2:$BB$19,2,FALSE),\"\")","v":""},null,""]
[null,null,{"$f":"IF(B1387<>\"\",VLOOKUP(B1387,[1]Desplegables!$BA$2:$BB$19,2,FALSE),\"\")","v":""},null,""]
[null,null,{"$f":"IF(B1388<>\"\",VLOOKUP(B1388,[1]Desplegables!$BA$2:$BB$19,2,FALSE),\"\")","v":""},null,""]
[null,null,{"$f":"IF(B1389<>\"\",VLOOKUP(B1389,[1]Desplegables!$BA$2:$BB$19,2,FALSE),\"\")","v":""},null,""]
[null,null,{"$f":"IF(B1390<>\"\",VLOOKUP(B1390,[1]Desplegables!$BA$2:$BB$19,2,FALSE),\"\")","v":""},null,""]
[null,null,{"$f":"IF(B1391<>\"\",VLOOKUP(B1391,[1]Desplegables!$BA$2:$BB$19,2,FALSE),\"\")","v":""},null,""]
[null,null,{"$f":"IF(B1392<>\"\",VLOOKUP(B1392,[1]Desplegables!$BA$2:$BB$19,2,FALSE),\"\")","v":""},null,""]
[null,null,{"$f":"IF(B1393<>\"\",VLOOKUP(B1393,[1]Desplegables!$BA$2:$BB$19,2,FALSE),\"\")","v":""},null,""]
[null,null,{"$f":"IF(B1394<>\"\",VLOOKUP(B1394,[1]Desplegables!$BA$2:$BB$19,2,FALSE),\"\")","v":""},null,""]
[null,null,{"$f":"IF(B1395<>\"\",VLOOKUP(B1395,[1]Desplegables!$BA$2:$BB$19,2,FALSE),\"\")","v":""},null,""]
[null,null,{"$f":"IF(B1396<>\"\",VLOOKUP(B1396,[1]Desplegables!$BA$2:$BB$19,2,FALSE),\"\")","v":""},null,""]
[null,null,{"$f":"IF(B1397<>\"\",VLOOKUP(B1397,[1]Desplegables!$BA$2:$BB$19,2,FALSE),\"\")","v":""},null,""]
[null,null,{"$f":"IF(B1398<>\"\",VLOOKUP(B1398,[1]Desplegables!$BA$2:$BB$19,2,FALSE),\"\")","v":""},null,""]
[null,null,{"$f":"IF(B1399<>\"\",VLOOKUP(B1399,[1]Desplegables!$BA$2:$BB$19,2,FALSE),\"\")","v":""},null,""]
[null,null,{"$f":"IF(B1400<>\"\",VLOOKUP(B1400,[1]Desplegables!$BA$2:$BB$19,2,FALSE),\"\")","v":""},null,""]
[null,null,{"$f":"IF(B1401<>\"\",VLOOKUP(B1401,[1]Desplegables!$BA$2:$BB$19,2,FALSE),\"\")","v":""},null,""]
[null,null,{"$f":"IF(B1402<>\"\",VLOOKUP(B1402,[1]Desplegables!$BA$2:$BB$19,2,FALSE),\"\")","v":""},null,""]
[null,null,{"$f":"IF(B1403<>\"\",VLOOKUP(B1403,[1]Desplegables!$BA$2:$BB$19,2,FALSE),\"\")","v":""},null,""]
[null,null,{"$f":"IF(B1404<>\"\",VLOOKUP(B1404,[1]Desplegables!$BA$2:$BB$19,2,FALSE),\"\")","v":""},null,""]
[null,null,{"$f":"IF(B1405<>\"\",VLOOKUP(B1405,[1]Desplegables!$BA$2:$BB$19,2,FALSE),\"\")","v":""},null,""]
[null,null,{"$f":"IF(B1406<>\"\",VLOOKUP(B1406,[1]Desplegables!$BA$2:$BB$19,2,FALSE),\"\")","v":""},null,""]
[null,null,{"$f":"IF(B1407<>\"\",VLOOKUP(B1407,[1]Desplegables!$BA$2:$BB$19,2,FALSE),\"\")","v":""},null,""]
[null,null,{"$f":"IF(B1408<>\"\",VLOOKUP(B1408,[1]Desplegables!$BA$2:$BB$19,2,FALSE),\"\")","v":""},null,""]
[null,null,{"$f":"IF(B1409<>\"\",VLOOKUP(B1409,[1]Desplegables!$BA$2:$BB$19,2,FALSE),\"\")","v":""},null,""]
[null,null,{"$f":"IF(B1410<>\"\",VLOOKUP(B1410,[1]Desplegables!$BA$2:$BB$19,2,FALSE),\"\")","v":""},null,""]
[null,null,{"$f":"IF(B1411<>\"\",VLOOKUP(B1411,[1]Desplegables!$BA$2:$BB$19,2,FALSE),\"\")","v":""},null,""]
[null,null,{"$f":"IF(B1412<>\"\",VLOOKUP(B1412,[1]Desplegables!$BA$2:$BB$19,2,FALSE),\"\")","v":""},null,""]
[null,null,{"$f":"IF(B1413<>\"\",VLOOKUP(B1413,[1]Desplegables!$BA$2:$BB$19,2,FALSE),\"\")","v":""},null,{"$f":"IF(C1413<>\"\",D1413/C1413,\"\")","v":""}]
[null,null,{"$f":"IF(B1414<>\"\",VLOOKUP(B1414,[1]Desplegables!$BA$2:$BB$19,2,FALSE),\"\")","v":""},null,""]
[null,null,{"$f":"IF(B1415<>\"\",VLOOKUP(B1415,[1]Desplegables!$BA$2:$BB$19,2,FALSE),\"\")","v":""},null,""]
[null,null,{"$f":"IF(B1416<>\"\",VLOOKUP(B1416,[1]Desplegables!$BA$2:$BB$19,2,FALSE),\"\")","v":""},null,""]
[null,null,{"$f":"IF(B1417<>\"\",VLOOKUP(B1417,[1]Desplegables!$BA$2:$BB$19,2,FALSE),\"\")","v":""},null,""]
[null,null,{"$f":"IF(B1418<>\"\",VLOOKUP(B1418,[1]Desplegables!$BA$2:$BB$19,2,FALSE),\"\")","v":""},null,""]
[null,null,{"$f":"IF(B1419<>\"\",VLOOKUP(B1419,[1]Desplegables!$BA$2:$BB$19,2,FALSE),\"\")","v":""},null,""]
[null,null,{"$f":"IF(B1420<>\"\",VLOOKUP(B1420,[1]Desplegables!$BA$2:$BB$19,2,FALSE),\"\")","v":""},null,""]
[null,null,{"$f":"IF(B1421<>\"\",VLOOKUP(B1421,[1]Desplegables!$BA$2:$BB$19,2,FALSE),\"\")","v":""},null,""]
[null,null,{"$f":"IF(B1422<>\"\",VLOOKUP(B1422,[1]Desplegables!$BA$2:$BB$19,2,FALSE),\"\")","v":""},null,""]
[null,null,{"$f":"IF(B1423<>\"\",VLOOKUP(B1423,[1]Desplegables!$BA$2:$BB$19,2,FALSE),\"\")","v":""},null,""]
[null,null,{"$f":"IF(B1424<>\"\",VLOOKUP(B1424,[1]Desplegables!$BA$2:$BB$19,2,FALSE),\"\")","v":""},null,""]
[null,null,{"$f":"IF(B1425<>\"\",VLOOKUP(B1425,[1]Desplegables!$BA$2:$BB$19,2,FALSE),\"\")","v":""},null,""]
[null,null,{"$f":"IF(B1426<>\"\",VLOOKUP(B1426,[1]Desplegables!$BA$2:$BB$19,2,FALSE),\"\")","v":""},null,""]
[null,null,{"$f":"IF(B1427<>\"\",VLOOKUP(B1427,[1]Desplegables!$BA$2:$BB$19,2,FALSE),\"\")","v":""},null,""]
[null,null,{"$f":"IF(B1428<>\"\",VLOOKUP(B1428,[1]Desplegables!$BA$2:$BB$19,2,FALSE),\"\")","v":""},null,""]
[null,null,{"$f":"IF(B1429<>\"\",VLOOKUP(B1429,[1]Desplegables!$BA$2:$BB$19,2,FALSE),\"\")","v":""},null,""]
[null,null,{"$f":"IF(B1430<>\"\",VLOOKUP(B1430,[1]Desplegables!$BA$2:$BB$19,2,FALSE),\"\")","v":""},null,""]
[null,null,{"$f":"IF(B1431<>\"\",VLOOKUP(B1431,[1]Desplegables!$BA$2:$BB$19,2,FALSE),\"\")","v":""},null,""]
[null,null,{"$f":"IF(B1432<>\"\",VLOOKUP(B1432,[1]Desplegables!$BA$2:$BB$19,2,FALSE),\"\")","v":""},null,""]
[null,null,{"$f":"IF(B1433<>\"\",VLOOKUP(B1433,[1]Desplegables!$BA$2:$BB$19,2,FALSE),\"\")","v":""},null,""]
[null,null,{"$f":"IF(B1434<>\"\",VLOOKUP(B1434,[1]Desplegables!$BA$2:$BB$19,2,FALSE),\"\")","v":""},null,""]
[null,null,{"$f":"IF(B1435<>\"\",VLOOKUP(B1435,[1]Desplegables!$BA$2:$BB$19,2,FALSE),\"\")","v":""},null,""]
[null,null,{"$f":"IF(B1436<>\"\",VLOOKUP(B1436,[1]Desplegables!$BA$2:$BB$19,2,FALSE),\"\")","v":""},null,""]
[null,null,{"$f":"IF(B1437<>\"\",VLOOKUP(B1437,[1]Desplegables!$BA$2:$BB$19,2,FALSE),\"\")","v":""},null,""]
[null,null,{"$f":"IF(B1438<>\"\",VLOOKUP(B1438,[1]Desplegables!$BA$2:$BB$19,2,FALSE),\"\")","v":""},null,""]
[null,null,{"$f":"IF(B1439<>\"\",VLOOKUP(B1439,[1]Desplegables!$BA$2:$BB$19,2,FALSE),\"\")","v":""},null,""]
[null,null,{"$f":"IF(B1440<>\"\",VLOOKUP(B1440,[1]Desplegables!$BA$2:$BB$19,2,FALSE),\"\")","v":""},null,""]
[null,null,{"$f":"IF(B1441<>\"\",VLOOKUP(B1441,[1]Desplegables!$BA$2:$BB$19,2,FALSE),\"\")","v":""},null,""]
[null,null,{"$f":"IF(B1442<>\"\",VLOOKUP(B1442,[1]Desplegables!$BA$2:$BB$19,2,FALSE),\"\")","v":""},null,""]
[null,null,{"$f":"IF(B1443<>\"\",VLOOKUP(B1443,[1]Desplegables!$BA$2:$BB$19,2,FALSE),\"\")","v":""},null,""]
[null,null,{"$f":"IF(B1444<>\"\",VLOOKUP(B1444,[1]Desplegables!$BA$2:$BB$19,2,FALSE),\"\")","v":""},null,""]
[null,null,{"$f":"IF(B1445<>\"\",VLOOKUP(B1445,[1]Desplegables!$BA$2:$BB$19,2,FALSE),\"\")","v":""},null,""]
[null,null,{"$f":"IF(B1446<>\"\",VLOOKUP(B1446,[1]Desplegables!$BA$2:$BB$19,2,FALSE),\"\")","v":""},null,""]
[null,null,{"$f":"IF(B1447<>\"\",VLOOKUP(B1447,[1]Desplegables!$BA$2:$BB$19,2,FALSE),\"\")","v":""},null,""]
[null,null,{"$f":"IF(B1448<>\"\",VLOOKUP(B1448,[1]Desplegables!$BA$2:$BB$19,2,FALSE),\"\")","v":""},null,""]
[null,null,{"$f":"IF(B1449<>\"\",VLOOKUP(B1449,[1]Desplegables!$BA$2:$BB$19,2,FALSE),\"\")","v":""},null,""]
[null,null,{"$f":"IF(B1450<>\"\",VLOOKUP(B1450,[1]Desplegables!$BA$2:$BB$19,2,FALSE),\"\")","v":""},null,""]
[null,null,{"$f":"IF(B1451<>\"\",VLOOKUP(B1451,[1]Desplegables!$BA$2:$BB$19,2,FALSE),\"\")","v":""},null,""]
[null,null,{"$f":"IF(B1452<>\"\",VLOOKUP(B1452,[1]Desplegables!$BA$2:$BB$19,2,FALSE),\"\")","v":""},null,""]
[null,null,{"$f":"IF(B1453<>\"\",VLOOKUP(B1453,[1]Desplegables!$BA$2:$BB$19,2,FALSE),\"\")","v":""},null,""]
[null,null,{"$f":"IF(B1454<>\"\",VLOOKUP(B1454,[1]Desplegables!$BA$2:$BB$19,2,FALSE),\"\")","v":""},null,""]
[null,null,{"$f":"IF(B1455<>\"\",VLOOKUP(B1455,[1]Desplegables!$BA$2:$BB$19,2,FALSE),\"\")","v":""},null,""]
[null,null,{"$f":"IF(B1456<>\"\",VLOOKUP(B1456,[1]Desplegables!$BA$2:$BB$19,2,FALSE),\"\")","v":""},null,""]
[null,null,{"$f":"IF(B1457<>\"\",VLOOKUP(B1457,[1]Desplegables!$BA$2:$BB$19,2,FALSE),\"\")","v":""},null,""]
[null,null,{"$f":"IF(B1458<>\"\",VLOOKUP(B1458,[1]Desplegables!$BA$2:$BB$19,2,FALSE),\"\")","v":""},null,""]
[null,null,{"$f":"IF(B1459<>\"\",VLOOKUP(B1459,[1]Desplegables!$BA$2:$BB$19,2,FALSE),\"\")","v":""},null,""]
[null,null,{"$f":"IF(B1460<>\"\",VLOOKUP(B1460,[1]Desplegables!$BA$2:$BB$19,2,FALSE),\"\")","v":""},null,""]
[null,null,{"$f":"IF(B1461<>\"\",VLOOKUP(B1461,[1]Desplegables!$BA$2:$BB$19,2,FALSE),\"\")","v":""},null,""]
[null,null,{"$f":"IF(B1462<>\"\",VLOOKUP(B1462,[1]Desplegables!$BA$2:$BB$19,2,FALSE),\"\")","v":""},null,""]
[null,null,{"$f":"IF(B1463<>\"\",VLOOKUP(B1463,[1]Desplegables!$BA$2:$BB$19,2,FALSE),\"\")","v":""},null,""]
[null,null,{"$f":"IF(B1464<>\"\",VLOOKUP(B1464,[1]Desplegables!$BA$2:$BB$19,2,FALSE),\"\")","v":""},null,""]
[null,null,{"$f":"IF(B1465<>\"\",VLOOKUP(B1465,[1]Desplegables!$BA$2:$BB$19,2,FALSE),\"\")","v":""},null,""]
[null,null,{"$f":"IF(B1466<>\"\",VLOOKUP(B1466,[1]Desplegables!$BA$2:$BB$19,2,FALSE),\"\")","v":""},null,""]
[null,null,{"$f":"IF(B1467<>\"\",VLOOKUP(B1467,[1]Desplegables!$BA$2:$BB$19,2,FALSE),\"\")","v":""},null,""]
[null,null,{"$f":"IF(B1468<>\"\",VLOOKUP(B1468,[1]Desplegables!$BA$2:$BB$19,2,FALSE),\"\")","v":""},null,""]
[null,null,{"$f":"IF(B1469<>\"\",VLOOKUP(B1469,[1]Desplegables!$BA$2:$BB$19,2,FALSE),\"\")","v":""},null,""]
[null,null,{"$f":"IF(B1470<>\"\",VLOOKUP(B1470,[1]Desplegables!$BA$2:$BB$19,2,FALSE),\"\")","v":""},null,""]
[null,null,{"$f":"IF(B1471<>\"\",VLOOKUP(B1471,[1]Desplegables!$BA$2:$BB$19,2,FALSE),\"\")","v":""},null,""]
[null,null,{"$f":"IF(B1472<>\"\",VLOOKUP(B1472,[1]Desplegables!$BA$2:$BB$19,2,FALSE),\"\")","v":""},null,""]
[null,null,{"$f":"IF(B1473<>\"\",VLOOKUP(B1473,[1]Desplegables!$BA$2:$BB$19,2,FALSE),\"\")","v":""},null,""]
[null,null,{"$f":"IF(B1474<>\"\",VLOOKUP(B1474,[1]Desplegables!$BA$2:$BB$19,2,FALSE),\"\")","v":""},null,""]
[null,null,{"$f":"IF(B1475<>\"\",VLOOKUP(B1475,[1]Desplegables!$BA$2:$BB$19,2,FALSE),\"\")","v":""},null,""]
[null,null,{"$f":"IF(B1476<>\"\",VLOOKUP(B1476,[1]Desplegables!$BA$2:$BB$19,2,FALSE),\"\")","v":""},null,""]
[null,null,{"$f":"IF(B1477<>\"\",VLOOKUP(B1477,[1]Desplegables!$BA$2:$BB$19,2,FALSE),\"\")","v":""},null,{"$f":"IF(C1477<>\"\",D1477/C1477,\"\")","v":""}]
[null,null,{"$f":"IF(B1478<>\"\",VLOOKUP(B1478,[1]Desplegables!$BA$2:$BB$19,2,FALSE),\"\")","v":""},null,""]
[null,null,{"$f":"IF(B1479<>\"\",VLOOKUP(B1479,[1]Desplegables!$BA$2:$BB$19,2,FALSE),\"\")","v":""},null,""]
[null,null,{"$f":"IF(B1480<>\"\",VLOOKUP(B1480,[1]Desplegables!$BA$2:$BB$19,2,FALSE),\"\")","v":""},null,""]
[null,null,{"$f":"IF(B1481<>\"\",VLOOKUP(B1481,[1]Desplegables!$BA$2:$BB$19,2,FALSE),\"\")","v":""},null,""]
[null,null,{"$f":"IF(B1482<>\"\",VLOOKUP(B1482,[1]Desplegables!$BA$2:$BB$19,2,FALSE),\"\")","v":""},null,""]
[null,null,{"$f":"IF(B1483<>\"\",VLOOKUP(B1483,[1]Desplegables!$BA$2:$BB$19,2,FALSE),\"\")","v":""},null,""]
[null,null,{"$f":"IF(B1484<>\"\",VLOOKUP(B1484,[1]Desplegables!$BA$2:$BB$19,2,FALSE),\"\")","v":""},null,""]
[null,null,{"$f":"IF(B1485<>\"\",VLOOKUP(B1485,[1]Desplegables!$BA$2:$BB$19,2,FALSE),\"\")","v":""},null,""]
[null,null,{"$f":"IF(B1486<>\"\",VLOOKUP(B1486,[1]Desplegables!$BA$2:$BB$19,2,FALSE),\"\")","v":""},null,""]
[null,null,{"$f":"IF(B1487<>\"\",VLOOKUP(B1487,[1]Desplegables!$BA$2:$BB$19,2,FALSE),\"\")","v":""},null,""]
[null,null,{"$f":"IF(B1488<>\"\",VLOOKUP(B1488,[1]Desplegables!$BA$2:$BB$19,2,FALSE),\"\")","v":""},null,""]
[null,null,{"$f":"IF(B1489<>\"\",VLOOKUP(B1489,[1]Desplegables!$BA$2:$BB$19,2,FALSE),\"\")","v":""},null,""]
[null,null,{"$f":"IF(B1490<>\"\",VLOOKUP(B1490,[1]Desplegables!$BA$2:$BB$19,2,FALSE),\"\")","v":""},null,""]
[null,null,{"$f":"IF(B1491<>\"\",VLOOKUP(B1491,[1]Desplegables!$BA$2:$BB$19,2,FALSE),\"\")","v":""},null,""]
[null,null,{"$f":"IF(B1492<>\"\",VLOOKUP(B1492,[1]Desplegables!$BA$2:$BB$19,2,FALSE),\"\")","v":""},null,""]
[null,null,{"$f":"IF(B1493<>\"\",VLOOKUP(B1493,[1]Desplegables!$BA$2:$BB$19,2,FALSE),\"\")","v":""},null,""]
[null,null,{"$f":"IF(B1494<>\"\",VLOOKUP(B1494,[1]Desplegables!$BA$2:$BB$19,2,FALSE),\"\")","v":""},null,""]
[null,null,{"$f":"IF(B1495<>\"\",VLOOKUP(B1495,[1]Desplegables!$BA$2:$BB$19,2,FALSE),\"\")","v":""},null,""]
[null,null,{"$f":"IF(B1496<>\"\",VLOOKUP(B1496,[1]Desplegables!$BA$2:$BB$19,2,FALSE),\"\")","v":""},null,""]
[null,null,{"$f":"IF(B1497<>\"\",VLOOKUP(B1497,[1]Desplegables!$BA$2:$BB$19,2,FALSE),\"\")","v":""},null,""]
[null,null,{"$f":"IF(B1498<>\"\",VLOOKUP(B1498,[1]Desplegables!$BA$2:$BB$19,2,FALSE),\"\")","v":""},null,""]
[null,null,{"$f":"IF(B1499<>\"\",VLOOKUP(B1499,[1]Desplegables!$BA$2:$BB$19,2,FALSE),\"\")","v":""},null,""]
[null,null,{"$f":"IF(B1500<>\"\",VLOOKUP(B1500,[1]Desplegables!$BA$2:$BB$19,2,FALSE),\"\")","v":""},null,""]
[null,null,{"$f":"IF(B1501<>\"\",VLOOKUP(B1501,[1]Desplegables!$BA$2:$BB$19,2,FALSE),\"\")","v":""},null,""]
[null,null,{"$f":"IF(B1502<>\"\",VLOOKUP(B1502,[1]Desplegables!$BA$2:$BB$19,2,FALSE),\"\")","v":""},null,""]
[null,null,{"$f":"IF(B1503<>\"\",VLOOKUP(B1503,[1]Desplegables!$BA$2:$BB$19,2,FALSE),\"\")","v":""},null,""]
[null,null,{"$f":"IF(B1504<>\"\",VLOOKUP(B1504,[1]Desplegables!$BA$2:$BB$19,2,FALSE),\"\")","v":""},null,""]
[null,null,{"$f":"IF(B1505<>\"\",VLOOKUP(B1505,[1]Desplegables!$BA$2:$BB$19,2,FALSE),\"\")","v":""},null,""]
[null,null,{"$f":"IF(B1506<>\"\",VLOOKUP(B1506,[1]Desplegables!$BA$2:$BB$19,2,FALSE),\"\")","v":""},null,""]
[null,null,{"$f":"IF(B1507<>\"\",VLOOKUP(B1507,[1]Desplegables!$BA$2:$BB$19,2,FALSE),\"\")","v":""},null,""]
[null,null,{"$f":"IF(B1508<>\"\",VLOOKUP(B1508,[1]Desplegables!$BA$2:$BB$19,2,FALSE),\"\")","v":""},null,""]
[null,null,{"$f":"IF(B1509<>\"\",VLOOKUP(B1509,[1]Desplegables!$BA$2:$BB$19,2,FALSE),\"\")","v":""},null,""]
[null,null,{"$f":"IF(B1510<>\"\",VLOOKUP(B1510,[1]Desplegables!$BA$2:$BB$19,2,FALSE),\"\")","v":""},null,""]
[null,null,{"$f":"IF(B1511<>\"\",VLOOKUP(B1511,[1]Desplegables!$BA$2:$BB$19,2,FALSE),\"\")","v":""},null,""]
[null,null,{"$f":"IF(B1512<>\"\",VLOOKUP(B1512,[1]Desplegables!$BA$2:$BB$19,2,FALSE),\"\")","v":""},null,""]
[null,null,{"$f":"IF(B1513<>\"\",VLOOKUP(B1513,[1]Desplegables!$BA$2:$BB$19,2,FALSE),\"\")","v":""},null,""]
[null,null,{"$f":"IF(B1514<>\"\",VLOOKUP(B1514,[1]Desplegables!$BA$2:$BB$19,2,FALSE),\"\")","v":""},null,""]
[null,null,{"$f":"IF(B1515<>\"\",VLOOKUP(B1515,[1]Desplegables!$BA$2:$BB$19,2,FALSE),\"\")","v":""},null,""]
[null,null,{"$f":"IF(B1516<>\"\",VLOOKUP(B1516,[1]Desplegables!$BA$2:$BB$19,2,FALSE),\"\")","v":""},null,""]
[null,null,{"$f":"IF(B1517<>\"\",VLOOKUP(B1517,[1]Desplegables!$BA$2:$BB$19,2,FALSE),\"\")","v":""},null,""]
[null,null,{"$f":"IF(B1518<>\"\",VLOOKUP(B1518,[1]Desplegables!$BA$2:$BB$19,2,FALSE),\"\")","v":""},null,""]
[null,null,{"$f":"IF(B1519<>\"\",VLOOKUP(B1519,[1]Desplegables!$BA$2:$BB$19,2,FALSE),\"\")","v":""},null,""]
[null,null,{"$f":"IF(B1520<>\"\",VLOOKUP(B1520,[1]Desplegables!$BA$2:$BB$19,2,FALSE),\"\")","v":""},null,""]
[null,null,{"$f":"IF(B1521<>\"\",VLOOKUP(B1521,[1]Desplegables!$BA$2:$BB$19,2,FALSE),\"\")","v":""},null,""]
[null,null,{"$f":"IF(B1522<>\"\",VLOOKUP(B1522,[1]Desplegables!$BA$2:$BB$19,2,FALSE),\"\")","v":""},null,""]
[null,null,{"$f":"IF(B1523<>\"\",VLOOKUP(B1523,[1]Desplegables!$BA$2:$BB$19,2,FALSE),\"\")","v":""},null,""]
[null,null,{"$f":"IF(B1524<>\"\",VLOOKUP(B1524,[1]Desplegables!$BA$2:$BB$19,2,FALSE),\"\")","v":""},null,""]
[null,null,{"$f":"IF(B1525<>\"\",VLOOKUP(B1525,[1]Desplegables!$BA$2:$BB$19,2,FALSE),\"\")","v":""},null,""]
[null,null,{"$f":"IF(B1526<>\"\",VLOOKUP(B1526,[1]Desplegables!$BA$2:$BB$19,2,FALSE),\"\")","v":""},null,""]
[null,null,{"$f":"IF(B1527<>\"\",VLOOKUP(B1527,[1]Desplegables!$BA$2:$BB$19,2,FALSE),\"\")","v":""},null,""]
[null,null,{"$f":"IF(B1528<>\"\",VLOOKUP(B1528,[1]Desplegables!$BA$2:$BB$19,2,FALSE),\"\")","v":""},null,""]
[null,null,{"$f":"IF(B1529<>\"\",VLOOKUP(B1529,[1]Desplegables!$BA$2:$BB$19,2,FALSE),\"\")","v":""},null,""]
[null,null,{"$f":"IF(B1530<>\"\",VLOOKUP(B1530,[1]Desplegables!$BA$2:$BB$19,2,FALSE),\"\")","v":""},null,""]
[null,null,{"$f":"IF(B1531<>\"\",VLOOKUP(B1531,[1]Desplegables!$BA$2:$BB$19,2,FALSE),\"\")","v":""},null,""]
[null,null,{"$f":"IF(B1532<>\"\",VLOOKUP(B1532,[1]Desplegables!$BA$2:$BB$19,2,FALSE),\"\")","v":""},null,""]
[null,null,{"$f":"IF(B1533<>\"\",VLOOKUP(B1533,[1]Desplegables!$BA$2:$BB$19,2,FALSE),\"\")","v":""},null,""]
[null,null,{"$f":"IF(B1534<>\"\",VLOOKUP(B1534,[1]Desplegables!$BA$2:$BB$19,2,FALSE),\"\")","v":""},null,""]
[null,null,{"$f":"IF(B1535<>\"\",VLOOKUP(B1535,[1]Desplegables!$BA$2:$BB$19,2,FALSE),\"\")","v":""},null,""]
[null,null,{"$f":"IF(B1536<>\"\",VLOOKUP(B1536,[1]Desplegables!$BA$2:$BB$19,2,FALSE),\"\")","v":""},null,""]
[null,null,{"$f":"IF(B1537<>\"\",VLOOKUP(B1537,[1]Desplegables!$BA$2:$BB$19,2,FALSE),\"\")","v":""},null,""]
[null,null,{"$f":"IF(B1538<>\"\",VLOOKUP(B1538,[1]Desplegables!$BA$2:$BB$19,2,FALSE),\"\")","v":""},null,""]
[null,null,{"$f":"IF(B1539<>\"\",VLOOKUP(B1539,[1]Desplegables!$BA$2:$BB$19,2,FALSE),\"\")","v":""},null,""]
[null,null,{"$f":"IF(B1540<>\"\",VLOOKUP(B1540,[1]Desplegables!$BA$2:$BB$19,2,FALSE),\"\")","v":""},null,""]
[null,null,{"$f":"IF(B1541<>\"\",VLOOKUP(B1541,[1]Desplegables!$BA$2:$BB$19,2,FALSE),\"\")","v":""},null,{"$f":"IF(C1541<>\"\",D1541/C1541,\"\")","v":""}]
[null,null,{"$f":"IF(B1542<>\"\",VLOOKUP(B1542,[1]Desplegables!$BA$2:$BB$19,2,FALSE),\"\")","v":""},null,""]
[null,null,{"$f":"IF(B1543<>\"\",VLOOKUP(B1543,[1]Desplegables!$BA$2:$BB$19,2,FALSE),\"\")","v":""},null,""]
[null,null,{"$f":"IF(B1544<>\"\",VLOOKUP(B1544,[1]Desplegables!$BA$2:$BB$19,2,FALSE),\"\")","v":""},null,""]
[null,null,{"$f":"IF(B1545<>\"\",VLOOKUP(B1545,[1]Desplegables!$BA$2:$BB$19,2,FALSE),\"\")","v":""},null,""]
[null,null,{"$f":"IF(B1546<>\"\",VLOOKUP(B1546,[1]Desplegables!$BA$2:$BB$19,2,FALSE),\"\")","v":""},null,""]
[null,null,{"$f":"IF(B1547<>\"\",VLOOKUP(B1547,[1]Desplegables!$BA$2:$BB$19,2,FALSE),\"\")","v":""},null,""]
[null,null,{"$f":"IF(B1548<>\"\",VLOOKUP(B1548,[1]Desplegables!$BA$2:$BB$19,2,FALSE),\"\")","v":""},null,""]
[null,null,{"$f":"IF(B1549<>\"\",VLOOKUP(B1549,[1]Desplegables!$BA$2:$BB$19,2,FALSE),\"\")","v":""},null,""]
[null,null,{"$f":"IF(B1550<>\"\",VLOOKUP(B1550,[1]Desplegables!$BA$2:$BB$19,2,FALSE),\"\")","v":""},null,""]
[null,null,{"$f":"IF(B1551<>\"\",VLOOKUP(B1551,[1]Desplegables!$BA$2:$BB$19,2,FALSE),\"\")","v":""},null,""]
[null,null,{"$f":"IF(B1552<>\"\",VLOOKUP(B1552,[1]Desplegables!$BA$2:$BB$19,2,FALSE),\"\")","v":""},null,""]
[null,null,{"$f":"IF(B1553<>\"\",VLOOKUP(B1553,[1]Desplegables!$BA$2:$BB$19,2,FALSE),\"\")","v":""},null,""]
[null,null,{"$f":"IF(B1554<>\"\",VLOOKUP(B1554,[1]Desplegables!$BA$2:$BB$19,2,FALSE),\"\")","v":""},null,""]
[null,null,{"$f":"IF(B1555<>\"\",VLOOKUP(B1555,[1]Desplegables!$BA$2:$BB$19,2,FALSE),\"\")","v":""},null,""]
[null,null,{"$f":"IF(B1556<>\"\",VLOOKUP(B1556,[1]Desplegables!$BA$2:$BB$19,2,FALSE),\"\")","v":""},null,""]
[null,null,{"$f":"IF(B1557<>\"\",VLOOKUP(B1557,[1]Desplegables!$BA$2:$BB$19,2,FALSE),\"\")","v":""},null,""]
[null,null,{"$f":"IF(B1558<>\"\",VLOOKUP(B1558,[1]Desplegables!$BA$2:$BB$19,2,FALSE),\"\")","v":""},null,""]
[null,null,{"$f":"IF(B1559<>\"\",VLOOKUP(B1559,[1]Desplegables!$BA$2:$BB$19,2,FALSE),\"\")","v":""},null,""]
[null,null,{"$f":"IF(B1560<>\"\",VLOOKUP(B1560,[1]Desplegables!$BA$2:$BB$19,2,FALSE),\"\")","v":""},null,""]
[null,null,{"$f":"IF(B1561<>\"\",VLOOKUP(B1561,[1]Desplegables!$BA$2:$BB$19,2,FALSE),\"\")","v":""},null,""]
[null,null,{"$f":"IF(B1562<>\"\",VLOOKUP(B1562,[1]Desplegables!$BA$2:$BB$19,2,FALSE),\"\")","v":""},null,""]
[null,null,{"$f":"IF(B1563<>\"\",VLOOKUP(B1563,[1]Desplegables!$BA$2:$BB$19,2,FALSE),\"\")","v":""},null,""]
[null,null,{"$f":"IF(B1564<>\"\",VLOOKUP(B1564,[1]Desplegables!$BA$2:$BB$19,2,FALSE),\"\")","v":""},null,""]
[null,null,{"$f":"IF(B1565<>\"\",VLOOKUP(B1565,[1]Desplegables!$BA$2:$BB$19,2,FALSE),\"\")","v":""},null,""]
[null,null,{"$f":"IF(B1566<>\"\",VLOOKUP(B1566,[1]Desplegables!$BA$2:$BB$19,2,FALSE),\"\")","v":""},null,""]
[null,null,{"$f":"IF(B1567<>\"\",VLOOKUP(B1567,[1]Desplegables!$BA$2:$BB$19,2,FALSE),\"\")","v":""},null,""]
[null,null,{"$f":"IF(B1568<>\"\",VLOOKUP(B1568,[1]Desplegables!$BA$2:$BB$19,2,FALSE),\"\")","v":""},null,""]
[null,null,{"$f":"IF(B1569<>\"\",VLOOKUP(B1569,[1]Desplegables!$BA$2:$BB$19,2,FALSE),\"\")","v":""},null,""]
[null,null,{"$f":"IF(B1570<>\"\",VLOOKUP(B1570,[1]Desplegables!$BA$2:$BB$19,2,FALSE),\"\")","v":""},null,""]
[null,null,{"$f":"IF(B1571<>\"\",VLOOKUP(B1571,[1]Desplegables!$BA$2:$BB$19,2,FALSE),\"\")","v":""},null,""]
[null,null,{"$f":"IF(B1572<>\"\",VLOOKUP(B1572,[1]Desplegables!$BA$2:$BB$19,2,FALSE),\"\")","v":""},null,""]
[null,null,{"$f":"IF(B1573<>\"\",VLOOKUP(B1573,[1]Desplegables!$BA$2:$BB$19,2,FALSE),\"\")","v":""},null,""]
[null,null,{"$f":"IF(B1574<>\"\",VLOOKUP(B1574,[1]Desplegables!$BA$2:$BB$19,2,FALSE),\"\")","v":""},null,""]
[null,null,{"$f":"IF(B1575<>\"\",VLOOKUP(B1575,[1]Desplegables!$BA$2:$BB$19,2,FALSE),\"\")","v":""},null,""]
[null,null,{"$f":"IF(B1576<>\"\",VLOOKUP(B1576,[1]Desplegables!$BA$2:$BB$19,2,FALSE),\"\")","v":""},null,""]
[null,null,{"$f":"IF(B1577<>\"\",VLOOKUP(B1577,[1]Desplegables!$BA$2:$BB$19,2,FALSE),\"\")","v":""},null,""]
[null,null,{"$f":"IF(B1578<>\"\",VLOOKUP(B1578,[1]Desplegables!$BA$2:$BB$19,2,FALSE),\"\")","v":""},null,""]
[null,null,{"$f":"IF(B1579<>\"\",VLOOKUP(B1579,[1]Desplegables!$BA$2:$BB$19,2,FALSE),\"\")","v":""},null,""]
[null,null,{"$f":"IF(B1580<>\"\",VLOOKUP(B1580,[1]Desplegables!$BA$2:$BB$19,2,FALSE),\"\")","v":""},null,""]
[null,null,{"$f":"IF(B1581<>\"\",VLOOKUP(B1581,[1]Desplegables!$BA$2:$BB$19,2,FALSE),\"\")","v":""},null,""]
[null,null,{"$f":"IF(B1582<>\"\",VLOOKUP(B1582,[1]Desplegables!$BA$2:$BB$19,2,FALSE),\"\")","v":""},null,""]
[null,null,{"$f":"IF(B1583<>\"\",VLOOKUP(B1583,[1]Desplegables!$BA$2:$BB$19,2,FALSE),\"\")","v":""},null,""]
[null,null,{"$f":"IF(B1584<>\"\",VLOOKUP(B1584,[1]Desplegables!$BA$2:$BB$19,2,FALSE),\"\")","v":""},null,""]
[null,null,{"$f":"IF(B1585<>\"\",VLOOKUP(B1585,[1]Desplegables!$BA$2:$BB$19,2,FALSE),\"\")","v":""},null,""]
[null,null,{"$f":"IF(B1586<>\"\",VLOOKUP(B1586,[1]Desplegables!$BA$2:$BB$19,2,FALSE),\"\")","v":""},null,""]
[null,null,{"$f":"IF(B1587<>\"\",VLOOKUP(B1587,[1]Desplegables!$BA$2:$BB$19,2,FALSE),\"\")","v":""},null,""]
[null,null,{"$f":"IF(B1588<>\"\",VLOOKUP(B1588,[1]Desplegables!$BA$2:$BB$19,2,FALSE),\"\")","v":""},null,""]
[null,null,{"$f":"IF(B1589<>\"\",VLOOKUP(B1589,[1]Desplegables!$BA$2:$BB$19,2,FALSE),\"\")","v":""},null,""]
[null,null,{"$f":"IF(B1590<>\"\",VLOOKUP(B1590,[1]Desplegables!$BA$2:$BB$19,2,FALSE),\"\")","v":""},null,""]
[null,null,{"$f":"IF(B1591<>\"\",VLOOKUP(B1591,[1]Desplegables!$BA$2:$BB$19,2,FALSE),\"\")","v":""},null,""]
[null,null,{"$f":"IF(B1592<>\"\",VLOOKUP(B1592,[1]Desplegables!$BA$2:$BB$19,2,FALSE),\"\")","v":""},null,""]
[null,null,{"$f":"IF(B1593<>\"\",VLOOKUP(B1593,[1]Desplegables!$BA$2:$BB$19,2,FALSE),\"\")","v":""},null,""]
[null,null,{"$f":"IF(B1594<>\"\",VLOOKUP(B1594,[1]Desplegables!$BA$2:$BB$19,2,FALSE),\"\")","v":""},null,""]
[null,null,{"$f":"IF(B1595<>\"\",VLOOKUP(B1595,[1]Desplegables!$BA$2:$BB$19,2,FALSE),\"\")","v":""},null,""]
[null,null,{"$f":"IF(B1596<>\"\",VLOOKUP(B1596,[1]Desplegables!$BA$2:$BB$19,2,FALSE),\"\")","v":""},null,""]
[null,null,{"$f":"IF(B1597<>\"\",VLOOKUP(B1597,[1]Desplegables!$BA$2:$BB$19,2,FALSE),\"\")","v":""},null,""]
[null,null,{"$f":"IF(B1598<>\"\",VLOOKUP(B1598,[1]Desplegables!$BA$2:$BB$19,2,FALSE),\"\")","v":""},null,""]
[null,null,{"$f":"IF(B1599<>\"\",VLOOKUP(B1599,[1]Desplegables!$BA$2:$BB$19,2,FALSE),\"\")","v":""},null,""]
[null,null,{"$f":"IF(B1600<>\"\",VLOOKUP(B1600,[1]Desplegables!$BA$2:$BB$19,2,FALSE),\"\")","v":""},null,""]
[null,null,{"$f":"IF(B1601<>\"\",VLOOKUP(B1601,[1]Desplegables!$BA$2:$BB$19,2,FALSE),\"\")","v":""},null,""]
[null,null,{"$f":"IF(B1602<>\"\",VLOOKUP(B1602,[1]Desplegables!$BA$2:$BB$19,2,FALSE),\"\")","v":""},null,""]
[null,null,{"$f":"IF(B1603<>\"\",VLOOKUP(B1603,[1]Desplegables!$BA$2:$BB$19,2,FALSE),\"\")","v":""},null,""]
[null,null,{"$f":"IF(B1604<>\"\",VLOOKUP(B1604,[1]Desplegables!$BA$2:$BB$19,2,FALSE),\"\")","v":""},null,""]
[null,null,{"$f":"IF(B1605<>\"\",VLOOKUP(B1605,[1]Desplegables!$BA$2:$BB$19,2,FALSE),\"\")","v":""},null,{"$f":"IF(C1605<>\"\",D1605/C1605,\"\")","v":""}]
[null,null,{"$f":"IF(B1606<>\"\",VLOOKUP(B1606,[1]Desplegables!$BA$2:$BB$19,2,FALSE),\"\")","v":""},null,""]
[null,null,{"$f":"IF(B1607<>\"\",VLOOKUP(B1607,[1]Desplegables!$BA$2:$BB$19,2,FALSE),\"\")","v":""},null,""]
[null,null,{"$f":"IF(B1608<>\"\",VLOOKUP(B1608,[1]Desplegables!$BA$2:$BB$19,2,FALSE),\"\")","v":""},null,""]
[null,null,{"$f":"IF(B1609<>\"\",VLOOKUP(B1609,[1]Desplegables!$BA$2:$BB$19,2,FALSE),\"\")","v":""},null,""]
[null,null,{"$f":"IF(B1610<>\"\",VLOOKUP(B1610,[1]Desplegables!$BA$2:$BB$19,2,FALSE),\"\")","v":""},null,""]
[null,null,{"$f":"IF(B1611<>\"\",VLOOKUP(B1611,[1]Desplegables!$BA$2:$BB$19,2,FALSE),\"\")","v":""},null,""]
[null,null,{"$f":"IF(B1612<>\"\",VLOOKUP(B1612,[1]Desplegables!$BA$2:$BB$19,2,FALSE),\"\")","v":""},null,""]
[null,null,{"$f":"IF(B1613<>\"\",VLOOKUP(B1613,[1]Desplegables!$BA$2:$BB$19,2,FALSE),\"\")","v":""},null,""]
[null,null,{"$f":"IF(B1614<>\"\",VLOOKUP(B1614,[1]Desplegables!$BA$2:$BB$19,2,FALSE),\"\")","v":""},null,""]
[null,null,{"$f":"IF(B1615<>\"\",VLOOKUP(B1615,[1]Desplegables!$BA$2:$BB$19,2,FALSE),\"\")","v":""},null,""]
[null,null,{"$f":"IF(B1616<>\"\",VLOOKUP(B1616,[1]Desplegables!$BA$2:$BB$19,2,FALSE),\"\")","v":""},null,""]
[null,null,{"$f":"IF(B1617<>\"\",VLOOKUP(B1617,[1]Desplegables!$BA$2:$BB$19,2,FALSE),\"\")","v":""},null,""]
[null,null,{"$f":"IF(B1618<>\"\",VLOOKUP(B1618,[1]Desplegables!$BA$2:$BB$19,2,FALSE),\"\")","v":""},null,""]
[null,null,{"$f":"IF(B1619<>\"\",VLOOKUP(B1619,[1]Desplegables!$BA$2:$BB$19,2,FALSE),\"\")","v":""},null,""]
[null,null,{"$f":"IF(B1620<>\"\",VLOOKUP(B1620,[1]Desplegables!$BA$2:$BB$19,2,FALSE),\"\")","v":""},null,""]
[null,null,{"$f":"IF(B1621<>\"\",VLOOKUP(B1621,[1]Desplegables!$BA$2:$BB$19,2,FALSE),\"\")","v":""},null,""]
[null,null,{"$f":"IF(B1622<>\"\",VLOOKUP(B1622,[1]Desplegables!$BA$2:$BB$19,2,FALSE),\"\")","v":""},null,""]
[null,null,{"$f":"IF(B1623<>\"\",VLOOKUP(B1623,[1]Desplegables!$BA$2:$BB$19,2,FALSE),\"\")","v":""},null,""]
[null,null,{"$f":"IF(B1624<>\"\",VLOOKUP(B1624,[1]Desplegables!$BA$2:$BB$19,2,FALSE),\"\")","v":""},null,""]
[null,null,{"$f":"IF(B1625<>\"\",VLOOKUP(B1625,[1]Desplegables!$BA$2:$BB$19,2,FALSE),\"\")","v":""},null,""]
[null,null,{"$f":"IF(B1626<>\"\",VLOOKUP(B1626,[1]Desplegables!$BA$2:$BB$19,2,FALSE),\"\")","v":""},null,""]
[null,null,{"$f":"IF(B1627<>\"\",VLOOKUP(B1627,[1]Desplegables!$BA$2:$BB$19,2,FALSE),\"\")","v":""},null,""]
[null,null,{"$f":"IF(B1628<>\"\",VLOOKUP(B1628,[1]Desplegables!$BA$2:$BB$19,2,FALSE),\"\")","v":""},null,""]
[null,null,{"$f":"IF(B1629<>\"\",VLOOKUP(B1629,[1]Desplegables!$BA$2:$BB$19,2,FALSE),\"\")","v":""},null,""]
[null,null,{"$f":"IF(B1630<>\"\",VLOOKUP(B1630,[1]Desplegables!$BA$2:$BB$19,2,FALSE),\"\")","v":""},null,""]
[null,null,{"$f":"IF(B1631<>\"\",VLOOKUP(B1631,[1]Desplegables!$BA$2:$BB$19,2,FALSE),\"\")","v":""},null,""]
[null,null,{"$f":"IF(B1632<>\"\",VLOOKUP(B1632,[1]Desplegables!$BA$2:$BB$19,2,FALSE),\"\")","v":""},null,""]
[null,null,{"$f":"IF(B1633<>\"\",VLOOKUP(B1633,[1]Desplegables!$BA$2:$BB$19,2,FALSE),\"\")","v":""},null,""]
[null,null,{"$f":"IF(B1634<>\"\",VLOOKUP(B1634,[1]Desplegables!$BA$2:$BB$19,2,FALSE),\"\")","v":""},null,""]
[null,null,{"$f":"IF(B1635<>\"\",VLOOKUP(B1635,[1]Desplegables!$BA$2:$BB$19,2,FALSE),\"\")","v":""},null,""]
[null,null,{"$f":"IF(B1636<>\"\",VLOOKUP(B1636,[1]Desplegables!$BA$2:$BB$19,2,FALSE),\"\")","v":""},null,""]
[null,null,{"$f":"IF(B1637<>\"\",VLOOKUP(B1637,[1]Desplegables!$BA$2:$BB$19,2,FALSE),\"\")","v":""},null,""]
[null,null,{"$f":"IF(B1638<>\"\",VLOOKUP(B1638,[1]Desplegables!$BA$2:$BB$19,2,FALSE),\"\")","v":""},null,""]
[null,null,{"$f":"IF(B1639<>\"\",VLOOKUP(B1639,[1]Desplegables!$BA$2:$BB$19,2,FALSE),\"\")","v":""},null,""]
[null,null,{"$f":"IF(B1640<>\"\",VLOOKUP(B1640,[1]Desplegables!$BA$2:$BB$19,2,FALSE),\"\")","v":""},null,""]
[null,null,{"$f":"IF(B1641<>\"\",VLOOKUP(B1641,[1]Desplegables!$BA$2:$BB$19,2,FALSE),\"\")","v":""},null,""]
[null,null,{"$f":"IF(B1642<>\"\",VLOOKUP(B1642,[1]Desplegables!$BA$2:$BB$19,2,FALSE),\"\")","v":""},null,""]
[null,null,{"$f":"IF(B1643<>\"\",VLOOKUP(B1643,[1]Desplegables!$BA$2:$BB$19,2,FALSE),\"\")","v":""},null,""]
[null,null,{"$f":"IF(B1644<>\"\",VLOOKUP(B1644,[1]Desplegables!$BA$2:$BB$19,2,FALSE),\"\")","v":""},null,""]
[null,null,{"$f":"IF(B1645<>\"\",VLOOKUP(B1645,[1]Desplegables!$BA$2:$BB$19,2,FALSE),\"\")","v":""},null,""]
[null,null,{"$f":"IF(B1646<>\"\",VLOOKUP(B1646,[1]Desplegables!$BA$2:$BB$19,2,FALSE),\"\")","v":""},null,""]
[null,null,{"$f":"IF(B1647<>\"\",VLOOKUP(B1647,[1]Desplegables!$BA$2:$BB$19,2,FALSE),\"\")","v":""},null,""]
[null,null,{"$f":"IF(B1648<>\"\",VLOOKUP(B1648,[1]Desplegables!$BA$2:$BB$19,2,FALSE),\"\")","v":""},null,""]
[null,null,{"$f":"IF(B1649<>\"\",VLOOKUP(B1649,[1]Desplegables!$BA$2:$BB$19,2,FALSE),\"\")","v":""},null,""]
[null,null,{"$f":"IF(B1650<>\"\",VLOOKUP(B1650,[1]Desplegables!$BA$2:$BB$19,2,FALSE),\"\")","v":""},null,""]
[null,null,{"$f":"IF(B1651<>\"\",VLOOKUP(B1651,[1]Desplegables!$BA$2:$BB$19,2,FALSE),\"\")","v":""},null,""]
[null,null,{"$f":"IF(B1652<>\"\",VLOOKUP(B1652,[1]Desplegables!$BA$2:$BB$19,2,FALSE),\"\")","v":""},null,""]
[null,null,{"$f":"IF(B1653<>\"\",VLOOKUP(B1653,[1]Desplegables!$BA$2:$BB$19,2,FALSE),\"\")","v":""},null,""]
[null,null,{"$f":"IF(B1654<>\"\",VLOOKUP(B1654,[1]Desplegables!$BA$2:$BB$19,2,FALSE),\"\")","v":""},null,""]
[null,null,{"$f":"IF(B1655<>\"\",VLOOKUP(B1655,[1]Desplegables!$BA$2:$BB$19,2,FALSE),\"\")","v":""},null,""]
[null,null,{"$f":"IF(B1656<>\"\",VLOOKUP(B1656,[1]Desplegables!$BA$2:$BB$19,2,FALSE),\"\")","v":""},null,""]
[null,null,{"$f":"IF(B1657<>\"\",VLOOKUP(B1657,[1]Desplegables!$BA$2:$BB$19,2,FALSE),\"\")","v":""},null,""]
[null,null,{"$f":"IF(B1658<>\"\",VLOOKUP(B1658,[1]Desplegables!$BA$2:$BB$19,2,FALSE),\"\")","v":""},null,""]
[null,null,{"$f":"IF(B1659<>\"\",VLOOKUP(B1659,[1]Desplegables!$BA$2:$BB$19,2,FALSE),\"\")","v":""},null,""]
[null,null,{"$f":"IF(B1660<>\"\",VLOOKUP(B1660,[1]Desplegables!$BA$2:$BB$19,2,FALSE),\"\")","v":""},null,""]
[null,null,{"$f":"IF(B1661<>\"\",VLOOKUP(B1661,[1]Desplegables!$BA$2:$BB$19,2,FALSE),\"\")","v":""},null,""]
[null,null,{"$f":"IF(B1662<>\"\",VLOOKUP(B1662,[1]Desplegables!$BA$2:$BB$19,2,FALSE),\"\")","v":""},null,""]
[null,null,{"$f":"IF(B1663<>\"\",VLOOKUP(B1663,[1]Desplegables!$BA$2:$BB$19,2,FALSE),\"\")","v":""},null,""]
[null,null,{"$f":"IF(B1664<>\"\",VLOOKUP(B1664,[1]Desplegables!$BA$2:$BB$19,2,FALSE),\"\")","v":""},null,""]
[null,null,{"$f":"IF(B1665<>\"\",VLOOKUP(B1665,[1]Desplegables!$BA$2:$BB$19,2,FALSE),\"\")","v":""},null,""]
[null,null,{"$f":"IF(B1666<>\"\",VLOOKUP(B1666,[1]Desplegables!$BA$2:$BB$19,2,FALSE),\"\")","v":""},null,""]
[null,null,{"$f":"IF(B1667<>\"\",VLOOKUP(B1667,[1]Desplegables!$BA$2:$BB$19,2,FALSE),\"\")","v":""},null,""]
[null,null,{"$f":"IF(B1668<>\"\",VLOOKUP(B1668,[1]Desplegables!$BA$2:$BB$19,2,FALSE),\"\")","v":""},null,""]
[null,null,{"$f":"IF(B1669<>\"\",VLOOKUP(B1669,[1]Desplegables!$BA$2:$BB$19,2,FALSE),\"\")","v":""},null,{"$f":"IF(C1669<>\"\",D1669/C1669,\"\")","v":""}]
[null,null,{"$f":"IF(B1670<>\"\",VLOOKUP(B1670,[1]Desplegables!$BA$2:$BB$19,2,FALSE),\"\")","v":""},null,""]
[null,null,{"$f":"IF(B1671<>\"\",VLOOKUP(B1671,[1]Desplegables!$BA$2:$BB$19,2,FALSE),\"\")","v":""},null,""]
[null,null,{"$f":"IF(B1672<>\"\",VLOOKUP(B1672,[1]Desplegables!$BA$2:$BB$19,2,FALSE),\"\")","v":""},null,""]
[null,null,{"$f":"IF(B1673<>\"\",VLOOKUP(B1673,[1]Desplegables!$BA$2:$BB$19,2,FALSE),\"\")","v":""},null,""]
[null,null,{"$f":"IF(B1674<>\"\",VLOOKUP(B1674,[1]Desplegables!$BA$2:$BB$19,2,FALSE),\"\")","v":""},null,""]
[null,null,{"$f":"IF(B1675<>\"\",VLOOKUP(B1675,[1]Desplegables!$BA$2:$BB$19,2,FALSE),\"\")","v":""},null,""]
[null,null,{"$f":"IF(B1676<>\"\",VLOOKUP(B1676,[1]Desplegables!$BA$2:$BB$19,2,FALSE),\"\")","v":""},null,""]
[null,null,{"$f":"IF(B1677<>\"\",VLOOKUP(B1677,[1]Desplegables!$BA$2:$BB$19,2,FALSE),\"\")","v":""},null,""]
[null,null,{"$f":"IF(B1678<>\"\",VLOOKUP(B1678,[1]Desplegables!$BA$2:$BB$19,2,FALSE),\"\")","v":""},null,""]
[null,null,{"$f":"IF(B1679<>\"\",VLOOKUP(B1679,[1]Desplegables!$BA$2:$BB$19,2,FALSE),\"\")","v":""},null,""]
[null,null,{"$f":"IF(B1680<>\"\",VLOOKUP(B1680,[1]Desplegables!$BA$2:$BB$19,2,FALSE),\"\")","v":""},null,""]
[null,null,{"$f":"IF(B1681<>\"\",VLOOKUP(B1681,[1]Desplegables!$BA$2:$BB$19,2,FALSE),\"\")","v":""},null,""]
[null,null,{"$f":"IF(B1682<>\"\",VLOOKUP(B1682,[1]Desplegables!$BA$2:$BB$19,2,FALSE),\"\")","v":""},null,""]
[null,null,{"$f":"IF(B1683<>\"\",VLOOKUP(B1683,[1]Desplegables!$BA$2:$BB$19,2,FALSE),\"\")","v":""},null,""]
[null,null,{"$f":"IF(B1684<>\"\",VLOOKUP(B1684,[1]Desplegables!$BA$2:$BB$19,2,FALSE),\"\")","v":""},null,""]
[null,null,{"$f":"IF(B1685<>\"\",VLOOKUP(B1685,[1]Desplegables!$BA$2:$BB$19,2,FALSE),\"\")","v":""},null,""]
[null,null,{"$f":"IF(B1686<>\"\",VLOOKUP(B1686,[1]Desplegables!$BA$2:$BB$19,2,FALSE),\"\")","v":""},null,""]
[null,null,{"$f":"IF(B1687<>\"\",VLOOKUP(B1687,[1]Desplegables!$BA$2:$BB$19,2,FALSE),\"\")","v":""},null,""]
[null,null,{"$f":"IF(B1688<>\"\",VLOOKUP(B1688,[1]Desplegables!$BA$2:$BB$19,2,FALSE),\"\")","v":""},null,""]
[null,null,{"$f":"IF(B1689<>\"\",VLOOKUP(B1689,[1]Desplegables!$BA$2:$BB$19,2,FALSE),\"\")","v":""},null,""]
[null,null,{"$f":"IF(B1690<>\"\",VLOOKUP(B1690,[1]Desplegables!$BA$2:$BB$19,2,FALSE),\"\")","v":""},null,""]
[null,null,{"$f":"IF(B1691<>\"\",VLOOKUP(B1691,[1]Desplegables!$BA$2:$BB$19,2,FALSE),\"\")","v":""},null,""]
[null,null,{"$f":"IF(B1692<>\"\",VLOOKUP(B1692,[1]Desplegables!$BA$2:$BB$19,2,FALSE),\"\")","v":""},null,""]
[null,null,{"$f":"IF(B1693<>\"\",VLOOKUP(B1693,[1]Desplegables!$BA$2:$BB$19,2,FALSE),\"\")","v":""},null,""]
[null,null,{"$f":"IF(B1694<>\"\",VLOOKUP(B1694,[1]Desplegables!$BA$2:$BB$19,2,FALSE),\"\")","v":""},null,""]
[null,null,{"$f":"IF(B1695<>\"\",VLOOKUP(B1695,[1]Desplegables!$BA$2:$BB$19,2,FALSE),\"\")","v":""},null,""]
[null,null,{"$f":"IF(B1696<>\"\",VLOOKUP(B1696,[1]Desplegables!$BA$2:$BB$19,2,FALSE),\"\")","v":""},null,""]
[null,null,{"$f":"IF(B1697<>\"\",VLOOKUP(B1697,[1]Desplegables!$BA$2:$BB$19,2,FALSE),\"\")","v":""},null,""]
[null,null,{"$f":"IF(B1698<>\"\",VLOOKUP(B1698,[1]Desplegables!$BA$2:$BB$19,2,FALSE),\"\")","v":""},null,""]
[null,null,{"$f":"IF(B1699<>\"\",VLOOKUP(B1699,[1]Desplegables!$BA$2:$BB$19,2,FALSE),\"\")","v":""},null,""]
[null,null,{"$f":"IF(B1700<>\"\",VLOOKUP(B1700,[1]Desplegables!$BA$2:$BB$19,2,FALSE),\"\")","v":""},null,""]
[null,null,{"$f":"IF(B1701<>\"\",VLOOKUP(B1701,[1]Desplegables!$BA$2:$BB$19,2,FALSE),\"\")","v":""},null,""]
[null,null,{"$f":"IF(B1702<>\"\",VLOOKUP(B1702,[1]Desplegables!$BA$2:$BB$19,2,FALSE),\"\")","v":""},null,""]
[null,null,{"$f":"IF(B1703<>\"\",VLOOKUP(B1703,[1]Desplegables!$BA$2:$BB$19,2,FALSE),\"\")","v":""},null,""]
[null,null,{"$f":"IF(B1704<>\"\",VLOOKUP(B1704,[1]Desplegables!$BA$2:$BB$19,2,FALSE),\"\")","v":""},null,""]
[null,null,{"$f":"IF(B1705<>\"\",VLOOKUP(B1705,[1]Desplegables!$BA$2:$BB$19,2,FALSE),\"\")","v":""},null,""]
[null,null,{"$f":"IF(B1706<>\"\",VLOOKUP(B1706,[1]Desplegables!$BA$2:$BB$19,2,FALSE),\"\")","v":""},null,""]
[null,null,{"$f":"IF(B1707<>\"\",VLOOKUP(B1707,[1]Desplegables!$BA$2:$BB$19,2,FALSE),\"\")","v":""},null,""]
[null,null,{"$f":"IF(B1708<>\"\",VLOOKUP(B1708,[1]Desplegables!$BA$2:$BB$19,2,FALSE),\"\")","v":""},null,""]
[null,null,{"$f":"IF(B1709<>\"\",VLOOKUP(B1709,[1]Desplegables!$BA$2:$BB$19,2,FALSE),\"\")","v":""},null,""]
[null,null,{"$f":"IF(B1710<>\"\",VLOOKUP(B1710,[1]Desplegables!$BA$2:$BB$19,2,FALSE),\"\")","v":""},null,""]
[null,null,{"$f":"IF(B1711<>\"\",VLOOKUP(B1711,[1]Desplegables!$BA$2:$BB$19,2,FALSE),\"\")","v":""},null,""]
[null,null,{"$f":"IF(B1712<>\"\",VLOOKUP(B1712,[1]Desplegables!$BA$2:$BB$19,2,FALSE),\"\")","v":""},null,""]
[null,null,{"$f":"IF(B1713<>\"\",VLOOKUP(B1713,[1]Desplegables!$BA$2:$BB$19,2,FALSE),\"\")","v":""},null,""]
[null,null,{"$f":"IF(B1714<>\"\",VLOOKUP(B1714,[1]Desplegables!$BA$2:$BB$19,2,FALSE),\"\")","v":""},null,""]
[null,null,{"$f":"IF(B1715<>\"\",VLOOKUP(B1715,[1]Desplegables!$BA$2:$BB$19,2,FALSE),\"\")","v":""},null,""]
[null,null,{"$f":"IF(B1716<>\"\",VLOOKUP(B1716,[1]Desplegables!$BA$2:$BB$19,2,FALSE),\"\")","v":""},null,""]
[null,null,{"$f":"IF(B1717<>\"\",VLOOKUP(B1717,[1]Desplegables!$BA$2:$BB$19,2,FALSE),\"\")","v":""},null,""]
[null,null,{"$f":"IF(B1718<>\"\",VLOOKUP(B1718,[1]Desplegables!$BA$2:$BB$19,2,FALSE),\"\")","v":""},null,""]
[null,null,{"$f":"IF(B1719<>\"\",VLOOKUP(B1719,[1]Desplegables!$BA$2:$BB$19,2,FALSE),\"\")","v":""},null,""]
[null,null,{"$f":"IF(B1720<>\"\",VLOOKUP(B1720,[1]Desplegables!$BA$2:$BB$19,2,FALSE),\"\")","v":""},null,""]
[null,null,{"$f":"IF(B1721<>\"\",VLOOKUP(B1721,[1]Desplegables!$BA$2:$BB$19,2,FALSE),\"\")","v":""},null,""]
[null,null,{"$f":"IF(B1722<>\"\",VLOOKUP(B1722,[1]Desplegables!$BA$2:$BB$19,2,FALSE),\"\")","v":""},null,""]
[null,null,{"$f":"IF(B1723<>\"\",VLOOKUP(B1723,[1]Desplegables!$BA$2:$BB$19,2,FALSE),\"\")","v":""},null,""]
[null,null,{"$f":"IF(B1724<>\"\",VLOOKUP(B1724,[1]Desplegables!$BA$2:$BB$19,2,FALSE),\"\")","v":""},null,""]
[null,null,{"$f":"IF(B1725<>\"\",VLOOKUP(B1725,[1]Desplegables!$BA$2:$BB$19,2,FALSE),\"\")","v":""},null,""]
[null,null,{"$f":"IF(B1726<>\"\",VLOOKUP(B1726,[1]Desplegables!$BA$2:$BB$19,2,FALSE),\"\")","v":""},null,""]
[null,null,{"$f":"IF(B1727<>\"\",VLOOKUP(B1727,[1]Desplegables!$BA$2:$BB$19,2,FALSE),\"\")","v":""},null,""]
[null,null,{"$f":"IF(B1728<>\"\",VLOOKUP(B1728,[1]Desplegables!$BA$2:$BB$19,2,FALSE),\"\")","v":""},null,""]
[null,null,{"$f":"IF(B1729<>\"\",VLOOKUP(B1729,[1]Desplegables!$BA$2:$BB$19,2,FALSE),\"\")","v":""},null,""]
[null,null,{"$f":"IF(B1730<>\"\",VLOOKUP(B1730,[1]Desplegables!$BA$2:$BB$19,2,FALSE),\"\")","v":""},null,""]
[null,null,{"$f":"IF(B1731<>\"\",VLOOKUP(B1731,[1]Desplegables!$BA$2:$BB$19,2,FALSE),\"\")","v":""},null,""]
[null,null,{"$f":"IF(B1732<>\"\",VLOOKUP(B1732,[1]Desplegables!$BA$2:$BB$19,2,FALSE),\"\")","v":""},null,""]
[null,null,{"$f":"IF(B1733<>\"\",VLOOKUP(B1733,[1]Desplegables!$BA$2:$BB$19,2,FALSE),\"\")","v":""},null,{"$f":"IF(C1733<>\"\",D1733/C1733,\"\")","v":""}]
[null,null,{"$f":"IF(B1734<>\"\",VLOOKUP(B1734,[1]Desplegables!$BA$2:$BB$19,2,FALSE),\"\")","v":""},null,""]
[null,null,{"$f":"IF(B1735<>\"\",VLOOKUP(B1735,[1]Desplegables!$BA$2:$BB$19,2,FALSE),\"\")","v":""},null,""]
[null,null,{"$f":"IF(B1736<>\"\",VLOOKUP(B1736,[1]Desplegables!$BA$2:$BB$19,2,FALSE),\"\")","v":""},null,""]
[null,null,{"$f":"IF(B1737<>\"\",VLOOKUP(B1737,[1]Desplegables!$BA$2:$BB$19,2,FALSE),\"\")","v":""},null,""]
[null,null,{"$f":"IF(B1738<>\"\",VLOOKUP(B1738,[1]Desplegables!$BA$2:$BB$19,2,FALSE),\"\")","v":""},null,""]
[null,null,{"$f":"IF(B1739<>\"\",VLOOKUP(B1739,[1]Desplegables!$BA$2:$BB$19,2,FALSE),\"\")","v":""},null,""]
[null,null,{"$f":"IF(B1740<>\"\",VLOOKUP(B1740,[1]Desplegables!$BA$2:$BB$19,2,FALSE),\"\")","v":""},null,""]
[null,null,{"$f":"IF(B1741<>\"\",VLOOKUP(B1741,[1]Desplegables!$BA$2:$BB$19,2,FALSE),\"\")","v":""},null,""]
[null,null,{"$f":"IF(B1742<>\"\",VLOOKUP(B1742,[1]Desplegables!$BA$2:$BB$19,2,FALSE),\"\")","v":""},null,""]
[null,null,{"$f":"IF(B1743<>\"\",VLOOKUP(B1743,[1]Desplegables!$BA$2:$BB$19,2,FALSE),\"\")","v":""},null,""]
[null,null,{"$f":"IF(B1744<>\"\",VLOOKUP(B1744,[1]Desplegables!$BA$2:$BB$19,2,FALSE),\"\")","v":""},null,""]
[null,null,{"$f":"IF(B1745<>\"\",VLOOKUP(B1745,[1]Desplegables!$BA$2:$BB$19,2,FALSE),\"\")","v":""},null,""]
[null,null,{"$f":"IF(B1746<>\"\",VLOOKUP(B1746,[1]Desplegables!$BA$2:$BB$19,2,FALSE),\"\")","v":""},null,""]
[null,null,{"$f":"IF(B1747<>\"\",VLOOKUP(B1747,[1]Desplegables!$BA$2:$BB$19,2,FALSE),\"\")","v":""},null,""]
[null,null,{"$f":"IF(B1748<>\"\",VLOOKUP(B1748,[1]Desplegables!$BA$2:$BB$19,2,FALSE),\"\")","v":""},null,""]
[null,null,{"$f":"IF(B1749<>\"\",VLOOKUP(B1749,[1]Desplegables!$BA$2:$BB$19,2,FALSE),\"\")","v":""},null,""]
[null,null,{"$f":"IF(B1750<>\"\",VLOOKUP(B1750,[1]Desplegables!$BA$2:$BB$19,2,FALSE),\"\")","v":""},null,""]
[null,null,{"$f":"IF(B1751<>\"\",VLOOKUP(B1751,[1]Desplegables!$BA$2:$BB$19,2,FALSE),\"\")","v":""},null,""]
[null,null,{"$f":"IF(B1752<>\"\",VLOOKUP(B1752,[1]Desplegables!$BA$2:$BB$19,2,FALSE),\"\")","v":""},null,""]
[null,null,{"$f":"IF(B1753<>\"\",VLOOKUP(B1753,[1]Desplegables!$BA$2:$BB$19,2,FALSE),\"\")","v":""},null,""]
[null,null,{"$f":"IF(B1754<>\"\",VLOOKUP(B1754,[1]Desplegables!$BA$2:$BB$19,2,FALSE),\"\")","v":""},null,""]
[null,null,{"$f":"IF(B1755<>\"\",VLOOKUP(B1755,[1]Desplegables!$BA$2:$BB$19,2,FALSE),\"\")","v":""},null,""]
[null,null,{"$f":"IF(B1756<>\"\",VLOOKUP(B1756,[1]Desplegables!$BA$2:$BB$19,2,FALSE),\"\")","v":""},null,""]
[null,null,{"$f":"IF(B1757<>\"\",VLOOKUP(B1757,[1]Desplegables!$BA$2:$BB$19,2,FALSE),\"\")","v":""},null,""]
[null,null,{"$f":"IF(B1758<>\"\",VLOOKUP(B1758,[1]Desplegables!$BA$2:$BB$19,2,FALSE),\"\")","v":""},null,""]
[null,null,{"$f":"IF(B1759<>\"\",VLOOKUP(B1759,[1]Desplegables!$BA$2:$BB$19,2,FALSE),\"\")","v":""},null,""]
[null,null,{"$f":"IF(B1760<>\"\",VLOOKUP(B1760,[1]Desplegables!$BA$2:$BB$19,2,FALSE),\"\")","v":""},null,""]
[null,null,{"$f":"IF(B1761<>\"\",VLOOKUP(B1761,[1]Desplegables!$BA$2:$BB$19,2,FALSE),\"\")","v":""},null,""]
[null,null,{"$f":"IF(B1762<>\"\",VLOOKUP(B1762,[1]Desplegables!$BA$2:$BB$19,2,FALSE),\"\")","v":""},null,""]
[null,null,{"$f":"IF(B1763<>\"\",VLOOKUP(B1763,[1]Desplegables!$BA$2:$BB$19,2,FALSE),\"\")","v":""},null,""]
[null,null,{"$f":"IF(B1764<>\"\",VLOOKUP(B1764,[1]Desplegables!$BA$2:$BB$19,2,FALSE),\"\")","v":""},null,""]
[null,null,{"$f":"IF(B1765<>\"\",VLOOKUP(B1765,[1]Desplegables!$BA$2:$BB$19,2,FALSE),\"\")","v":""},null,""]
[null,null,{"$f":"IF(B1766<>\"\",VLOOKUP(B1766,[1]Desplegables!$BA$2:$BB$19,2,FALSE),\"\")","v":""},null,""]
[null,null,{"$f":"IF(B1767<>\"\",VLOOKUP(B1767,[1]Desplegables!$BA$2:$BB$19,2,FALSE),\"\")","v":""},null,""]
[null,null,{"$f":"IF(B1768<>\"\",VLOOKUP(B1768,[1]Desplegables!$BA$2:$BB$19,2,FALSE),\"\")","v":""},null,""]
[null,null,{"$f":"IF(B1769<>\"\",VLOOKUP(B1769,[1]Desplegables!$BA$2:$BB$19,2,FALSE),\"\")","v":""},null,""]
[null,null,{"$f":"IF(B1770<>\"\",VLOOKUP(B1770,[1]Desplegables!$BA$2:$BB$19,2,FALSE),\"\")","v":""},null,""]
[null,null,{"$f":"IF(B1771<>\"\",VLOOKUP(B1771,[1]Desplegables!$BA$2:$BB$19,2,FALSE),\"\")","v":""},null,""]
[null,null,{"$f":"IF(B1772<>\"\",VLOOKUP(B1772,[1]Desplegables!$BA$2:$BB$19,2,FALSE),\"\")","v":""},null,""]
[null,null,{"$f":"IF(B1773<>\"\",VLOOKUP(B1773,[1]Desplegables!$BA$2:$BB$19,2,FALSE),\"\")","v":""},null,""]
[null,null,{"$f":"IF(B1774<>\"\",VLOOKUP(B1774,[1]Desplegables!$BA$2:$BB$19,2,FALSE),\"\")","v":""},null,""]
[null,null,{"$f":"IF(B1775<>\"\",VLOOKUP(B1775,[1]Desplegables!$BA$2:$BB$19,2,FALSE),\"\")","v":""},null,""]
[null,null,{"$f":"IF(B1776<>\"\",VLOOKUP(B1776,[1]Desplegables!$BA$2:$BB$19,2,FALSE),\"\")","v":""},null,""]
[null,null,{"$f":"IF(B1777<>\"\",VLOOKUP(B1777,[1]Desplegables!$BA$2:$BB$19,2,FALSE),\"\")","v":""},null,""]
[null,null,{"$f":"IF(B1778<>\"\",VLOOKUP(B1778,[1]Desplegables!$BA$2:$BB$19,2,FALSE),\"\")","v":""},null,""]
[null,null,{"$f":"IF(B1779<>\"\",VLOOKUP(B1779,[1]Desplegables!$BA$2:$BB$19,2,FALSE),\"\")","v":""},null,""]
[null,null,{"$f":"IF(B1780<>\"\",VLOOKUP(B1780,[1]Desplegables!$BA$2:$BB$19,2,FALSE),\"\")","v":""},null,""]
[null,null,{"$f":"IF(B1781<>\"\",VLOOKUP(B1781,[1]Desplegables!$BA$2:$BB$19,2,FALSE),\"\")","v":""},null,""]
[null,null,{"$f":"IF(B1782<>\"\",VLOOKUP(B1782,[1]Desplegables!$BA$2:$BB$19,2,FALSE),\"\")","v":""},null,""]
[null,null,{"$f":"IF(B1783<>\"\",VLOOKUP(B1783,[1]Desplegables!$BA$2:$BB$19,2,FALSE),\"\")","v":""},null,""]
[null,null,{"$f":"IF(B1784<>\"\",VLOOKUP(B1784,[1]Desplegables!$BA$2:$BB$19,2,FALSE),\"\")","v":""},null,""]
[null,null,{"$f":"IF(B1785<>\"\",VLOOKUP(B1785,[1]Desplegables!$BA$2:$BB$19,2,FALSE),\"\")","v":""},null,""]
[null,null,{"$f":"IF(B1786<>\"\",VLOOKUP(B1786,[1]Desplegables!$BA$2:$BB$19,2,FALSE),\"\")","v":""},null,""]
[null,null,{"$f":"IF(B1787<>\"\",VLOOKUP(B1787,[1]Desplegables!$BA$2:$BB$19,2,FALSE),\"\")","v":""},null,""]
[null,null,{"$f":"IF(B1788<>\"\",VLOOKUP(B1788,[1]Desplegables!$BA$2:$BB$19,2,FALSE),\"\")","v":""},null,""]
[null,null,{"$f":"IF(B1789<>\"\",VLOOKUP(B1789,[1]Desplegables!$BA$2:$BB$19,2,FALSE),\"\")","v":""},null,""]
[null,null,{"$f":"IF(B1790<>\"\",VLOOKUP(B1790,[1]Desplegables!$BA$2:$BB$19,2,FALSE),\"\")","v":""},null,""]
[null,null,{"$f":"IF(B1791<>\"\",VLOOKUP(B1791,[1]Desplegables!$BA$2:$BB$19,2,FALSE),\"\")","v":""},null,""]
[null,null,{"$f":"IF(B1792<>\"\",VLOOKUP(B1792,[1]Desplegables!$BA$2:$BB$19,2,FALSE),\"\")","v":""},null,""]
[null,null,{"$f":"IF(B1793<>\"\",VLOOKUP(B1793,[1]Desplegables!$BA$2:$BB$19,2,FALSE),\"\")","v":""},null,""]
[null,null,{"$f":"IF(B1794<>\"\",VLOOKUP(B1794,[1]Desplegables!$BA$2:$BB$19,2,FALSE),\"\")","v":""},null,""]
[null,null,{"$f":"IF(B1795<>\"\",VLOOKUP(B1795,[1]Desplegables!$BA$2:$BB$19,2,FALSE),\"\")","v":""},null,""]
[null,null,{"$f":"IF(B1796<>\"\",VLOOKUP(B1796,[1]Desplegables!$BA$2:$BB$19,2,FALSE),\"\")","v":""},null,""]
[null,null,{"$f":"IF(B1797<>\"\",VLOOKUP(B1797,[1]Desplegables!$BA$2:$BB$19,2,FALSE),\"\")","v":""},null,{"$f":"IF(C1797<>\"\",D1797/C1797,\"\")","v":""}]
[null,null,{"$f":"IF(B1798<>\"\",VLOOKUP(B1798,[1]Desplegables!$BA$2:$BB$19,2,FALSE),\"\")","v":""},null,""]
[null,null,{"$f":"IF(B1799<>\"\",VLOOKUP(B1799,[1]Desplegables!$BA$2:$BB$19,2,FALSE),\"\")","v":""},null,""]
[null,null,{"$f":"IF(B1800<>\"\",VLOOKUP(B1800,[1]Desplegables!$BA$2:$BB$19,2,FALSE),\"\")","v":""},null,""]
[null,null,{"$f":"IF(B1801<>\"\",VLOOKUP(B1801,[1]Desplegables!$BA$2:$BB$19,2,FALSE),\"\")","v":""},null,""]
[null,null,{"$f":"IF(B1802<>\"\",VLOOKUP(B1802,[1]Desplegables!$BA$2:$BB$19,2,FALSE),\"\")","v":""},null,""]
[null,null,{"$f":"IF(B1803<>\"\",VLOOKUP(B1803,[1]Desplegables!$BA$2:$BB$19,2,FALSE),\"\")","v":""},null,""]
[null,null,{"$f":"IF(B1804<>\"\",VLOOKUP(B1804,[1]Desplegables!$BA$2:$BB$19,2,FALSE),\"\")","v":""},null,""]
[null,null,{"$f":"IF(B1805<>\"\",VLOOKUP(B1805,[1]Desplegables!$BA$2:$BB$19,2,FALSE),\"\")","v":""},null,""]
[null,null,{"$f":"IF(B1806<>\"\",VLOOKUP(B1806,[1]Desplegables!$BA$2:$BB$19,2,FALSE),\"\")","v":""},null,""]
[null,null,{"$f":"IF(B1807<>\"\",VLOOKUP(B1807,[1]Desplegables!$BA$2:$BB$19,2,FALSE),\"\")","v":""},null,""]
[null,null,{"$f":"IF(B1808<>\"\",VLOOKUP(B1808,[1]Desplegables!$BA$2:$BB$19,2,FALSE),\"\")","v":""},null,""]
[null,null,{"$f":"IF(B1809<>\"\",VLOOKUP(B1809,[1]Desplegables!$BA$2:$BB$19,2,FALSE),\"\")","v":""},null,""]
[null,null,{"$f":"IF(B1810<>\"\",VLOOKUP(B1810,[1]Desplegables!$BA$2:$BB$19,2,FALSE),\"\")","v":""},null,""]
[null,null,{"$f":"IF(B1811<>\"\",VLOOKUP(B1811,[1]Desplegables!$BA$2:$BB$19,2,FALSE),\"\")","v":""},null,""]
[null,null,{"$f":"IF(B1812<>\"\",VLOOKUP(B1812,[1]Desplegables!$BA$2:$BB$19,2,FALSE),\"\")","v":""},null,""]
[null,null,{"$f":"IF(B1813<>\"\",VLOOKUP(B1813,[1]Desplegables!$BA$2:$BB$19,2,FALSE),\"\")","v":""},null,""]
[null,null,{"$f":"IF(B1814<>\"\",VLOOKUP(B1814,[1]Desplegables!$BA$2:$BB$19,2,FALSE),\"\")","v":""},null,""]
[null,null,{"$f":"IF(B1815<>\"\",VLOOKUP(B1815,[1]Desplegables!$BA$2:$BB$19,2,FALSE),\"\")","v":""},null,""]
[null,null,{"$f":"IF(B1816<>\"\",VLOOKUP(B1816,[1]Desplegables!$BA$2:$BB$19,2,FALSE),\"\")","v":""},null,""]
[null,null,{"$f":"IF(B1817<>\"\",VLOOKUP(B1817,[1]Desplegables!$BA$2:$BB$19,2,FALSE),\"\")","v":""},null,""]
[null,null,{"$f":"IF(B1818<>\"\",VLOOKUP(B1818,[1]Desplegables!$BA$2:$BB$19,2,FALSE),\"\")","v":""},null,""]
[null,null,{"$f":"IF(B1819<>\"\",VLOOKUP(B1819,[1]Desplegables!$BA$2:$BB$19,2,FALSE),\"\")","v":""},null,""]
[null,null,{"$f":"IF(B1820<>\"\",VLOOKUP(B1820,[1]Desplegables!$BA$2:$BB$19,2,FALSE),\"\")","v":""},null,""]
[null,null,{"$f":"IF(B1821<>\"\",VLOOKUP(B1821,[1]Desplegables!$BA$2:$BB$19,2,FALSE),\"\")","v":""},null,""]
[null,null,{"$f":"IF(B1822<>\"\",VLOOKUP(B1822,[1]Desplegables!$BA$2:$BB$19,2,FALSE),\"\")","v":""},null,""]
[null,null,{"$f":"IF(B1823<>\"\",VLOOKUP(B1823,[1]Desplegables!$BA$2:$BB$19,2,FALSE),\"\")","v":""},null,""]
[null,null,{"$f":"IF(B1824<>\"\",VLOOKUP(B1824,[1]Desplegables!$BA$2:$BB$19,2,FALSE),\"\")","v":""},null,""]
[null,null,{"$f":"IF(B1825<>\"\",VLOOKUP(B1825,[1]Desplegables!$BA$2:$BB$19,2,FALSE),\"\")","v":""},null,""]
[null,null,{"$f":"IF(B1826<>\"\",VLOOKUP(B1826,[1]Desplegables!$BA$2:$BB$19,2,FALSE),\"\")","v":""},null,""]
[null,null,{"$f":"IF(B1827<>\"\",VLOOKUP(B1827,[1]Desplegables!$BA$2:$BB$19,2,FALSE),\"\")","v":""},null,""]
[null,null,{"$f":"IF(B1828<>\"\",VLOOKUP(B1828,[1]Desplegables!$BA$2:$BB$19,2,FALSE),\"\")","v":""},null,""]
[null,null,{"$f":"IF(B1829<>\"\",VLOOKUP(B1829,[1]Desplegables!$BA$2:$BB$19,2,FALSE),\"\")","v":""},null,""]
[null,null,{"$f":"IF(B1830<>\"\",VLOOKUP(B1830,[1]Desplegables!$BA$2:$BB$19,2,FALSE),\"\")","v":""},null,""]
[null,null,{"$f":"IF(B1831<>\"\",VLOOKUP(B1831,[1]Desplegables!$BA$2:$BB$19,2,FALSE),\"\")","v":""},null,""]
[null,null,{"$f":"IF(B1832<>\"\",VLOOKUP(B1832,[1]Desplegables!$BA$2:$BB$19,2,FALSE),\"\")","v":""},null,""]
[null,null,{"$f":"IF(B1833<>\"\",VLOOKUP(B1833,[1]Desplegables!$BA$2:$BB$19,2,FALSE),\"\")","v":""},null,""]
[null,null,{"$f":"IF(B1834<>\"\",VLOOKUP(B1834,[1]Desplegables!$BA$2:$BB$19,2,FALSE),\"\")","v":""},null,""]
[null,null,{"$f":"IF(B1835<>\"\",VLOOKUP(B1835,[1]Desplegables!$BA$2:$BB$19,2,FALSE),\"\")","v":""},null,""]
[null,null,{"$f":"IF(B1836<>\"\",VLOOKUP(B1836,[1]Desplegables!$BA$2:$BB$19,2,FALSE),\"\")","v":""},null,""]
[null,null,{"$f":"IF(B1837<>\"\",VLOOKUP(B1837,[1]Desplegables!$BA$2:$BB$19,2,FALSE),\"\")","v":""},null,""]
[null,null,{"$f":"IF(B1838<>\"\",VLOOKUP(B1838,[1]Desplegables!$BA$2:$BB$19,2,FALSE),\"\")","v":""},null,""]
[null,null,{"$f":"IF(B1839<>\"\",VLOOKUP(B1839,[1]Desplegables!$BA$2:$BB$19,2,FALSE),\"\")","v":""},null,""]
[null,null,{"$f":"IF(B1840<>\"\",VLOOKUP(B1840,[1]Desplegables!$BA$2:$BB$19,2,FALSE),\"\")","v":""},null,""]
[null,null,{"$f":"IF(B1841<>\"\",VLOOKUP(B1841,[1]Desplegables!$BA$2:$BB$19,2,FALSE),\"\")","v":""},null,""]
[null,null,{"$f":"IF(B1842<>\"\",VLOOKUP(B1842,[1]Desplegables!$BA$2:$BB$19,2,FALSE),\"\")","v":""},null,""]
[null,null,{"$f":"IF(B1843<>\"\",VLOOKUP(B1843,[1]Desplegables!$BA$2:$BB$19,2,FALSE),\"\")","v":""},null,""]
[null,null,{"$f":"IF(B1844<>\"\",VLOOKUP(B1844,[1]Desplegables!$BA$2:$BB$19,2,FALSE),\"\")","v":""},null,""]
[null,null,{"$f":"IF(B1845<>\"\",VLOOKUP(B1845,[1]Desplegables!$BA$2:$BB$19,2,FALSE),\"\")","v":""},null,""]
[null,null,{"$f":"IF(B1846<>\"\",VLOOKUP(B1846,[1]Desplegables!$BA$2:$BB$19,2,FALSE),\"\")","v":""},null,""]
[null,null,{"$f":"IF(B1847<>\"\",VLOOKUP(B1847,[1]Desplegables!$BA$2:$BB$19,2,FALSE),\"\")","v":""},null,""]
[null,null,{"$f":"IF(B1848<>\"\",VLOOKUP(B1848,[1]Desplegables!$BA$2:$BB$19,2,FALSE),\"\")","v":""},null,""]
[null,null,{"$f":"IF(B1849<>\"\",VLOOKUP(B1849,[1]Desplegables!$BA$2:$BB$19,2,FALSE),\"\")","v":""},null,""]
[null,null,{"$f":"IF(B1850<>\"\",VLOOKUP(B1850,[1]Desplegables!$BA$2:$BB$19,2,FALSE),\"\")","v":""},null,""]
[null,null,{"$f":"IF(B1851<>\"\",VLOOKUP(B1851,[1]Desplegables!$BA$2:$BB$19,2,FALSE),\"\")","v":""},null,""]
[null,null,{"$f":"IF(B1852<>\"\",VLOOKUP(B1852,[1]Desplegables!$BA$2:$BB$19,2,FALSE),\"\")","v":""},null,""]
[null,null,{"$f":"IF(B1853<>\"\",VLOOKUP(B1853,[1]Desplegables!$BA$2:$BB$19,2,FALSE),\"\")","v":""},null,""]
[null,null,{"$f":"IF(B1854<>\"\",VLOOKUP(B1854,[1]Desplegables!$BA$2:$BB$19,2,FALSE),\"\")","v":""},null,""]
[null,null,{"$f":"IF(B1855<>\"\",VLOOKUP(B1855,[1]Desplegables!$BA$2:$BB$19,2,FALSE),\"\")","v":""},null,""]
[null,null,{"$f":"IF(B1856<>\"\",VLOOKUP(B1856,[1]Desplegables!$BA$2:$BB$19,2,FALSE),\"\")","v":""},null,""]
[null,null,{"$f":"IF(B1857<>\"\",VLOOKUP(B1857,[1]Desplegables!$BA$2:$BB$19,2,FALSE),\"\")","v":""},null,""]
[null,null,{"$f":"IF(B1858<>\"\",VLOOKUP(B1858,[1]Desplegables!$BA$2:$BB$19,2,FALSE),\"\")","v":""},null,""]
[null,null,{"$f":"IF(B1859<>\"\",VLOOKUP(B1859,[1]Desplegables!$BA$2:$BB$19,2,FALSE),\"\")","v":""},null,""]
[null,null,{"$f":"IF(B1860<>\"\",VLOOKUP(B1860,[1]Desplegables!$BA$2:$BB$19,2,FALSE),\"\")","v":""},null,""]
[null,null,{"$f":"IF(B1861<>\"\",VLOOKUP(B1861,[1]Desplegables!$BA$2:$BB$19,2,FALSE),\"\")","v":""},null,{"$f":"IF(C1861<>\"\",D1861/C1861,\"\")","v":""}]
[null,null,{"$f":"IF(B1862<>\"\",VLOOKUP(B1862,[1]Desplegables!$BA$2:$BB$19,2,FALSE),\"\")","v":""},null,""]
[null,null,{"$f":"IF(B1863<>\"\",VLOOKUP(B1863,[1]Desplegables!$BA$2:$BB$19,2,FALSE),\"\")","v":""},null,""]
[null,null,{"$f":"IF(B1864<>\"\",VLOOKUP(B1864,[1]Desplegables!$BA$2:$BB$19,2,FALSE),\"\")","v":""},null,""]
[null,null,{"$f":"IF(B1865<>\"\",VLOOKUP(B1865,[1]Desplegables!$BA$2:$BB$19,2,FALSE),\"\")","v":""},null,""]
[null,null,{"$f":"IF(B1866<>\"\",VLOOKUP(B1866,[1]Desplegables!$BA$2:$BB$19,2,FALSE),\"\")","v":""},null,""]
[null,null,{"$f":"IF(B1867<>\"\",VLOOKUP(B1867,[1]Desplegables!$BA$2:$BB$19,2,FALSE),\"\")","v":""},null,""]
[null,null,{"$f":"IF(B1868<>\"\",VLOOKUP(B1868,[1]Desplegables!$BA$2:$BB$19,2,FALSE),\"\")","v":""},null,""]
[null,null,{"$f":"IF(B1869<>\"\",VLOOKUP(B1869,[1]Desplegables!$BA$2:$BB$19,2,FALSE),\"\")","v":""},null,""]
[null,null,{"$f":"IF(B1870<>\"\",VLOOKUP(B1870,[1]Desplegables!$BA$2:$BB$19,2,FALSE),\"\")","v":""},null,""]
[null,null,{"$f":"IF(B1871<>\"\",VLOOKUP(B1871,[1]Desplegables!$BA$2:$BB$19,2,FALSE),\"\")","v":""},null,""]
[null,null,{"$f":"IF(B1872<>\"\",VLOOKUP(B1872,[1]Desplegables!$BA$2:$BB$19,2,FALSE),\"\")","v":""},null,""]
[null,null,{"$f":"IF(B1873<>\"\",VLOOKUP(B1873,[1]Desplegables!$BA$2:$BB$19,2,FALSE),\"\")","v":""},null,""]
[null,null,{"$f":"IF(B1874<>\"\",VLOOKUP(B1874,[1]Desplegables!$BA$2:$BB$19,2,FALSE),\"\")","v":""},null,""]
[null,null,{"$f":"IF(B1875<>\"\",VLOOKUP(B1875,[1]Desplegables!$BA$2:$BB$19,2,FALSE),\"\")","v":""},null,""]
[null,null,{"$f":"IF(B1876<>\"\",VLOOKUP(B1876,[1]Desplegables!$BA$2:$BB$19,2,FALSE),\"\")","v":""},null,""]
[null,null,{"$f":"IF(B1877<>\"\",VLOOKUP(B1877,[1]Desplegables!$BA$2:$BB$19,2,FALSE),\"\")","v":""},null,""]
[null,null,{"$f":"IF(B1878<>\"\",VLOOKUP(B1878,[1]Desplegables!$BA$2:$BB$19,2,FALSE),\"\")","v":""},null,""]
[null,null,{"$f":"IF(B1879<>\"\",VLOOKUP(B1879,[1]Desplegables!$BA$2:$BB$19,2,FALSE),\"\")","v":""},null,""]
[null,null,{"$f":"IF(B1880<>\"\",VLOOKUP(B1880,[1]Desplegables!$BA$2:$BB$19,2,FALSE),\"\")","v":""},null,""]
[null,null,{"$f":"IF(B1881<>\"\",VLOOKUP(B1881,[1]Desplegables!$BA$2:$BB$19,2,FALSE),\"\")","v":""},null,""]
[null,null,{"$f":"IF(B1882<>\"\",VLOOKUP(B1882,[1]Desplegables!$BA$2:$BB$19,2,FALSE),\"\")","v":""},null,""]
[null,null,{"$f":"IF(B1883<>\"\",VLOOKUP(B1883,[1]Desplegables!$BA$2:$BB$19,2,FALSE),\"\")","v":""},null,""]
[null,null,{"$f":"IF(B1884<>\"\",VLOOKUP(B1884,[1]Desplegables!$BA$2:$BB$19,2,FALSE),\"\")","v":""},null,""]
[null,null,{"$f":"IF(B1885<>\"\",VLOOKUP(B1885,[1]Desplegables!$BA$2:$BB$19,2,FALSE),\"\")","v":""},null,""]
[null,null,{"$f":"IF(B1886<>\"\",VLOOKUP(B1886,[1]Desplegables!$BA$2:$BB$19,2,FALSE),\"\")","v":""},null,""]
[null,null,{"$f":"IF(B1887<>\"\",VLOOKUP(B1887,[1]Desplegables!$BA$2:$BB$19,2,FALSE),\"\")","v":""},null,""]
[null,null,{"$f":"IF(B1888<>\"\",VLOOKUP(B1888,[1]Desplegables!$BA$2:$BB$19,2,FALSE),\"\")","v":""},null,""]
[null,null,{"$f":"IF(B1889<>\"\",VLOOKUP(B1889,[1]Desplegables!$BA$2:$BB$19,2,FALSE),\"\")","v":""},null,""]
[null,null,{"$f":"IF(B1890<>\"\",VLOOKUP(B1890,[1]Desplegables!$BA$2:$BB$19,2,FALSE),\"\")","v":""},null,""]
[null,null,{"$f":"IF(B1891<>\"\",VLOOKUP(B1891,[1]Desplegables!$BA$2:$BB$19,2,FALSE),\"\")","v":""},null,""]
[null,null,{"$f":"IF(B1892<>\"\",VLOOKUP(B1892,[1]Desplegables!$BA$2:$BB$19,2,FALSE),\"\")","v":""},null,""]
[null,null,{"$f":"IF(B1893<>\"\",VLOOKUP(B1893,[1]Desplegables!$BA$2:$BB$19,2,FALSE),\"\")","v":""},null,""]
[null,null,{"$f":"IF(B1894<>\"\",VLOOKUP(B1894,[1]Desplegables!$BA$2:$BB$19,2,FALSE),\"\")","v":""},null,""]
[null,null,{"$f":"IF(B1895<>\"\",VLOOKUP(B1895,[1]Desplegables!$BA$2:$BB$19,2,FALSE),\"\")","v":""},null,""]
[null,null,{"$f":"IF(B1896<>\"\",VLOOKUP(B1896,[1]Desplegables!$BA$2:$BB$19,2,FALSE),\"\")","v":""},null,""]
[null,null,{"$f":"IF(B1897<>\"\",VLOOKUP(B1897,[1]Desplegables!$BA$2:$BB$19,2,FALSE),\"\")","v":""},null,""]
[null,null,{"$f":"IF(B1898<>\"\",VLOOKUP(B1898,[1]Desplegables!$BA$2:$BB$19,2,FALSE),\"\")","v":""},null,""]
[null,null,{"$f":"IF(B1899<>\"\",VLOOKUP(B1899,[1]Desplegables!$BA$2:$BB$19,2,FALSE),\"\")","v":""},null,""]
[null,null,{"$f":"IF(B1900<>\"\",VLOOKUP(B1900,[1]Desplegables!$BA$2:$BB$19,2,FALSE),\"\")","v":""},null,""]
[null,null,{"$f":"IF(B1901<>\"\",VLOOKUP(B1901,[1]Desplegables!$BA$2:$BB$19,2,FALSE),\"\")","v":""},null,""]
[null,null,{"$f":"IF(B1902<>\"\",VLOOKUP(B1902,[1]Desplegables!$BA$2:$BB$19,2,FALSE),\"\")","v":""},null,""]
[null,null,{"$f":"IF(B1903<>\"\",VLOOKUP(B1903,[1]Desplegables!$BA$2:$BB$19,2,FALSE),\"\")","v":""},null,""]
[null,null,{"$f":"IF(B1904<>\"\",VLOOKUP(B1904,[1]Desplegables!$BA$2:$BB$19,2,FALSE),\"\")","v":""},null,""]
[null,null,{"$f":"IF(B1905<>\"\",VLOOKUP(B1905,[1]Desplegables!$BA$2:$BB$19,2,FALSE),\"\")","v":""},null,""]
[null,null,{"$f":"IF(B1906<>\"\",VLOOKUP(B1906,[1]Desplegables!$BA$2:$BB$19,2,FALSE),\"\")","v":""},null,""]
[null,null,{"$f":"IF(B1907<>\"\",VLOOKUP(B1907,[1]Desplegables!$BA$2:$BB$19,2,FALSE),\"\")","v":""},null,""]
[null,null,{"$f":"IF(B1908<>\"\",VLOOKUP(B1908,[1]Desplegables!$BA$2:$BB$19,2,FALSE),\"\")","v":""},null,""]
[null,null,{"$f":"IF(B1909<>\"\",VLOOKUP(B1909,[1]Desplegables!$BA$2:$BB$19,2,FALSE),\"\")","v":""},null,""]
[null,null,{"$f":"IF(B1910<>\"\",VLOOKUP(B1910,[1]Desplegables!$BA$2:$BB$19,2,FALSE),\"\")","v":""},null,""]
[null,null,{"$f":"IF(B1911<>\"\",VLOOKUP(B1911,[1]Desplegables!$BA$2:$BB$19,2,FALSE),\"\")","v":""},null,""]
[null,null,{"$f":"IF(B1912<>\"\",VLOOKUP(B1912,[1]Desplegables!$BA$2:$BB$19,2,FALSE),\"\")","v":""},null,""]
[null,null,{"$f":"IF(B1913<>\"\",VLOOKUP(B1913,[1]Desplegables!$BA$2:$BB$19,2,FALSE),\"\")","v":""},null,""]
[null,null,{"$f":"IF(B1914<>\"\",VLOOKUP(B1914,[1]Desplegables!$BA$2:$BB$19,2,FALSE),\"\")","v":""},null,""]
[null,null,{"$f":"IF(B1915<>\"\",VLOOKUP(B1915,[1]Desplegables!$BA$2:$BB$19,2,FALSE),\"\")","v":""},null,""]
[null,null,{"$f":"IF(B1916<>\"\",VLOOKUP(B1916,[1]Desplegables!$BA$2:$BB$19,2,FALSE),\"\")","v":""},null,""]
[null,null,{"$f":"IF(B1917<>\"\",VLOOKUP(B1917,[1]Desplegables!$BA$2:$BB$19,2,FALSE),\"\")","v":""},null,""]
[null,null,{"$f":"IF(B1918<>\"\",VLOOKUP(B1918,[1]Desplegables!$BA$2:$BB$19,2,FALSE),\"\")","v":""},null,""]
[null,null,{"$f":"IF(B1919<>\"\",VLOOKUP(B1919,[1]Desplegables!$BA$2:$BB$19,2,FALSE),\"\")","v":""},null,""]
[null,null,{"$f":"IF(B1920<>\"\",VLOOKUP(B1920,[1]Desplegables!$BA$2:$BB$19,2,FALSE),\"\")","v":""},null,""]
[null,null,{"$f":"IF(B1921<>\"\",VLOOKUP(B1921,[1]Desplegables!$BA$2:$BB$19,2,FALSE),\"\")","v":""},null,""]
[null,null,{"$f":"IF(B1922<>\"\",VLOOKUP(B1922,[1]Desplegables!$BA$2:$BB$19,2,FALSE),\"\")","v":""},null,""]
[null,null,{"$f":"IF(B1923<>\"\",VLOOKUP(B1923,[1]Desplegables!$BA$2:$BB$19,2,FALSE),\"\")","v":""},null,""]
[null,null,{"$f":"IF(B1924<>\"\",VLOOKUP(B1924,[1]Desplegables!$BA$2:$BB$19,2,FALSE),\"\")","v":""},null,""]
[null,null,{"$f":"IF(B1925<>\"\",VLOOKUP(B1925,[1]Desplegables!$BA$2:$BB$19,2,FALSE),\"\")","v":""},null,{"$f":"IF(C1925<>\"\",D1925/C1925,\"\")","v":""}]
[null,null,{"$f":"IF(B1926<>\"\",VLOOKUP(B1926,[1]Desplegables!$BA$2:$BB$19,2,FALSE),\"\")","v":""},null,""]
[null,null,{"$f":"IF(B1927<>\"\",VLOOKUP(B1927,[1]Desplegables!$BA$2:$BB$19,2,FALSE),\"\")","v":""},null,""]
[null,null,{"$f":"IF(B1928<>\"\",VLOOKUP(B1928,[1]Desplegables!$BA$2:$BB$19,2,FALSE),\"\")","v":""},null,""]
[null,null,{"$f":"IF(B1929<>\"\",VLOOKUP(B1929,[1]Desplegables!$BA$2:$BB$19,2,FALSE),\"\")","v":""},null,""]
[null,null,{"$f":"IF(B1930<>\"\",VLOOKUP(B1930,[1]Desplegables!$BA$2:$BB$19,2,FALSE),\"\")","v":""},null,""]
[null,null,{"$f":"IF(B1931<>\"\",VLOOKUP(B1931,[1]Desplegables!$BA$2:$BB$19,2,FALSE),\"\")","v":""},null,""]
[null,null,{"$f":"IF(B1932<>\"\",VLOOKUP(B1932,[1]Desplegables!$BA$2:$BB$19,2,FALSE),\"\")","v":""},null,""]
[null,null,{"$f":"IF(B1933<>\"\",VLOOKUP(B1933,[1]Desplegables!$BA$2:$BB$19,2,FALSE),\"\")","v":""},null,""]
[null,null,{"$f":"IF(B1934<>\"\",VLOOKUP(B1934,[1]Desplegables!$BA$2:$BB$19,2,FALSE),\"\")","v":""},null,""]
[null,null,{"$f":"IF(B1935<>\"\",VLOOKUP(B1935,[1]Desplegables!$BA$2:$BB$19,2,FALSE),\"\")","v":""},null,""]
[null,null,{"$f":"IF(B1936<>\"\",VLOOKUP(B1936,[1]Desplegables!$BA$2:$BB$19,2,FALSE),\"\")","v":""},null,""]
[null,null,{"$f":"IF(B1937<>\"\",VLOOKUP(B1937,[1]Desplegables!$BA$2:$BB$19,2,FALSE),\"\")","v":""},null,""]
[null,null,{"$f":"IF(B1938<>\"\",VLOOKUP(B1938,[1]Desplegables!$BA$2:$BB$19,2,FALSE),\"\")","v":""},null,""]
[null,null,{"$f":"IF(B1939<>\"\",VLOOKUP(B1939,[1]Desplegables!$BA$2:$BB$19,2,FALSE),\"\")","v":""},null,""]
[null,null,{"$f":"IF(B1940<>\"\",VLOOKUP(B1940,[1]Desplegables!$BA$2:$BB$19,2,FALSE),\"\")","v":""},null,""]
[null,null,{"$f":"IF(B1941<>\"\",VLOOKUP(B1941,[1]Desplegables!$BA$2:$BB$19,2,FALSE),\"\")","v":""},null,""]
[null,null,{"$f":"IF(B1942<>\"\",VLOOKUP(B1942,[1]Desplegables!$BA$2:$BB$19,2,FALSE),\"\")","v":""},null,""]
[null,null,{"$f":"IF(B1943<>\"\",VLOOKUP(B1943,[1]Desplegables!$BA$2:$BB$19,2,FALSE),\"\")","v":""},null,""]
[null,null,{"$f":"IF(B1944<>\"\",VLOOKUP(B1944,[1]Desplegables!$BA$2:$BB$19,2,FALSE),\"\")","v":""},null,""]
[null,null,{"$f":"IF(B1945<>\"\",VLOOKUP(B1945,[1]Desplegables!$BA$2:$BB$19,2,FALSE),\"\")","v":""},null,""]
[null,null,{"$f":"IF(B1946<>\"\",VLOOKUP(B1946,[1]Desplegables!$BA$2:$BB$19,2,FALSE),\"\")","v":""},null,""]
[null,null,{"$f":"IF(B1947<>\"\",VLOOKUP(B1947,[1]Desplegables!$BA$2:$BB$19,2,FALSE),\"\")","v":""},null,""]
[null,null,{"$f":"IF(B1948<>\"\",VLOOKUP(B1948,[1]Desplegables!$BA$2:$BB$19,2,FALSE),\"\")","v":""},null,""]
[null,null,{"$f":"IF(B1949<>\"\",VLOOKUP(B1949,[1]Desplegables!$BA$2:$BB$19,2,FALSE),\"\")","v":""},null,""]
[null,null,{"$f":"IF(B1950<>\"\",VLOOKUP(B1950,[1]Desplegables!$BA$2:$BB$19,2,FALSE),\"\")","v":""},null,""]
[null,null,{"$f":"IF(B1951<>\"\",VLOOKUP(B1951,[1]Desplegables!$BA$2:$BB$19,2,FALSE),\"\")","v":""},null,""]
[null,null,{"$f":"IF(B1952<>\"\",VLOOKUP(B1952,[1]Desplegables!$BA$2:$BB$19,2,FALSE),\"\")","v":""},null,""]
[null,null,{"$f":"IF(B1953<>\"\",VLOOKUP(B1953,[1]Desplegables!$BA$2:$BB$19,2,FALSE),\"\")","v":""},null,""]
[null,null,{"$f":"IF(B1954<>\"\",VLOOKUP(B1954,[1]Desplegables!$BA$2:$BB$19,2,FALSE),\"\")","v":""},null,""]
[null,null,{"$f":"IF(B1955<>\"\",VLOOKUP(B1955,[1]Desplegables!$BA$2:$BB$19,2,FALSE),\"\")","v":""},null,""]
[null,null,{"$f":"IF(B1956<>\"\",VLOOKUP(B1956,[1]Desplegables!$BA$2:$BB$19,2,FALSE),\"\")","v":""},null,""]
[null,null,{"$f":"IF(B1957<>\"\",VLOOKUP(B1957,[1]Desplegables!$BA$2:$BB$19,2,FALSE),\"\")","v":""},null,""]
[null,null,{"$f":"IF(B1958<>\"\",VLOOKUP(B1958,[1]Desplegables!$BA$2:$BB$19,2,FALSE),\"\")","v":""},null,""]
[null,null,{"$f":"IF(B1959<>\"\",VLOOKUP(B1959,[1]Desplegables!$BA$2:$BB$19,2,FALSE),\"\")","v":""},null,""]
[null,null,{"$f":"IF(B1960<>\"\",VLOOKUP(B1960,[1]Desplegables!$BA$2:$BB$19,2,FALSE),\"\")","v":""},null,""]
[null,null,{"$f":"IF(B1961<>\"\",VLOOKUP(B1961,[1]Desplegables!$BA$2:$BB$19,2,FALSE),\"\")","v":""},null,""]
[null,null,{"$f":"IF(B1962<>\"\",VLOOKUP(B1962,[1]Desplegables!$BA$2:$BB$19,2,FALSE),\"\")","v":""},null,""]
[null,null,{"$f":"IF(B1963<>\"\",VLOOKUP(B1963,[1]Desplegables!$BA$2:$BB$19,2,FALSE),\"\")","v":""},null,""]
[null,null,{"$f":"IF(B1964<>\"\",VLOOKUP(B1964,[1]Desplegables!$BA$2:$BB$19,2,FALSE),\"\")","v":""},null,""]
[null,null,{"$f":"IF(B1965<>\"\",VLOOKUP(B1965,[1]Desplegables!$BA$2:$BB$19,2,FALSE),\"\")","v":""},null,""]
[null,null,{"$f":"IF(B1966<>\"\",VLOOKUP(B1966,[1]Desplegables!$BA$2:$BB$19,2,FALSE),\"\")","v":""},null,""]
[null,null,{"$f":"IF(B1967<>\"\",VLOOKUP(B1967,[1]Desplegables!$BA$2:$BB$19,2,FALSE),\"\")","v":""},null,""]
[null,null,{"$f":"IF(B1968<>\"\",VLOOKUP(B1968,[1]Desplegables!$BA$2:$BB$19,2,FALSE),\"\")","v":""},null,""]
[null,null,{"$f":"IF(B1969<>\"\",VLOOKUP(B1969,[1]Desplegables!$BA$2:$BB$19,2,FALSE),\"\")","v":""},null,""]
[null,null,{"$f":"IF(B1970<>\"\",VLOOKUP(B1970,[1]Desplegables!$BA$2:$BB$19,2,FALSE),\"\")","v":""},null,""]
[null,null,{"$f":"IF(B1971<>\"\",VLOOKUP(B1971,[1]Desplegables!$BA$2:$BB$19,2,FALSE),\"\")","v":""},null,""]
[null,null,{"$f":"IF(B1972<>\"\",VLOOKUP(B1972,[1]Desplegables!$BA$2:$BB$19,2,FALSE),\"\")","v":""},null,""]
[null,null,{"$f":"IF(B1973<>\"\",VLOOKUP(B1973,[1]Desplegables!$BA$2:$BB$19,2,FALSE),\"\")","v":""},null,""]
[null,null,{"$f":"IF(B1974<>\"\",VLOOKUP(B1974,[1]Desplegables!$BA$2:$BB$19,2,FALSE),\"\")","v":""},null,""]
[null,null,{"$f":"IF(B1975<>\"\",VLOOKUP(B1975,[1]Desplegables!$BA$2:$BB$19,2,FALSE),\"\")","v":""},null,""]
[null,null,{"$f":"IF(B1976<>\"\",VLOOKUP(B1976,[1]Desplegables!$BA$2:$BB$19,2,FALSE),\"\")","v":""},null,""]
[null,null,{"$f":"IF(B1977<>\"\",VLOOKUP(B1977,[1]Desplegables!$BA$2:$BB$19,2,FALSE),\"\")","v":""},null,""]
[null,null,{"$f":"IF(B1978<>\"\",VLOOKUP(B1978,[1]Desplegables!$BA$2:$BB$19,2,FALSE),\"\")","v":""},null,""]
[null,null,{"$f":"IF(B1979<>\"\",VLOOKUP(B1979,[1]Desplegables!$BA$2:$BB$19,2,FALSE),\"\")","v":""},null,""]
[null,null,{"$f":"IF(B1980<>\"\",VLOOKUP(B1980,[1]Desplegables!$BA$2:$BB$19,2,FALSE),\"\")","v":""},null,""]
[null,null,{"$f":"IF(B1981<>\"\",VLOOKUP(B1981,[1]Desplegables!$BA$2:$BB$19,2,FALSE),\"\")","v":""},null,""]
[null,null,{"$f":"IF(B1982<>\"\",VLOOKUP(B1982,[1]Desplegables!$BA$2:$BB$19,2,FALSE),\"\")","v":""},null,""]
[null,null,{"$f":"IF(B1983<>\"\",VLOOKUP(B1983,[1]Desplegables!$BA$2:$BB$19,2,FALSE),\"\")","v":""},null,""]
[null,null,{"$f":"IF(B1984<>\"\",VLOOKUP(B1984,[1]Desplegables!$BA$2:$BB$19,2,FALSE),\"\")","v":""},null,""]
[null,null,{"$f":"IF(B1985<>\"\",VLOOKUP(B1985,[1]Desplegables!$BA$2:$BB$19,2,FALSE),\"\")","v":""},null,""]
[null,null,{"$f":"IF(B1986<>\"\",VLOOKUP(B1986,[1]Desplegables!$BA$2:$BB$19,2,FALSE),\"\")","v":""},null,""]
[null,null,{"$f":"IF(B1987<>\"\",VLOOKUP(B1987,[1]Desplegables!$BA$2:$BB$19,2,FALSE),\"\")","v":""},null,""]
[null,null,{"$f":"IF(B1988<>\"\",VLOOKUP(B1988,[1]Desplegables!$BA$2:$BB$19,2,FALSE),\"\")","v":""},null,""]
[null,null,{"$f":"IF(B1989<>\"\",VLOOKUP(B1989,[1]Desplegables!$BA$2:$BB$19,2,FALSE),\"\")","v":""},null,{"$f":"IF(C1989<>\"\",D1989/C1989,\"\")","v":""}]
[null,null,{"$f":"IF(B1990<>\"\",VLOOKUP(B1990,[1]Desplegables!$BA$2:$BB$19,2,FALSE),\"\")","v":""},null,""]
[null,null,{"$f":"IF(B1991<>\"\",VLOOKUP(B1991,[1]Desplegables!$BA$2:$BB$19,2,FALSE),\"\")","v":""},null,""]
[null,null,{"$f":"IF(B1992<>\"\",VLOOKUP(B1992,[1]Desplegables!$BA$2:$BB$19,2,FALSE),\"\")","v":""},null,""]
[null,null,{"$f":"IF(B1993<>\"\",VLOOKUP(B1993,[1]Desplegables!$BA$2:$BB$19,2,FALSE),\"\")","v":""},null,""]
[null,null,{"$f":"IF(B1994<>\"\",VLOOKUP(B1994,[1]Desplegables!$BA$2:$BB$19,2,FALSE),\"\")","v":""},null,""]
[null,null,{"$f":"IF(B1995<>\"\",VLOOKUP(B1995,[1]Desplegables!$BA$2:$BB$19,2,FALSE),\"\")","v":""},null,""]
[null,null,{"$f":"IF(B1996<>\"\",VLOOKUP(B1996,[1]Desplegables!$BA$2:$BB$19,2,FALSE),\"\")","v":""},null,""]
[null,null,{"$f":"IF(B1997<>\"\",VLOOKUP(B1997,[1]Desplegables!$BA$2:$BB$19,2,FALSE),\"\")","v":""},null,""]
[null,null,{"$f":"IF(B1998<>\"\",VLOOKUP(B1998,[1]Desplegables!$BA$2:$BB$19,2,FALSE),\"\")","v":""},null,""]
[null,null,{"$f":"IF(B1999<>\"\",VLOOKUP(B1999,[1]Desplegables!$BA$2:$BB$19,2,FALSE),\"\")","v":""},null,""]
[null,null,{"$f":"IF(B2000<>\"\",VLOOKUP(B2000,[1]Desplegables!$BA$2:$BB$19,2,FALSE),\"\")","v":""},null,""]
[null,null,{"$f":"IF(B2001<>\"\",VLOOKUP(B2001,[1]Desplegables!$BA$2:$BB$19,2,FALSE),\"\")","v":""},null,""]
[null,null,{"$f":"IF(B2002<>\"\",VLOOKUP(B2002,[1]Desplegables!$BA$2:$BB$19,2,FALSE),\"\")","v":""},null,""]
[null,null,{"$f":"IF(B2003<>\"\",VLOOKUP(B2003,[1]Desplegables!$BA$2:$BB$19,2,FALSE),\"\")","v":""},null,""]
[null,null,{"$f":"IF(B2004<>\"\",VLOOKUP(B2004,[1]Desplegables!$BA$2:$BB$19,2,FALSE),\"\")","v":""},null,""]
[null,null,{"$f":"IF(B2005<>\"\",VLOOKUP(B2005,[1]Desplegables!$BA$2:$BB$19,2,FALSE),\"\")","v":""},null,""]
[null,null,{"$f":"IF(B2006<>\"\",VLOOKUP(B2006,[1]Desplegables!$BA$2:$BB$19,2,FALSE),\"\")","v":""},null,""]
[null,null,{"$f":"IF(B2007<>\"\",VLOOKUP(B2007,[1]Desplegables!$BA$2:$BB$19,2,FALSE),\"\")","v":""},null,""]
[null,null,{"$f":"IF(B2008<>\"\",VLOOKUP(B2008,[1]Desplegables!$BA$2:$BB$19,2,FALSE),\"\")","v":""},null,""]
[null,null,{"$f":"IF(B2009<>\"\",VLOOKUP(B2009,[1]Desplegables!$BA$2:$BB$19,2,FALSE),\"\")","v":""},null,""]
[null,null,{"$f":"IF(B2010<>\"\",VLOOKUP(B2010,[1]Desplegables!$BA$2:$BB$19,2,FALSE),\"\")","v":""},null,""]
[null,null,{"$f":"IF(B2011<>\"\",VLOOKUP(B2011,[1]Desplegables!$BA$2:$BB$19,2,FALSE),\"\")","v":""},null,""]
[null,null,{"$f":"IF(B2012<>\"\",VLOOKUP(B2012,[1]Desplegables!$BA$2:$BB$19,2,FALSE),\"\")","v":""},null,""]
[null,null,{"$f":"IF(B2013<>\"\",VLOOKUP(B2013,[1]Desplegables!$BA$2:$BB$19,2,FALSE),\"\")","v":""},null,""]
[null,null,{"$f":"IF(B2014<>\"\",VLOOKUP(B2014,[1]Desplegables!$BA$2:$BB$19,2,FALSE),\"\")","v":""},null,""]
[null,null,{"$f":"IF(B2015<>\"\",VLOOKUP(B2015,[1]Desplegables!$BA$2:$BB$19,2,FALSE),\"\")","v":""},null,""]
[null,null,{"$f":"IF(B2016<>\"\",VLOOKUP(B2016,[1]Desplegables!$BA$2:$BB$19,2,FALSE),\"\")","v":""},null,""]
[null,null,{"$f":"IF(B2017<>\"\",VLOOKUP(B2017,[1]Desplegables!$BA$2:$BB$19,2,FALSE),\"\")","v":""},null,""]
[null,null,{"$f":"IF(B2018<>\"\",VLOOKUP(B2018,[1]Desplegables!$BA$2:$BB$19,2,FALSE),\"\")","v":""},null,""]
[null,null,{"$f":"IF(B2019<>\"\",VLOOKUP(B2019,[1]Desplegables!$BA$2:$BB$19,2,FALSE),\"\")","v":""},null,""]
[null,null,{"$f":"IF(B2020<>\"\",VLOOKUP(B2020,[1]Desplegables!$BA$2:$BB$19,2,FALSE),\"\")","v":""},null,""]
[null,null,{"$f":"IF(B2021<>\"\",VLOOKUP(B2021,[1]Desplegables!$BA$2:$BB$19,2,FALSE),\"\")","v":""},null,""]
[null,null,{"$f":"IF(B2022<>\"\",VLOOKUP(B2022,[1]Desplegables!$BA$2:$BB$19,2,FALSE),\"\")","v":""},null,""]
[null,null,{"$f":"IF(B2023<>\"\",VLOOKUP(B2023,[1]Desplegables!$BA$2:$BB$19,2,FALSE),\"\")","v":""},null,""]
[null,null,{"$f":"IF(B2024<>\"\",VLOOKUP(B2024,[1]Desplegables!$BA$2:$BB$19,2,FALSE),\"\")","v":""},null,""]
[null,null,{"$f":"IF(B2025<>\"\",VLOOKUP(B2025,[1]Desplegables!$BA$2:$BB$19,2,FALSE),\"\")","v":""},null,""]
[null,null,{"$f":"IF(B2026<>\"\",VLOOKUP(B2026,[1]Desplegables!$BA$2:$BB$19,2,FALSE),\"\")","v":""},null,""]
[null,null,{"$f":"IF(B2027<>\"\",VLOOKUP(B2027,[1]Desplegables!$BA$2:$BB$19,2,FALSE),\"\")","v":""},null,""]
[null,null,{"$f":"IF(B2028<>\"\",VLOOKUP(B2028,[1]Desplegables!$BA$2:$BB$19,2,FALSE),\"\")","v":""},null,""]
[null,null,{"$f":"IF(B2029<>\"\",VLOOKUP(B2029,[1]Desplegables!$BA$2:$BB$19,2,FALSE),\"\")","v":""},null,""]
[null,null,{"$f":"IF(B2030<>\"\",VLOOKUP(B2030,[1]Desplegables!$BA$2:$BB$19,2,FALSE),\"\")","v":""},null,""]
[null,null,{"$f":"IF(B2031<>\"\",VLOOKUP(B2031,[1]Desplegables!$BA$2:$BB$19,2,FALSE),\"\")","v":""},null,""]
[null,null,{"$f":"IF(B2032<>\"\",VLOOKUP(B2032,[1]Desplegables!$BA$2:$BB$19,2,FALSE),\"\")","v":""},null,""]
[null,null,{"$f":"IF(B2033<>\"\",VLOOKUP(B2033,[1]Desplegables!$BA$2:$BB$19,2,FALSE),\"\")","v":""},null,""]
[null,null,{"$f":"IF(B2034<>\"\",VLOOKUP(B2034,[1]Desplegables!$BA$2:$BB$19,2,FALSE),\"\")","v":""},null,""]
[null,null,{"$f":"IF(B2035<>\"\",VLOOKUP(B2035,[1]Desplegables!$BA$2:$BB$19,2,FALSE),\"\")","v":""},null,""]
[null,null,{"$f":"IF(B2036<>\"\",VLOOKUP(B2036,[1]Desplegables!$BA$2:$BB$19,2,FALSE),\"\")","v":""},null,""]
[null,null,{"$f":"IF(B2037<>\"\",VLOOKUP(B2037,[1]Desplegables!$BA$2:$BB$19,2,FALSE),\"\")","v":""},null,""]
[null,null,{"$f":"IF(B2038<>\"\",VLOOKUP(B2038,[1]Desplegables!$BA$2:$BB$19,2,FALSE),\"\")","v":""},null,""]
[null,null,{"$f":"IF(B2039<>\"\",VLOOKUP(B2039,[1]Desplegables!$BA$2:$BB$19,2,FALSE),\"\")","v":""},null,""]
[null,null,{"$f":"IF(B2040<>\"\",VLOOKUP(B2040,[1]Desplegables!$BA$2:$BB$19,2,FALSE),\"\")","v":""},null,""]
[null,null,{"$f":"IF(B2041<>\"\",VLOOKUP(B2041,[1]Desplegables!$BA$2:$BB$19,2,FALSE),\"\")","v":""},null,""]
[null,null,{"$f":"IF(B2042<>\"\",VLOOKUP(B2042,[1]Desplegables!$BA$2:$BB$19,2,FALSE),\"\")","v":""},null,""]
[null,null,{"$f":"IF(B2043<>\"\",VLOOKUP(B2043,[1]Desplegables!$BA$2:$BB$19,2,FALSE),\"\")","v":""},null,""]
[null,null,{"$f":"IF(B2044<>\"\",VLOOKUP(B2044,[1]Desplegables!$BA$2:$BB$19,2,FALSE),\"\")","v":""},null,""]
[null,null,{"$f":"IF(B2045<>\"\",VLOOKUP(B2045,[1]Desplegables!$BA$2:$BB$19,2,FALSE),\"\")","v":""},null,""]
[null,null,{"$f":"IF(B2046<>\"\",VLOOKUP(B2046,[1]Desplegables!$BA$2:$BB$19,2,FALSE),\"\")","v":""},null,""]
[null,null,{"$f":"IF(B2047<>\"\",VLOOKUP(B2047,[1]Desplegables!$BA$2:$BB$19,2,FALSE),\"\")","v":""},null,""]
[null,null,{"$f":"IF(B2048<>\"\",VLOOKUP(B2048,[1]Desplegables!$BA$2:$BB$19,2,FALSE),\"\")","v":""},null,""]
[null,null,{"$f":"IF(B2049<>\"\",VLOOKUP(B2049,[1]Desplegables!$BA$2:$BB$19,2,FALSE),\"\")","v":""},null,""]
[null,null,{"$f":"IF(B2050<>\"\",VLOOKUP(B2050,[1]Desplegables!$BA$2:$BB$19,2,FALSE),\"\")","v":""},null,""]
[null,null,{"$f":"IF(B2051<>\"\",VLOOKUP(B2051,[1]Desplegables!$BA$2:$BB$19,2,FALSE),\"\")","v":""},null,""]
[null,null,{"$f":"IF(B2052<>\"\",VLOOKUP(B2052,[1]Desplegables!$BA$2:$BB$19,2,FALSE),\"\")","v":""},null,""]
[null,null,{"$f":"IF(B2053<>\"\",VLOOKUP(B2053,[1]Desplegables!$BA$2:$BB$19,2,FALSE),\"\")","v":""},null,{"$f":"IF(C2053<>\"\",D2053/C2053,\"\")","v":""}]
[null,null,{"$f":"IF(B2054<>\"\",VLOOKUP(B2054,[1]Desplegables!$BA$2:$BB$19,2,FALSE),\"\")","v":""},null,""]
[null,null,{"$f":"IF(B2055<>\"\",VLOOKUP(B2055,[1]Desplegables!$BA$2:$BB$19,2,FALSE),\"\")","v":""},null,""]
[null,null,{"$f":"IF(B2056<>\"\",VLOOKUP(B2056,[1]Desplegables!$BA$2:$BB$19,2,FALSE),\"\")","v":""},null,""]
[null,null,{"$f":"IF(B2057<>\"\",VLOOKUP(B2057,[1]Desplegables!$BA$2:$BB$19,2,FALSE),\"\")","v":""},null,""]
[null,null,{"$f":"IF(B2058<>\"\",VLOOKUP(B2058,[1]Desplegables!$BA$2:$BB$19,2,FALSE),\"\")","v":""},null,""]
[null,null,{"$f":"IF(B2059<>\"\",VLOOKUP(B2059,[1]Desplegables!$BA$2:$BB$19,2,FALSE),\"\")","v":""},null,""]
[null,null,{"$f":"IF(B2060<>\"\",VLOOKUP(B2060,[1]Desplegables!$BA$2:$BB$19,2,FALSE),\"\")","v":""},null,""]
[null,null,{"$f":"IF(B2061<>\"\",VLOOKUP(B2061,[1]Desplegables!$BA$2:$BB$19,2,FALSE),\"\")","v":""},null,""]
[null,null,{"$f":"IF(B2062<>\"\",VLOOKUP(B2062,[1]Desplegables!$BA$2:$BB$19,2,FALSE),\"\")","v":""},null,""]
[null,null,{"$f":"IF(B2063<>\"\",VLOOKUP(B2063,[1]Desplegables!$BA$2:$BB$19,2,FALSE),\"\")","v":""},null,""]
[null,null,{"$f":"IF(B2064<>\"\",VLOOKUP(B2064,[1]Desplegables!$BA$2:$BB$19,2,FALSE),\"\")","v":""},null,""]
[null,null,{"$f":"IF(B2065<>\"\",VLOOKUP(B2065,[1]Desplegables!$BA$2:$BB$19,2,FALSE),\"\")","v":""},null,""]
[null,null,{"$f":"IF(B2066<>\"\",VLOOKUP(B2066,[1]Desplegables!$BA$2:$BB$19,2,FALSE),\"\")","v":""},null,""]
[null,null,{"$f":"IF(B2067<>\"\",VLOOKUP(B2067,[1]Desplegables!$BA$2:$BB$19,2,FALSE),\"\")","v":""},null,""]
[null,null,{"$f":"IF(B2068<>\"\",VLOOKUP(B2068,[1]Desplegables!$BA$2:$BB$19,2,FALSE),\"\")","v":""},null,""]
[null,null,{"$f":"IF(B2069<>\"\",VLOOKUP(B2069,[1]Desplegables!$BA$2:$BB$19,2,FALSE),\"\")","v":""},null,""]
[null,null,{"$f":"IF(B2070<>\"\",VLOOKUP(B2070,[1]Desplegables!$BA$2:$BB$19,2,FALSE),\"\")","v":""},null,""]
[null,null,{"$f":"IF(B2071<>\"\",VLOOKUP(B2071,[1]Desplegables!$BA$2:$BB$19,2,FALSE),\"\")","v":""},null,""]
[null,null,{"$f":"IF(B2072<>\"\",VLOOKUP(B2072,[1]Desplegables!$BA$2:$BB$19,2,FALSE),\"\")","v":""},null,""]
[null,null,{"$f":"IF(B2073<>\"\",VLOOKUP(B2073,[1]Desplegables!$BA$2:$BB$19,2,FALSE),\"\")","v":""},null,""]
[null,null,{"$f":"IF(B2074<>\"\",VLOOKUP(B2074,[1]Desplegables!$BA$2:$BB$19,2,FALSE),\"\")","v":""},null,""]
[null,null,{"$f":"IF(B2075<>\"\",VLOOKUP(B2075,[1]Desplegables!$BA$2:$BB$19,2,FALSE),\"\")","v":""},null,""]
[null,null,{"$f":"IF(B2076<>\"\",VLOOKUP(B2076,[1]Desplegables!$BA$2:$BB$19,2,FALSE),\"\")","v":""},null,""]
[null,null,{"$f":"IF(B2077<>\"\",VLOOKUP(B2077,[1]Desplegables!$BA$2:$BB$19,2,FALSE),\"\")","v":""},null,""]
[null,null,{"$f":"IF(B2078<>\"\",VLOOKUP(B2078,[1]Desplegables!$BA$2:$BB$19,2,FALSE),\"\")","v":""},null,""]
[null,null,{"$f":"IF(B2079<>\"\",VLOOKUP(B2079,[1]Desplegables!$BA$2:$BB$19,2,FALSE),\"\")","v":""},null,""]
[null,null,{"$f":"IF(B2080<>\"\",VLOOKUP(B2080,[1]Desplegables!$BA$2:$BB$19,2,FALSE),\"\")","v":""},null,""]
[null,null,{"$f":"IF(B2081<>\"\",VLOOKUP(B2081,[1]Desplegables!$BA$2:$BB$19,2,FALSE),\"\")","v":""},null,""]
[null,null,{"$f":"IF(B2082<>\"\",VLOOKUP(B2082,[1]Desplegables!$BA$2:$BB$19,2,FALSE),\"\")","v":""},null,""]
[null,null,{"$f":"IF(B2083<>\"\",VLOOKUP(B2083,[1]Desplegables!$BA$2:$BB$19,2,FALSE),\"\")","v":""},null,""]
[null,null,{"$f":"IF(B2084<>\"\",VLOOKUP(B2084,[1]Desplegables!$BA$2:$BB$19,2,FALSE),\"\")","v":""},null,""]
[null,null,{"$f":"IF(B2085<>\"\",VLOOKUP(B2085,[1]Desplegables!$BA$2:$BB$19,2,FALSE),\"\")","v":""},null,""]
[null,null,{"$f":"IF(B2086<>\"\",VLOOKUP(B2086,[1]Desplegables!$BA$2:$BB$19,2,FALSE),\"\")","v":""},null,""]
[null,null,{"$f":"IF(B2087<>\"\",VLOOKUP(B2087,[1]Desplegables!$BA$2:$BB$19,2,FALSE),\"\")","v":""},null,""]
[null,null,{"$f":"IF(B2088<>\"\",VLOOKUP(B2088,[1]Desplegables!$BA$2:$BB$19,2,FALSE),\"\")","v":""},null,""]
[null,null,{"$f":"IF(B2089<>\"\",VLOOKUP(B2089,[1]Desplegables!$BA$2:$BB$19,2,FALSE),\"\")","v":""},null,""]
[null,null,{"$f":"IF(B2090<>\"\",VLOOKUP(B2090,[1]Desplegables!$BA$2:$BB$19,2,FALSE),\"\")","v":""},null,""]
[null,null,{"$f":"IF(B2091<>\"\",VLOOKUP(B2091,[1]Desplegables!$BA$2:$BB$19,2,FALSE),\"\")","v":""},null,""]
[null,null,{"$f":"IF(B2092<>\"\",VLOOKUP(B2092,[1]Desplegables!$BA$2:$BB$19,2,FALSE),\"\")","v":""},null,""]
[null,null,{"$f":"IF(B2093<>\"\",VLOOKUP(B2093,[1]Desplegables!$BA$2:$BB$19,2,FALSE),\"\")","v":""},null,""]
[null,null,{"$f":"IF(B2094<>\"\",VLOOKUP(B2094,[1]Desplegables!$BA$2:$BB$19,2,FALSE),\"\")","v":""},null,""]
[null,null,{"$f":"IF(B2095<>\"\",VLOOKUP(B2095,[1]Desplegables!$BA$2:$BB$19,2,FALSE),\"\")","v":""},null,""]
[null,null,{"$f":"IF(B2096<>\"\",VLOOKUP(B2096,[1]Desplegables!$BA$2:$BB$19,2,FALSE),\"\")","v":""},null,""]
[null,null,{"$f":"IF(B2097<>\"\",VLOOKUP(B2097,[1]Desplegables!$BA$2:$BB$19,2,FALSE),\"\")","v":""},null,""]
[null,null,{"$f":"IF(B2098<>\"\",VLOOKUP(B2098,[1]Desplegables!$BA$2:$BB$19,2,FALSE),\"\")","v":""},null,""]
[null,null,{"$f":"IF(B2099<>\"\",VLOOKUP(B2099,[1]Desplegables!$BA$2:$BB$19,2,FALSE),\"\")","v":""},null,""]
[null,null,{"$f":"IF(B2100<>\"\",VLOOKUP(B2100,[1]Desplegables!$BA$2:$BB$19,2,FALSE),\"\")","v":""},null,""]
[null,null,{"$f":"IF(B2101<>\"\",VLOOKUP(B2101,[1]Desplegables!$BA$2:$BB$19,2,FALSE),\"\")","v":""},null,""]
[null,null,{"$f":"IF(B2102<>\"\",VLOOKUP(B2102,[1]Desplegables!$BA$2:$BB$19,2,FALSE),\"\")","v":""},null,""]
[null,null,{"$f":"IF(B2103<>\"\",VLOOKUP(B2103,[1]Desplegables!$BA$2:$BB$19,2,FALSE),\"\")","v":""},null,""]
[null,null,{"$f":"IF(B2104<>\"\",VLOOKUP(B2104,[1]Desplegables!$BA$2:$BB$19,2,FALSE),\"\")","v":""},null,""]
[null,null,{"$f":"IF(B2105<>\"\",VLOOKUP(B2105,[1]Desplegables!$BA$2:$BB$19,2,FALSE),\"\")","v":""},null,""]
[null,null,{"$f":"IF(B2106<>\"\",VLOOKUP(B2106,[1]Desplegables!$BA$2:$BB$19,2,FALSE),\"\")","v":""},null,""]
[null,null,{"$f":"IF(B2107<>\"\",VLOOKUP(B2107,[1]Desplegables!$BA$2:$BB$19,2,FALSE),\"\")","v":""},null,""]
[null,null,{"$f":"IF(B2108<>\"\",VLOOKUP(B2108,[1]Desplegables!$BA$2:$BB$19,2,FALSE),\"\")","v":""},null,""]
[null,null,{"$f":"IF(B2109<>\"\",VLOOKUP(B2109,[1]Desplegables!$BA$2:$BB$19,2,FALSE),\"\")","v":""},null,""]
[null,null,{"$f":"IF(B2110<>\"\",VLOOKUP(B2110,[1]Desplegables!$BA$2:$BB$19,2,FALSE),\"\")","v":""},null,""]
[null,null,{"$f":"IF(B2111<>\"\",VLOOKUP(B2111,[1]Desplegables!$BA$2:$BB$19,2,FALSE),\"\")","v":""},null,""]
[null,null,{"$f":"IF(B2112<>\"\",VLOOKUP(B2112,[1]Desplegables!$BA$2:$BB$19,2,FALSE),\"\")","v":""},null,""]
[null,null,{"$f":"IF(B2113<>\"\",VLOOKUP(B2113,[1]Desplegables!$BA$2:$BB$19,2,FALSE),\"\")","v":""},null,""]
[null,null,{"$f":"IF(B2114<>\"\",VLOOKUP(B2114,[1]Desplegables!$BA$2:$BB$19,2,FALSE),\"\")","v":""},null,""]
[null,null,{"$f":"IF(B2115<>\"\",VLOOKUP(B2115,[1]Desplegables!$BA$2:$BB$19,2,FALSE),\"\")","v":""},null,""]
[null,null,{"$f":"IF(B2116<>\"\",VLOOKUP(B2116,[1]Desplegables!$BA$2:$BB$19,2,FALSE),\"\")","v":""},null,""]
[null,null,{"$f":"IF(B2117<>\"\",VLOOKUP(B2117,[1]Desplegables!$BA$2:$BB$19,2,FALSE),\"\")","v":""},null,{"$f":"IF(C2117<>\"\",D2117/C2117,\"\")","v":""}]
[null,null,{"$f":"IF(B2118<>\"\",VLOOKUP(B2118,[1]Desplegables!$BA$2:$BB$19,2,FALSE),\"\")","v":""},null,""]
[null,null,{"$f":"IF(B2119<>\"\",VLOOKUP(B2119,[1]Desplegables!$BA$2:$BB$19,2,FALSE),\"\")","v":""},null,""]
[null,null,{"$f":"IF(B2120<>\"\",VLOOKUP(B2120,[1]Desplegables!$BA$2:$BB$19,2,FALSE),\"\")","v":""},null,""]
[null,null,{"$f":"IF(B2121<>\"\",VLOOKUP(B2121,[1]Desplegables!$BA$2:$BB$19,2,FALSE),\"\")","v":""},null,""]
[null,null,{"$f":"IF(B2122<>\"\",VLOOKUP(B2122,[1]Desplegables!$BA$2:$BB$19,2,FALSE),\"\")","v":""},null,""]
[null,null,{"$f":"IF(B2123<>\"\",VLOOKUP(B2123,[1]Desplegables!$BA$2:$BB$19,2,FALSE),\"\")","v":""},null,""]
[null,null,{"$f":"IF(B2124<>\"\",VLOOKUP(B2124,[1]Desplegables!$BA$2:$BB$19,2,FALSE),\"\")","v":""},null,""]
[null,null,{"$f":"IF(B2125<>\"\",VLOOKUP(B2125,[1]Desplegables!$BA$2:$BB$19,2,FALSE),\"\")","v":""},null,""]
[null,null,{"$f":"IF(B2126<>\"\",VLOOKUP(B2126,[1]Desplegables!$BA$2:$BB$19,2,FALSE),\"\")","v":""},null,""]
[null,null,{"$f":"IF(B2127<>\"\",VLOOKUP(B2127,[1]Desplegables!$BA$2:$BB$19,2,FALSE),\"\")","v":""},null,""]
[null,null,{"$f":"IF(B2128<>\"\",VLOOKUP(B2128,[1]Desplegables!$BA$2:$BB$19,2,FALSE),\"\")","v":""},null,""]
[null,null,{"$f":"IF(B2129<>\"\",VLOOKUP(B2129,[1]Desplegables!$BA$2:$BB$19,2,FALSE),\"\")","v":""},null,""]
[null,null,{"$f":"IF(B2130<>\"\",VLOOKUP(B2130,[1]Desplegables!$BA$2:$BB$19,2,FALSE),\"\")","v":""},null,""]
[null,null,{"$f":"IF(B2131<>\"\",VLOOKUP(B2131,[1]Desplegables!$BA$2:$BB$19,2,FALSE),\"\")","v":""},null,""]
[null,null,{"$f":"IF(B2132<>\"\",VLOOKUP(B2132,[1]Desplegables!$BA$2:$BB$19,2,FALSE),\"\")","v":""},null,""]
[null,null,{"$f":"IF(B2133<>\"\",VLOOKUP(B2133,[1]Desplegables!$BA$2:$BB$19,2,FALSE),\"\")","v":""},null,""]
[null,null,{"$f":"IF(B2134<>\"\",VLOOKUP(B2134,[1]Desplegables!$BA$2:$BB$19,2,FALSE),\"\")","v":""},null,""]
[null,null,{"$f":"IF(B2135<>\"\",VLOOKUP(B2135,[1]Desplegables!$BA$2:$BB$19,2,FALSE),\"\")","v":""},null,""]
[null,null,{"$f":"IF(B2136<>\"\",VLOOKUP(B2136,[1]Desplegables!$BA$2:$BB$19,2,FALSE),\"\")","v":""},null,""]
[null,null,{"$f":"IF(B2137<>\"\",VLOOKUP(B2137,[1]Desplegables!$BA$2:$BB$19,2,FALSE),\"\")","v":""},null,""]
[null,null,{"$f":"IF(B2138<>\"\",VLOOKUP(B2138,[1]Desplegables!$BA$2:$BB$19,2,FALSE),\"\")","v":""},null,""]
[null,null,{"$f":"IF(B2139<>\"\",VLOOKUP(B2139,[1]Desplegables!$BA$2:$BB$19,2,FALSE),\"\")","v":""},null,""]
[null,null,{"$f":"IF(B2140<>\"\",VLOOKUP(B2140,[1]Desplegables!$BA$2:$BB$19,2,FALSE),\"\")","v":""},null,""]
[null,null,{"$f":"IF(B2141<>\"\",VLOOKUP(B2141,[1]Desplegables!$BA$2:$BB$19,2,FALSE),\"\")","v":""},null,""]
[null,null,{"$f":"IF(B2142<>\"\",VLOOKUP(B2142,[1]Desplegables!$BA$2:$BB$19,2,FALSE),\"\")","v":""},null,""]
[null,null,{"$f":"IF(B2143<>\"\",VLOOKUP(B2143,[1]Desplegables!$BA$2:$BB$19,2,FALSE),\"\")","v":""},null,""]
[null,null,{"$f":"IF(B2144<>\"\",VLOOKUP(B2144,[1]Desplegables!$BA$2:$BB$19,2,FALSE),\"\")","v":""},null,""]
[null,null,{"$f":"IF(B2145<>\"\",VLOOKUP(B2145,[1]Desplegables!$BA$2:$BB$19,2,FALSE),\"\")","v":""},null,""]
[null,null,{"$f":"IF(B2146<>\"\",VLOOKUP(B2146,[1]Desplegables!$BA$2:$BB$19,2,FALSE),\"\")","v":""},null,""]
[null,null,{"$f":"IF(B2147<>\"\",VLOOKUP(B2147,[1]Desplegables!$BA$2:$BB$19,2,FALSE),\"\")","v":""},null,""]
[null,null,{"$f":"IF(B2148<>\"\",VLOOKUP(B2148,[1]Desplegables!$BA$2:$BB$19,2,FALSE),\"\")","v":""},null,""]
[null,null,{"$f":"IF(B2149<>\"\",VLOOKUP(B2149,[1]Desplegables!$BA$2:$BB$19,2,FALSE),\"\")","v":""},null,""]
[null,null,{"$f":"IF(B2150<>\"\",VLOOKUP(B2150,[1]Desplegables!$BA$2:$BB$19,2,FALSE),\"\")","v":""},null,""]
[null,null,{"$f":"IF(B2151<>\"\",VLOOKUP(B2151,[1]Desplegables!$BA$2:$BB$19,2,FALSE),\"\")","v":""},null,""]
[null,null,{"$f":"IF(B2152<>\"\",VLOOKUP(B2152,[1]Desplegables!$BA$2:$BB$19,2,FALSE),\"\")","v":""},null,""]
[null,null,{"$f":"IF(B2153<>\"\",VLOOKUP(B2153,[1]Desplegables!$BA$2:$BB$19,2,FALSE),\"\")","v":""},null,""]
[null,null,{"$f":"IF(B2154<>\"\",VLOOKUP(B2154,[1]Desplegables!$BA$2:$BB$19,2,FALSE),\"\")","v":""},null,""]
[null,null,{"$f":"IF(B2155<>\"\",VLOOKUP(B2155,[1]Desplegables!$BA$2:$BB$19,2,FALSE),\"\")","v":""},null,""]
[null,null,{"$f":"IF(B2156<>\"\",VLOOKUP(B2156,[1]Desplegables!$BA$2:$BB$19,2,FALSE),\"\")","v":""},null,""]
[null,null,{"$f":"IF(B2157<>\"\",VLOOKUP(B2157,[1]Desplegables!$BA$2:$BB$19,2,FALSE),\"\")","v":""},null,""]
[null,null,{"$f":"IF(B2158<>\"\",VLOOKUP(B2158,[1]Desplegables!$BA$2:$BB$19,2,FALSE),\"\")","v":""},null,""]
[null,null,{"$f":"IF(B2159<>\"\",VLOOKUP(B2159,[1]Desplegables!$BA$2:$BB$19,2,FALSE),\"\")","v":""},null,""]
[null,null,{"$f":"IF(B2160<>\"\",VLOOKUP(B2160,[1]Desplegables!$BA$2:$BB$19,2,FALSE),\"\")","v":""},null,""]
[null,null,{"$f":"IF(B2161<>\"\",VLOOKUP(B2161,[1]Desplegables!$BA$2:$BB$19,2,FALSE),\"\")","v":""},null,""]
[null,null,{"$f":"IF(B2162<>\"\",VLOOKUP(B2162,[1]Desplegables!$BA$2:$BB$19,2,FALSE),\"\")","v":""},null,""]
[null,null,{"$f":"IF(B2163<>\"\",VLOOKUP(B2163,[1]Desplegables!$BA$2:$BB$19,2,FALSE),\"\")","v":""},null,""]
[null,null,{"$f":"IF(B2164<>\"\",VLOOKUP(B2164,[1]Desplegables!$BA$2:$BB$19,2,FALSE),\"\")","v":""},null,""]
[null,null,{"$f":"IF(B2165<>\"\",VLOOKUP(B2165,[1]Desplegables!$BA$2:$BB$19,2,FALSE),\"\")","v":""},null,""]
[null,null,{"$f":"IF(B2166<>\"\",VLOOKUP(B2166,[1]Desplegables!$BA$2:$BB$19,2,FALSE),\"\")","v":""},null,""]
[null,null,{"$f":"IF(B2167<>\"\",VLOOKUP(B2167,[1]Desplegables!$BA$2:$BB$19,2,FALSE),\"\")","v":""},null,""]
[null,null,{"$f":"IF(B2168<>\"\",VLOOKUP(B2168,[1]Desplegables!$BA$2:$BB$19,2,FALSE),\"\")","v":""},null,""]
[null,null,{"$f":"IF(B2169<>\"\",VLOOKUP(B2169,[1]Desplegables!$BA$2:$BB$19,2,FALSE),\"\")","v":""},null,""]
[null,null,{"$f":"IF(B2170<>\"\",VLOOKUP(B2170,[1]Desplegables!$BA$2:$BB$19,2,FALSE),\"\")","v":""},null,""]
[null,null,{"$f":"IF(B2171<>\"\",VLOOKUP(B2171,[1]Desplegables!$BA$2:$BB$19,2,FALSE),\"\")","v":""},null,""]
[null,null,{"$f":"IF(B2172<>\"\",VLOOKUP(B2172,[1]Desplegables!$BA$2:$BB$19,2,FALSE),\"\")","v":""},null,""]
[null,null,{"$f":"IF(B2173<>\"\",VLOOKUP(B2173,[1]Desplegables!$BA$2:$BB$19,2,FALSE),\"\")","v":""},null,""]
[null,null,{"$f":"IF(B2174<>\"\",VLOOKUP(B2174,[1]Desplegables!$BA$2:$BB$19,2,FALSE),\"\")","v":""},null,""]
[null,null,{"$f":"IF(B2175<>\"\",VLOOKUP(B2175,[1]Desplegables!$BA$2:$BB$19,2,FALSE),\"\")","v":""},null,""]
[null,null,{"$f":"IF(B2176<>\"\",VLOOKUP(B2176,[1]Desplegables!$BA$2:$BB$19,2,FALSE),\"\")","v":""},null,""]
[null,null,{"$f":"IF(B2177<>\"\",VLOOKUP(B2177,[1]Desplegables!$BA$2:$BB$19,2,FALSE),\"\")","v":""},null,""]
[null,null,{"$f":"IF(B2178<>\"\",VLOOKUP(B2178,[1]Desplegables!$BA$2:$BB$19,2,FALSE),\"\")","v":""},null,""]
[null,null,{"$f":"IF(B2179<>\"\",VLOOKUP(B2179,[1]Desplegables!$BA$2:$BB$19,2,FALSE),\"\")","v":""},null,""]
[null,null,{"$f":"IF(B2180<>\"\",VLOOKUP(B2180,[1]Desplegables!$BA$2:$BB$19,2,FALSE),\"\")","v":""},null,""]
[null,null,{"$f":"IF(B2181<>\"\",VLOOKUP(B2181,[1]Desplegables!$BA$2:$BB$19,2,FALSE),\"\")","v":""},null,{"$f":"IF(C2181<>\"\",D2181/C2181,\"\")","v":""}]
[null,null,{"$f":"IF(B2182<>\"\",VLOOKUP(B2182,[1]Desplegables!$BA$2:$BB$19,2,FALSE),\"\")","v":""},null,""]
[null,null,{"$f":"IF(B2183<>\"\",VLOOKUP(B2183,[1]Desplegables!$BA$2:$BB$19,2,FALSE),\"\")","v":""},null,""]
[null,null,{"$f":"IF(B2184<>\"\",VLOOKUP(B2184,[1]Desplegables!$BA$2:$BB$19,2,FALSE),\"\")","v":""},null,""]
[null,null,{"$f":"IF(B2185<>\"\",VLOOKUP(B2185,[1]Desplegables!$BA$2:$BB$19,2,FALSE),\"\")","v":""},null,""]
[null,null,{"$f":"IF(B2186<>\"\",VLOOKUP(B2186,[1]Desplegables!$BA$2:$BB$19,2,FALSE),\"\")","v":""},null,""]
[null,null,{"$f":"IF(B2187<>\"\",VLOOKUP(B2187,[1]Desplegables!$BA$2:$BB$19,2,FALSE),\"\")","v":""},null,""]
[null,null,{"$f":"IF(B2188<>\"\",VLOOKUP(B2188,[1]Desplegables!$BA$2:$BB$19,2,FALSE),\"\")","v":""},null,""]
[null,null,{"$f":"IF(B2189<>\"\",VLOOKUP(B2189,[1]Desplegables!$BA$2:$BB$19,2,FALSE),\"\")","v":""},null,""]
[null,null,{"$f":"IF(B2190<>\"\",VLOOKUP(B2190,[1]Desplegables!$BA$2:$BB$19,2,FALSE),\"\")","v":""},null,""]
[null,null,{"$f":"IF(B2191<>\"\",VLOOKUP(B2191,[1]Desplegables!$BA$2:$BB$19,2,FALSE),\"\")","v":""},null,""]
[null,null,{"$f":"IF(B2192<>\"\",VLOOKUP(B2192,[1]Desplegables!$BA$2:$BB$19,2,FALSE),\"\")","v":""},null,""]
[null,null,{"$f":"IF(B2193<>\"\",VLOOKUP(B2193,[1]Desplegables!$BA$2:$BB$19,2,FALSE),\"\")","v":""},null,""]
[null,null,{"$f":"IF(B2194<>\"\",VLOOKUP(B2194,[1]Desplegables!$BA$2:$BB$19,2,FALSE),\"\")","v":""},null,""]
[null,null,{"$f":"IF(B2195<>\"\",VLOOKUP(B2195,[1]Desplegables!$BA$2:$BB$19,2,FALSE),\"\")","v":""},null,""]
[null,null,{"$f":"IF(B2196<>\"\",VLOOKUP(B2196,[1]Desplegables!$BA$2:$BB$19,2,FALSE),\"\")","v":""},null,""]
[null,null,{"$f":"IF(B2197<>\"\",VLOOKUP(B2197,[1]Desplegables!$BA$2:$BB$19,2,FALSE),\"\")","v":""},null,""]
[null,null,{"$f":"IF(B2198<>\"\",VLOOKUP(B2198,[1]Desplegables!$BA$2:$BB$19,2,FALSE),\"\")","v":""},null,""]
[null,null,{"$f":"IF(B2199<>\"\",VLOOKUP(B2199,[1]Desplegables!$BA$2:$BB$19,2,FALSE),\"\")","v":""},null,""]
[null,null,{"$f":"IF(B2200<>\"\",VLOOKUP(B2200,[1]Desplegables!$BA$2:$BB$19,2,FALSE),\"\")","v":""},null,""]
[null,null,{"$f":"IF(B2201<>\"\",VLOOKUP(B2201,[1]Desplegables!$BA$2:$BB$19,2,FALSE),\"\")","v":""},null,""]
[null,null,{"$f":"IF(B2202<>\"\",VLOOKUP(B2202,[1]Desplegables!$BA$2:$BB$19,2,FALSE),\"\")","v":""},null,""]
[null,null,{"$f":"IF(B2203<>\"\",VLOOKUP(B2203,[1]Desplegables!$BA$2:$BB$19,2,FALSE),\"\")","v":""},null,""]
[null,null,{"$f":"IF(B2204<>\"\",VLOOKUP(B2204,[1]Desplegables!$BA$2:$BB$19,2,FALSE),\"\")","v":""},null,""]
[null,null,{"$f":"IF(B2205<>\"\",VLOOKUP(B2205,[1]Desplegables!$BA$2:$BB$19,2,FALSE),\"\")","v":""},null,""]
[null,null,{"$f":"IF(B2206<>\"\",VLOOKUP(B2206,[1]Desplegables!$BA$2:$BB$19,2,FALSE),\"\")","v":""},null,""]
[null,null,{"$f":"IF(B2207<>\"\",VLOOKUP(B2207,[1]Desplegables!$BA$2:$BB$19,2,FALSE),\"\")","v":""},null,""]
[null,null,{"$f":"IF(B2208<>\"\",VLOOKUP(B2208,[1]Desplegables!$BA$2:$BB$19,2,FALSE),\"\")","v":""},null,""]
[null,null,{"$f":"IF(B2209<>\"\",VLOOKUP(B2209,[1]Desplegables!$BA$2:$BB$19,2,FALSE),\"\")","v":""},null,""]
[null,null,{"$f":"IF(B2210<>\"\",VLOOKUP(B2210,[1]Desplegables!$BA$2:$BB$19,2,FALSE),\"\")","v":""},null,""]
[null,null,{"$f":"IF(B2211<>\"\",VLOOKUP(B2211,[1]Desplegables!$BA$2:$BB$19,2,FALSE),\"\")","v":""},null,""]
[null,null,{"$f":"IF(B2212<>\"\",VLOOKUP(B2212,[1]Desplegables!$BA$2:$BB$19,2,FALSE),\"\")","v":""},null,""]
[null,null,{"$f":"IF(B2213<>\"\",VLOOKUP(B2213,[1]Desplegables!$BA$2:$BB$19,2,FALSE),\"\")","v":""},null,""]
[null,null,{"$f":"IF(B2214<>\"\",VLOOKUP(B2214,[1]Desplegables!$BA$2:$BB$19,2,FALSE),\"\")","v":""},null,""]
[null,null,{"$f":"IF(B2215<>\"\",VLOOKUP(B2215,[1]Desplegables!$BA$2:$BB$19,2,FALSE),\"\")","v":""},null,""]
[null,null,{"$f":"IF(B2216<>\"\",VLOOKUP(B2216,[1]Desplegables!$BA$2:$BB$19,2,FALSE),\"\")","v":""},null,""]
[null,null,{"$f":"IF(B2217<>\"\",VLOOKUP(B2217,[1]Desplegables!$BA$2:$BB$19,2,FALSE),\"\")","v":""},null,""]
[null,null,{"$f":"IF(B2218<>\"\",VLOOKUP(B2218,[1]Desplegables!$BA$2:$BB$19,2,FALSE),\"\")","v":""},null,""]
[null,null,{"$f":"IF(B2219<>\"\",VLOOKUP(B2219,[1]Desplegables!$BA$2:$BB$19,2,FALSE),\"\")","v":""},null,""]
[null,null,{"$f":"IF(B2220<>\"\",VLOOKUP(B2220,[1]Desplegables!$BA$2:$BB$19,2,FALSE),\"\")","v":""},null,""]
[null,null,{"$f":"IF(B2221<>\"\",VLOOKUP(B2221,[1]Desplegables!$BA$2:$BB$19,2,FALSE),\"\")","v":""},null,""]
[null,null,{"$f":"IF(B2222<>\"\",VLOOKUP(B2222,[1]Desplegables!$BA$2:$BB$19,2,FALSE),\"\")","v":""},null,""]
[null,null,{"$f":"IF(B2223<>\"\",VLOOKUP(B2223,[1]Desplegables!$BA$2:$BB$19,2,FALSE),\"\")","v":""},null,""]
[null,null,{"$f":"IF(B2224<>\"\",VLOOKUP(B2224,[1]Desplegables!$BA$2:$BB$19,2,FALSE),\"\")","v":""},null,""]
[null,null,{"$f":"IF(B2225<>\"\",VLOOKUP(B2225,[1]Desplegables!$BA$2:$BB$19,2,FALSE),\"\")","v":""},null,""]
[null,null,{"$f":"IF(B2226<>\"\",VLOOKUP(B2226,[1]Desplegables!$BA$2:$BB$19,2,FALSE),\"\")","v":""},null,""]
[null,null,{"$f":"IF(B2227<>\"\",VLOOKUP(B2227,[1]Desplegables!$BA$2:$BB$19,2,FALSE),\"\")","v":""},null,""]
[null,null,{"$f":"IF(B2228<>\"\",VLOOKUP(B2228,[1]Desplegables!$BA$2:$BB$19,2,FALSE),\"\")","v":""},null,""]
[null,null,{"$f":"IF(B2229<>\"\",VLOOKUP(B2229,[1]Desplegables!$BA$2:$BB$19,2,FALSE),\"\")","v":""},null,""]
[null,null,{"$f":"IF(B2230<>\"\",VLOOKUP(B2230,[1]Desplegables!$BA$2:$BB$19,2,FALSE),\"\")","v":""},null,""]
[null,null,{"$f":"IF(B2231<>\"\",VLOOKUP(B2231,[1]Desplegables!$BA$2:$BB$19,2,FALSE),\"\")","v":""},null,""]
[null,null,{"$f":"IF(B2232<>\"\",VLOOKUP(B2232,[1]Desplegables!$BA$2:$BB$19,2,FALSE),\"\")","v":""},null,""]
[null,null,{"$f":"IF(B2233<>\"\",VLOOKUP(B2233,[1]Desplegables!$BA$2:$BB$19,2,FALSE),\"\")","v":""},null,""]
[null,null,{"$f":"IF(B2234<>\"\",VLOOKUP(B2234,[1]Desplegables!$BA$2:$BB$19,2,FALSE),\"\")","v":""},null,""]
[null,null,{"$f":"IF(B2235<>\"\",VLOOKUP(B2235,[1]Desplegables!$BA$2:$BB$19,2,FALSE),\"\")","v":""},null,""]
[null,null,{"$f":"IF(B2236<>\"\",VLOOKUP(B2236,[1]Desplegables!$BA$2:$BB$19,2,FALSE),\"\")","v":""},null,""]
[null,null,{"$f":"IF(B2237<>\"\",VLOOKUP(B2237,[1]Desplegables!$BA$2:$BB$19,2,FALSE),\"\")","v":""},null,""]
[null,null,{"$f":"IF(B2238<>\"\",VLOOKUP(B2238,[1]Desplegables!$BA$2:$BB$19,2,FALSE),\"\")","v":""},null,""]
[null,null,{"$f":"IF(B2239<>\"\",VLOOKUP(B2239,[1]Desplegables!$BA$2:$BB$19,2,FALSE),\"\")","v":""},null,""]
[null,null,{"$f":"IF(B2240<>\"\",VLOOKUP(B2240,[1]Desplegables!$BA$2:$BB$19,2,FALSE),\"\")","v":""},null,""]
[null,null,{"$f":"IF(B2241<>\"\",VLOOKUP(B2241,[1]Desplegables!$BA$2:$BB$19,2,FALSE),\"\")","v":""},null,""]
[null,null,{"$f":"IF(B2242<>\"\",VLOOKUP(B2242,[1]Desplegables!$BA$2:$BB$19,2,FALSE),\"\")","v":""},null,""]
[null,null,{"$f":"IF(B2243<>\"\",VLOOKUP(B2243,[1]Desplegables!$BA$2:$BB$19,2,FALSE),\"\")","v":""},null,""]
[null,null,{"$f":"IF(B2244<>\"\",VLOOKUP(B2244,[1]Desplegables!$BA$2:$BB$19,2,FALSE),\"\")","v":""},null,""]
[null,null,{"$f":"IF(B2245<>\"\",VLOOKUP(B2245,[1]Desplegables!$BA$2:$BB$19,2,FALSE),\"\")","v":""},null,{"$f":"IF(C2245<>\"\",D2245/C2245,\"\")","v":""}]
[null,null,{"$f":"IF(B2246<>\"\",VLOOKUP(B2246,[1]Desplegables!$BA$2:$BB$19,2,FALSE),\"\")","v":""},null,""]
[null,null,{"$f":"IF(B2247<>\"\",VLOOKUP(B2247,[1]Desplegables!$BA$2:$BB$19,2,FALSE),\"\")","v":""},null,""]
[null,null,{"$f":"IF(B2248<>\"\",VLOOKUP(B2248,[1]Desplegables!$BA$2:$BB$19,2,FALSE),\"\")","v":""},null,""]
[null,null,{"$f":"IF(B2249<>\"\",VLOOKUP(B2249,[1]Desplegables!$BA$2:$BB$19,2,FALSE),\"\")","v":""},null,""]
[null,null,{"$f":"IF(B2250<>\"\",VLOOKUP(B2250,[1]Desplegables!$BA$2:$BB$19,2,FALSE),\"\")","v":""},null,""]
[null,null,{"$f":"IF(B2251<>\"\",VLOOKUP(B2251,[1]Desplegables!$BA$2:$BB$19,2,FALSE),\"\")","v":""},null,""]
[null,null,{"$f":"IF(B2252<>\"\",VLOOKUP(B2252,[1]Desplegables!$BA$2:$BB$19,2,FALSE),\"\")","v":""},null,""]
[null,null,{"$f":"IF(B2253<>\"\",VLOOKUP(B2253,[1]Desplegables!$BA$2:$BB$19,2,FALSE),\"\")","v":""},null,""]
[null,null,{"$f":"IF(B2254<>\"\",VLOOKUP(B2254,[1]Desplegables!$BA$2:$BB$19,2,FALSE),\"\")","v":""},null,""]
[null,null,{"$f":"IF(B2255<>\"\",VLOOKUP(B2255,[1]Desplegables!$BA$2:$BB$19,2,FALSE),\"\")","v":""},null,""]
[null,null,{"$f":"IF(B2256<>\"\",VLOOKUP(B2256,[1]Desplegables!$BA$2:$BB$19,2,FALSE),\"\")","v":""},null,""]
[null,null,{"$f":"IF(B2257<>\"\",VLOOKUP(B2257,[1]Desplegables!$BA$2:$BB$19,2,FALSE),\"\")","v":""},null,""]
[null,null,{"$f":"IF(B2258<>\"\",VLOOKUP(B2258,[1]Desplegables!$BA$2:$BB$19,2,FALSE),\"\")","v":""},null,""]
[null,null,{"$f":"IF(B2259<>\"\",VLOOKUP(B2259,[1]Desplegables!$BA$2:$BB$19,2,FALSE),\"\")","v":""},null,""]
[null,null,{"$f":"IF(B2260<>\"\",VLOOKUP(B2260,[1]Desplegables!$BA$2:$BB$19,2,FALSE),\"\")","v":""},null,""]
[null,null,{"$f":"IF(B2261<>\"\",VLOOKUP(B2261,[1]Desplegables!$BA$2:$BB$19,2,FALSE),\"\")","v":""},null,""]
[null,null,{"$f":"IF(B2262<>\"\",VLOOKUP(B2262,[1]Desplegables!$BA$2:$BB$19,2,FALSE),\"\")","v":""},null,""]
[null,null,{"$f":"IF(B2263<>\"\",VLOOKUP(B2263,[1]Desplegables!$BA$2:$BB$19,2,FALSE),\"\")","v":""},null,""]
[null,null,{"$f":"IF(B2264<>\"\",VLOOKUP(B2264,[1]Desplegables!$BA$2:$BB$19,2,FALSE),\"\")","v":""},null,""]
[null,null,{"$f":"IF(B2265<>\"\",VLOOKUP(B2265,[1]Desplegables!$BA$2:$BB$19,2,FALSE),\"\")","v":""},null,""]
[null,null,{"$f":"IF(B2266<>\"\",VLOOKUP(B2266,[1]Desplegables!$BA$2:$BB$19,2,FALSE),\"\")","v":""},null,""]
[null,null,{"$f":"IF(B2267<>\"\",VLOOKUP(B2267,[1]Desplegables!$BA$2:$BB$19,2,FALSE),\"\")","v":""},null,""]
[null,null,{"$f":"IF(B2268<>\"\",VLOOKUP(B2268,[1]Desplegables!$BA$2:$BB$19,2,FALSE),\"\")","v":""},null,""]
[null,null,{"$f":"IF(B2269<>\"\",VLOOKUP(B2269,[1]Desplegables!$BA$2:$BB$19,2,FALSE),\"\")","v":""},null,""]
[null,null,{"$f":"IF(B2270<>\"\",VLOOKUP(B2270,[1]Desplegables!$BA$2:$BB$19,2,FALSE),\"\")","v":""},null,""]
[null,null,{"$f":"IF(B2271<>\"\",VLOOKUP(B2271,[1]Desplegables!$BA$2:$BB$19,2,FALSE),\"\")","v":""},null,""]
[null,null,{"$f":"IF(B2272<>\"\",VLOOKUP(B2272,[1]Desplegables!$BA$2:$BB$19,2,FALSE),\"\")","v":""},null,""]
[null,null,{"$f":"IF(B2273<>\"\",VLOOKUP(B2273,[1]Desplegables!$BA$2:$BB$19,2,FALSE),\"\")","v":""},null,""]
[null,null,{"$f":"IF(B2274<>\"\",VLOOKUP(B2274,[1]Desplegables!$BA$2:$BB$19,2,FALSE),\"\")","v":""},null,""]
[null,null,{"$f":"IF(B2275<>\"\",VLOOKUP(B2275,[1]Desplegables!$BA$2:$BB$19,2,FALSE),\"\")","v":""},null,""]
[null,null,{"$f":"IF(B2276<>\"\",VLOOKUP(B2276,[1]Desplegables!$BA$2:$BB$19,2,FALSE),\"\")","v":""},null,""]
[null,null,{"$f":"IF(B2277<>\"\",VLOOKUP(B2277,[1]Desplegables!$BA$2:$BB$19,2,FALSE),\"\")","v":""},null,""]
[null,null,{"$f":"IF(B2278<>\"\",VLOOKUP(B2278,[1]Desplegables!$BA$2:$BB$19,2,FALSE),\"\")","v":""},null,""]
[null,null,{"$f":"IF(B2279<>\"\",VLOOKUP(B2279,[1]Desplegables!$BA$2:$BB$19,2,FALSE),\"\")","v":""},null,""]
[null,null,{"$f":"IF(B2280<>\"\",VLOOKUP(B2280,[1]Desplegables!$BA$2:$BB$19,2,FALSE),\"\")","v":""},null,""]
[null,null,{"$f":"IF(B2281<>\"\",VLOOKUP(B2281,[1]Desplegables!$BA$2:$BB$19,2,FALSE),\"\")","v":""},null,""]
[null,null,{"$f":"IF(B2282<>\"\",VLOOKUP(B2282,[1]Desplegables!$BA$2:$BB$19,2,FALSE),\"\")","v":""},null,""]
[null,null,{"$f":"IF(B2283<>\"\",VLOOKUP(B2283,[1]Desplegables!$BA$2:$BB$19,2,FALSE),\"\")","v":""},null,""]
[null,null,{"$f":"IF(B2284<>\"\",VLOOKUP(B2284,[1]Desplegables!$BA$2:$BB$19,2,FALSE),\"\")","v":""},null,""]
[null,null,{"$f":"IF(B2285<>\"\",VLOOKUP(B2285,[1]Desplegables!$BA$2:$BB$19,2,FALSE),\"\")","v":""},null,""]
[null,null,{"$f":"IF(B2286<>\"\",VLOOKUP(B2286,[1]Desplegables!$BA$2:$BB$19,2,FALSE),\"\")","v":""},null,""]
[null,null,{"$f":"IF(B2287<>\"\",VLOOKUP(B2287,[1]Desplegables!$BA$2:$BB$19,2,FALSE),\"\")","v":""},null,""]
[null,null,{"$f":"IF(B2288<>\"\",VLOOKUP(B2288,[1]Desplegables!$BA$2:$BB$19,2,FALSE),\"\")","v":""},null,""]
[null,null,{"$f":"IF(B2289<>\"\",VLOOKUP(B2289,[1]Desplegables!$BA$2:$BB$19,2,FALSE),\"\")","v":""},null,""]
[null,null,{"$f":"IF(B2290<>\"\",VLOOKUP(B2290,[1]Desplegables!$BA$2:$BB$19,2,FALSE),\"\")","v":""},null,""]
[null,null,{"$f":"IF(B2291<>\"\",VLOOKUP(B2291,[1]Desplegables!$BA$2:$BB$19,2,FALSE),\"\")","v":""},null,""]
[null,null,{"$f":"IF(B2292<>\"\",VLOOKUP(B2292,[1]Desplegables!$BA$2:$BB$19,2,FALSE),\"\")","v":""},null,""]
[null,null,{"$f":"IF(B2293<>\"\",VLOOKUP(B2293,[1]Desplegables!$BA$2:$BB$19,2,FALSE),\"\")","v":""},null,""]
[null,null,{"$f":"IF(B2294<>\"\",VLOOKUP(B2294,[1]Desplegables!$BA$2:$BB$19,2,FALSE),\"\")","v":""},null,""]
[null,null,{"$f":"IF(B2295<>\"\",VLOOKUP(B2295,[1]Desplegables!$BA$2:$BB$19,2,FALSE),\"\")","v":""},null,""]
[null,null,{"$f":"IF(B2296<>\"\",VLOOKUP(B2296,[1]Desplegables!$BA$2:$BB$19,2,FALSE),\"\")","v":""},null,""]
[null,null,{"$f":"IF(B2297<>\"\",VLOOKUP(B2297,[1]Desplegables!$BA$2:$BB$19,2,FALSE),\"\")","v":""},null,""]
[null,null,{"$f":"IF(B2298<>\"\",VLOOKUP(B2298,[1]Desplegables!$BA$2:$BB$19,2,FALSE),\"\")","v":""},null,""]
[null,null,{"$f":"IF(B2299<>\"\",VLOOKUP(B2299,[1]Desplegables!$BA$2:$BB$19,2,FALSE),\"\")","v":""},null,""]
[null,null,{"$f":"IF(B2300<>\"\",VLOOKUP(B2300,[1]Desplegables!$BA$2:$BB$19,2,FALSE),\"\")","v":""},null,""]
[null,null,{"$f":"IF(B2301<>\"\",VLOOKUP(B2301,[1]Desplegables!$BA$2:$BB$19,2,FALSE),\"\")","v":""},null,""]
[null,null,{"$f":"IF(B2302<>\"\",VLOOKUP(B2302,[1]Desplegables!$BA$2:$BB$19,2,FALSE),\"\")","v":""},null,""]
[null,null,{"$f":"IF(B2303<>\"\",VLOOKUP(B2303,[1]Desplegables!$BA$2:$BB$19,2,FALSE),\"\")","v":""},null,""]
[null,null,{"$f":"IF(B2304<>\"\",VLOOKUP(B2304,[1]Desplegables!$BA$2:$BB$19,2,FALSE),\"\")","v":""},null,""]
[null,null,{"$f":"IF(B2305<>\"\",VLOOKUP(B2305,[1]Desplegables!$BA$2:$BB$19,2,FALSE),\"\")","v":""},null,""]
[null,null,{"$f":"IF(B2306<>\"\",VLOOKUP(B2306,[1]Desplegables!$BA$2:$BB$19,2,FALSE),\"\")","v":""},null,""]
[null,null,{"$f":"IF(B2307<>\"\",VLOOKUP(B2307,[1]Desplegables!$BA$2:$BB$19,2,FALSE),\"\")","v":""},null,""]
[null,null,{"$f":"IF(B2308<>\"\",VLOOKUP(B2308,[1]Desplegables!$BA$2:$BB$19,2,FALSE),\"\")","v":""},null,""]
[null,null,{"$f":"IF(B2309<>\"\",VLOOKUP(B2309,[1]Desplegables!$BA$2:$BB$19,2,FALSE),\"\")","v":""},null,{"$f":"IF(C2309<>\"\",D2309/C2309,\"\")","v":""}]
[null,null,{"$f":"IF(B2310<>\"\",VLOOKUP(B2310,[1]Desplegables!$BA$2:$BB$19,2,FALSE),\"\")","v":""},null,""]
[null,null,{"$f":"IF(B2311<>\"\",VLOOKUP(B2311,[1]Desplegables!$BA$2:$BB$19,2,FALSE),\"\")","v":""},null,""]
[null,null,{"$f":"IF(B2312<>\"\",VLOOKUP(B2312,[1]Desplegables!$BA$2:$BB$19,2,FALSE),\"\")","v":""},null,""]
[null,null,{"$f":"IF(B2313<>\"\",VLOOKUP(B2313,[1]Desplegables!$BA$2:$BB$19,2,FALSE),\"\")","v":""},null,""]
[null,null,{"$f":"IF(B2314<>\"\",VLOOKUP(B2314,[1]Desplegables!$BA$2:$BB$19,2,FALSE),\"\")","v":""},null,""]
[null,null,{"$f":"IF(B2315<>\"\",VLOOKUP(B2315,[1]Desplegables!$BA$2:$BB$19,2,FALSE),\"\")","v":""},null,""]
[null,null,{"$f":"IF(B2316<>\"\",VLOOKUP(B2316,[1]Desplegables!$BA$2:$BB$19,2,FALSE),\"\")","v":""},null,""]
[null,null,{"$f":"IF(B2317<>\"\",VLOOKUP(B2317,[1]Desplegables!$BA$2:$BB$19,2,FALSE),\"\")","v":""},null,""]
[null,null,{"$f":"IF(B2318<>\"\",VLOOKUP(B2318,[1]Desplegables!$BA$2:$BB$19,2,FALSE),\"\")","v":""},null,""]
[null,null,{"$f":"IF(B2319<>\"\",VLOOKUP(B2319,[1]Desplegables!$BA$2:$BB$19,2,FALSE),\"\")","v":""},null,""]
[null,null,{"$f":"IF(B2320<>\"\",VLOOKUP(B2320,[1]Desplegables!$BA$2:$BB$19,2,FALSE),\"\")","v":""},null,""]
[null,null,{"$f":"IF(B2321<>\"\",VLOOKUP(B2321,[1]Desplegables!$BA$2:$BB$19,2,FALSE),\"\")","v":""},null,""]
[null,null,{"$f":"IF(B2322<>\"\",VLOOKUP(B2322,[1]Desplegables!$BA$2:$BB$19,2,FALSE),\"\")","v":""},null,""]
[null,null,{"$f":"IF(B2323<>\"\",VLOOKUP(B2323,[1]Desplegables!$BA$2:$BB$19,2,FALSE),\"\")","v":""},null,""]
[null,null,{"$f":"IF(B2324<>\"\",VLOOKUP(B2324,[1]Desplegables!$BA$2:$BB$19,2,FALSE),\"\")","v":""},null,""]
[null,null,{"$f":"IF(B2325<>\"\",VLOOKUP(B2325,[1]Desplegables!$BA$2:$BB$19,2,FALSE),\"\")","v":""},null,""]
[null,null,{"$f":"IF(B2326<>\"\",VLOOKUP(B2326,[1]Desplegables!$BA$2:$BB$19,2,FALSE),\"\")","v":""},null,""]
[null,null,{"$f":"IF(B2327<>\"\",VLOOKUP(B2327,[1]Desplegables!$BA$2:$BB$19,2,FALSE),\"\")","v":""},null,""]
[null,null,{"$f":"IF(B2328<>\"\",VLOOKUP(B2328,[1]Desplegables!$BA$2:$BB$19,2,FALSE),\"\")","v":""},null,""]
[null,null,{"$f":"IF(B2329<>\"\",VLOOKUP(B2329,[1]Desplegables!$BA$2:$BB$19,2,FALSE),\"\")","v":""},null,""]
[null,null,{"$f":"IF(B2330<>\"\",VLOOKUP(B2330,[1]Desplegables!$BA$2:$BB$19,2,FALSE),\"\")","v":""},null,""]
[null,null,{"$f":"IF(B2331<>\"\",VLOOKUP(B2331,[1]Desplegables!$BA$2:$BB$19,2,FALSE),\"\")","v":""},null,""]
[null,null,{"$f":"IF(B2332<>\"\",VLOOKUP(B2332,[1]Desplegables!$BA$2:$BB$19,2,FALSE),\"\")","v":""},null,""]
[null,null,{"$f":"IF(B2333<>\"\",VLOOKUP(B2333,[1]Desplegables!$BA$2:$BB$19,2,FALSE),\"\")","v":""},null,""]
[null,null,{"$f":"IF(B2334<>\"\",VLOOKUP(B2334,[1]Desplegables!$BA$2:$BB$19,2,FALSE),\"\")","v":""},null,""]
[null,null,{"$f":"IF(B2335<>\"\",VLOOKUP(B2335,[1]Desplegables!$BA$2:$BB$19,2,FALSE),\"\")","v":""},null,""]
[null,null,{"$f":"IF(B2336<>\"\",VLOOKUP(B2336,[1]Desplegables!$BA$2:$BB$19,2,FALSE),\"\")","v":""},null,""]
[null,null,{"$f":"IF(B2337<>\"\",VLOOKUP(B2337,[1]Desplegables!$BA$2:$BB$19,2,FALSE),\"\")","v":""},null,""]
[null,null,{"$f":"IF(B2338<>\"\",VLOOKUP(B2338,[1]Desplegables!$BA$2:$BB$19,2,FALSE),\"\")","v":""},null,""]
[null,null,{"$f":"IF(B2339<>\"\",VLOOKUP(B2339,[1]Desplegables!$BA$2:$BB$19,2,FALSE),\"\")","v":""},null,""]
[null,null,{"$f":"IF(B2340<>\"\",VLOOKUP(B2340,[1]Desplegables!$BA$2:$BB$19,2,FALSE),\"\")","v":""},null,""]
[null,null,{"$f":"IF(B2341<>\"\",VLOOKUP(B2341,[1]Desplegables!$BA$2:$BB$19,2,FALSE),\"\")","v":""},null,""]
[null,null,{"$f":"IF(B2342<>\"\",VLOOKUP(B2342,[1]Desplegables!$BA$2:$BB$19,2,FALSE),\"\")","v":""},null,""]
[null,null,{"$f":"IF(B2343<>\"\",VLOOKUP(B2343,[1]Desplegables!$BA$2:$BB$19,2,FALSE),\"\")","v":""},null,""]
[null,null,{"$f":"IF(B2344<>\"\",VLOOKUP(B2344,[1]Desplegables!$BA$2:$BB$19,2,FALSE),\"\")","v":""},null,""]
[null,null,{"$f":"IF(B2345<>\"\",VLOOKUP(B2345,[1]Desplegables!$BA$2:$BB$19,2,FALSE),\"\")","v":""},null,""]
[null,null,{"$f":"IF(B2346<>\"\",VLOOKUP(B2346,[1]Desplegables!$BA$2:$BB$19,2,FALSE),\"\")","v":""},null,""]
[null,null,{"$f":"IF(B2347<>\"\",VLOOKUP(B2347,[1]Desplegables!$BA$2:$BB$19,2,FALSE),\"\")","v":""},null,""]
[null,null,{"$f":"IF(B2348<>\"\",VLOOKUP(B2348,[1]Desplegables!$BA$2:$BB$19,2,FALSE),\"\")","v":""},null,""]
[null,null,{"$f":"IF(B2349<>\"\",VLOOKUP(B2349,[1]Desplegables!$BA$2:$BB$19,2,FALSE),\"\")","v":""},null,""]
[null,null,{"$f":"IF(B2350<>\"\",VLOOKUP(B2350,[1]Desplegables!$BA$2:$BB$19,2,FALSE),\"\")","v":""},null,""]
[null,null,{"$f":"IF(B2351<>\"\",VLOOKUP(B2351,[1]Desplegables!$BA$2:$BB$19,2,FALSE),\"\")","v":""},null,""]
[null,null,{"$f":"IF(B2352<>\"\",VLOOKUP(B2352,[1]Desplegables!$BA$2:$BB$19,2,FALSE),\"\")","v":""},null,""]
[null,null,{"$f":"IF(B2353<>\"\",VLOOKUP(B2353,[1]Desplegables!$BA$2:$BB$19,2,FALSE),\"\")","v":""},null,""]
[null,null,{"$f":"IF(B2354<>\"\",VLOOKUP(B2354,[1]Desplegables!$BA$2:$BB$19,2,FALSE),\"\")","v":""},null,""]
[null,null,{"$f":"IF(B2355<>\"\",VLOOKUP(B2355,[1]Desplegables!$BA$2:$BB$19,2,FALSE),\"\")","v":""},null,""]
[null,null,{"$f":"IF(B2356<>\"\",VLOOKUP(B2356,[1]Desplegables!$BA$2:$BB$19,2,FALSE),\"\")","v":""},null,""]
[null,null,{"$f":"IF(B2357<>\"\",VLOOKUP(B2357,[1]Desplegables!$BA$2:$BB$19,2,FALSE),\"\")","v":""},null,""]
[null,null,{"$f":"IF(B2358<>\"\",VLOOKUP(B2358,[1]Desplegables!$BA$2:$BB$19,2,FALSE),\"\")","v":""},null,""]
[null,null,{"$f":"IF(B2359<>\"\",VLOOKUP(B2359,[1]Desplegables!$BA$2:$BB$19,2,FALSE),\"\")","v":""},null,""]
[null,null,{"$f":"IF(B2360<>\"\",VLOOKUP(B2360,[1]Desplegables!$BA$2:$BB$19,2,FALSE),\"\")","v":""},null,""]
[null,null,{"$f":"IF(B2361<>\"\",VLOOKUP(B2361,[1]Desplegables!$BA$2:$BB$19,2,FALSE),\"\")","v":""},null,""]
[null,null,{"$f":"IF(B2362<>\"\",VLOOKUP(B2362,[1]Desplegables!$BA$2:$BB$19,2,FALSE),\"\")","v":""},null,""]
[null,null,{"$f":"IF(B2363<>\"\",VLOOKUP(B2363,[1]Desplegables!$BA$2:$BB$19,2,FALSE),\"\")","v":""},null,""]
[null,null,{"$f":"IF(B2364<>\"\",VLOOKUP(B2364,[1]Desplegables!$BA$2:$BB$19,2,FALSE),\"\")","v":""},null,""]
[null,null,{"$f":"IF(B2365<>\"\",VLOOKUP(B2365,[1]Desplegables!$BA$2:$BB$19,2,FALSE),\"\")","v":""},null,""]
[null,null,{"$f":"IF(B2366<>\"\",VLOOKUP(B2366,[1]Desplegables!$BA$2:$BB$19,2,FALSE),\"\")","v":""},null,""]
[null,null,{"$f":"IF(B2367<>\"\",VLOOKUP(B2367,[1]Desplegables!$BA$2:$BB$19,2,FALSE),\"\")","v":""},null,""]
[null,null,{"$f":"IF(B2368<>\"\",VLOOKUP(B2368,[1]Desplegables!$BA$2:$BB$19,2,FALSE),\"\")","v":""},null,""]
[null,null,{"$f":"IF(B2369<>\"\",VLOOKUP(B2369,[1]Desplegables!$BA$2:$BB$19,2,FALSE),\"\")","v":""},null,""]
[null,null,{"$f":"IF(B2370<>\"\",VLOOKUP(B2370,[1]Desplegables!$BA$2:$BB$19,2,FALSE),\"\")","v":""},null,""]
[null,null,{"$f":"IF(B2371<>\"\",VLOOKUP(B2371,[1]Desplegables!$BA$2:$BB$19,2,FALSE),\"\")","v":""},null,""]
[null,null,{"$f":"IF(B2372<>\"\",VLOOKUP(B2372,[1]Desplegables!$BA$2:$BB$19,2,FALSE),\"\")","v":""},null,""]
[null,null,{"$f":"IF(B2373<>\"\",VLOOKUP(B2373,[1]Desplegables!$BA$2:$BB$19,2,FALSE),\"\")","v":""},null,{"$f":"IF(C2373<>\"\",D2373/C2373,\"\")","v":""}]
[null,null,{"$f":"IF(B2374<>\"\",VLOOKUP(B2374,[1]Desplegables!$BA$2:$BB$19,2,FALSE),\"\")","v":""},null,""]
[null,null,{"$f":"IF(B2375<>\"\",VLOOKUP(B2375,[1]Desplegables!$BA$2:$BB$19,2,FALSE),\"\")","v":""},null,""]
[null,null,{"$f":"IF(B2376<>\"\",VLOOKUP(B2376,[1]Desplegables!$BA$2:$BB$19,2,FALSE),\"\")","v":""},null,""]
[null,null,{"$f":"IF(B2377<>\"\",VLOOKUP(B2377,[1]Desplegables!$BA$2:$BB$19,2,FALSE),\"\")","v":""},null,""]
[null,null,{"$f":"IF(B2378<>\"\",VLOOKUP(B2378,[1]Desplegables!$BA$2:$BB$19,2,FALSE),\"\")","v":""},null,""]
[null,null,{"$f":"IF(B2379<>\"\",VLOOKUP(B2379,[1]Desplegables!$BA$2:$BB$19,2,FALSE),\"\")","v":""},null,""]
[null,null,{"$f":"IF(B2380<>\"\",VLOOKUP(B2380,[1]Desplegables!$BA$2:$BB$19,2,FALSE),\"\")","v":""},null,""]
[null,null,{"$f":"IF(B2381<>\"\",VLOOKUP(B2381,[1]Desplegables!$BA$2:$BB$19,2,FALSE),\"\")","v":""},null,""]
[null,null,{"$f":"IF(B2382<>\"\",VLOOKUP(B2382,[1]Desplegables!$BA$2:$BB$19,2,FALSE),\"\")","v":""},null,""]
[null,null,{"$f":"IF(B2383<>\"\",VLOOKUP(B2383,[1]Desplegables!$BA$2:$BB$19,2,FALSE),\"\")","v":""},null,""]
[null,null,{"$f":"IF(B2384<>\"\",VLOOKUP(B2384,[1]Desplegables!$BA$2:$BB$19,2,FALSE),\"\")","v":""},null,""]
[null,null,{"$f":"IF(B2385<>\"\",VLOOKUP(B2385,[1]Desplegables!$BA$2:$BB$19,2,FALSE),\"\")","v":""},null,""]
[null,null,{"$f":"IF(B2386<>\"\",VLOOKUP(B2386,[1]Desplegables!$BA$2:$BB$19,2,FALSE),\"\")","v":""},null,""]
[null,null,{"$f":"IF(B2387<>\"\",VLOOKUP(B2387,[1]Desplegables!$BA$2:$BB$19,2,FALSE),\"\")","v":""},null,""]
[null,null,{"$f":"IF(B2388<>\"\",VLOOKUP(B2388,[1]Desplegables!$BA$2:$BB$19,2,FALSE),\"\")","v":""},null,""]
[null,null,{"$f":"IF(B2389<>\"\",VLOOKUP(B2389,[1]Desplegables!$BA$2:$BB$19,2,FALSE),\"\")","v":""},null,""]
[null,null,{"$f":"IF(B2390<>\"\",VLOOKUP(B2390,[1]Desplegables!$BA$2:$BB$19,2,FALSE),\"\")","v":""},null,""]
[null,null,{"$f":"IF(B2391<>\"\",VLOOKUP(B2391,[1]Desplegables!$BA$2:$BB$19,2,FALSE),\"\")","v":""},null,""]
[null,null,{"$f":"IF(B2392<>\"\",VLOOKUP(B2392,[1]Desplegables!$BA$2:$BB$19,2,FALSE),\"\")","v":""},null,""]
[null,null,{"$f":"IF(B2393<>\"\",VLOOKUP(B2393,[1]Desplegables!$BA$2:$BB$19,2,FALSE),\"\")","v":""},null,""]
[null,null,{"$f":"IF(B2394<>\"\",VLOOKUP(B2394,[1]Desplegables!$BA$2:$BB$19,2,FALSE),\"\")","v":""},null,""]
[null,null,{"$f":"IF(B2395<>\"\",VLOOKUP(B2395,[1]Desplegables!$BA$2:$BB$19,2,FALSE),\"\")","v":""},null,""]
[null,null,{"$f":"IF(B2396<>\"\",VLOOKUP(B2396,[1]Desplegables!$BA$2:$BB$19,2,FALSE),\"\")","v":""},null,""]
[null,null,{"$f":"IF(B2397<>\"\",VLOOKUP(B2397,[1]Desplegables!$BA$2:$BB$19,2,FALSE),\"\")","v":""},null,""]
[null,null,{"$f":"IF(B2398<>\"\",VLOOKUP(B2398,[1]Desplegables!$BA$2:$BB$19,2,FALSE),\"\")","v":""},null,""]
[null,null,{"$f":"IF(B2399<>\"\",VLOOKUP(B2399,[1]Desplegables!$BA$2:$BB$19,2,FALSE),\"\")","v":""},null,""]
[null,null,{"$f":"IF(B2400<>\"\",VLOOKUP(B2400,[1]Desplegables!$BA$2:$BB$19,2,FALSE),\"\")","v":""},null,""]
[null,null,{"$f":"IF(B2401<>\"\",VLOOKUP(B2401,[1]Desplegables!$BA$2:$BB$19,2,FALSE),\"\")","v":""},null,""]
[null,null,{"$f":"IF(B2402<>\"\",VLOOKUP(B2402,[1]Desplegables!$BA$2:$BB$19,2,FALSE),\"\")","v":""},null,""]
[null,null,{"$f":"IF(B2403<>\"\",VLOOKUP(B2403,[1]Desplegables!$BA$2:$BB$19,2,FALSE),\"\")","v":""},null,""]
[null,null,{"$f":"IF(B2404<>\"\",VLOOKUP(B2404,[1]Desplegables!$BA$2:$BB$19,2,FALSE),\"\")","v":""},null,""]
[null,null,{"$f":"IF(B2405<>\"\",VLOOKUP(B2405,[1]Desplegables!$BA$2:$BB$19,2,FALSE),\"\")","v":""},null,""]
[null,null,{"$f":"IF(B2406<>\"\",VLOOKUP(B2406,[1]Desplegables!$BA$2:$BB$19,2,FALSE),\"\")","v":""},null,""]
[null,null,{"$f":"IF(B2407<>\"\",VLOOKUP(B2407,[1]Desplegables!$BA$2:$BB$19,2,FALSE),\"\")","v":""},null,""]
[null,null,{"$f":"IF(B2408<>\"\",VLOOKUP(B2408,[1]Desplegables!$BA$2:$BB$19,2,FALSE),\"\")","v":""},null,""]
[null,null,{"$f":"IF(B2409<>\"\",VLOOKUP(B2409,[1]Desplegables!$BA$2:$BB$19,2,FALSE),\"\")","v":""},null,""]
[null,null,{"$f":"IF(B2410<>\"\",VLOOKUP(B2410,[1]Desplegables!$BA$2:$BB$19,2,FALSE),\"\")","v":""},null,""]
[null,null,{"$f":"IF(B2411<>\"\",VLOOKUP(B2411,[1]Desplegables!$BA$2:$BB$19,2,FALSE),\"\")","v":""},null,""]
[null,null,{"$f":"IF(B2412<>\"\",VLOOKUP(B2412,[1]Desplegables!$BA$2:$BB$19,2,FALSE),\"\")","v":""},null,""]
[null,null,{"$f":"IF(B2413<>\"\",VLOOKUP(B2413,[1]Desplegables!$BA$2:$BB$19,2,FALSE),\"\")","v":""},null,""]
[null,null,{"$f":"IF(B2414<>\"\",VLOOKUP(B2414,[1]Desplegables!$BA$2:$BB$19,2,FALSE),\"\")","v":""},null,""]
[null,null,{"$f":"IF(B2415<>\"\",VLOOKUP(B2415,[1]Desplegables!$BA$2:$BB$19,2,FALSE),\"\")","v":""},null,""]
[null,null,{"$f":"IF(B2416<>\"\",VLOOKUP(B2416,[1]Desplegables!$BA$2:$BB$19,2,FALSE),\"\")","v":""},null,""]
[null,null,{"$f":"IF(B2417<>\"\",VLOOKUP(B2417,[1]Desplegables!$BA$2:$BB$19,2,FALSE),\"\")","v":""},null,""]
[null,null,{"$f":"IF(B2418<>\"\",VLOOKUP(B2418,[1]Desplegables!$BA$2:$BB$19,2,FALSE),\"\")","v":""},null,""]
[null,null,{"$f":"IF(B2419<>\"\",VLOOKUP(B2419,[1]Desplegables!$BA$2:$BB$19,2,FALSE),\"\")","v":""},null,""]
[null,null,{"$f":"IF(B2420<>\"\",VLOOKUP(B2420,[1]Desplegables!$BA$2:$BB$19,2,FALSE),\"\")","v":""},null,""]
[null,null,{"$f":"IF(B2421<>\"\",VLOOKUP(B2421,[1]Desplegables!$BA$2:$BB$19,2,FALSE),\"\")","v":""},null,""]
[null,null,{"$f":"IF(B2422<>\"\",VLOOKUP(B2422,[1]Desplegables!$BA$2:$BB$19,2,FALSE),\"\")","v":""},null,""]
[null,null,{"$f":"IF(B2423<>\"\",VLOOKUP(B2423,[1]Desplegables!$BA$2:$BB$19,2,FALSE),\"\")","v":""},null,""]
[null,null,{"$f":"IF(B2424<>\"\",VLOOKUP(B2424,[1]Desplegables!$BA$2:$BB$19,2,FALSE),\"\")","v":""},null,""]
[null,null,{"$f":"IF(B2425<>\"\",VLOOKUP(B2425,[1]Desplegables!$BA$2:$BB$19,2,FALSE),\"\")","v":""},null,""]
[null,null,{"$f":"IF(B2426<>\"\",VLOOKUP(B2426,[1]Desplegables!$BA$2:$BB$19,2,FALSE),\"\")","v":""},null,""]
[null,null,{"$f":"IF(B2427<>\"\",VLOOKUP(B2427,[1]Desplegables!$BA$2:$BB$19,2,FALSE),\"\")","v":""},null,""]
[null,null,{"$f":"IF(B2428<>\"\",VLOOKUP(B2428,[1]Desplegables!$BA$2:$BB$19,2,FALSE),\"\")","v":""},null,""]
[null,null,{"$f":"IF(B2429<>\"\",VLOOKUP(B2429,[1]Desplegables!$BA$2:$BB$19,2,FALSE),\"\")","v":""},null,""]
[null,null,{"$f":"IF(B2430<>\"\",VLOOKUP(B2430,[1]Desplegables!$BA$2:$BB$19,2,FALSE),\"\")","v":""},null,""]
[null,null,{"$f":"IF(B2431<>\"\",VLOOKUP(B2431,[1]Desplegables!$BA$2:$BB$19,2,FALSE),\"\")","v":""},null,""]
[null,null,{"$f":"IF(B2432<>\"\",VLOOKUP(B2432,[1]Desplegables!$BA$2:$BB$19,2,FALSE),\"\")","v":""},null,""]
[null,null,{"$f":"IF(B2433<>\"\",VLOOKUP(B2433,[1]Desplegables!$BA$2:$BB$19,2,FALSE),\"\")","v":""},null,""]
[null,null,{"$f":"IF(B2434<>\"\",VLOOKUP(B2434,[1]Desplegables!$BA$2:$BB$19,2,FALSE),\"\")","v":""},null,""]
[null,null,{"$f":"IF(B2435<>\"\",VLOOKUP(B2435,[1]Desplegables!$BA$2:$BB$19,2,FALSE),\"\")","v":""},null,""]
[null,null,{"$f":"IF(B2436<>\"\",VLOOKUP(B2436,[1]Desplegables!$BA$2:$BB$19,2,FALSE),\"\")","v":""},null,""]
[null,null,{"$f":"IF(B2437<>\"\",VLOOKUP(B2437,[1]Desplegables!$BA$2:$BB$19,2,FALSE),\"\")","v":""},null,{"$f":"IF(C2437<>\"\",D2437/C2437,\"\")","v":""}]
[null,null,{"$f":"IF(B2438<>\"\",VLOOKUP(B2438,[1]Desplegables!$BA$2:$BB$19,2,FALSE),\"\")","v":""},null,""]
[null,null,{"$f":"IF(B2439<>\"\",VLOOKUP(B2439,[1]Desplegables!$BA$2:$BB$19,2,FALSE),\"\")","v":""},null,""]
[null,null,{"$f":"IF(B2440<>\"\",VLOOKUP(B2440,[1]Desplegables!$BA$2:$BB$19,2,FALSE),\"\")","v":""},null,""]
[null,null,{"$f":"IF(B2441<>\"\",VLOOKUP(B2441,[1]Desplegables!$BA$2:$BB$19,2,FALSE),\"\")","v":""},null,""]
[null,null,{"$f":"IF(B2442<>\"\",VLOOKUP(B2442,[1]Desplegables!$BA$2:$BB$19,2,FALSE),\"\")","v":""},null,""]
[null,null,{"$f":"IF(B2443<>\"\",VLOOKUP(B2443,[1]Desplegables!$BA$2:$BB$19,2,FALSE),\"\")","v":""},null,""]
[null,null,{"$f":"IF(B2444<>\"\",VLOOKUP(B2444,[1]Desplegables!$BA$2:$BB$19,2,FALSE),\"\")","v":""},null,""]
[null,null,{"$f":"IF(B2445<>\"\",VLOOKUP(B2445,[1]Desplegables!$BA$2:$BB$19,2,FALSE),\"\")","v":""},null,""]
[null,null,{"$f":"IF(B2446<>\"\",VLOOKUP(B2446,[1]Desplegables!$BA$2:$BB$19,2,FALSE),\"\")","v":""},null,""]
[null,null,{"$f":"IF(B2447<>\"\",VLOOKUP(B2447,[1]Desplegables!$BA$2:$BB$19,2,FALSE),\"\")","v":""},null,""]
[null,null,{"$f":"IF(B2448<>\"\",VLOOKUP(B2448,[1]Desplegables!$BA$2:$BB$19,2,FALSE),\"\")","v":""},null,""]
[null,null,{"$f":"IF(B2449<>\"\",VLOOKUP(B2449,[1]Desplegables!$BA$2:$BB$19,2,FALSE),\"\")","v":""},null,""]
[null,null,{"$f":"IF(B2450<>\"\",VLOOKUP(B2450,[1]Desplegables!$BA$2:$BB$19,2,FALSE),\"\")","v":""},null,""]
[null,null,{"$f":"IF(B2451<>\"\",VLOOKUP(B2451,[1]Desplegables!$BA$2:$BB$19,2,FALSE),\"\")","v":""},null,""]
[null,null,{"$f":"IF(B2452<>\"\",VLOOKUP(B2452,[1]Desplegables!$BA$2:$BB$19,2,FALSE),\"\")","v":""},null,""]
[null,null,{"$f":"IF(B2453<>\"\",VLOOKUP(B2453,[1]Desplegables!$BA$2:$BB$19,2,FALSE),\"\")","v":""},null,""]
[null,null,{"$f":"IF(B2454<>\"\",VLOOKUP(B2454,[1]Desplegables!$BA$2:$BB$19,2,FALSE),\"\")","v":""},null,""]
[null,null,{"$f":"IF(B2455<>\"\",VLOOKUP(B2455,[1]Desplegables!$BA$2:$BB$19,2,FALSE),\"\")","v":""},null,""]
[null,null,{"$f":"IF(B2456<>\"\",VLOOKUP(B2456,[1]Desplegables!$BA$2:$BB$19,2,FALSE),\"\")","v":""},null,""]
[null,null,{"$f":"IF(B2457<>\"\",VLOOKUP(B2457,[1]Desplegables!$BA$2:$BB$19,2,FALSE),\"\")","v":""},null,""]
[null,null,{"$f":"IF(B2458<>\"\",VLOOKUP(B2458,[1]Desplegables!$BA$2:$BB$19,2,FALSE),\"\")","v":""},null,""]
[null,null,{"$f":"IF(B2459<>\"\",VLOOKUP(B2459,[1]Desplegables!$BA$2:$BB$19,2,FALSE),\"\")","v":""},null,""]
[null,null,{"$f":"IF(B2460<>\"\",VLOOKUP(B2460,[1]Desplegables!$BA$2:$BB$19,2,FALSE),\"\")","v":""},null,""]
[null,null,{"$f":"IF(B2461<>\"\",VLOOKUP(B2461,[1]Desplegables!$BA$2:$BB$19,2,FALSE),\"\")","v":""},null,""]
[null,null,{"$f":"IF(B2462<>\"\",VLOOKUP(B2462,[1]Desplegables!$BA$2:$BB$19,2,FALSE),\"\")","v":""},null,""]
[null,null,{"$f":"IF(B2463<>\"\",VLOOKUP(B2463,[1]Desplegables!$BA$2:$BB$19,2,FALSE),\"\")","v":""},null,""]
[null,null,{"$f":"IF(B2464<>\"\",VLOOKUP(B2464,[1]Desplegables!$BA$2:$BB$19,2,FALSE),\"\")","v":""},null,""]
[null,null,{"$f":"IF(B2465<>\"\",VLOOKUP(B2465,[1]Desplegables!$BA$2:$BB$19,2,FALSE),\"\")","v":""},null,""]
[null,null,{"$f":"IF(B2466<>\"\",VLOOKUP(B2466,[1]Desplegables!$BA$2:$BB$19,2,FALSE),\"\")","v":""},null,""]
[null,null,{"$f":"IF(B2467<>\"\",VLOOKUP(B2467,[1]Desplegables!$BA$2:$BB$19,2,FALSE),\"\")","v":""},null,""]
[null,null,{"$f":"IF(B2468<>\"\",VLOOKUP(B2468,[1]Desplegables!$BA$2:$BB$19,2,FALSE),\"\")","v":""},null,""]
[null,null,{"$f":"IF(B2469<>\"\",VLOOKUP(B2469,[1]Desplegables!$BA$2:$BB$19,2,FALSE),\"\")","v":""},null,""]
[null,null,{"$f":"IF(B2470<>\"\",VLOOKUP(B2470,[1]Desplegables!$BA$2:$BB$19,2,FALSE),\"\")","v":""},null,""]
[null,null,{"$f":"IF(B2471<>\"\",VLOOKUP(B2471,[1]Desplegables!$BA$2:$BB$19,2,FALSE),\"\")","v":""},null,""]
[null,null,{"$f":"IF(B2472<>\"\",VLOOKUP(B2472,[1]Desplegables!$BA$2:$BB$19,2,FALSE),\"\")","v":""},null,""]
[null,null,{"$f":"IF(B2473<>\"\",VLOOKUP(B2473,[1]Desplegables!$BA$2:$BB$19,2,FALSE),\"\")","v":""},null,""]
[null,null,{"$f":"IF(B2474<>\"\",VLOOKUP(B2474,[1]Desplegables!$BA$2:$BB$19,2,FALSE),\"\")","v":""},null,""]
[null,null,{"$f":"IF(B2475<>\"\",VLOOKUP(B2475,[1]Desplegables!$BA$2:$BB$19,2,FALSE),\"\")","v":""},null,""]
[null,null,{"$f":"IF(B2476<>\"\",VLOOKUP(B2476,[1]Desplegables!$BA$2:$BB$19,2,FALSE),\"\")","v":""},null,""]
[null,null,{"$f":"IF(B2477<>\"\",VLOOKUP(B2477,[1]Desplegables!$BA$2:$BB$19,2,FALSE),\"\")","v":""},null,""]
[null,null,{"$f":"IF(B2478<>\"\",VLOOKUP(B2478,[1]Desplegables!$BA$2:$BB$19,2,FALSE),\"\")","v":""},null,""]
[null,null,{"$f":"IF(B2479<>\"\",VLOOKUP(B2479,[1]Desplegables!$BA$2:$BB$19,2,FALSE),\"\")","v":""},null,""]
[null,null,{"$f":"IF(B2480<>\"\",VLOOKUP(B2480,[1]Desplegables!$BA$2:$BB$19,2,FALSE),\"\")","v":""},null,""]
[null,null,{"$f":"IF(B2481<>\"\",VLOOKUP(B2481,[1]Desplegables!$BA$2:$BB$19,2,FALSE),\"\")","v":""},null,""]
[null,null,{"$f":"IF(B2482<>\"\",VLOOKUP(B2482,[1]Desplegables!$BA$2:$BB$19,2,FALSE),\"\")","v":""},null,""]
[null,null,{"$f":"IF(B2483<>\"\",VLOOKUP(B2483,[1]Desplegables!$BA$2:$BB$19,2,FALSE),\"\")","v":""},null,""]
[null,null,{"$f":"IF(B2484<>\"\",VLOOKUP(B2484,[1]Desplegables!$BA$2:$BB$19,2,FALSE),\"\")","v":""},null,""]
[null,null,{"$f":"IF(B2485<>\"\",VLOOKUP(B2485,[1]Desplegables!$BA$2:$BB$19,2,FALSE),\"\")","v":""},null,""]
[null,null,{"$f":"IF(B2486<>\"\",VLOOKUP(B2486,[1]Desplegables!$BA$2:$BB$19,2,FALSE),\"\")","v":""},null,""]
[null,null,{"$f":"IF(B2487<>\"\",VLOOKUP(B2487,[1]Desplegables!$BA$2:$BB$19,2,FALSE),\"\")","v":""},null,""]
[null,null,{"$f":"IF(B2488<>\"\",VLOOKUP(B2488,[1]Desplegables!$BA$2:$BB$19,2,FALSE),\"\")","v":""},null,""]
[null,null,{"$f":"IF(B2489<>\"\",VLOOKUP(B2489,[1]Desplegables!$BA$2:$BB$19,2,FALSE),\"\")","v":""},null,""]
[null,null,{"$f":"IF(B2490<>\"\",VLOOKUP(B2490,[1]Desplegables!$BA$2:$BB$19,2,FALSE),\"\")","v":""},null,""]
[null,null,{"$f":"IF(B2491<>\"\",VLOOKUP(B2491,[1]Desplegables!$BA$2:$BB$19,2,FALSE),\"\")","v":""},null,""]
[null,null,{"$f":"IF(B2492<>\"\",VLOOKUP(B2492,[1]Desplegables!$BA$2:$BB$19,2,FALSE),\"\")","v":""},null,""]
[null,null,{"$f":"IF(B2493<>\"\",VLOOKUP(B2493,[1]Desplegables!$BA$2:$BB$19,2,FALSE),\"\")","v":""},null,""]
[null,null,{"$f":"IF(B2494<>\"\",VLOOKUP(B2494,[1]Desplegables!$BA$2:$BB$19,2,FALSE),\"\")","v":""},null,""]
[null,null,{"$f":"IF(B2495<>\"\",VLOOKUP(B2495,[1]Desplegables!$BA$2:$BB$19,2,FALSE),\"\")","v":""},null,""]
[null,null,{"$f":"IF(B2496<>\"\",VLOOKUP(B2496,[1]Desplegables!$BA$2:$BB$19,2,FALSE),\"\")","v":""},null,""]
[null,null,{"$f":"IF(B2497<>\"\",VLOOKUP(B2497,[1]Desplegables!$BA$2:$BB$19,2,FALSE),\"\")","v":""},null,""]
[null,null,{"$f":"IF(B2498<>\"\",VLOOKUP(B2498,[1]Desplegables!$BA$2:$BB$19,2,FALSE),\"\")","v":""},null,""]
[null,null,{"$f":"IF(B2499<>\"\",VLOOKUP(B2499,[1]Desplegables!$BA$2:$BB$19,2,FALSE),\"\")","v":""},null,""]
[null,null,{"$f":"IF(B2500<>\"\",VLOOKUP(B2500,[1]Desplegables!$BA$2:$BB$19,2,FALSE),\"\")","v":""},null,""]
[null,null,{"$f":"IF(B2501<>\"\",VLOOKUP(B2501,[1]Desplegables!$BA$2:$BB$19,2,FALSE),\"\")","v":""},null,{"$f":"IF(C2501<>\"\",D2501/C2501,\"\")","v":""}]
[null,null,{"$f":"IF(B2502<>\"\",VLOOKUP(B2502,[1]Desplegables!$BA$2:$BB$19,2,FALSE),\"\")","v":""},null,""]
[null,null,{"$f":"IF(B2503<>\"\",VLOOKUP(B2503,[1]Desplegables!$BA$2:$BB$19,2,FALSE),\"\")","v":""},null,""]
[null,null,{"$f":"IF(B2504<>\"\",VLOOKUP(B2504,[1]Desplegables!$BA$2:$BB$19,2,FALSE),\"\")","v":""},null,""]
[null,null,{"$f":"IF(B2505<>\"\",VLOOKUP(B2505,[1]Desplegables!$BA$2:$BB$19,2,FALSE),\"\")","v":""},null,""]
[null,null,{"$f":"IF(B2506<>\"\",VLOOKUP(B2506,[1]Desplegables!$BA$2:$BB$19,2,FALSE),\"\")","v":""},null,""]
[null,null,{"$f":"IF(B2507<>\"\",VLOOKUP(B2507,[1]Desplegables!$BA$2:$BB$19,2,FALSE),\"\")","v":""},null,""]
[null,null,{"$f":"IF(B2508<>\"\",VLOOKUP(B2508,[1]Desplegables!$BA$2:$BB$19,2,FALSE),\"\")","v":""},null,""]
[null,null,{"$f":"IF(B2509<>\"\",VLOOKUP(B2509,[1]Desplegables!$BA$2:$BB$19,2,FALSE),\"\")","v":""},null,""]
[null,null,{"$f":"IF(B2510<>\"\",VLOOKUP(B2510,[1]Desplegables!$BA$2:$BB$19,2,FALSE),\"\")","v":""},null,""]
[null,null,{"$f":"IF(B2511<>\"\",VLOOKUP(B2511,[1]Desplegables!$BA$2:$BB$19,2,FALSE),\"\")","v":""},null,""]
[null,null,{"$f":"IF(B2512<>\"\",VLOOKUP(B2512,[1]Desplegables!$BA$2:$BB$19,2,FALSE),\"\")","v":""},null,""]
[null,null,{"$f":"IF(B2513<>\"\",VLOOKUP(B2513,[1]Desplegables!$BA$2:$BB$19,2,FALSE),\"\")","v":""},null,""]
[null,null,{"$f":"IF(B2514<>\"\",VLOOKUP(B2514,[1]Desplegables!$BA$2:$BB$19,2,FALSE),\"\")","v":""},null,""]
[null,null,{"$f":"IF(B2515<>\"\",VLOOKUP(B2515,[1]Desplegables!$BA$2:$BB$19,2,FALSE),\"\")","v":""},null,""]
[null,null,{"$f":"IF(B2516<>\"\",VLOOKUP(B2516,[1]Desplegables!$BA$2:$BB$19,2,FALSE),\"\")","v":""},null,""]
[null,null,{"$f":"IF(B2517<>\"\",VLOOKUP(B2517,[1]Desplegables!$BA$2:$BB$19,2,FALSE),\"\")","v":""},null,""]
[null,null,{"$f":"IF(B2518<>\"\",VLOOKUP(B2518,[1]Desplegables!$BA$2:$BB$19,2,FALSE),\"\")","v":""},null,""]
[null,null,{"$f":"IF(B2519<>\"\",VLOOKUP(B2519,[1]Desplegables!$BA$2:$BB$19,2,FALSE),\"\")","v":""},null,""]
[null,null,{"$f":"IF(B2520<>\"\",VLOOKUP(B2520,[1]Desplegables!$BA$2:$BB$19,2,FALSE),\"\")","v":""},null,""]
[null,null,{"$f":"IF(B2521<>\"\",VLOOKUP(B2521,[1]Desplegables!$BA$2:$BB$19,2,FALSE),\"\")","v":""},null,""]
[null,null,{"$f":"IF(B2522<>\"\",VLOOKUP(B2522,[1]Desplegables!$BA$2:$BB$19,2,FALSE),\"\")","v":""},null,""]
[null,null,{"$f":"IF(B2523<>\"\",VLOOKUP(B2523,[1]Desplegables!$BA$2:$BB$19,2,FALSE),\"\")","v":""},null,""]
[null,null,{"$f":"IF(B2524<>\"\",VLOOKUP(B2524,[1]Desplegables!$BA$2:$BB$19,2,FALSE),\"\")","v":""},null,""]
[null,null,{"$f":"IF(B2525<>\"\",VLOOKUP(B2525,[1]Desplegables!$BA$2:$BB$19,2,FALSE),\"\")","v":""},null,""]
[null,null,{"$f":"IF(B2526<>\"\",VLOOKUP(B2526,[1]Desplegables!$BA$2:$BB$19,2,FALSE),\"\")","v":""},null,""]
[null,null,{"$f":"IF(B2527<>\"\",VLOOKUP(B2527,[1]Desplegables!$BA$2:$BB$19,2,FALSE),\"\")","v":""},null,""]
[null,null,{"$f":"IF(B2528<>\"\",VLOOKUP(B2528,[1]Desplegables!$BA$2:$BB$19,2,FALSE),\"\")","v":""},null,""]
[null,null,{"$f":"IF(B2529<>\"\",VLOOKUP(B2529,[1]Desplegables!$BA$2:$BB$19,2,FALSE),\"\")","v":""},null,""]
[null,null,{"$f":"IF(B2530<>\"\",VLOOKUP(B2530,[1]Desplegables!$BA$2:$BB$19,2,FALSE),\"\")","v":""},null,""]
[null,null,{"$f":"IF(B2531<>\"\",VLOOKUP(B2531,[1]Desplegables!$BA$2:$BB$19,2,FALSE),\"\")","v":""},null,""]
[null,null,{"$f":"IF(B2532<>\"\",VLOOKUP(B2532,[1]Desplegables!$BA$2:$BB$19,2,FALSE),\"\")","v":""},null,""]
[null,null,{"$f":"IF(B2533<>\"\",VLOOKUP(B2533,[1]Desplegables!$BA$2:$BB$19,2,FALSE),\"\")","v":""},null,""]
[null,null,{"$f":"IF(B2534<>\"\",VLOOKUP(B2534,[1]Desplegables!$BA$2:$BB$19,2,FALSE),\"\")","v":""},null,""]
[null,null,{"$f":"IF(B2535<>\"\",VLOOKUP(B2535,[1]Desplegables!$BA$2:$BB$19,2,FALSE),\"\")","v":""},null,""]
[null,null,{"$f":"IF(B2536<>\"\",VLOOKUP(B2536,[1]Desplegables!$BA$2:$BB$19,2,FALSE),\"\")","v":""},null,""]
[null,null,{"$f":"IF(B2537<>\"\",VLOOKUP(B2537,[1]Desplegables!$BA$2:$BB$19,2,FALSE),\"\")","v":""},null,""]
[null,null,{"$f":"IF(B2538<>\"\",VLOOKUP(B2538,[1]Desplegables!$BA$2:$BB$19,2,FALSE),\"\")","v":""},null,""]
[null,null,{"$f":"IF(B2539<>\"\",VLOOKUP(B2539,[1]Desplegables!$BA$2:$BB$19,2,FALSE),\"\")","v":""},null,""]
[null,null,{"$f":"IF(B2540<>\"\",VLOOKUP(B2540,[1]Desplegables!$BA$2:$BB$19,2,FALSE),\"\")","v":""},null,""]
[null,null,{"$f":"IF(B2541<>\"\",VLOOKUP(B2541,[1]Desplegables!$BA$2:$BB$19,2,FALSE),\"\")","v":""},null,""]
[null,null,{"$f":"IF(B2542<>\"\",VLOOKUP(B2542,[1]Desplegables!$BA$2:$BB$19,2,FALSE),\"\")","v":""},null,""]
[null,null,{"$f":"IF(B2543<>\"\",VLOOKUP(B2543,[1]Desplegables!$BA$2:$BB$19,2,FALSE),\"\")","v":""},null,""]
[null,null,{"$f":"IF(B2544<>\"\",VLOOKUP(B2544,[1]Desplegables!$BA$2:$BB$19,2,FALSE),\"\")","v":""},null,""]
[null,null,{"$f":"IF(B2545<>\"\",VLOOKUP(B2545,[1]Desplegables!$BA$2:$BB$19,2,FALSE),\"\")","v":""},null,""]
[null,null,{"$f":"IF(B2546<>\"\",VLOOKUP(B2546,[1]Desplegables!$BA$2:$BB$19,2,FALSE),\"\")","v":""},null,""]
[null,null,{"$f":"IF(B2547<>\"\",VLOOKUP(B2547,[1]Desplegables!$BA$2:$BB$19,2,FALSE),\"\")","v":""},null,""]
[null,null,{"$f":"IF(B2548<>\"\",VLOOKUP(B2548,[1]Desplegables!$BA$2:$BB$19,2,FALSE),\"\")","v":""},null,""]
[null,null,{"$f":"IF(B2549<>\"\",VLOOKUP(B2549,[1]Desplegables!$BA$2:$BB$19,2,FALSE),\"\")","v":""},null,""]
[null,null,{"$f":"IF(B2550<>\"\",VLOOKUP(B2550,[1]Desplegables!$BA$2:$BB$19,2,FALSE),\"\")","v":""},null,""]
[null,null,{"$f":"IF(B2551<>\"\",VLOOKUP(B2551,[1]Desplegables!$BA$2:$BB$19,2,FALSE),\"\")","v":""},null,""]
[null,null,{"$f":"IF(B2552<>\"\",VLOOKUP(B2552,[1]Desplegables!$BA$2:$BB$19,2,FALSE),\"\")","v":""},null,""]
[null,null,{"$f":"IF(B2553<>\"\",VLOOKUP(B2553,[1]Desplegables!$BA$2:$BB$19,2,FALSE),\"\")","v":""},null,""]
[null,null,{"$f":"IF(B2554<>\"\",VLOOKUP(B2554,[1]Desplegables!$BA$2:$BB$19,2,FALSE),\"\")","v":""},null,""]
[null,null,{"$f":"IF(B2555<>\"\",VLOOKUP(B2555,[1]Desplegables!$BA$2:$BB$19,2,FALSE),\"\")","v":""},null,""]
[null,null,{"$f":"IF(B2556<>\"\",VLOOKUP(B2556,[1]Desplegables!$BA$2:$BB$19,2,FALSE),\"\")","v":""},null,""]
[null,null,{"$f":"IF(B2557<>\"\",VLOOKUP(B2557,[1]Desplegables!$BA$2:$BB$19,2,FALSE),\"\")","v":""},null,""]
[null,null,{"$f":"IF(B2558<>\"\",VLOOKUP(B2558,[1]Desplegables!$BA$2:$BB$19,2,FALSE),\"\")","v":""},null,""]
[null,null,{"$f":"IF(B2559<>\"\",VLOOKUP(B2559,[1]Desplegables!$BA$2:$BB$19,2,FALSE),\"\")","v":""},null,""]
[null,null,{"$f":"IF(B2560<>\"\",VLOOKUP(B2560,[1]Desplegables!$BA$2:$BB$19,2,FALSE),\"\")","v":""},null,""]
[null,null,{"$f":"IF(B2561<>\"\",VLOOKUP(B2561,[1]Desplegables!$BA$2:$BB$19,2,FALSE),\"\")","v":""},null,""]
[null,null,{"$f":"IF(B2562<>\"\",VLOOKUP(B2562,[1]Desplegables!$BA$2:$BB$19,2,FALSE),\"\")","v":""},null,""]
[null,null,{"$f":"IF(B2563<>\"\",VLOOKUP(B2563,[1]Desplegables!$BA$2:$BB$19,2,FALSE),\"\")","v":""},null,""]
[null,null,{"$f":"IF(B2564<>\"\",VLOOKUP(B2564,[1]Desplegables!$BA$2:$BB$19,2,FALSE),\"\")","v":""},null,""]
[null,null,{"$f":"IF(B2565<>\"\",VLOOKUP(B2565,[1]Desplegables!$BA$2:$BB$19,2,FALSE),\"\")","v":""},null,{"$f":"IF(C2565<>\"\",D2565/C2565,\"\")","v":""}]
[null,null,{"$f":"IF(B2566<>\"\",VLOOKUP(B2566,[1]Desplegables!$BA$2:$BB$19,2,FALSE),\"\")","v":""},null,""]
[null,null,{"$f":"IF(B2567<>\"\",VLOOKUP(B2567,[1]Desplegables!$BA$2:$BB$19,2,FALSE),\"\")","v":""},null,""]
[null,null,{"$f":"IF(B2568<>\"\",VLOOKUP(B2568,[1]Desplegables!$BA$2:$BB$19,2,FALSE),\"\")","v":""},null,""]
[null,null,{"$f":"IF(B2569<>\"\",VLOOKUP(B2569,[1]Desplegables!$BA$2:$BB$19,2,FALSE),\"\")","v":""},null,""]
[null,null,{"$f":"IF(B2570<>\"\",VLOOKUP(B2570,[1]Desplegables!$BA$2:$BB$19,2,FALSE),\"\")","v":""},null,""]
[null,null,{"$f":"IF(B2571<>\"\",VLOOKUP(B2571,[1]Desplegables!$BA$2:$BB$19,2,FALSE),\"\")","v":""},null,""]
[null,null,{"$f":"IF(B2572<>\"\",VLOOKUP(B2572,[1]Desplegables!$BA$2:$BB$19,2,FALSE),\"\")","v":""},null,""]
[null,null,{"$f":"IF(B2573<>\"\",VLOOKUP(B2573,[1]Desplegables!$BA$2:$BB$19,2,FALSE),\"\")","v":""},null,""]
[null,null,{"$f":"IF(B2574<>\"\",VLOOKUP(B2574,[1]Desplegables!$BA$2:$BB$19,2,FALSE),\"\")","v":""},null,""]
[null,null,{"$f":"IF(B2575<>\"\",VLOOKUP(B2575,[1]Desplegables!$BA$2:$BB$19,2,FALSE),\"\")","v":""},null,""]
[null,null,{"$f":"IF(B2576<>\"\",VLOOKUP(B2576,[1]Desplegables!$BA$2:$BB$19,2,FALSE),\"\")","v":""},null,""]
[null,null,{"$f":"IF(B2577<>\"\",VLOOKUP(B2577,[1]Desplegables!$BA$2:$BB$19,2,FALSE),\"\")","v":""},null,""]
[null,null,{"$f":"IF(B2578<>\"\",VLOOKUP(B2578,[1]Desplegables!$BA$2:$BB$19,2,FALSE),\"\")","v":""},null,""]
[null,null,{"$f":"IF(B2579<>\"\",VLOOKUP(B2579,[1]Desplegables!$BA$2:$BB$19,2,FALSE),\"\")","v":""},null,""]
[null,null,{"$f":"IF(B2580<>\"\",VLOOKUP(B2580,[1]Desplegables!$BA$2:$BB$19,2,FALSE),\"\")","v":""},null,""]
[null,null,{"$f":"IF(B2581<>\"\",VLOOKUP(B2581,[1]Desplegables!$BA$2:$BB$19,2,FALSE),\"\")","v":""},null,""]
[null,null,{"$f":"IF(B2582<>\"\",VLOOKUP(B2582,[1]Desplegables!$BA$2:$BB$19,2,FALSE),\"\")","v":""},null,""]
[null,null,{"$f":"IF(B2583<>\"\",VLOOKUP(B2583,[1]Desplegables!$BA$2:$BB$19,2,FALSE),\"\")","v":""},null,""]
[null,null,{"$f":"IF(B2584<>\"\",VLOOKUP(B2584,[1]Desplegables!$BA$2:$BB$19,2,FALSE),\"\")","v":""},null,""]
[null,null,{"$f":"IF(B2585<>\"\",VLOOKUP(B2585,[1]Desplegables!$BA$2:$BB$19,2,FALSE),\"\")","v":""},null,""]
[null,null,{"$f":"IF(B2586<>\"\",VLOOKUP(B2586,[1]Desplegables!$BA$2:$BB$19,2,FALSE),\"\")","v":""},null,""]
[null,null,{"$f":"IF(B2587<>\"\",VLOOKUP(B2587,[1]Desplegables!$BA$2:$BB$19,2,FALSE),\"\")","v":""},null,""]
[null,null,{"$f":"IF(B2588<>\"\",VLOOKUP(B2588,[1]Desplegables!$BA$2:$BB$19,2,FALSE),\"\")","v":""},null,""]
[null,null,{"$f":"IF(B2589<>\"\",VLOOKUP(B2589,[1]Desplegables!$BA$2:$BB$19,2,FALSE),\"\")","v":""},null,""]
[null,null,{"$f":"IF(B2590<>\"\",VLOOKUP(B2590,[1]Desplegables!$BA$2:$BB$19,2,FALSE),\"\")","v":""},null,""]
[null,null,{"$f":"IF(B2591<>\"\",VLOOKUP(B2591,[1]Desplegables!$BA$2:$BB$19,2,FALSE),\"\")","v":""},null,""]
[null,null,{"$f":"IF(B2592<>\"\",VLOOKUP(B2592,[1]Desplegables!$BA$2:$BB$19,2,FALSE),\"\")","v":""},null,""]
[null,null,{"$f":"IF(B2593<>\"\",VLOOKUP(B2593,[1]Desplegables!$BA$2:$BB$19,2,FALSE),\"\")","v":""},null,""]
[null,null,{"$f":"IF(B2594<>\"\",VLOOKUP(B2594,[1]Desplegables!$BA$2:$BB$19,2,FALSE),\"\")","v":""},null,""]
[null,null,{"$f":"IF(B2595<>\"\",VLOOKUP(B2595,[1]Desplegables!$BA$2:$BB$19,2,FALSE),\"\")","v":""},null,""]
[null,null,{"$f":"IF(B2596<>\"\",VLOOKUP(B2596,[1]Desplegables!$BA$2:$BB$19,2,FALSE),\"\")","v":""},null,""]
[null,null,{"$f":"IF(B2597<>\"\",VLOOKUP(B2597,[1]Desplegables!$BA$2:$BB$19,2,FALSE),\"\")","v":""},null,""]
[null,null,{"$f":"IF(B2598<>\"\",VLOOKUP(B2598,[1]Desplegables!$BA$2:$BB$19,2,FALSE),\"\")","v":""},null,""]
[null,null,{"$f":"IF(B2599<>\"\",VLOOKUP(B2599,[1]Desplegables!$BA$2:$BB$19,2,FALSE),\"\")","v":""},null,""]
[null,null,{"$f":"IF(B2600<>\"\",VLOOKUP(B2600,[1]Desplegables!$BA$2:$BB$19,2,FALSE),\"\")","v":""},null,""]
[null,null,{"$f":"IF(B2601<>\"\",VLOOKUP(B2601,[1]Desplegables!$BA$2:$BB$19,2,FALSE),\"\")","v":""},null,""]
[null,null,{"$f":"IF(B2602<>\"\",VLOOKUP(B2602,[1]Desplegables!$BA$2:$BB$19,2,FALSE),\"\")","v":""},null,""]
[null,null,{"$f":"IF(B2603<>\"\",VLOOKUP(B2603,[1]Desplegables!$BA$2:$BB$19,2,FALSE),\"\")","v":""},null,""]
[null,null,{"$f":"IF(B2604<>\"\",VLOOKUP(B2604,[1]Desplegables!$BA$2:$BB$19,2,FALSE),\"\")","v":""},null,""]
[null,null,{"$f":"IF(B2605<>\"\",VLOOKUP(B2605,[1]Desplegables!$BA$2:$BB$19,2,FALSE),\"\")","v":""},null,""]
[null,null,{"$f":"IF(B2606<>\"\",VLOOKUP(B2606,[1]Desplegables!$BA$2:$BB$19,2,FALSE),\"\")","v":""},null,""]
[null,null,{"$f":"IF(B2607<>\"\",VLOOKUP(B2607,[1]Desplegables!$BA$2:$BB$19,2,FALSE),\"\")","v":""},null,""]
[null,null,{"$f":"IF(B2608<>\"\",VLOOKUP(B2608,[1]Desplegables!$BA$2:$BB$19,2,FALSE),\"\")","v":""},null,""]
[null,null,{"$f":"IF(B2609<>\"\",VLOOKUP(B2609,[1]Desplegables!$BA$2:$BB$19,2,FALSE),\"\")","v":""},null,""]
[null,null,{"$f":"IF(B2610<>\"\",VLOOKUP(B2610,[1]Desplegables!$BA$2:$BB$19,2,FALSE),\"\")","v":""},null,""]
[null,null,{"$f":"IF(B2611<>\"\",VLOOKUP(B2611,[1]Desplegables!$BA$2:$BB$19,2,FALSE),\"\")","v":""},null,""]
[null,null,{"$f":"IF(B2612<>\"\",VLOOKUP(B2612,[1]Desplegables!$BA$2:$BB$19,2,FALSE),\"\")","v":""},null,""]
[null,null,{"$f":"IF(B2613<>\"\",VLOOKUP(B2613,[1]Desplegables!$BA$2:$BB$19,2,FALSE),\"\")","v":""},null,""]
[null,null,{"$f":"IF(B2614<>\"\",VLOOKUP(B2614,[1]Desplegables!$BA$2:$BB$19,2,FALSE),\"\")","v":""},null,""]
[null,null,{"$f":"IF(B2615<>\"\",VLOOKUP(B2615,[1]Desplegables!$BA$2:$BB$19,2,FALSE),\"\")","v":""},null,""]
[null,null,{"$f":"IF(B2616<>\"\",VLOOKUP(B2616,[1]Desplegables!$BA$2:$BB$19,2,FALSE),\"\")","v":""},null,""]
[null,null,{"$f":"IF(B2617<>\"\",VLOOKUP(B2617,[1]Desplegables!$BA$2:$BB$19,2,FALSE),\"\")","v":""},null,""]
[null,null,{"$f":"IF(B2618<>\"\",VLOOKUP(B2618,[1]Desplegables!$BA$2:$BB$19,2,FALSE),\"\")","v":""},null,""]
[null,null,{"$f":"IF(B2619<>\"\",VLOOKUP(B2619,[1]Desplegables!$BA$2:$BB$19,2,FALSE),\"\")","v":""},null,""]
[null,null,{"$f":"IF(B2620<>\"\",VLOOKUP(B2620,[1]Desplegables!$BA$2:$BB$19,2,FALSE),\"\")","v":""},null,""]
[null,null,{"$f":"IF(B2621<>\"\",VLOOKUP(B2621,[1]Desplegables!$BA$2:$BB$19,2,FALSE),\"\")","v":""},null,""]
[null,null,{"$f":"IF(B2622<>\"\",VLOOKUP(B2622,[1]Desplegables!$BA$2:$BB$19,2,FALSE),\"\")","v":""},null,""]
[null,null,{"$f":"IF(B2623<>\"\",VLOOKUP(B2623,[1]Desplegables!$BA$2:$BB$19,2,FALSE),\"\")","v":""},null,""]
[null,null,{"$f":"IF(B2624<>\"\",VLOOKUP(B2624,[1]Desplegables!$BA$2:$BB$19,2,FALSE),\"\")","v":""},null,""]
[null,null,{"$f":"IF(B2625<>\"\",VLOOKUP(B2625,[1]Desplegables!$BA$2:$BB$19,2,FALSE),\"\")","v":""},null,""]
[null,null,{"$f":"IF(B2626<>\"\",VLOOKUP(B2626,[1]Desplegables!$BA$2:$BB$19,2,FALSE),\"\")","v":""},null,""]
[null,null,{"$f":"IF(B2627<>\"\",VLOOKUP(B2627,[1]Desplegables!$BA$2:$BB$19,2,FALSE),\"\")","v":""},null,""]
[null,null,{"$f":"IF(B2628<>\"\",VLOOKUP(B2628,[1]Desplegables!$BA$2:$BB$19,2,FALSE),\"\")","v":""},null,""]
[null,null,{"$f":"IF(B2629<>\"\",VLOOKUP(B2629,[1]Desplegables!$BA$2:$BB$19,2,FALSE),\"\")","v":""},null,{"$f":"IF(C2629<>\"\",D2629/C2629,\"\")","v":""}]
[null,null,{"$f":"IF(B2630<>\"\",VLOOKUP(B2630,[1]Desplegables!$BA$2:$BB$19,2,FALSE),\"\")","v":""},null,""]
[null,null,{"$f":"IF(B2631<>\"\",VLOOKUP(B2631,[1]Desplegables!$BA$2:$BB$19,2,FALSE),\"\")","v":""},null,""]
[null,null,{"$f":"IF(B2632<>\"\",VLOOKUP(B2632,[1]Desplegables!$BA$2:$BB$19,2,FALSE),\"\")","v":""},null,""]
[null,null,{"$f":"IF(B2633<>\"\",VLOOKUP(B2633,[1]Desplegables!$BA$2:$BB$19,2,FALSE),\"\")","v":""},null,""]
[null,null,{"$f":"IF(B2634<>\"\",VLOOKUP(B2634,[1]Desplegables!$BA$2:$BB$19,2,FALSE),\"\")","v":""},null,""]
[null,null,{"$f":"IF(B2635<>\"\",VLOOKUP(B2635,[1]Desplegables!$BA$2:$BB$19,2,FALSE),\"\")","v":""},null,""]
[null,null,{"$f":"IF(B2636<>\"\",VLOOKUP(B2636,[1]Desplegables!$BA$2:$BB$19,2,FALSE),\"\")","v":""},null,""]
[null,null,{"$f":"IF(B2637<>\"\",VLOOKUP(B2637,[1]Desplegables!$BA$2:$BB$19,2,FALSE),\"\")","v":""},null,""]
[null,null,{"$f":"IF(B2638<>\"\",VLOOKUP(B2638,[1]Desplegables!$BA$2:$BB$19,2,FALSE),\"\")","v":""},null,""]
[null,null,{"$f":"IF(B2639<>\"\",VLOOKUP(B2639,[1]Desplegables!$BA$2:$BB$19,2,FALSE),\"\")","v":""},null,""]
[null,null,{"$f":"IF(B2640<>\"\",VLOOKUP(B2640,[1]Desplegables!$BA$2:$BB$19,2,FALSE),\"\")","v":""},null,""]
[null,null,{"$f":"IF(B2641<>\"\",VLOOKUP(B2641,[1]Desplegables!$BA$2:$BB$19,2,FALSE),\"\")","v":""},null,""]
[null,null,{"$f":"IF(B2642<>\"\",VLOOKUP(B2642,[1]Desplegables!$BA$2:$BB$19,2,FALSE),\"\")","v":""},null,""]
[null,null,{"$f":"IF(B2643<>\"\",VLOOKUP(B2643,[1]Desplegables!$BA$2:$BB$19,2,FALSE),\"\")","v":""},null,""]
[null,null,{"$f":"IF(B2644<>\"\",VLOOKUP(B2644,[1]Desplegables!$BA$2:$BB$19,2,FALSE),\"\")","v":""},null,""]
[null,null,{"$f":"IF(B2645<>\"\",VLOOKUP(B2645,[1]Desplegables!$BA$2:$BB$19,2,FALSE),\"\")","v":""},null,""]
[null,null,{"$f":"IF(B2646<>\"\",VLOOKUP(B2646,[1]Desplegables!$BA$2:$BB$19,2,FALSE),\"\")","v":""},null,""]
[null,null,{"$f":"IF(B2647<>\"\",VLOOKUP(B2647,[1]Desplegables!$BA$2:$BB$19,2,FALSE),\"\")","v":""},null,""]
[null,null,{"$f":"IF(B2648<>\"\",VLOOKUP(B2648,[1]Desplegables!$BA$2:$BB$19,2,FALSE),\"\")","v":""},null,""]
[null,null,{"$f":"IF(B2649<>\"\",VLOOKUP(B2649,[1]Desplegables!$BA$2:$BB$19,2,FALSE),\"\")","v":""},null,""]
[null,null,{"$f":"IF(B2650<>\"\",VLOOKUP(B2650,[1]Desplegables!$BA$2:$BB$19,2,FALSE),\"\")","v":""},null,""]
[null,null,{"$f":"IF(B2651<>\"\",VLOOKUP(B2651,[1]Desplegables!$BA$2:$BB$19,2,FALSE),\"\")","v":""},null,""]
[null,null,{"$f":"IF(B2652<>\"\",VLOOKUP(B2652,[1]Desplegables!$BA$2:$BB$19,2,FALSE),\"\")","v":""},null,""]
[null,null,{"$f":"IF(B2653<>\"\",VLOOKUP(B2653,[1]Desplegables!$BA$2:$BB$19,2,FALSE),\"\")","v":""},null,""]
[null,null,{"$f":"IF(B2654<>\"\",VLOOKUP(B2654,[1]Desplegables!$BA$2:$BB$19,2,FALSE),\"\")","v":""},null,""]
[null,null,{"$f":"IF(B2655<>\"\",VLOOKUP(B2655,[1]Desplegables!$BA$2:$BB$19,2,FALSE),\"\")","v":""},null,""]
[null,null,{"$f":"IF(B2656<>\"\",VLOOKUP(B2656,[1]Desplegables!$BA$2:$BB$19,2,FALSE),\"\")","v":""},null,""]
[null,null,{"$f":"IF(B2657<>\"\",VLOOKUP(B2657,[1]Desplegables!$BA$2:$BB$19,2,FALSE),\"\")","v":""},null,""]
[null,null,{"$f":"IF(B2658<>\"\",VLOOKUP(B2658,[1]Desplegables!$BA$2:$BB$19,2,FALSE),\"\")","v":""},null,""]
[null,null,{"$f":"IF(B2659<>\"\",VLOOKUP(B2659,[1]Desplegables!$BA$2:$BB$19,2,FALSE),\"\")","v":""},null,""]
[null,null,{"$f":"IF(B2660<>\"\",VLOOKUP(B2660,[1]Desplegables!$BA$2:$BB$19,2,FALSE),\"\")","v":""},null,""]
[null,null,{"$f":"IF(B2661<>\"\",VLOOKUP(B2661,[1]Desplegables!$BA$2:$BB$19,2,FALSE),\"\")","v":""},null,""]
[null,null,{"$f":"IF(B2662<>\"\",VLOOKUP(B2662,[1]Desplegables!$BA$2:$BB$19,2,FALSE),\"\")","v":""},null,""]
[null,null,{"$f":"IF(B2663<>\"\",VLOOKUP(B2663,[1]Desplegables!$BA$2:$BB$19,2,FALSE),\"\")","v":""},null,""]
[null,null,{"$f":"IF(B2664<>\"\",VLOOKUP(B2664,[1]Desplegables!$BA$2:$BB$19,2,FALSE),\"\")","v":""},null,""]
[null,null,{"$f":"IF(B2665<>\"\",VLOOKUP(B2665,[1]Desplegables!$BA$2:$BB$19,2,FALSE),\"\")","v":""},null,""]
[null,null,{"$f":"IF(B2666<>\"\",VLOOKUP(B2666,[1]Desplegables!$BA$2:$BB$19,2,FALSE),\"\")","v":""},null,""]
[null,null,{"$f":"IF(B2667<>\"\",VLOOKUP(B2667,[1]Desplegables!$BA$2:$BB$19,2,FALSE),\"\")","v":""},null,""]
[null,null,{"$f":"IF(B2668<>\"\",VLOOKUP(B2668,[1]Desplegables!$BA$2:$BB$19,2,FALSE),\"\")","v":""},null,""]
[null,null,{"$f":"IF(B2669<>\"\",VLOOKUP(B2669,[1]Desplegables!$BA$2:$BB$19,2,FALSE),\"\")","v":""},null,""]
[null,null,{"$f":"IF(B2670<>\"\",VLOOKUP(B2670,[1]Desplegables!$BA$2:$BB$19,2,FALSE),\"\")","v":""},null,""]
[null,null,{"$f":"IF(B2671<>\"\",VLOOKUP(B2671,[1]Desplegables!$BA$2:$BB$19,2,FALSE),\"\")","v":""},null,""]
[null,null,{"$f":"IF(B2672<>\"\",VLOOKUP(B2672,[1]Desplegables!$BA$2:$BB$19,2,FALSE),\"\")","v":""},null,""]
[null,null,{"$f":"IF(B2673<>\"\",VLOOKUP(B2673,[1]Desplegables!$BA$2:$BB$19,2,FALSE),\"\")","v":""},null,""]
[null,null,{"$f":"IF(B2674<>\"\",VLOOKUP(B2674,[1]Desplegables!$BA$2:$BB$19,2,FALSE),\"\")","v":""},null,""]
[null,null,{"$f":"IF(B2675<>\"\",VLOOKUP(B2675,[1]Desplegables!$BA$2:$BB$19,2,FALSE),\"\")","v":""},null,""]
[null,null,{"$f":"IF(B2676<>\"\",VLOOKUP(B2676,[1]Desplegables!$BA$2:$BB$19,2,FALSE),\"\")","v":""},null,""]
[null,null,{"$f":"IF(B2677<>\"\",VLOOKUP(B2677,[1]Desplegables!$BA$2:$BB$19,2,FALSE),\"\")","v":""},null,""]
[null,null,{"$f":"IF(B2678<>\"\",VLOOKUP(B2678,[1]Desplegables!$BA$2:$BB$19,2,FALSE),\"\")","v":""},null,""]
[null,null,{"$f":"IF(B2679<>\"\",VLOOKUP(B2679,[1]Desplegables!$BA$2:$BB$19,2,FALSE),\"\")","v":""},null,""]
[null,null,{"$f":"IF(B2680<>\"\",VLOOKUP(B2680,[1]Desplegables!$BA$2:$BB$19,2,FALSE),\"\")","v":""},null,""]
[null,null,{"$f":"IF(B2681<>\"\",VLOOKUP(B2681,[1]Desplegables!$BA$2:$BB$19,2,FALSE),\"\")","v":""},null,""]
[null,null,{"$f":"IF(B2682<>\"\",VLOOKUP(B2682,[1]Desplegables!$BA$2:$BB$19,2,FALSE),\"\")","v":""},null,""]
[null,null,{"$f":"IF(B2683<>\"\",VLOOKUP(B2683,[1]Desplegables!$BA$2:$BB$19,2,FALSE),\"\")","v":""},null,""]
[null,null,{"$f":"IF(B2684<>\"\",VLOOKUP(B2684,[1]Desplegables!$BA$2:$BB$19,2,FALSE),\"\")","v":""},null,""]
[null,null,{"$f":"IF(B2685<>\"\",VLOOKUP(B2685,[1]Desplegables!$BA$2:$BB$19,2,FALSE),\"\")","v":""},null,""]
[null,null,{"$f":"IF(B2686<>\"\",VLOOKUP(B2686,[1]Desplegables!$BA$2:$BB$19,2,FALSE),\"\")","v":""},null,""]
[null,null,{"$f":"IF(B2687<>\"\",VLOOKUP(B2687,[1]Desplegables!$BA$2:$BB$19,2,FALSE),\"\")","v":""},null,""]
[null,null,{"$f":"IF(B2688<>\"\",VLOOKUP(B2688,[1]Desplegables!$BA$2:$BB$19,2,FALSE),\"\")","v":""},null,""]
[null,null,{"$f":"IF(B2689<>\"\",VLOOKUP(B2689,[1]Desplegables!$BA$2:$BB$19,2,FALSE),\"\")","v":""},null,""]
[null,null,{"$f":"IF(B2690<>\"\",VLOOKUP(B2690,[1]Desplegables!$BA$2:$BB$19,2,FALSE),\"\")","v":""},null,""]
[null,null,{"$f":"IF(B2691<>\"\",VLOOKUP(B2691,[1]Desplegables!$BA$2:$BB$19,2,FALSE),\"\")","v":""},null,""]
[null,null,{"$f":"IF(B2692<>\"\",VLOOKUP(B2692,[1]Desplegables!$BA$2:$BB$19,2,FALSE),\"\")","v":""},null,""]
[null,null,{"$f":"IF(B2693<>\"\",VLOOKUP(B2693,[1]Desplegables!$BA$2:$BB$19,2,FALSE),\"\")","v":""},null,{"$f":"IF(C2693<>\"\",D2693/C2693,\"\")","v":""}]
[null,null,{"$f":"IF(B2694<>\"\",VLOOKUP(B2694,[1]Desplegables!$BA$2:$BB$19,2,FALSE),\"\")","v":""},null,""]
[null,null,{"$f":"IF(B2695<>\"\",VLOOKUP(B2695,[1]Desplegables!$BA$2:$BB$19,2,FALSE),\"\")","v":""},null,""]
[null,null,{"$f":"IF(B2696<>\"\",VLOOKUP(B2696,[1]Desplegables!$BA$2:$BB$19,2,FALSE),\"\")","v":""},null,""]
[null,null,{"$f":"IF(B2697<>\"\",VLOOKUP(B2697,[1]Desplegables!$BA$2:$BB$19,2,FALSE),\"\")","v":""},null,""]
[null,null,{"$f":"IF(B2698<>\"\",VLOOKUP(B2698,[1]Desplegables!$BA$2:$BB$19,2,FALSE),\"\")","v":""},null,""]
[null,null,{"$f":"IF(B2699<>\"\",VLOOKUP(B2699,[1]Desplegables!$BA$2:$BB$19,2,FALSE),\"\")","v":""},null,""]
[null,null,{"$f":"IF(B2700<>\"\",VLOOKUP(B2700,[1]Desplegables!$BA$2:$BB$19,2,FALSE),\"\")","v":""},null,""]
[null,null,{"$f":"IF(B2701<>\"\",VLOOKUP(B2701,[1]Desplegables!$BA$2:$BB$19,2,FALSE),\"\")","v":""},null,""]
[null,null,{"$f":"IF(B2702<>\"\",VLOOKUP(B2702,[1]Desplegables!$BA$2:$BB$19,2,FALSE),\"\")","v":""},null,""]
[null,null,{"$f":"IF(B2703<>\"\",VLOOKUP(B2703,[1]Desplegables!$BA$2:$BB$19,2,FALSE),\"\")","v":""},null,""]
[null,null,{"$f":"IF(B2704<>\"\",VLOOKUP(B2704,[1]Desplegables!$BA$2:$BB$19,2,FALSE),\"\")","v":""},null,""]
[null,null,{"$f":"IF(B2705<>\"\",VLOOKUP(B2705,[1]Desplegables!$BA$2:$BB$19,2,FALSE),\"\")","v":""},null,""]
[null,null,{"$f":"IF(B2706<>\"\",VLOOKUP(B2706,[1]Desplegables!$BA$2:$BB$19,2,FALSE),\"\")","v":""},null,""]
[null,null,{"$f":"IF(B2707<>\"\",VLOOKUP(B2707,[1]Desplegables!$BA$2:$BB$19,2,FALSE),\"\")","v":""},null,""]
[null,null,{"$f":"IF(B2708<>\"\",VLOOKUP(B2708,[1]Desplegables!$BA$2:$BB$19,2,FALSE),\"\")","v":""},null,""]
[null,null,{"$f":"IF(B2709<>\"\",VLOOKUP(B2709,[1]Desplegables!$BA$2:$BB$19,2,FALSE),\"\")","v":""},null,""]
[null,null,{"$f":"IF(B2710<>\"\",VLOOKUP(B2710,[1]Desplegables!$BA$2:$BB$19,2,FALSE),\"\")","v":""},null,""]
[null,null,{"$f":"IF(B2711<>\"\",VLOOKUP(B2711,[1]Desplegables!$BA$2:$BB$19,2,FALSE),\"\")","v":""},null,""]
[null,null,{"$f":"IF(B2712<>\"\",VLOOKUP(B2712,[1]Desplegables!$BA$2:$BB$19,2,FALSE),\"\")","v":""},null,""]
[null,null,{"$f":"IF(B2713<>\"\",VLOOKUP(B2713,[1]Desplegables!$BA$2:$BB$19,2,FALSE),\"\")","v":""},null,""]
[null,null,{"$f":"IF(B2714<>\"\",VLOOKUP(B2714,[1]Desplegables!$BA$2:$BB$19,2,FALSE),\"\")","v":""},null,""]
[null,null,{"$f":"IF(B2715<>\"\",VLOOKUP(B2715,[1]Desplegables!$BA$2:$BB$19,2,FALSE),\"\")","v":""},null,""]
[null,null,{"$f":"IF(B2716<>\"\",VLOOKUP(B2716,[1]Desplegables!$BA$2:$BB$19,2,FALSE),\"\")","v":""},null,""]
[null,null,{"$f":"IF(B2717<>\"\",VLOOKUP(B2717,[1]Desplegables!$BA$2:$BB$19,2,FALSE),\"\")","v":""},null,""]
[null,null,{"$f":"IF(B2718<>\"\",VLOOKUP(B2718,[1]Desplegables!$BA$2:$BB$19,2,FALSE),\"\")","v":""},null,""]
[null,null,{"$f":"IF(B2719<>\"\",VLOOKUP(B2719,[1]Desplegables!$BA$2:$BB$19,2,FALSE),\"\")","v":""},null,""]
[null,null,{"$f":"IF(B2720<>\"\",VLOOKUP(B2720,[1]Desplegables!$BA$2:$BB$19,2,FALSE),\"\")","v":""},null,""]
[null,null,{"$f":"IF(B2721<>\"\",VLOOKUP(B2721,[1]Desplegables!$BA$2:$BB$19,2,FALSE),\"\")","v":""},null,""]
[null,null,{"$f":"IF(B2722<>\"\",VLOOKUP(B2722,[1]Desplegables!$BA$2:$BB$19,2,FALSE),\"\")","v":""},null,""]
[null,null,{"$f":"IF(B2723<>\"\",VLOOKUP(B2723,[1]Desplegables!$BA$2:$BB$19,2,FALSE),\"\")","v":""},null,""]
[null,null,{"$f":"IF(B2724<>\"\",VLOOKUP(B2724,[1]Desplegables!$BA$2:$BB$19,2,FALSE),\"\")","v":""},null,""]
[null,null,{"$f":"IF(B2725<>\"\",VLOOKUP(B2725,[1]Desplegables!$BA$2:$BB$19,2,FALSE),\"\")","v":""},null,""]
[null,null,{"$f":"IF(B2726<>\"\",VLOOKUP(B2726,[1]Desplegables!$BA$2:$BB$19,2,FALSE),\"\")","v":""},null,""]
[null,null,{"$f":"IF(B2727<>\"\",VLOOKUP(B2727,[1]Desplegables!$BA$2:$BB$19,2,FALSE),\"\")","v":""},null,""]
[null,null,{"$f":"IF(B2728<>\"\",VLOOKUP(B2728,[1]Desplegables!$BA$2:$BB$19,2,FALSE),\"\")","v":""},null,""]
[null,null,{"$f":"IF(B2729<>\"\",VLOOKUP(B2729,[1]Desplegables!$BA$2:$BB$19,2,FALSE),\"\")","v":""},null,""]
[null,null,{"$f":"IF(B2730<>\"\",VLOOKUP(B2730,[1]Desplegables!$BA$2:$BB$19,2,FALSE),\"\")","v":""},null,""]
[null,null,{"$f":"IF(B2731<>\"\",VLOOKUP(B2731,[1]Desplegables!$BA$2:$BB$19,2,FALSE),\"\")","v":""},null,""]
[null,null,{"$f":"IF(B2732<>\"\",VLOOKUP(B2732,[1]Desplegables!$BA$2:$BB$19,2,FALSE),\"\")","v":""},null,""]
[null,null,{"$f":"IF(B2733<>\"\",VLOOKUP(B2733,[1]Desplegables!$BA$2:$BB$19,2,FALSE),\"\")","v":""},null,""]
[null,null,{"$f":"IF(B2734<>\"\",VLOOKUP(B2734,[1]Desplegables!$BA$2:$BB$19,2,FALSE),\"\")","v":""},null,""]
[null,null,{"$f":"IF(B2735<>\"\",VLOOKUP(B2735,[1]Desplegables!$BA$2:$BB$19,2,FALSE),\"\")","v":""},null,""]
[null,null,{"$f":"IF(B2736<>\"\",VLOOKUP(B2736,[1]Desplegables!$BA$2:$BB$19,2,FALSE),\"\")","v":""},null,""]
[null,null,{"$f":"IF(B2737<>\"\",VLOOKUP(B2737,[1]Desplegables!$BA$2:$BB$19,2,FALSE),\"\")","v":""},null,""]
[null,null,{"$f":"IF(B2738<>\"\",VLOOKUP(B2738,[1]Desplegables!$BA$2:$BB$19,2,FALSE),\"\")","v":""},null,""]
[null,null,{"$f":"IF(B2739<>\"\",VLOOKUP(B2739,[1]Desplegables!$BA$2:$BB$19,2,FALSE),\"\")","v":""},null,""]
[null,null,{"$f":"IF(B2740<>\"\",VLOOKUP(B2740,[1]Desplegables!$BA$2:$BB$19,2,FALSE),\"\")","v":""},null,""]
[null,null,{"$f":"IF(B2741<>\"\",VLOOKUP(B2741,[1]Desplegables!$BA$2:$BB$19,2,FALSE),\"\")","v":""},null,""]
[null,null,{"$f":"IF(B2742<>\"\",VLOOKUP(B2742,[1]Desplegables!$BA$2:$BB$19,2,FALSE),\"\")","v":""},null,""]
[null,null,{"$f":"IF(B2743<>\"\",VLOOKUP(B2743,[1]Desplegables!$BA$2:$BB$19,2,FALSE),\"\")","v":""},null,""]
[null,null,{"$f":"IF(B2744<>\"\",VLOOKUP(B2744,[1]Desplegables!$BA$2:$BB$19,2,FALSE),\"\")","v":""},null,""]
[null,null,{"$f":"IF(B2745<>\"\",VLOOKUP(B2745,[1]Desplegables!$BA$2:$BB$19,2,FALSE),\"\")","v":""},null,""]
[null,null,{"$f":"IF(B2746<>\"\",VLOOKUP(B2746,[1]Desplegables!$BA$2:$BB$19,2,FALSE),\"\")","v":""},null,""]
[null,null,{"$f":"IF(B2747<>\"\",VLOOKUP(B2747,[1]Desplegables!$BA$2:$BB$19,2,FALSE),\"\")","v":""},null,""]
[null,null,{"$f":"IF(B2748<>\"\",VLOOKUP(B2748,[1]Desplegables!$BA$2:$BB$19,2,FALSE),\"\")","v":""},null,""]
[null,null,{"$f":"IF(B2749<>\"\",VLOOKUP(B2749,[1]Desplegables!$BA$2:$BB$19,2,FALSE),\"\")","v":""},null,""]
[null,null,{"$f":"IF(B2750<>\"\",VLOOKUP(B2750,[1]Desplegables!$BA$2:$BB$19,2,FALSE),\"\")","v":""},null,""]
[null,null,{"$f":"IF(B2751<>\"\",VLOOKUP(B2751,[1]Desplegables!$BA$2:$BB$19,2,FALSE),\"\")","v":""},null,""]
[null,null,{"$f":"IF(B2752<>\"\",VLOOKUP(B2752,[1]Desplegables!$BA$2:$BB$19,2,FALSE),\"\")","v":""},null,""]
[null,null,{"$f":"IF(B2753<>\"\",VLOOKUP(B2753,[1]Desplegables!$BA$2:$BB$19,2,FALSE),\"\")","v":""},null,""]
[null,null,{"$f":"IF(B2754<>\"\",VLOOKUP(B2754,[1]Desplegables!$BA$2:$BB$19,2,FALSE),\"\")","v":""},null,""]
[null,null,{"$f":"IF(B2755<>\"\",VLOOKUP(B2755,[1]Desplegables!$BA$2:$BB$19,2,FALSE),\"\")","v":""},null,""]
[null,null,{"$f":"IF(B2756<>\"\",VLOOKUP(B2756,[1]Desplegables!$BA$2:$BB$19,2,FALSE),\"\")","v":""},null,""]
[null,null,{"$f":"IF(B2757<>\"\",VLOOKUP(B2757,[1]Desplegables!$BA$2:$BB$19,2,FALSE),\"\")","v":""},null,{"$f":"IF(C2757<>\"\",D2757/C2757,\"\")","v":""}]
[null,null,{"$f":"IF(B2758<>\"\",VLOOKUP(B2758,[1]Desplegables!$BA$2:$BB$19,2,FALSE),\"\")","v":""},null,""]
[null,null,{"$f":"IF(B2759<>\"\",VLOOKUP(B2759,[1]Desplegables!$BA$2:$BB$19,2,FALSE),\"\")","v":""},null,""]
[null,null,{"$f":"IF(B2760<>\"\",VLOOKUP(B2760,[1]Desplegables!$BA$2:$BB$19,2,FALSE),\"\")","v":""},null,""]
[null,null,{"$f":"IF(B2761<>\"\",VLOOKUP(B2761,[1]Desplegables!$BA$2:$BB$19,2,FALSE),\"\")","v":""},null,""]
[null,null,{"$f":"IF(B2762<>\"\",VLOOKUP(B2762,[1]Desplegables!$BA$2:$BB$19,2,FALSE),\"\")","v":""},null,""]
[null,null,{"$f":"IF(B2763<>\"\",VLOOKUP(B2763,[1]Desplegables!$BA$2:$BB$19,2,FALSE),\"\")","v":""},null,""]
[null,null,{"$f":"IF(B2764<>\"\",VLOOKUP(B2764,[1]Desplegables!$BA$2:$BB$19,2,FALSE),\"\")","v":""},null,""]
[null,null,{"$f":"IF(B2765<>\"\",VLOOKUP(B2765,[1]Desplegables!$BA$2:$BB$19,2,FALSE),\"\")","v":""},null,""]
[null,null,{"$f":"IF(B2766<>\"\",VLOOKUP(B2766,[1]Desplegables!$BA$2:$BB$19,2,FALSE),\"\")","v":""},null,""]
[null,null,{"$f":"IF(B2767<>\"\",VLOOKUP(B2767,[1]Desplegables!$BA$2:$BB$19,2,FALSE),\"\")","v":""},null,""]
[null,null,{"$f":"IF(B2768<>\"\",VLOOKUP(B2768,[1]Desplegables!$BA$2:$BB$19,2,FALSE),\"\")","v":""},null,""]
[null,null,{"$f":"IF(B2769<>\"\",VLOOKUP(B2769,[1]Desplegables!$BA$2:$BB$19,2,FALSE),\"\")","v":""},null,""]
[null,null,{"$f":"IF(B2770<>\"\",VLOOKUP(B2770,[1]Desplegables!$BA$2:$BB$19,2,FALSE),\"\")","v":""},null,""]
[null,null,{"$f":"IF(B2771<>\"\",VLOOKUP(B2771,[1]Desplegables!$BA$2:$BB$19,2,FALSE),\"\")","v":""},null,""]
[null,null,{"$f":"IF(B2772<>\"\",VLOOKUP(B2772,[1]Desplegables!$BA$2:$BB$19,2,FALSE),\"\")","v":""},null,""]
[null,null,{"$f":"IF(B2773<>\"\",VLOOKUP(B2773,[1]Desplegables!$BA$2:$BB$19,2,FALSE),\"\")","v":""},null,""]
[null,null,{"$f":"IF(B2774<>\"\",VLOOKUP(B2774,[1]Desplegables!$BA$2:$BB$19,2,FALSE),\"\")","v":""},null,""]
[null,null,{"$f":"IF(B2775<>\"\",VLOOKUP(B2775,[1]Desplegables!$BA$2:$BB$19,2,FALSE),\"\")","v":""},null,""]
[null,null,{"$f":"IF(B2776<>\"\",VLOOKUP(B2776,[1]Desplegables!$BA$2:$BB$19,2,FALSE),\"\")","v":""},null,""]
[null,null,{"$f":"IF(B2777<>\"\",VLOOKUP(B2777,[1]Desplegables!$BA$2:$BB$19,2,FALSE),\"\")","v":""},null,""]
[null,null,{"$f":"IF(B2778<>\"\",VLOOKUP(B2778,[1]Desplegables!$BA$2:$BB$19,2,FALSE),\"\")","v":""},null,""]
[null,null,{"$f":"IF(B2779<>\"\",VLOOKUP(B2779,[1]Desplegables!$BA$2:$BB$19,2,FALSE),\"\")","v":""},null,""]
[null,null,{"$f":"IF(B2780<>\"\",VLOOKUP(B2780,[1]Desplegables!$BA$2:$BB$19,2,FALSE),\"\")","v":""},null,""]
[null,null,{"$f":"IF(B2781<>\"\",VLOOKUP(B2781,[1]Desplegables!$BA$2:$BB$19,2,FALSE),\"\")","v":""},null,""]
[null,null,{"$f":"IF(B2782<>\"\",VLOOKUP(B2782,[1]Desplegables!$BA$2:$BB$19,2,FALSE),\"\")","v":""},null,""]
[null,null,{"$f":"IF(B2783<>\"\",VLOOKUP(B2783,[1]Desplegables!$BA$2:$BB$19,2,FALSE),\"\")","v":""},null,""]
[null,null,{"$f":"IF(B2784<>\"\",VLOOKUP(B2784,[1]Desplegables!$BA$2:$BB$19,2,FALSE),\"\")","v":""},null,""]
[null,null,{"$f":"IF(B2785<>\"\",VLOOKUP(B2785,[1]Desplegables!$BA$2:$BB$19,2,FALSE),\"\")","v":""},null,""]
[null,null,{"$f":"IF(B2786<>\"\",VLOOKUP(B2786,[1]Desplegables!$BA$2:$BB$19,2,FALSE),\"\")","v":""},null,""]
[null,null,{"$f":"IF(B2787<>\"\",VLOOKUP(B2787,[1]Desplegables!$BA$2:$BB$19,2,FALSE),\"\")","v":""},null,""]
[null,null,{"$f":"IF(B2788<>\"\",VLOOKUP(B2788,[1]Desplegables!$BA$2:$BB$19,2,FALSE),\"\")","v":""},null,""]
[null,null,{"$f":"IF(B2789<>\"\",VLOOKUP(B2789,[1]Desplegables!$BA$2:$BB$19,2,FALSE),\"\")","v":""},null,""]
[null,null,{"$f":"IF(B2790<>\"\",VLOOKUP(B2790,[1]Desplegables!$BA$2:$BB$19,2,FALSE),\"\")","v":""},null,""]
[null,null,{"$f":"IF(B2791<>\"\",VLOOKUP(B2791,[1]Desplegables!$BA$2:$BB$19,2,FALSE),\"\")","v":""},null,""]
[null,null,{"$f":"IF(B2792<>\"\",VLOOKUP(B2792,[1]Desplegables!$BA$2:$BB$19,2,FALSE),\"\")","v":""},null,""]
[null,null,{"$f":"IF(B2793<>\"\",VLOOKUP(B2793,[1]Desplegables!$BA$2:$BB$19,2,FALSE),\"\")","v":""},null,""]
[null,null,{"$f":"IF(B2794<>\"\",VLOOKUP(B2794,[1]Desplegables!$BA$2:$BB$19,2,FALSE),\"\")","v":""},null,""]
[null,null,{"$f":"IF(B2795<>\"\",VLOOKUP(B2795,[1]Desplegables!$BA$2:$BB$19,2,FALSE),\"\")","v":""},null,""]
[null,null,{"$f":"IF(B2796<>\"\",VLOOKUP(B2796,[1]Desplegables!$BA$2:$BB$19,2,FALSE),\"\")","v":""},null,""]
[null,null,{"$f":"IF(B2797<>\"\",VLOOKUP(B2797,[1]Desplegables!$BA$2:$BB$19,2,FALSE),\"\")","v":""},null,""]
[null,null,{"$f":"IF(B2798<>\"\",VLOOKUP(B2798,[1]Desplegables!$BA$2:$BB$19,2,FALSE),\"\")","v":""},null,""]
[null,null,{"$f":"IF(B2799<>\"\",VLOOKUP(B2799,[1]Desplegables!$BA$2:$BB$19,2,FALSE),\"\")","v":""},null,""]
[null,null,{"$f":"IF(B2800<>\"\",VLOOKUP(B2800,[1]Desplegables!$BA$2:$BB$19,2,FALSE),\"\")","v":""},null,""]
[null,null,{"$f":"IF(B2801<>\"\",VLOOKUP(B2801,[1]Desplegables!$BA$2:$BB$19,2,FALSE),\"\")","v":""},null,""]
[null,null,{"$f":"IF(B2802<>\"\",VLOOKUP(B2802,[1]Desplegables!$BA$2:$BB$19,2,FALSE),\"\")","v":""},null,""]
[null,null,{"$f":"IF(B2803<>\"\",VLOOKUP(B2803,[1]Desplegables!$BA$2:$BB$19,2,FALSE),\"\")","v":""},null,""]
[null,null,{"$f":"IF(B2804<>\"\",VLOOKUP(B2804,[1]Desplegables!$BA$2:$BB$19,2,FALSE),\"\")","v":""},null,""]
[null,null,{"$f":"IF(B2805<>\"\",VLOOKUP(B2805,[1]Desplegables!$BA$2:$BB$19,2,FALSE),\"\")","v":""},null,""]
[null,null,{"$f":"IF(B2806<>\"\",VLOOKUP(B2806,[1]Desplegables!$BA$2:$BB$19,2,FALSE),\"\")","v":""},null,""]
[null,null,{"$f":"IF(B2807<>\"\",VLOOKUP(B2807,[1]Desplegables!$BA$2:$BB$19,2,FALSE),\"\")","v":""},null,""]
[null,null,{"$f":"IF(B2808<>\"\",VLOOKUP(B2808,[1]Desplegables!$BA$2:$BB$19,2,FALSE),\"\")","v":""},null,""]
[null,null,{"$f":"IF(B2809<>\"\",VLOOKUP(B2809,[1]Desplegables!$BA$2:$BB$19,2,FALSE),\"\")","v":""},null,""]
[null,null,{"$f":"IF(B2810<>\"\",VLOOKUP(B2810,[1]Desplegables!$BA$2:$BB$19,2,FALSE),\"\")","v":""},null,""]
[null,null,{"$f":"IF(B2811<>\"\",VLOOKUP(B2811,[1]Desplegables!$BA$2:$BB$19,2,FALSE),\"\")","v":""},null,""]
[null,null,{"$f":"IF(B2812<>\"\",VLOOKUP(B2812,[1]Desplegables!$BA$2:$BB$19,2,FALSE),\"\")","v":""},null,""]
[null,null,{"$f":"IF(B2813<>\"\",VLOOKUP(B2813,[1]Desplegables!$BA$2:$BB$19,2,FALSE),\"\")","v":""},null,""]
[null,null,{"$f":"IF(B2814<>\"\",VLOOKUP(B2814,[1]Desplegables!$BA$2:$BB$19,2,FALSE),\"\")","v":""},null,""]
[null,null,{"$f":"IF(B2815<>\"\",VLOOKUP(B2815,[1]Desplegables!$BA$2:$BB$19,2,FALSE),\"\")","v":""},null,""]
[null,null,{"$f":"IF(B2816<>\"\",VLOOKUP(B2816,[1]Desplegables!$BA$2:$BB$19,2,FALSE),\"\")","v":""},null,""]
[null,null,{"$f":"IF(B2817<>\"\",VLOOKUP(B2817,[1]Desplegables!$BA$2:$BB$19,2,FALSE),\"\")","v":""},null,""]
[null,null,{"$f":"IF(B2818<>\"\",VLOOKUP(B2818,[1]Desplegables!$BA$2:$BB$19,2,FALSE),\"\")","v":""},null,""]
[null,null,{"$f":"IF(B2819<>\"\",VLOOKUP(B2819,[1]Desplegables!$BA$2:$BB$19,2,FALSE),\"\")","v":""},null,""]
[null,null,{"$f":"IF(B2820<>\"\",VLOOKUP(B2820,[1]Desplegables!$BA$2:$BB$19,2,FALSE),\"\")","v":""},null,""]
[null,null,{"$f":"IF(B2821<>\"\",VLOOKUP(B2821,[1]Desplegables!$BA$2:$BB$19,2,FALSE),\"\")","v":""},null,{"$f":"IF(C2821<>\"\",D2821/C2821,\"\")","v":""}]
[null,null,{"$f":"IF(B2822<>\"\",VLOOKUP(B2822,[1]Desplegables!$BA$2:$BB$19,2,FALSE),\"\")","v":""},null,""]
[null,null,{"$f":"IF(B2823<>\"\",VLOOKUP(B2823,[1]Desplegables!$BA$2:$BB$19,2,FALSE),\"\")","v":""},null,""]
[null,null,{"$f":"IF(B2824<>\"\",VLOOKUP(B2824,[1]Desplegables!$BA$2:$BB$19,2,FALSE),\"\")","v":""},null,""]
[null,null,{"$f":"IF(B2825<>\"\",VLOOKUP(B2825,[1]Desplegables!$BA$2:$BB$19,2,FALSE),\"\")","v":""},null,""]
[null,null,{"$f":"IF(B2826<>\"\",VLOOKUP(B2826,[1]Desplegables!$BA$2:$BB$19,2,FALSE),\"\")","v":""},null,""]
[null,null,{"$f":"IF(B2827<>\"\",VLOOKUP(B2827,[1]Desplegables!$BA$2:$BB$19,2,FALSE),\"\")","v":""},null,""]
[null,null,{"$f":"IF(B2828<>\"\",VLOOKUP(B2828,[1]Desplegables!$BA$2:$BB$19,2,FALSE),\"\")","v":""},null,""]
[null,null,{"$f":"IF(B2829<>\"\",VLOOKUP(B2829,[1]Desplegables!$BA$2:$BB$19,2,FALSE),\"\")","v":""},null,""]
[null,null,{"$f":"IF(B2830<>\"\",VLOOKUP(B2830,[1]Desplegables!$BA$2:$BB$19,2,FALSE),\"\")","v":""},null,""]
[null,null,{"$f":"IF(B2831<>\"\",VLOOKUP(B2831,[1]Desplegables!$BA$2:$BB$19,2,FALSE),\"\")","v":""},null,""]
[null,null,{"$f":"IF(B2832<>\"\",VLOOKUP(B2832,[1]Desplegables!$BA$2:$BB$19,2,FALSE),\"\")","v":""},null,""]
[null,null,{"$f":"IF(B2833<>\"\",VLOOKUP(B2833,[1]Desplegables!$BA$2:$BB$19,2,FALSE),\"\")","v":""},null,""]
[null,null,{"$f":"IF(B2834<>\"\",VLOOKUP(B2834,[1]Desplegables!$BA$2:$BB$19,2,FALSE),\"\")","v":""},null,""]
[null,null,{"$f":"IF(B2835<>\"\",VLOOKUP(B2835,[1]Desplegables!$BA$2:$BB$19,2,FALSE),\"\")","v":""},null,""]
[null,null,{"$f":"IF(B2836<>\"\",VLOOKUP(B2836,[1]Desplegables!$BA$2:$BB$19,2,FALSE),\"\")","v":""},null,""]
[null,null,{"$f":"IF(B2837<>\"\",VLOOKUP(B2837,[1]Desplegables!$BA$2:$BB$19,2,FALSE),\"\")","v":""},null,""]
[null,null,{"$f":"IF(B2838<>\"\",VLOOKUP(B2838,[1]Desplegables!$BA$2:$BB$19,2,FALSE),\"\")","v":""},null,""]
[null,null,{"$f":"IF(B2839<>\"\",VLOOKUP(B2839,[1]Desplegables!$BA$2:$BB$19,2,FALSE),\"\")","v":""},null,""]
[null,null,{"$f":"IF(B2840<>\"\",VLOOKUP(B2840,[1]Desplegables!$BA$2:$BB$19,2,FALSE),\"\")","v":""},null,""]
[null,null,{"$f":"IF(B2841<>\"\",VLOOKUP(B2841,[1]Desplegables!$BA$2:$BB$19,2,FALSE),\"\")","v":""},null,""]
[null,null,{"$f":"IF(B2842<>\"\",VLOOKUP(B2842,[1]Desplegables!$BA$2:$BB$19,2,FALSE),\"\")","v":""},null,""]
[null,null,{"$f":"IF(B2843<>\"\",VLOOKUP(B2843,[1]Desplegables!$BA$2:$BB$19,2,FALSE),\"\")","v":""},null,""]
[null,null,{"$f":"IF(B2844<>\"\",VLOOKUP(B2844,[1]Desplegables!$BA$2:$BB$19,2,FALSE),\"\")","v":""},null,""]
[null,null,{"$f":"IF(B2845<>\"\",VLOOKUP(B2845,[1]Desplegables!$BA$2:$BB$19,2,FALSE),\"\")","v":""},null,""]
[null,null,{"$f":"IF(B2846<>\"\",VLOOKUP(B2846,[1]Desplegables!$BA$2:$BB$19,2,FALSE),\"\")","v":""},null,""]
[null,null,{"$f":"IF(B2847<>\"\",VLOOKUP(B2847,[1]Desplegables!$BA$2:$BB$19,2,FALSE),\"\")","v":""},null,""]
[null,null,{"$f":"IF(B2848<>\"\",VLOOKUP(B2848,[1]Desplegables!$BA$2:$BB$19,2,FALSE),\"\")","v":""},null,""]
[null,null,{"$f":"IF(B2849<>\"\",VLOOKUP(B2849,[1]Desplegables!$BA$2:$BB$19,2,FALSE),\"\")","v":""},null,""]
[null,null,{"$f":"IF(B2850<>\"\",VLOOKUP(B2850,[1]Desplegables!$BA$2:$BB$19,2,FALSE),\"\")","v":""},null,""]
[null,null,{"$f":"IF(B2851<>\"\",VLOOKUP(B2851,[1]Desplegables!$BA$2:$BB$19,2,FALSE),\"\")","v":""},null,""]
[null,null,{"$f":"IF(B2852<>\"\",VLOOKUP(B2852,[1]Desplegables!$BA$2:$BB$19,2,FALSE),\"\")","v":""},null,""]
[null,null,{"$f":"IF(B2853<>\"\",VLOOKUP(B2853,[1]Desplegables!$BA$2:$BB$19,2,FALSE),\"\")","v":""},null,""]
[null,null,{"$f":"IF(B2854<>\"\",VLOOKUP(B2854,[1]Desplegables!$BA$2:$BB$19,2,FALSE),\"\")","v":""},null,""]
[null,null,{"$f":"IF(B2855<>\"\",VLOOKUP(B2855,[1]Desplegables!$BA$2:$BB$19,2,FALSE),\"\")","v":""},null,""]
[null,null,{"$f":"IF(B2856<>\"\",VLOOKUP(B2856,[1]Desplegables!$BA$2:$BB$19,2,FALSE),\"\")","v":""},null,""]
[null,null,{"$f":"IF(B2857<>\"\",VLOOKUP(B2857,[1]Desplegables!$BA$2:$BB$19,2,FALSE),\"\")","v":""},null,""]
[null,null,{"$f":"IF(B2858<>\"\",VLOOKUP(B2858,[1]Desplegables!$BA$2:$BB$19,2,FALSE),\"\")","v":""},null,""]
[null,null,{"$f":"IF(B2859<>\"\",VLOOKUP(B2859,[1]Desplegables!$BA$2:$BB$19,2,FALSE),\"\")","v":""},null,""]
[null,null,{"$f":"IF(B2860<>\"\",VLOOKUP(B2860,[1]Desplegables!$BA$2:$BB$19,2,FALSE),\"\")","v":""},null,""]
[null,null,{"$f":"IF(B2861<>\"\",VLOOKUP(B2861,[1]Desplegables!$BA$2:$BB$19,2,FALSE),\"\")","v":""},null,""]
[null,null,{"$f":"IF(B2862<>\"\",VLOOKUP(B2862,[1]Desplegables!$BA$2:$BB$19,2,FALSE),\"\")","v":""},null,""]
[null,null,{"$f":"IF(B2863<>\"\",VLOOKUP(B2863,[1]Desplegables!$BA$2:$BB$19,2,FALSE),\"\")","v":""},null,""]
[null,null,{"$f":"IF(B2864<>\"\",VLOOKUP(B2864,[1]Desplegables!$BA$2:$BB$19,2,FALSE),\"\")","v":""},null,""]
[null,null,{"$f":"IF(B2865<>\"\",VLOOKUP(B2865,[1]Desplegables!$BA$2:$BB$19,2,FALSE),\"\")","v":""},null,""]
[null,null,{"$f":"IF(B2866<>\"\",VLOOKUP(B2866,[1]Desplegables!$BA$2:$BB$19,2,FALSE),\"\")","v":""},null,""]
[null,null,{"$f":"IF(B2867<>\"\",VLOOKUP(B2867,[1]Desplegables!$BA$2:$BB$19,2,FALSE),\"\")","v":""},null,""]
[null,null,{"$f":"IF(B2868<>\"\",VLOOKUP(B2868,[1]Desplegables!$BA$2:$BB$19,2,FALSE),\"\")","v":""},null,""]
[null,null,{"$f":"IF(B2869<>\"\",VLOOKUP(B2869,[1]Desplegables!$BA$2:$BB$19,2,FALSE),\"\")","v":""},null,""]
[null,null,{"$f":"IF(B2870<>\"\",VLOOKUP(B2870,[1]Desplegables!$BA$2:$BB$19,2,FALSE),\"\")","v":""},null,""]
[null,null,{"$f":"IF(B2871<>\"\",VLOOKUP(B2871,[1]Desplegables!$BA$2:$BB$19,2,FALSE),\"\")","v":""},null,""]
[null,null,{"$f":"IF(B2872<>\"\",VLOOKUP(B2872,[1]Desplegables!$BA$2:$BB$19,2,FALSE),\"\")","v":""},null,""]
[null,null,{"$f":"IF(B2873<>\"\",VLOOKUP(B2873,[1]Desplegables!$BA$2:$BB$19,2,FALSE),\"\")","v":""},null,""]
[null,null,{"$f":"IF(B2874<>\"\",VLOOKUP(B2874,[1]Desplegables!$BA$2:$BB$19,2,FALSE),\"\")","v":""},null,""]
[null,null,{"$f":"IF(B2875<>\"\",VLOOKUP(B2875,[1]Desplegables!$BA$2:$BB$19,2,FALSE),\"\")","v":""},null,""]
[null,null,{"$f":"IF(B2876<>\"\",VLOOKUP(B2876,[1]Desplegables!$BA$2:$BB$19,2,FALSE),\"\")","v":""},null,""]
[null,null,{"$f":"IF(B2877<>\"\",VLOOKUP(B2877,[1]Desplegables!$BA$2:$BB$19,2,FALSE),\"\")","v":""},null,""]
[null,null,{"$f":"IF(B2878<>\"\",VLOOKUP(B2878,[1]Desplegables!$BA$2:$BB$19,2,FALSE),\"\")","v":""},null,""]
[null,null,{"$f":"IF(B2879<>\"\",VLOOKUP(B2879,[1]Desplegables!$BA$2:$BB$19,2,FALSE),\"\")","v":""},null,""]
[null,null,{"$f":"IF(B2880<>\"\",VLOOKUP(B2880,[1]Desplegables!$BA$2:$BB$19,2,FALSE),\"\")","v":""},null,""]
[null,null,{"$f":"IF(B2881<>\"\",VLOOKUP(B2881,[1]Desplegables!$BA$2:$BB$19,2,FALSE),\"\")","v":""},null,""]
[null,null,{"$f":"IF(B2882<>\"\",VLOOKUP(B2882,[1]Desplegables!$BA$2:$BB$19,2,FALSE),\"\")","v":""},null,""]
[null,null,{"$f":"IF(B2883<>\"\",VLOOKUP(B2883,[1]Desplegables!$BA$2:$BB$19,2,FALSE),\"\")","v":""},null,""]
[null,null,{"$f":"IF(B2884<>\"\",VLOOKUP(B2884,[1]Desplegables!$BA$2:$BB$19,2,FALSE),\"\")","v":""},null,""]
[null,null,{"$f":"IF(B2885<>\"\",VLOOKUP(B2885,[1]Desplegables!$BA$2:$BB$19,2,FALSE),\"\")","v":""},null,{"$f":"IF(C2885<>\"\",D2885/C2885,\"\")","v":""}]
[null,null,{"$f":"IF(B2886<>\"\",VLOOKUP(B2886,[1]Desplegables!$BA$2:$BB$19,2,FALSE),\"\")","v":""},null,""]
[null,null,{"$f":"IF(B2887<>\"\",VLOOKUP(B2887,[1]Desplegables!$BA$2:$BB$19,2,FALSE),\"\")","v":""},null,""]
[null,null,{"$f":"IF(B2888<>\"\",VLOOKUP(B2888,[1]Desplegables!$BA$2:$BB$19,2,FALSE),\"\")","v":""},null,""]
[null,null,{"$f":"IF(B2889<>\"\",VLOOKUP(B2889,[1]Desplegables!$BA$2:$BB$19,2,FALSE),\"\")","v":""},null,""]
[null,null,{"$f":"IF(B2890<>\"\",VLOOKUP(B2890,[1]Desplegables!$BA$2:$BB$19,2,FALSE),\"\")","v":""},null,""]
[null,null,{"$f":"IF(B2891<>\"\",VLOOKUP(B2891,[1]Desplegables!$BA$2:$BB$19,2,FALSE),\"\")","v":""},null,""]
[null,null,{"$f":"IF(B2892<>\"\",VLOOKUP(B2892,[1]Desplegables!$BA$2:$BB$19,2,FALSE),\"\")","v":""},null,""]
[null,null,{"$f":"IF(B2893<>\"\",VLOOKUP(B2893,[1]Desplegables!$BA$2:$BB$19,2,FALSE),\"\")","v":""},null,""]
[null,null,{"$f":"IF(B2894<>\"\",VLOOKUP(B2894,[1]Desplegables!$BA$2:$BB$19,2,FALSE),\"\")","v":""},null,""]
[null,null,{"$f":"IF(B2895<>\"\",VLOOKUP(B2895,[1]Desplegables!$BA$2:$BB$19,2,FALSE),\"\")","v":""},null,""]
[null,null,{"$f":"IF(B2896<>\"\",VLOOKUP(B2896,[1]Desplegables!$BA$2:$BB$19,2,FALSE),\"\")","v":""},null,""]
[null,null,{"$f":"IF(B2897<>\"\",VLOOKUP(B2897,[1]Desplegables!$BA$2:$BB$19,2,FALSE),\"\")","v":""},null,""]
[null,null,{"$f":"IF(B2898<>\"\",VLOOKUP(B2898,[1]Desplegables!$BA$2:$BB$19,2,FALSE),\"\")","v":""},null,""]
[null,null,{"$f":"IF(B2899<>\"\",VLOOKUP(B2899,[1]Desplegables!$BA$2:$BB$19,2,FALSE),\"\")","v":""},null,""]
[null,null,{"$f":"IF(B2900<>\"\",VLOOKUP(B2900,[1]Desplegables!$BA$2:$BB$19,2,FALSE),\"\")","v":""},null,""]
[null,null,{"$f":"IF(B2901<>\"\",VLOOKUP(B2901,[1]Desplegables!$BA$2:$BB$19,2,FALSE),\"\")","v":""},null,""]
[null,null,{"$f":"IF(B2902<>\"\",VLOOKUP(B2902,[1]Desplegables!$BA$2:$BB$19,2,FALSE),\"\")","v":""},null,""]
[null,null,{"$f":"IF(B2903<>\"\",VLOOKUP(B2903,[1]Desplegables!$BA$2:$BB$19,2,FALSE),\"\")","v":""},null,""]
[null,null,{"$f":"IF(B2904<>\"\",VLOOKUP(B2904,[1]Desplegables!$BA$2:$BB$19,2,FALSE),\"\")","v":""},null,""]
[null,null,{"$f":"IF(B2905<>\"\",VLOOKUP(B2905,[1]Desplegables!$BA$2:$BB$19,2,FALSE),\"\")","v":""},null,""]
[null,null,{"$f":"IF(B2906<>\"\",VLOOKUP(B2906,[1]Desplegables!$BA$2:$BB$19,2,FALSE),\"\")","v":""},null,""]
[null,null,{"$f":"IF(B2907<>\"\",VLOOKUP(B2907,[1]Desplegables!$BA$2:$BB$19,2,FALSE),\"\")","v":""},null,""]
[null,null,{"$f":"IF(B2908<>\"\",VLOOKUP(B2908,[1]Desplegables!$BA$2:$BB$19,2,FALSE),\"\")","v":""},null,""]
[null,null,{"$f":"IF(B2909<>\"\",VLOOKUP(B2909,[1]Desplegables!$BA$2:$BB$19,2,FALSE),\"\")","v":""},null,""]
[null,null,{"$f":"IF(B2910<>\"\",VLOOKUP(B2910,[1]Desplegables!$BA$2:$BB$19,2,FALSE),\"\")","v":""},null,""]
[null,null,{"$f":"IF(B2911<>\"\",VLOOKUP(B2911,[1]Desplegables!$BA$2:$BB$19,2,FALSE),\"\")","v":""},null,""]
[null,null,{"$f":"IF(B2912<>\"\",VLOOKUP(B2912,[1]Desplegables!$BA$2:$BB$19,2,FALSE),\"\")","v":""},null,""]
[null,null,{"$f":"IF(B2913<>\"\",VLOOKUP(B2913,[1]Desplegables!$BA$2:$BB$19,2,FALSE),\"\")","v":""},null,""]
[null,null,{"$f":"IF(B2914<>\"\",VLOOKUP(B2914,[1]Desplegables!$BA$2:$BB$19,2,FALSE),\"\")","v":""},null,""]
[null,null,{"$f":"IF(B2915<>\"\",VLOOKUP(B2915,[1]Desplegables!$BA$2:$BB$19,2,FALSE),\"\")","v":""},null,""]
[null,null,{"$f":"IF(B2916<>\"\",VLOOKUP(B2916,[1]Desplegables!$BA$2:$BB$19,2,FALSE),\"\")","v":""},null,""]
[null,null,{"$f":"IF(B2917<>\"\",VLOOKUP(B2917,[1]Desplegables!$BA$2:$BB$19,2,FALSE),\"\")","v":""},null,""]
[null,null,{"$f":"IF(B2918<>\"\",VLOOKUP(B2918,[1]Desplegables!$BA$2:$BB$19,2,FALSE),\"\")","v":""},null,""]
[null,null,{"$f":"IF(B2919<>\"\",VLOOKUP(B2919,[1]Desplegables!$BA$2:$BB$19,2,FALSE),\"\")","v":""},null,""]
[null,null,{"$f":"IF(B2920<>\"\",VLOOKUP(B2920,[1]Desplegables!$BA$2:$BB$19,2,FALSE),\"\")","v":""},null,""]
[null,null,{"$f":"IF(B2921<>\"\",VLOOKUP(B2921,[1]Desplegables!$BA$2:$BB$19,2,FALSE),\"\")","v":""},null,""]
[null,null,{"$f":"IF(B2922<>\"\",VLOOKUP(B2922,[1]Desplegables!$BA$2:$BB$19,2,FALSE),\"\")","v":""},null,""]
[null,null,{"$f":"IF(B2923<>\"\",VLOOKUP(B2923,[1]Desplegables!$BA$2:$BB$19,2,FALSE),\"\")","v":""},null,""]
[null,null,{"$f":"IF(B2924<>\"\",VLOOKUP(B2924,[1]Desplegables!$BA$2:$BB$19,2,FALSE),\"\")","v":""},null,""]
[null,null,{"$f":"IF(B2925<>\"\",VLOOKUP(B2925,[1]Desplegables!$BA$2:$BB$19,2,FALSE),\"\")","v":""},null,""]
[null,null,{"$f":"IF(B2926<>\"\",VLOOKUP(B2926,[1]Desplegables!$BA$2:$BB$19,2,FALSE),\"\")","v":""},null,""]
[null,null,{"$f":"IF(B2927<>\"\",VLOOKUP(B2927,[1]Desplegables!$BA$2:$BB$19,2,FALSE),\"\")","v":""},null,""]
[null,null,{"$f":"IF(B2928<>\"\",VLOOKUP(B2928,[1]Desplegables!$BA$2:$BB$19,2,FALSE),\"\")","v":""},null,""]
[null,null,{"$f":"IF(B2929<>\"\",VLOOKUP(B2929,[1]Desplegables!$BA$2:$BB$19,2,FALSE),\"\")","v":""},null,""]
[null,null,{"$f":"IF(B2930<>\"\",VLOOKUP(B2930,[1]Desplegables!$BA$2:$BB$19,2,FALSE),\"\")","v":""},null,""]
[null,null,{"$f":"IF(B2931<>\"\",VLOOKUP(B2931,[1]Desplegables!$BA$2:$BB$19,2,FALSE),\"\")","v":""},null,""]
[null,null,{"$f":"IF(B2932<>\"\",VLOOKUP(B2932,[1]Desplegables!$BA$2:$BB$19,2,FALSE),\"\")","v":""},null,""]
[null,null,{"$f":"IF(B2933<>\"\",VLOOKUP(B2933,[1]Desplegables!$BA$2:$BB$19,2,FALSE),\"\")","v":""},null,""]
[null,null,{"$f":"IF(B2934<>\"\",VLOOKUP(B2934,[1]Desplegables!$BA$2:$BB$19,2,FALSE),\"\")","v":""},null,""]
[null,null,{"$f":"IF(B2935<>\"\",VLOOKUP(B2935,[1]Desplegables!$BA$2:$BB$19,2,FALSE),\"\")","v":""},null,""]
[null,null,{"$f":"IF(B2936<>\"\",VLOOKUP(B2936,[1]Desplegables!$BA$2:$BB$19,2,FALSE),\"\")","v":""},null,""]
[null,null,{"$f":"IF(B2937<>\"\",VLOOKUP(B2937,[1]Desplegables!$BA$2:$BB$19,2,FALSE),\"\")","v":""},null,""]
[null,null,{"$f":"IF(B2938<>\"\",VLOOKUP(B2938,[1]Desplegables!$BA$2:$BB$19,2,FALSE),\"\")","v":""},null,""]
[null,null,{"$f":"IF(B2939<>\"\",VLOOKUP(B2939,[1]Desplegables!$BA$2:$BB$19,2,FALSE),\"\")","v":""},null,""]
[null,null,{"$f":"IF(B2940<>\"\",VLOOKUP(B2940,[1]Desplegables!$BA$2:$BB$19,2,FALSE),\"\")","v":""},null,""]
[null,null,{"$f":"IF(B2941<>\"\",VLOOKUP(B2941,[1]Desplegables!$BA$2:$BB$19,2,FALSE),\"\")","v":""},null,""]
[null,null,{"$f":"IF(B2942<>\"\",VLOOKUP(B2942,[1]Desplegables!$BA$2:$BB$19,2,FALSE),\"\")","v":""},null,""]
[null,null,{"$f":"IF(B2943<>\"\",VLOOKUP(B2943,[1]Desplegables!$BA$2:$BB$19,2,FALSE),\"\")","v":""},null,""]
[null,null,{"$f":"IF(B2944<>\"\",VLOOKUP(B2944,[1]Desplegables!$BA$2:$BB$19,2,FALSE),\"\")","v":""},null,""]
[null,null,{"$f":"IF(B2945<>\"\",VLOOKUP(B2945,[1]Desplegables!$BA$2:$BB$19,2,FALSE),\"\")","v":""},null,""]
[null,null,{"$f":"IF(B2946<>\"\",VLOOKUP(B2946,[1]Desplegables!$BA$2:$BB$19,2,FALSE),\"\")","v":""},null,""]
[null,null,{"$f":"IF(B2947<>\"\",VLOOKUP(B2947,[1]Desplegables!$BA$2:$BB$19,2,FALSE),\"\")","v":""},null,""]
[null,null,{"$f":"IF(B2948<>\"\",VLOOKUP(B2948,[1]Desplegables!$BA$2:$BB$19,2,FALSE),\"\")","v":""},null,""]
[null,null,{"$f":"IF(B2949<>\"\",VLOOKUP(B2949,[1]Desplegables!$BA$2:$BB$19,2,FALSE),\"\")","v":""},null,{"$f":"IF(C2949<>\"\",D2949/C2949,\"\")","v":""}]
[null,null,{"$f":"IF(B2950<>\"\",VLOOKUP(B2950,[1]Desplegables!$BA$2:$BB$19,2,FALSE),\"\")","v":""},null,""]
[null,null,{"$f":"IF(B2951<>\"\",VLOOKUP(B2951,[1]Desplegables!$BA$2:$BB$19,2,FALSE),\"\")","v":""},null,""]
[null,null,{"$f":"IF(B2952<>\"\",VLOOKUP(B2952,[1]Desplegables!$BA$2:$BB$19,2,FALSE),\"\")","v":""},null,""]
[null,null,{"$f":"IF(B2953<>\"\",VLOOKUP(B2953,[1]Desplegables!$BA$2:$BB$19,2,FALSE),\"\")","v":""},null,""]
[null,null,{"$f":"IF(B2954<>\"\",VLOOKUP(B2954,[1]Desplegables!$BA$2:$BB$19,2,FALSE),\"\")","v":""},null,""]
[null,null,{"$f":"IF(B2955<>\"\",VLOOKUP(B2955,[1]Desplegables!$BA$2:$BB$19,2,FALSE),\"\")","v":""},null,""]
[null,null,{"$f":"IF(B2956<>\"\",VLOOKUP(B2956,[1]Desplegables!$BA$2:$BB$19,2,FALSE),\"\")","v":""},null,""]
[null,null,{"$f":"IF(B2957<>\"\",VLOOKUP(B2957,[1]Desplegables!$BA$2:$BB$19,2,FALSE),\"\")","v":""},null,""]
[null,null,{"$f":"IF(B2958<>\"\",VLOOKUP(B2958,[1]Desplegables!$BA$2:$BB$19,2,FALSE),\"\")","v":""},null,""]
[null,null,{"$f":"IF(B2959<>\"\",VLOOKUP(B2959,[1]Desplegables!$BA$2:$BB$19,2,FALSE),\"\")","v":""},null,""]
[null,null,{"$f":"IF(B2960<>\"\",VLOOKUP(B2960,[1]Desplegables!$BA$2:$BB$19,2,FALSE),\"\")","v":""},null,""]
[null,null,{"$f":"IF(B2961<>\"\",VLOOKUP(B2961,[1]Desplegables!$BA$2:$BB$19,2,FALSE),\"\")","v":""},null,""]
[null,null,{"$f":"IF(B2962<>\"\",VLOOKUP(B2962,[1]Desplegables!$BA$2:$BB$19,2,FALSE),\"\")","v":""},null,""]
[null,null,{"$f":"IF(B2963<>\"\",VLOOKUP(B2963,[1]Desplegables!$BA$2:$BB$19,2,FALSE),\"\")","v":""},null,""]
[null,null,{"$f":"IF(B2964<>\"\",VLOOKUP(B2964,[1]Desplegables!$BA$2:$BB$19,2,FALSE),\"\")","v":""},null,""]
[null,null,{"$f":"IF(B2965<>\"\",VLOOKUP(B2965,[1]Desplegables!$BA$2:$BB$19,2,FALSE),\"\")","v":""},null,""]
[null,null,{"$f":"IF(B2966<>\"\",VLOOKUP(B2966,[1]Desplegables!$BA$2:$BB$19,2,FALSE),\"\")","v":""},null,""]
[null,null,{"$f":"IF(B2967<>\"\",VLOOKUP(B2967,[1]Desplegables!$BA$2:$BB$19,2,FALSE),\"\")","v":""},null,""]
[null,null,{"$f":"IF(B2968<>\"\",VLOOKUP(B2968,[1]Desplegables!$BA$2:$BB$19,2,FALSE),\"\")","v":""},null,""]
[null,null,{"$f":"IF(B2969<>\"\",VLOOKUP(B2969,[1]Desplegables!$BA$2:$BB$19,2,FALSE),\"\")","v":""},null,""]
[null,null,{"$f":"IF(B2970<>\"\",VLOOKUP(B2970,[1]Desplegables!$BA$2:$BB$19,2,FALSE),\"\")","v":""},null,""]
[null,null,{"$f":"IF(B2971<>\"\",VLOOKUP(B2971,[1]Desplegables!$BA$2:$BB$19,2,FALSE),\"\")","v":""},null,""]
[null,null,{"$f":"IF(B2972<>\"\",VLOOKUP(B2972,[1]Desplegables!$BA$2:$BB$19,2,FALSE),\"\")","v":""},null,""]
[null,null,{"$f":"IF(B2973<>\"\",VLOOKUP(B2973,[1]Desplegables!$BA$2:$BB$19,2,FALSE),\"\")","v":""},null,""]
[null,null,{"$f":"IF(B2974<>\"\",VLOOKUP(B2974,[1]Desplegables!$BA$2:$BB$19,2,FALSE),\"\")","v":""},null,""]
[null,null,{"$f":"IF(B2975<>\"\",VLOOKUP(B2975,[1]Desplegables!$BA$2:$BB$19,2,FALSE),\"\")","v":""},null,""]
[null,null,{"$f":"IF(B2976<>\"\",VLOOKUP(B2976,[1]Desplegables!$BA$2:$BB$19,2,FALSE),\"\")","v":""},null,""]
[null,null,{"$f":"IF(B2977<>\"\",VLOOKUP(B2977,[1]Desplegables!$BA$2:$BB$19,2,FALSE),\"\")","v":""},null,""]
[null,null,{"$f":"IF(B2978<>\"\",VLOOKUP(B2978,[1]Desplegables!$BA$2:$BB$19,2,FALSE),\"\")","v":""},null,""]
[null,null,{"$f":"IF(B2979<>\"\",VLOOKUP(B2979,[1]Desplegables!$BA$2:$BB$19,2,FALSE),\"\")","v":""},null,""]
[null,null,{"$f":"IF(B2980<>\"\",VLOOKUP(B2980,[1]Desplegables!$BA$2:$BB$19,2,FALSE),\"\")","v":""},null,""]
[null,null,{"$f":"IF(B2981<>\"\",VLOOKUP(B2981,[1]Desplegables!$BA$2:$BB$19,2,FALSE),\"\")","v":""},null,""]
[null,null,{"$f":"IF(B2982<>\"\",VLOOKUP(B2982,[1]Desplegables!$BA$2:$BB$19,2,FALSE),\"\")","v":""},null,""]
[null,null,{"$f":"IF(B2983<>\"\",VLOOKUP(B2983,[1]Desplegables!$BA$2:$BB$19,2,FALSE),\"\")","v":""},null,""]
[null,null,{"$f":"IF(B2984<>\"\",VLOOKUP(B2984,[1]Desplegables!$BA$2:$BB$19,2,FALSE),\"\")","v":""},null,""]
[null,null,{"$f":"IF(B2985<>\"\",VLOOKUP(B2985,[1]Desplegables!$BA$2:$BB$19,2,FALSE),\"\")","v":""},null,""]
[null,null,{"$f":"IF(B2986<>\"\",VLOOKUP(B2986,[1]Desplegables!$BA$2:$BB$19,2,FALSE),\"\")","v":""},null,""]
[null,null,{"$f":"IF(B2987<>\"\",VLOOKUP(B2987,[1]Desplegables!$BA$2:$BB$19,2,FALSE),\"\")","v":""},null,""]
[null,null,{"$f":"IF(B2988<>\"\",VLOOKUP(B2988,[1]Desplegables!$BA$2:$BB$19,2,FALSE),\"\")","v":""},null,""]
[null,null,{"$f":"IF(B2989<>\"\",VLOOKUP(B2989,[1]Desplegables!$BA$2:$BB$19,2,FALSE),\"\")","v":""},null,""]
[null,null,{"$f":"IF(B2990<>\"\",VLOOKUP(B2990,[1]Desplegables!$BA$2:$BB$19,2,FALSE),\"\")","v":""},null,""]
[null,null,{"$f":"IF(B2991<>\"\",VLOOKUP(B2991,[1]Desplegables!$BA$2:$BB$19,2,FALSE),\"\")","v":""},null,""]
[null,null,{"$f":"IF(B2992<>\"\",VLOOKUP(B2992,[1]Desplegables!$BA$2:$BB$19,2,FALSE),\"\")","v":""},null,""]
[null,null,{"$f":"IF(B2993<>\"\",VLOOKUP(B2993,[1]Desplegables!$BA$2:$BB$19,2,FALSE),\"\")","v":""},null,""]
[null,null,{"$f":"IF(B2994<>\"\",VLOOKUP(B2994,[1]Desplegables!$BA$2:$BB$19,2,FALSE),\"\")","v":""},null,""]
[null,null,{"$f":"IF(B2995<>\"\",VLOOKUP(B2995,[1]Desplegables!$BA$2:$BB$19,2,FALSE),\"\")","v":""},null,""]
[null,null,{"$f":"IF(B2996<>\"\",VLOOKUP(B2996,[1]Desplegables!$BA$2:$BB$19,2,FALSE),\"\")","v":""},null,""]
[null,null,{"$f":"IF(B2997<>\"\",VLOOKUP(B2997,[1]Desplegables!$BA$2:$BB$19,2,FALSE),\"\")","v":""},null,""]
[null,null,{"$f":"IF(B2998<>\"\",VLOOKUP(B2998,[1]Desplegables!$BA$2:$BB$19,2,FALSE),\"\")","v":""},null,""]
[null,null,{"$f":"IF(B2999<>\"\",VLOOKUP(B2999,[1]Desplegables!$BA$2:$BB$19,2,FALSE),\"\")","v":""},null,""]
[null,null,{"$f":"IF(B3000<>\"\",VLOOKUP(B3000,[1]Desplegables!$BA$2:$BB$19,2,FALSE),\"\")","v":""},null,""]
[null,null,{"$f":"IF(B3001<>\"\",VLOOKUP(B3001,[1]Desplegables!$BA$2:$BB$19,2,FALSE),\"\")","v":""},null,""]
[null,null,{"$f":"IF(B3002<>\"\",VLOOKUP(B3002,[1]Desplegables!$BA$2:$BB$19,2,FALSE),\"\")","v":""},null,""]
[null,null,{"$f":"IF(B3003<>\"\",VLOOKUP(B3003,[1]Desplegables!$BA$2:$BB$19,2,FALSE),\"\")","v":""},null,""]
[null,null,{"$f":"IF(B3004<>\"\",VLOOKUP(B3004,[1]Desplegables!$BA$2:$BB$19,2,FALSE),\"\")","v":""},null,""]
[null,null,{"$f":"IF(B3005<>\"\",VLOOKUP(B3005,[1]Desplegables!$BA$2:$BB$19,2,FALSE),\"\")","v":""},null,""]
[null,null,{"$f":"IF(B3006<>\"\",VLOOKUP(B3006,[1]Desplegables!$BA$2:$BB$19,2,FALSE),\"\")","v":""},null,""]
[null,null,{"$f":"IF(B3007<>\"\",VLOOKUP(B3007,[1]Desplegables!$BA$2:$BB$19,2,FALSE),\"\")","v":""},null,""]
[null,null,{"$f":"IF(B3008<>\"\",VLOOKUP(B3008,[1]Desplegables!$BA$2:$BB$19,2,FALSE),\"\")","v":""},null,""]
[null,null,{"$f":"IF(B3009<>\"\",VLOOKUP(B3009,[1]Desplegables!$BA$2:$BB$19,2,FALSE),\"\")","v":""},null,""]
[null,null,{"$f":"IF(B3010<>\"\",VLOOKUP(B3010,[1]Desplegables!$BA$2:$BB$19,2,FALSE),\"\")","v":""},null,""]
[null,null,{"$f":"IF(B3011<>\"\",VLOOKUP(B3011,[1]Desplegables!$BA$2:$BB$19,2,FALSE),\"\")","v":""},null,""]
[null,null,{"$f":"IF(B3012<>\"\",VLOOKUP(B3012,[1]Desplegables!$BA$2:$BB$19,2,FALSE),\"\")","v":""},null,""]
[null,null,{"$f":"IF(B3013<>\"\",VLOOKUP(B3013,[1]Desplegables!$BA$2:$BB$19,2,FALSE),\"\")","v":""},null,{"$f":"IF(C3013<>\"\",D3013/C3013,\"\")","v":""}]
[null,null,{"$f":"IF(B3014<>\"\",VLOOKUP(B3014,[1]Desplegables!$BA$2:$BB$19,2,FALSE),\"\")","v":""},null,""]
[null,null,{"$f":"IF(B3015<>\"\",VLOOKUP(B3015,[1]Desplegables!$BA$2:$BB$19,2,FALSE),\"\")","v":""},null,""]
[null,null,{"$f":"IF(B3016<>\"\",VLOOKUP(B3016,[1]Desplegables!$BA$2:$BB$19,2,FALSE),\"\")","v":""},null,""]
[null,null,{"$f":"IF(B3017<>\"\",VLOOKUP(B3017,[1]Desplegables!$BA$2:$BB$19,2,FALSE),\"\")","v":""},null,""]
[null,null,{"$f":"IF(B3018<>\"\",VLOOKUP(B3018,[1]Desplegables!$BA$2:$BB$19,2,FALSE),\"\")","v":""},null,""]
[null,null,{"$f":"IF(B3019<>\"\",VLOOKUP(B3019,[1]Desplegables!$BA$2:$BB$19,2,FALSE),\"\")","v":""},null,""]
[null,null,{"$f":"IF(B3020<>\"\",VLOOKUP(B3020,[1]Desplegables!$BA$2:$BB$19,2,FALSE),\"\")","v":""},null,""]
[null,null,{"$f":"IF(B3021<>\"\",VLOOKUP(B3021,[1]Desplegables!$BA$2:$BB$19,2,FALSE),\"\")","v":""},null,""]
[null,null,{"$f":"IF(B3022<>\"\",VLOOKUP(B3022,[1]Desplegables!$BA$2:$BB$19,2,FALSE),\"\")","v":""},null,""]
[null,null,{"$f":"IF(B3023<>\"\",VLOOKUP(B3023,[1]Desplegables!$BA$2:$BB$19,2,FALSE),\"\")","v":""},null,""]
[null,null,{"$f":"IF(B3024<>\"\",VLOOKUP(B3024,[1]Desplegables!$BA$2:$BB$19,2,FALSE),\"\")","v":""},null,""]
[null,null,{"$f":"IF(B3025<>\"\",VLOOKUP(B3025,[1]Desplegables!$BA$2:$BB$19,2,FALSE),\"\")","v":""},null,""]
[null,null,{"$f":"IF(B3026<>\"\",VLOOKUP(B3026,[1]Desplegables!$BA$2:$BB$19,2,FALSE),\"\")","v":""},null,""]
[null,null,{"$f":"IF(B3027<>\"\",VLOOKUP(B3027,[1]Desplegables!$BA$2:$BB$19,2,FALSE),\"\")","v":""},null,""]
[null,null,{"$f":"IF(B3028<>\"\",VLOOKUP(B3028,[1]Desplegables!$BA$2:$BB$19,2,FALSE),\"\")","v":""},null,""]
[null,null,{"$f":"IF(B3029<>\"\",VLOOKUP(B3029,[1]Desplegables!$BA$2:$BB$19,2,FALSE),\"\")","v":""},null,""]
[null,null,{"$f":"IF(B3030<>\"\",VLOOKUP(B3030,[1]Desplegables!$BA$2:$BB$19,2,FALSE),\"\")","v":""},null,""]
[null,null,{"$f":"IF(B3031<>\"\",VLOOKUP(B3031,[1]Desplegables!$BA$2:$BB$19,2,FALSE),\"\")","v":""},null,""]
[null,null,{"$f":"IF(B3032<>\"\",VLOOKUP(B3032,[1]Desplegables!$BA$2:$BB$19,2,FALSE),\"\")","v":""},null,""]
[null,null,{"$f":"IF(B3033<>\"\",VLOOKUP(B3033,[1]Desplegables!$BA$2:$BB$19,2,FALSE),\"\")","v":""},null,""]
[null,null,{"$f":"IF(B3034<>\"\",VLOOKUP(B3034,[1]Desplegables!$BA$2:$BB$19,2,FALSE),\"\")","v":""},null,""]
[null,null,{"$f":"IF(B3035<>\"\",VLOOKUP(B3035,[1]Desplegables!$BA$2:$BB$19,2,FALSE),\"\")","v":""},null,""]
[null,null,{"$f":"IF(B3036<>\"\",VLOOKUP(B3036,[1]Desplegables!$BA$2:$BB$19,2,FALSE),\"\")","v":""},null,""]
[null,null,{"$f":"IF(B3037<>\"\",VLOOKUP(B3037,[1]Desplegables!$BA$2:$BB$19,2,FALSE),\"\")","v":""},null,""]
[null,null,{"$f":"IF(B3038<>\"\",VLOOKUP(B3038,[1]Desplegables!$BA$2:$BB$19,2,FALSE),\"\")","v":""},null,""]
[null,null,{"$f":"IF(B3039<>\"\",VLOOKUP(B3039,[1]Desplegables!$BA$2:$BB$19,2,FALSE),\"\")","v":""},null,""]
[null,null,{"$f":"IF(B3040<>\"\",VLOOKUP(B3040,[1]Desplegables!$BA$2:$BB$19,2,FALSE),\"\")","v":""},null,""]
[null,null,{"$f":"IF(B3041<>\"\",VLOOKUP(B3041,[1]Desplegables!$BA$2:$BB$19,2,FALSE),\"\")","v":""},null,""]
[null,null,{"$f":"IF(B3042<>\"\",VLOOKUP(B3042,[1]Desplegables!$BA$2:$BB$19,2,FALSE),\"\")","v":""},null,""]
[null,null,{"$f":"IF(B3043<>\"\",VLOOKUP(B3043,[1]Desplegables!$BA$2:$BB$19,2,FALSE),\"\")","v":""},null,""]
[null,null,{"$f":"IF(B3044<>\"\",VLOOKUP(B3044,[1]Desplegables!$BA$2:$BB$19,2,FALSE),\"\")","v":""},null,""]
[null,null,{"$f":"IF(B3045<>\"\",VLOOKUP(B3045,[1]Desplegables!$BA$2:$BB$19,2,FALSE),\"\")","v":""},null,""]
[null,null,{"$f":"IF(B3046<>\"\",VLOOKUP(B3046,[1]Desplegables!$BA$2:$BB$19,2,FALSE),\"\")","v":""},null,""]
[null,null,{"$f":"IF(B3047<>\"\",VLOOKUP(B3047,[1]Desplegables!$BA$2:$BB$19,2,FALSE),\"\")","v":""},null,""]
[null,null,{"$f":"IF(B3048<>\"\",VLOOKUP(B3048,[1]Desplegables!$BA$2:$BB$19,2,FALSE),\"\")","v":""},null,""]
[null,null,{"$f":"IF(B3049<>\"\",VLOOKUP(B3049,[1]Desplegables!$BA$2:$BB$19,2,FALSE),\"\")","v":""},null,""]
[null,null,{"$f":"IF(B3050<>\"\",VLOOKUP(B3050,[1]Desplegables!$BA$2:$BB$19,2,FALSE),\"\")","v":""},null,""]
[null,null,{"$f":"IF(B3051<>\"\",VLOOKUP(B3051,[1]Desplegables!$BA$2:$BB$19,2,FALSE),\"\")","v":""},null,""]
[null,null,{"$f":"IF(B3052<>\"\",VLOOKUP(B3052,[1]Desplegables!$BA$2:$BB$19,2,FALSE),\"\")","v":""},null,""]
[null,null,{"$f":"IF(B3053<>\"\",VLOOKUP(B3053,[1]Desplegables!$BA$2:$BB$19,2,FALSE),\"\")","v":""},null,""]
[null,null,{"$f":"IF(B3054<>\"\",VLOOKUP(B3054,[1]Desplegables!$BA$2:$BB$19,2,FALSE),\"\")","v":""},null,""]
[null,null,{"$f":"IF(B3055<>\"\",VLOOKUP(B3055,[1]Desplegables!$BA$2:$BB$19,2,FALSE),\"\")","v":""},null,""]
[null,null,{"$f":"IF(B3056<>\"\",VLOOKUP(B3056,[1]Desplegables!$BA$2:$BB$19,2,FALSE),\"\")","v":""},null,""]
[null,null,{"$f":"IF(B3057<>\"\",VLOOKUP(B3057,[1]Desplegables!$BA$2:$BB$19,2,FALSE),\"\")","v":""},null,""]
[null,null,{"$f":"IF(B3058<>\"\",VLOOKUP(B3058,[1]Desplegables!$BA$2:$BB$19,2,FALSE),\"\")","v":""},null,""]
[null,null,{"$f":"IF(B3059<>\"\",VLOOKUP(B3059,[1]Desplegables!$BA$2:$BB$19,2,FALSE),\"\")","v":""},null,""]
[null,null,{"$f":"IF(B3060<>\"\",VLOOKUP(B3060,[1]Desplegables!$BA$2:$BB$19,2,FALSE),\"\")","v":""},null,""]
[null,null,{"$f":"IF(B3061<>\"\",VLOOKUP(B3061,[1]Desplegables!$BA$2:$BB$19,2,FALSE),\"\")","v":""},null,""]
[null,null,{"$f":"IF(B3062<>\"\",VLOOKUP(B3062,[1]Desplegables!$BA$2:$BB$19,2,FALSE),\"\")","v":""},null,""]
[null,null,{"$f":"IF(B3063<>\"\",VLOOKUP(B3063,[1]Desplegables!$BA$2:$BB$19,2,FALSE),\"\")","v":""},null,""]
[null,null,{"$f":"IF(B3064<>\"\",VLOOKUP(B3064,[1]Desplegables!$BA$2:$BB$19,2,FALSE),\"\")","v":""},null,""]
[null,null,{"$f":"IF(B3065<>\"\",VLOOKUP(B3065,[1]Desplegables!$BA$2:$BB$19,2,FALSE),\"\")","v":""},null,""]
[null,null,{"$f":"IF(B3066<>\"\",VLOOKUP(B3066,[1]Desplegables!$BA$2:$BB$19,2,FALSE),\"\")","v":""},null,""]
[null,null,{"$f":"IF(B3067<>\"\",VLOOKUP(B3067,[1]Desplegables!$BA$2:$BB$19,2,FALSE),\"\")","v":""},null,""]
[null,null,{"$f":"IF(B3068<>\"\",VLOOKUP(B3068,[1]Desplegables!$BA$2:$BB$19,2,FALSE),\"\")","v":""},null,""]
[null,null,{"$f":"IF(B3069<>\"\",VLOOKUP(B3069,[1]Desplegables!$BA$2:$BB$19,2,FALSE),\"\")","v":""},null,""]
[null,null,{"$f":"IF(B3070<>\"\",VLOOKUP(B3070,[1]Desplegables!$BA$2:$BB$19,2,FALSE),\"\")","v":""},null,""]
[null,null,{"$f":"IF(B3071<>\"\",VLOOKUP(B3071,[1]Desplegables!$BA$2:$BB$19,2,FALSE),\"\")","v":""},null,""]
[null,null,{"$f":"IF(B3072<>\"\",VLOOKUP(B3072,[1]Desplegables!$BA$2:$BB$19,2,FALSE),\"\")","v":""},null,""]
[null,null,{"$f":"IF(B3073<>\"\",VLOOKUP(B3073,[1]Desplegables!$BA$2:$BB$19,2,FALSE),\"\")","v":""},null,""]
[null,null,{"$f":"IF(B3074<>\"\",VLOOKUP(B3074,[1]Desplegables!$BA$2:$BB$19,2,FALSE),\"\")","v":""},null,""]
[null,null,{"$f":"IF(B3075<>\"\",VLOOKUP(B3075,[1]Desplegables!$BA$2:$BB$19,2,FALSE),\"\")","v":""},null,""]
[null,null,{"$f":"IF(B3076<>\"\",VLOOKUP(B3076,[1]Desplegables!$BA$2:$BB$19,2,FALSE),\"\")","v":""},null,""]
[null,null,{"$f":"IF(B3077<>\"\",VLOOKUP(B3077,[1]Desplegables!$BA$2:$BB$19,2,FALSE),\"\")","v":""},null,{"$f":"IF(C3077<>\"\",D3077/C3077,\"\")","v":""}]
[null,null,{"$f":"IF(B3078<>\"\",VLOOKUP(B3078,[1]Desplegables!$BA$2:$BB$19,2,FALSE),\"\")","v":""},null,""]
[null,null,{"$f":"IF(B3079<>\"\",VLOOKUP(B3079,[1]Desplegables!$BA$2:$BB$19,2,FALSE),\"\")","v":""},null,""]
[null,null,{"$f":"IF(B3080<>\"\",VLOOKUP(B3080,[1]Desplegables!$BA$2:$BB$19,2,FALSE),\"\")","v":""},null,""]
[null,null,{"$f":"IF(B3081<>\"\",VLOOKUP(B3081,[1]Desplegables!$BA$2:$BB$19,2,FALSE),\"\")","v":""},null,""]
[null,null,{"$f":"IF(B3082<>\"\",VLOOKUP(B3082,[1]Desplegables!$BA$2:$BB$19,2,FALSE),\"\")","v":""},null,""]
[null,null,{"$f":"IF(B3083<>\"\",VLOOKUP(B3083,[1]Desplegables!$BA$2:$BB$19,2,FALSE),\"\")","v":""},null,""]
[null,null,{"$f":"IF(B3084<>\"\",VLOOKUP(B3084,[1]Desplegables!$BA$2:$BB$19,2,FALSE),\"\")","v":""},null,""]
[null,null,{"$f":"IF(B3085<>\"\",VLOOKUP(B3085,[1]Desplegables!$BA$2:$BB$19,2,FALSE),\"\")","v":""},null,""]
[null,null,{"$f":"IF(B3086<>\"\",VLOOKUP(B3086,[1]Desplegables!$BA$2:$BB$19,2,FALSE),\"\")","v":""},null,""]
[null,null,{"$f":"IF(B3087<>\"\",VLOOKUP(B3087,[1]Desplegables!$BA$2:$BB$19,2,FALSE),\"\")","v":""},null,""]
[null,null,{"$f":"IF(B3088<>\"\",VLOOKUP(B3088,[1]Desplegables!$BA$2:$BB$19,2,FALSE),\"\")","v":""},null,""]
[null,null,{"$f":"IF(B3089<>\"\",VLOOKUP(B3089,[1]Desplegables!$BA$2:$BB$19,2,FALSE),\"\")","v":""},null,""]
[null,null,{"$f":"IF(B3090<>\"\",VLOOKUP(B3090,[1]Desplegables!$BA$2:$BB$19,2,FALSE),\"\")","v":""},null,""]
[null,null,{"$f":"IF(B3091<>\"\",VLOOKUP(B3091,[1]Desplegables!$BA$2:$BB$19,2,FALSE),\"\")","v":""},null,""]
[null,null,{"$f":"IF(B3092<>\"\",VLOOKUP(B3092,[1]Desplegables!$BA$2:$BB$19,2,FALSE),\"\")","v":""},null,""]
[null,null,{"$f":"IF(B3093<>\"\",VLOOKUP(B3093,[1]Desplegables!$BA$2:$BB$19,2,FALSE),\"\")","v":""},null,""]
[null,null,{"$f":"IF(B3094<>\"\",VLOOKUP(B3094,[1]Desplegables!$BA$2:$BB$19,2,FALSE),\"\")","v":""},null,""]
[null,null,{"$f":"IF(B3095<>\"\",VLOOKUP(B3095,[1]Desplegables!$BA$2:$BB$19,2,FALSE),\"\")","v":""},null,""]
[null,null,{"$f":"IF(B3096<>\"\",VLOOKUP(B3096,[1]Desplegables!$BA$2:$BB$19,2,FALSE),\"\")","v":""},null,""]
[null,null,{"$f":"IF(B3097<>\"\",VLOOKUP(B3097,[1]Desplegables!$BA$2:$BB$19,2,FALSE),\"\")","v":""},null,""]
[null,null,{"$f":"IF(B3098<>\"\",VLOOKUP(B3098,[1]Desplegables!$BA$2:$BB$19,2,FALSE),\"\")","v":""},null,""]
[null,null,{"$f":"IF(B3099<>\"\",VLOOKUP(B3099,[1]Desplegables!$BA$2:$BB$19,2,FALSE),\"\")","v":""},null,""]
[null,null,{"$f":"IF(B3100<>\"\",VLOOKUP(B3100,[1]Desplegables!$BA$2:$BB$19,2,FALSE),\"\")","v":""},null,""]
[null,null,{"$f":"IF(B3101<>\"\",VLOOKUP(B3101,[1]Desplegables!$BA$2:$BB$19,2,FALSE),\"\")","v":""},null,""]
[null,null,{"$f":"IF(B3102<>\"\",VLOOKUP(B3102,[1]Desplegables!$BA$2:$BB$19,2,FALSE),\"\")","v":""},null,""]
[null,null,{"$f":"IF(B3103<>\"\",VLOOKUP(B3103,[1]Desplegables!$BA$2:$BB$19,2,FALSE),\"\")","v":""},null,""]
[null,null,{"$f":"IF(B3104<>\"\",VLOOKUP(B3104,[1]Desplegables!$BA$2:$BB$19,2,FALSE),\"\")","v":""},null,""]
[null,null,{"$f":"IF(B3105<>\"\",VLOOKUP(B3105,[1]Desplegables!$BA$2:$BB$19,2,FALSE),\"\")","v":""},null,""]
[null,null,{"$f":"IF(B3106<>\"\",VLOOKUP(B3106,[1]Desplegables!$BA$2:$BB$19,2,FALSE),\"\")","v":""},null,""]
[null,null,{"$f":"IF(B3107<>\"\",VLOOKUP(B3107,[1]Desplegables!$BA$2:$BB$19,2,FALSE),\"\")","v":""},null,""]
[null,null,{"$f":"IF(B3108<>\"\",VLOOKUP(B3108,[1]Desplegables!$BA$2:$BB$19,2,FALSE),\"\")","v":""},null,""]
[null,null,{"$f":"IF(B3109<>\"\",VLOOKUP(B3109,[1]Desplegables!$BA$2:$BB$19,2,FALSE),\"\")","v":""},null,""]
[null,null,{"$f":"IF(B3110<>\"\",VLOOKUP(B3110,[1]Desplegables!$BA$2:$BB$19,2,FALSE),\"\")","v":""},null,""]
[null,null,{"$f":"IF(B3111<>\"\",VLOOKUP(B3111,[1]Desplegables!$BA$2:$BB$19,2,FALSE),\"\")","v":""},null,""]
[null,null,{"$f":"IF(B3112<>\"\",VLOOKUP(B3112,[1]Desplegables!$BA$2:$BB$19,2,FALSE),\"\")","v":""},null,""]
[null,null,{"$f":"IF(B3113<>\"\",VLOOKUP(B3113,[1]Desplegables!$BA$2:$BB$19,2,FALSE),\"\")","v":""},null,""]
[null,null,{"$f":"IF(B3114<>\"\",VLOOKUP(B3114,[1]Desplegables!$BA$2:$BB$19,2,FALSE),\"\")","v":""},null,""]
[null,null,{"$f":"IF(B3115<>\"\",VLOOKUP(B3115,[1]Desplegables!$BA$2:$BB$19,2,FALSE),\"\")","v":""},null,""]
[null,null,{"$f":"IF(B3116<>\"\",VLOOKUP(B3116,[1]Desplegables!$BA$2:$BB$19,2,FALSE),\"\")","v":""},null,""]
[null,null,{"$f":"IF(B3117<>\"\",VLOOKUP(B3117,[1]Desplegables!$BA$2:$BB$19,2,FALSE),\"\")","v":""},null,""]
[null,null,{"$f":"IF(B3118<>\"\",VLOOKUP(B3118,[1]Desplegables!$BA$2:$BB$19,2,FALSE),\"\")","v":""},null,""]
[null,null,{"$f":"IF(B3119<>\"\",VLOOKUP(B3119,[1]Desplegables!$BA$2:$BB$19,2,FALSE),\"\")","v":""},null,""]
[null,null,{"$f":"IF(B3120<>\"\",VLOOKUP(B3120,[1]Desplegables!$BA$2:$BB$19,2,FALSE),\"\")","v":""},null,""]
[null,null,{"$f":"IF(B3121<>\"\",VLOOKUP(B3121,[1]Desplegables!$BA$2:$BB$19,2,FALSE),\"\")","v":""},null,""]
[null,null,{"$f":"IF(B3122<>\"\",VLOOKUP(B3122,[1]Desplegables!$BA$2:$BB$19,2,FALSE),\"\")","v":""},null,""]
[null,null,{"$f":"IF(B3123<>\"\",VLOOKUP(B3123,[1]Desplegables!$BA$2:$BB$19,2,FALSE),\"\")","v":""},null,""]
[null,null,{"$f":"IF(B3124<>\"\",VLOOKUP(B3124,[1]Desplegables!$BA$2:$BB$19,2,FALSE),\"\")","v":""},null,""]
[null,null,{"$f":"IF(B3125<>\"\",VLOOKUP(B3125,[1]Desplegables!$BA$2:$BB$19,2,FALSE),\"\")","v":""},null,""]
[null,null,{"$f":"IF(B3126<>\"\",VLOOKUP(B3126,[1]Desplegables!$BA$2:$BB$19,2,FALSE),\"\")","v":""},null,""]
[null,null,{"$f":"IF(B3127<>\"\",VLOOKUP(B3127,[1]Desplegables!$BA$2:$BB$19,2,FALSE),\"\")","v":""},null,""]
[null,null,{"$f":"IF(B3128<>\"\",VLOOKUP(B3128,[1]Desplegables!$BA$2:$BB$19,2,FALSE),\"\")","v":""},null,""]
[null,null,{"$f":"IF(B3129<>\"\",VLOOKUP(B3129,[1]Desplegables!$BA$2:$BB$19,2,FALSE),\"\")","v":""},null,""]
[null,null,{"$f":"IF(B3130<>\"\",VLOOKUP(B3130,[1]Desplegables!$BA$2:$BB$19,2,FALSE),\"\")","v":""},null,""]
[null,null,{"$f":"IF(B3131<>\"\",VLOOKUP(B3131,[1]Desplegables!$BA$2:$BB$19,2,FALSE),\"\")","v":""},null,""]
[null,null,{"$f":"IF(B3132<>\"\",VLOOKUP(B3132,[1]Desplegables!$BA$2:$BB$19,2,FALSE),\"\")","v":""},null,""]
[null,null,{"$f":"IF(B3133<>\"\",VLOOKUP(B3133,[1]Desplegables!$BA$2:$BB$19,2,FALSE),\"\")","v":""},null,""]
[null,null,{"$f":"IF(B3134<>\"\",VLOOKUP(B3134,[1]Desplegables!$BA$2:$BB$19,2,FALSE),\"\")","v":""},null,""]
[null,null,{"$f":"IF(B3135<>\"\",VLOOKUP(B3135,[1]Desplegables!$BA$2:$BB$19,2,FALSE),\"\")","v":""},null,""]
[null,null,{"$f":"IF(B3136<>\"\",VLOOKUP(B3136,[1]Desplegables!$BA$2:$BB$19,2,FALSE),\"\")","v":""},null,""]
[null,null,{"$f":"IF(B3137<>\"\",VLOOKUP(B3137,[1]Desplegables!$BA$2:$BB$19,2,FALSE),\"\")","v":""},null,""]
[null,null,{"$f":"IF(B3138<>\"\",VLOOKUP(B3138,[1]Desplegables!$BA$2:$BB$19,2,FALSE),\"\")","v":""},null,""]
[null,null,{"$f":"IF(B3139<>\"\",VLOOKUP(B3139,[1]Desplegables!$BA$2:$BB$19,2,FALSE),\"\")","v":""},null,""]
[null,null,{"$f":"IF(B3140<>\"\",VLOOKUP(B3140,[1]Desplegables!$BA$2:$BB$19,2,FALSE),\"\")","v":""},null,""]
[null,null,{"$f":"IF(B3141<>\"\",VLOOKUP(B3141,[1]Desplegables!$BA$2:$BB$19,2,FALSE),\"\")","v":""},null,{"$f":"IF(C3141<>\"\",D3141/C3141,\"\")","v":""}]
[null,null,{"$f":"IF(B3142<>\"\",VLOOKUP(B3142,[1]Desplegables!$BA$2:$BB$19,2,FALSE),\"\")","v":""},null,""]
[null,null,{"$f":"IF(B3143<>\"\",VLOOKUP(B3143,[1]Desplegables!$BA$2:$BB$19,2,FALSE),\"\")","v":""},null,""]
[null,null,{"$f":"IF(B3144<>\"\",VLOOKUP(B3144,[1]Desplegables!$BA$2:$BB$19,2,FALSE),\"\")","v":""},null,""]
[null,null,{"$f":"IF(B3145<>\"\",VLOOKUP(B3145,[1]Desplegables!$BA$2:$BB$19,2,FALSE),\"\")","v":""},null,""]
[null,null,{"$f":"IF(B3146<>\"\",VLOOKUP(B3146,[1]Desplegables!$BA$2:$BB$19,2,FALSE),\"\")","v":""},null,""]
[null,null,{"$f":"IF(B3147<>\"\",VLOOKUP(B3147,[1]Desplegables!$BA$2:$BB$19,2,FALSE),\"\")","v":""},null,""]
[null,null,{"$f":"IF(B3148<>\"\",VLOOKUP(B3148,[1]Desplegables!$BA$2:$BB$19,2,FALSE),\"\")","v":""},null,""]
[null,null,{"$f":"IF(B3149<>\"\",VLOOKUP(B3149,[1]Desplegables!$BA$2:$BB$19,2,FALSE),\"\")","v":""},null,""]
[null,null,{"$f":"IF(B3150<>\"\",VLOOKUP(B3150,[1]Desplegables!$BA$2:$BB$19,2,FALSE),\"\")","v":""},null,""]
[null,null,{"$f":"IF(B3151<>\"\",VLOOKUP(B3151,[1]Desplegables!$BA$2:$BB$19,2,FALSE),\"\")","v":""},null,""]
[null,null,{"$f":"IF(B3152<>\"\",VLOOKUP(B3152,[1]Desplegables!$BA$2:$BB$19,2,FALSE),\"\")","v":""},null,""]
[null,null,{"$f":"IF(B3153<>\"\",VLOOKUP(B3153,[1]Desplegables!$BA$2:$BB$19,2,FALSE),\"\")","v":""},null,""]
[null,null,{"$f":"IF(B3154<>\"\",VLOOKUP(B3154,[1]Desplegables!$BA$2:$BB$19,2,FALSE),\"\")","v":""},null,""]
[null,null,{"$f":"IF(B3155<>\"\",VLOOKUP(B3155,[1]Desplegables!$BA$2:$BB$19,2,FALSE),\"\")","v":""},null,""]
[null,null,{"$f":"IF(B3156<>\"\",VLOOKUP(B3156,[1]Desplegables!$BA$2:$BB$19,2,FALSE),\"\")","v":""},null,""]
[null,null,{"$f":"IF(B3157<>\"\",VLOOKUP(B3157,[1]Desplegables!$BA$2:$BB$19,2,FALSE),\"\")","v":""},null,""]
[null,null,{"$f":"IF(B3158<>\"\",VLOOKUP(B3158,[1]Desplegables!$BA$2:$BB$19,2,FALSE),\"\")","v":""},null,""]
[null,null,{"$f":"IF(B3159<>\"\",VLOOKUP(B3159,[1]Desplegables!$BA$2:$BB$19,2,FALSE),\"\")","v":""},null,""]
[null,null,{"$f":"IF(B3160<>\"\",VLOOKUP(B3160,[1]Desplegables!$BA$2:$BB$19,2,FALSE),\"\")","v":""},null,""]
[null,null,{"$f":"IF(B3161<>\"\",VLOOKUP(B3161,[1]Desplegables!$BA$2:$BB$19,2,FALSE),\"\")","v":""},null,""]
[null,null,{"$f":"IF(B3162<>\"\",VLOOKUP(B3162,[1]Desplegables!$BA$2:$BB$19,2,FALSE),\"\")","v":""},null,""]
[null,null,{"$f":"IF(B3163<>\"\",VLOOKUP(B3163,[1]Desplegables!$BA$2:$BB$19,2,FALSE),\"\")","v":""},null,""]
[null,null,{"$f":"IF(B3164<>\"\",VLOOKUP(B3164,[1]Desplegables!$BA$2:$BB$19,2,FALSE),\"\")","v":""},null,""]
[null,null,{"$f":"IF(B3165<>\"\",VLOOKUP(B3165,[1]Desplegables!$BA$2:$BB$19,2,FALSE),\"\")","v":""},null,""]
[null,null,{"$f":"IF(B3166<>\"\",VLOOKUP(B3166,[1]Desplegables!$BA$2:$BB$19,2,FALSE),\"\")","v":""},null,""]
[null,null,{"$f":"IF(B3167<>\"\",VLOOKUP(B3167,[1]Desplegables!$BA$2:$BB$19,2,FALSE),\"\")","v":""},null,""]
[null,null,{"$f":"IF(B3168<>\"\",VLOOKUP(B3168,[1]Desplegables!$BA$2:$BB$19,2,FALSE),\"\")","v":""},null,""]
[null,null,{"$f":"IF(B3169<>\"\",VLOOKUP(B3169,[1]Desplegables!$BA$2:$BB$19,2,FALSE),\"\")","v":""},null,""]
[null,null,{"$f":"IF(B3170<>\"\",VLOOKUP(B3170,[1]Desplegables!$BA$2:$BB$19,2,FALSE),\"\")","v":""},null,""]
[null,null,{"$f":"IF(B3171<>\"\",VLOOKUP(B3171,[1]Desplegables!$BA$2:$BB$19,2,FALSE),\"\")","v":""},null,""]
[null,null,{"$f":"IF(B3172<>\"\",VLOOKUP(B3172,[1]Desplegables!$BA$2:$BB$19,2,FALSE),\"\")","v":""},null,""]
[null,null,{"$f":"IF(B3173<>\"\",VLOOKUP(B3173,[1]Desplegables!$BA$2:$BB$19,2,FALSE),\"\")","v":""},null,""]
[null,null,{"$f":"IF(B3174<>\"\",VLOOKUP(B3174,[1]Desplegables!$BA$2:$BB$19,2,FALSE),\"\")","v":""},null,""]
[null,null,{"$f":"IF(B3175<>\"\",VLOOKUP(B3175,[1]Desplegables!$BA$2:$BB$19,2,FALSE),\"\")","v":""},null,""]
[null,null,{"$f":"IF(B3176<>\"\",VLOOKUP(B3176,[1]Desplegables!$BA$2:$BB$19,2,FALSE),\"\")","v":""},null,""]
[null,null,{"$f":"IF(B3177<>\"\",VLOOKUP(B3177,[1]Desplegables!$BA$2:$BB$19,2,FALSE),\"\")","v":""},null,""]
[null,null,{"$f":"IF(B3178<>\"\",VLOOKUP(B3178,[1]Desplegables!$BA$2:$BB$19,2,FALSE),\"\")","v":""},null,""]
[null,null,{"$f":"IF(B3179<>\"\",VLOOKUP(B3179,[1]Desplegables!$BA$2:$BB$19,2,FALSE),\"\")","v":""},null,""]
[null,null,{"$f":"IF(B3180<>\"\",VLOOKUP(B3180,[1]Desplegables!$BA$2:$BB$19,2,FALSE),\"\")","v":""},null,""]
[null,null,{"$f":"IF(B3181<>\"\",VLOOKUP(B3181,[1]Desplegables!$BA$2:$BB$19,2,FALSE),\"\")","v":""},null,""]
[null,null,{"$f":"IF(B3182<>\"\",VLOOKUP(B3182,[1]Desplegables!$BA$2:$BB$19,2,FALSE),\"\")","v":""},null,""]
[null,null,{"$f":"IF(B3183<>\"\",VLOOKUP(B3183,[1]Desplegables!$BA$2:$BB$19,2,FALSE),\"\")","v":""},null,""]
[null,null,{"$f":"IF(B3184<>\"\",VLOOKUP(B3184,[1]Desplegables!$BA$2:$BB$19,2,FALSE),\"\")","v":""},null,""]
[null,null,{"$f":"IF(B3185<>\"\",VLOOKUP(B3185,[1]Desplegables!$BA$2:$BB$19,2,FALSE),\"\")","v":""},null,""]
[null,null,{"$f":"IF(B3186<>\"\",VLOOKUP(B3186,[1]Desplegables!$BA$2:$BB$19,2,FALSE),\"\")","v":""},null,""]
[null,null,{"$f":"IF(B3187<>\"\",VLOOKUP(B3187,[1]Desplegables!$BA$2:$BB$19,2,FALSE),\"\")","v":""},null,""]
[null,null,{"$f":"IF(B3188<>\"\",VLOOKUP(B3188,[1]Desplegables!$BA$2:$BB$19,2,FALSE),\"\")","v":""},null,""]
[null,null,{"$f":"IF(B3189<>\"\",VLOOKUP(B3189,[1]Desplegables!$BA$2:$BB$19,2,FALSE),\"\")","v":""},null,""]
[null,null,{"$f":"IF(B3190<>\"\",VLOOKUP(B3190,[1]Desplegables!$BA$2:$BB$19,2,FALSE),\"\")","v":""},null,""]
[null,null,{"$f":"IF(B3191<>\"\",VLOOKUP(B3191,[1]Desplegables!$BA$2:$BB$19,2,FALSE),\"\")","v":""},null,""]
[null,null,{"$f":"IF(B3192<>\"\",VLOOKUP(B3192,[1]Desplegables!$BA$2:$BB$19,2,FALSE),\"\")","v":""},null,""]
[null,null,{"$f":"IF(B3193<>\"\",VLOOKUP(B3193,[1]Desplegables!$BA$2:$BB$19,2,FALSE),\"\")","v":""},null,""]
[null,null,{"$f":"IF(B3194<>\"\",VLOOKUP(B3194,[1]Desplegables!$BA$2:$BB$19,2,FALSE),\"\")","v":""},null,""]
[null,null,{"$f":"IF(B3195<>\"\",VLOOKUP(B3195,[1]Desplegables!$BA$2:$BB$19,2,FALSE),\"\")","v":""},null,""]
[null,null,{"$f":"IF(B3196<>\"\",VLOOKUP(B3196,[1]Desplegables!$BA$2:$BB$19,2,FALSE),\"\")","v":""},null,""]
[null,null,{"$f":"IF(B3197<>\"\",VLOOKUP(B3197,[1]Desplegables!$BA$2:$BB$19,2,FALSE),\"\")","v":""},null,""]
[null,null,{"$f":"IF(B3198<>\"\",VLOOKUP(B3198,[1]Desplegables!$BA$2:$BB$19,2,FALSE),\"\")","v":""},null,""]
[null,null,{"$f":"IF(B3199<>\"\",VLOOKUP(B3199,[1]Desplegables!$BA$2:$BB$19,2,FALSE),\"\")","v":""},null,""]
[null,null,{"$f":"IF(B3200<>\"\",VLOOKUP(B3200,[1]Desplegables!$BA$2:$BB$19,2,FALSE),\"\")","v":""},null,""]
[null,null,{"$f":"IF(B3201<>\"\",VLOOKUP(B3201,[1]Desplegables!$BA$2:$BB$19,2,FALSE),\"\")","v":""},null,""]
[null,null,{"$f":"IF(B3202<>\"\",VLOOKUP(B3202,[1]Desplegables!$BA$2:$BB$19,2,FALSE),\"\")","v":""},null,""]
[null,null,{"$f":"IF(B3203<>\"\",VLOOKUP(B3203,[1]Desplegables!$BA$2:$BB$19,2,FALSE),\"\")","v":""},null,""]
[null,null,{"$f":"IF(B3204<>\"\",VLOOKUP(B3204,[1]Desplegables!$BA$2:$BB$19,2,FALSE),\"\")","v":""},null,""]
[null,null,{"$f":"IF(B3205<>\"\",VLOOKUP(B3205,[1]Desplegables!$BA$2:$BB$19,2,FALSE),\"\")","v":""},null,{"$f":"IF(C3205<>\"\",D3205/C3205,\"\")","v":""}]
[null,null,{"$f":"IF(B3206<>\"\",VLOOKUP(B3206,[1]Desplegables!$BA$2:$BB$19,2,FALSE),\"\")","v":""},null,""]
[null,null,{"$f":"IF(B3207<>\"\",VLOOKUP(B3207,[1]Desplegables!$BA$2:$BB$19,2,FALSE),\"\")","v":""},null,""]
[null,null,{"$f":"IF(B3208<>\"\",VLOOKUP(B3208,[1]Desplegables!$BA$2:$BB$19,2,FALSE),\"\")","v":""},null,""]
[null,null,{"$f":"IF(B3209<>\"\",VLOOKUP(B3209,[1]Desplegables!$BA$2:$BB$19,2,FALSE),\"\")","v":""},null,""]
[null,null,{"$f":"IF(B3210<>\"\",VLOOKUP(B3210,[1]Desplegables!$BA$2:$BB$19,2,FALSE),\"\")","v":""},null,""]
[null,null,{"$f":"IF(B3211<>\"\",VLOOKUP(B3211,[1]Desplegables!$BA$2:$BB$19,2,FALSE),\"\")","v":""},null,""]
[null,null,{"$f":"IF(B3212<>\"\",VLOOKUP(B3212,[1]Desplegables!$BA$2:$BB$19,2,FALSE),\"\")","v":""},null,""]
[null,null,{"$f":"IF(B3213<>\"\",VLOOKUP(B3213,[1]Desplegables!$BA$2:$BB$19,2,FALSE),\"\")","v":""},null,""]
[null,null,{"$f":"IF(B3214<>\"\",VLOOKUP(B3214,[1]Desplegables!$BA$2:$BB$19,2,FALSE),\"\")","v":""},null,""]
[null,null,{"$f":"IF(B3215<>\"\",VLOOKUP(B3215,[1]Desplegables!$BA$2:$BB$19,2,FALSE),\"\")","v":""},null,""]
[null,null,{"$f":"IF(B3216<>\"\",VLOOKUP(B3216,[1]Desplegables!$BA$2:$BB$19,2,FALSE),\"\")","v":""},null,""]
[null,null,{"$f":"IF(B3217<>\"\",VLOOKUP(B3217,[1]Desplegables!$BA$2:$BB$19,2,FALSE),\"\")","v":""},null,""]
[null,null,{"$f":"IF(B3218<>\"\",VLOOKUP(B3218,[1]Desplegables!$BA$2:$BB$19,2,FALSE),\"\")","v":""},null,""]
[null,null,{"$f":"IF(B3219<>\"\",VLOOKUP(B3219,[1]Desplegables!$BA$2:$BB$19,2,FALSE),\"\")","v":""},null,""]
[null,null,{"$f":"IF(B3220<>\"\",VLOOKUP(B3220,[1]Desplegables!$BA$2:$BB$19,2,FALSE),\"\")","v":""},null,""]
[null,null,{"$f":"IF(B3221<>\"\",VLOOKUP(B3221,[1]Desplegables!$BA$2:$BB$19,2,FALSE),\"\")","v":""},null,""]
[null,null,{"$f":"IF(B3222<>\"\",VLOOKUP(B3222,[1]Desplegables!$BA$2:$BB$19,2,FALSE),\"\")","v":""},null,""]
[null,null,{"$f":"IF(B3223<>\"\",VLOOKUP(B3223,[1]Desplegables!$BA$2:$BB$19,2,FALSE),\"\")","v":""},null,""]
[null,null,{"$f":"IF(B3224<>\"\",VLOOKUP(B3224,[1]Desplegables!$BA$2:$BB$19,2,FALSE),\"\")","v":""},null,""]
[null,null,{"$f":"IF(B3225<>\"\",VLOOKUP(B3225,[1]Desplegables!$BA$2:$BB$19,2,FALSE),\"\")","v":""},null,""]
[null,null,{"$f":"IF(B3226<>\"\",VLOOKUP(B3226,[1]Desplegables!$BA$2:$BB$19,2,FALSE),\"\")","v":""},null,""]
[null,null,{"$f":"IF(B3227<>\"\",VLOOKUP(B3227,[1]Desplegables!$BA$2:$BB$19,2,FALSE),\"\")","v":""},null,""]
[null,null,{"$f":"IF(B3228<>\"\",VLOOKUP(B3228,[1]Desplegables!$BA$2:$BB$19,2,FALSE),\"\")","v":""},null,""]
[null,null,{"$f":"IF(B3229<>\"\",VLOOKUP(B3229,[1]Desplegables!$BA$2:$BB$19,2,FALSE),\"\")","v":""},null,""]
[null,null,{"$f":"IF(B3230<>\"\",VLOOKUP(B3230,[1]Desplegables!$BA$2:$BB$19,2,FALSE),\"\")","v":""},null,""]
[null,null,{"$f":"IF(B3231<>\"\",VLOOKUP(B3231,[1]Desplegables!$BA$2:$BB$19,2,FALSE),\"\")","v":""},null,""]
[null,null,{"$f":"IF(B3232<>\"\",VLOOKUP(B3232,[1]Desplegables!$BA$2:$BB$19,2,FALSE),\"\")","v":""},null,""]
[null,null,{"$f":"IF(B3233<>\"\",VLOOKUP(B3233,[1]Desplegables!$BA$2:$BB$19,2,FALSE),\"\")","v":""},null,""]
[null,null,{"$f":"IF(B3234<>\"\",VLOOKUP(B3234,[1]Desplegables!$BA$2:$BB$19,2,FALSE),\"\")","v":""},null,""]
[null,null,{"$f":"IF(B3235<>\"\",VLOOKUP(B3235,[1]Desplegables!$BA$2:$BB$19,2,FALSE),\"\")","v":""},null,""]
[null,null,{"$f":"IF(B3236<>\"\",VLOOKUP(B3236,[1]Desplegables!$BA$2:$BB$19,2,FALSE),\"\")","v":""},null,""]
[null,null,{"$f":"IF(B3237<>\"\",VLOOKUP(B3237,[1]Desplegables!$BA$2:$BB$19,2,FALSE),\"\")","v":""},null,""]
[null,null,{"$f":"IF(B3238<>\"\",VLOOKUP(B3238,[1]Desplegables!$BA$2:$BB$19,2,FALSE),\"\")","v":""},null,""]
[null,null,{"$f":"IF(B3239<>\"\",VLOOKUP(B3239,[1]Desplegables!$BA$2:$BB$19,2,FALSE),\"\")","v":""},null,""]
[null,null,{"$f":"IF(B3240<>\"\",VLOOKUP(B3240,[1]Desplegables!$BA$2:$BB$19,2,FALSE),\"\")","v":""},null,""]
[null,null,{"$f":"IF(B3241<>\"\",VLOOKUP(B3241,[1]Desplegables!$BA$2:$BB$19,2,FALSE),\"\")","v":""},null,""]
[null,null,{"$f":"IF(B3242<>\"\",VLOOKUP(B3242,[1]Desplegables!$BA$2:$BB$19,2,FALSE),\"\")","v":""},null,""]
[null,null,{"$f":"IF(B3243<>\"\",VLOOKUP(B3243,[1]Desplegables!$BA$2:$BB$19,2,FALSE),\"\")","v":""},null,""]
[null,null,{"$f":"IF(B3244<>\"\",VLOOKUP(B3244,[1]Desplegables!$BA$2:$BB$19,2,FALSE),\"\")","v":""},null,""]
[null,null,{"$f":"IF(B3245<>\"\",VLOOKUP(B3245,[1]Desplegables!$BA$2:$BB$19,2,FALSE),\"\")","v":""},null,""]
[null,null,{"$f":"IF(B3246<>\"\",VLOOKUP(B3246,[1]Desplegables!$BA$2:$BB$19,2,FALSE),\"\")","v":""},null,""]
[null,null,{"$f":"IF(B3247<>\"\",VLOOKUP(B3247,[1]Desplegables!$BA$2:$BB$19,2,FALSE),\"\")","v":""},null,""]
[null,null,{"$f":"IF(B3248<>\"\",VLOOKUP(B3248,[1]Desplegables!$BA$2:$BB$19,2,FALSE),\"\")","v":""},null,""]
[null,null,{"$f":"IF(B3249<>\"\",VLOOKUP(B3249,[1]Desplegables!$BA$2:$BB$19,2,FALSE),\"\")","v":""},null,""]
[null,null,{"$f":"IF(B3250<>\"\",VLOOKUP(B3250,[1]Desplegables!$BA$2:$BB$19,2,FALSE),\"\")","v":""},null,""]
[null,null,{"$f":"IF(B3251<>\"\",VLOOKUP(B3251,[1]Desplegables!$BA$2:$BB$19,2,FALSE),\"\")","v":""},null,""]
[null,null,{"$f":"IF(B3252<>\"\",VLOOKUP(B3252,[1]Desplegables!$BA$2:$BB$19,2,FALSE),\"\")","v":""},null,""]
[null,null,{"$f":"IF(B3253<>\"\",VLOOKUP(B3253,[1]Desplegables!$BA$2:$BB$19,2,FALSE),\"\")","v":""},null,""]
[null,null,{"$f":"IF(B3254<>\"\",VLOOKUP(B3254,[1]Desplegables!$BA$2:$BB$19,2,FALSE),\"\")","v":""},null,""]
[null,null,{"$f":"IF(B3255<>\"\",VLOOKUP(B3255,[1]Desplegables!$BA$2:$BB$19,2,FALSE),\"\")","v":""},null,""]
[null,null,{"$f":"IF(B3256<>\"\",VLOOKUP(B3256,[1]Desplegables!$BA$2:$BB$19,2,FALSE),\"\")","v":""},null,""]
[null,null,{"$f":"IF(B3257<>\"\",VLOOKUP(B3257,[1]Desplegables!$BA$2:$BB$19,2,FALSE),\"\")","v":""},null,""]
[null,null,{"$f":"IF(B3258<>\"\",VLOOKUP(B3258,[1]Desplegables!$BA$2:$BB$19,2,FALSE),\"\")","v":""},null,""]
[null,null,{"$f":"IF(B3259<>\"\",VLOOKUP(B3259,[1]Desplegables!$BA$2:$BB$19,2,FALSE),\"\")","v":""},null,""]
[null,null,{"$f":"IF(B3260<>\"\",VLOOKUP(B3260,[1]Desplegables!$BA$2:$BB$19,2,FALSE),\"\")","v":""},null,""]
[null,null,{"$f":"IF(B3261<>\"\",VLOOKUP(B3261,[1]Desplegables!$BA$2:$BB$19,2,FALSE),\"\")","v":""},null,""]
[null,null,{"$f":"IF(B3262<>\"\",VLOOKUP(B3262,[1]Desplegables!$BA$2:$BB$19,2,FALSE),\"\")","v":""},null,""]
[null,null,{"$f":"IF(B3263<>\"\",VLOOKUP(B3263,[1]Desplegables!$BA$2:$BB$19,2,FALSE),\"\")","v":""},null,""]
[null,null,{"$f":"IF(B3264<>\"\",VLOOKUP(B3264,[1]Desplegables!$BA$2:$BB$19,2,FALSE),\"\")","v":""},null,""]
[null,null,{"$f":"IF(B3265<>\"\",VLOOKUP(B3265,[1]Desplegables!$BA$2:$BB$19,2,FALSE),\"\")","v":""},null,""]
[null,null,{"$f":"IF(B3266<>\"\",VLOOKUP(B3266,[1]Desplegables!$BA$2:$BB$19,2,FALSE),\"\")","v":""},null,""]
[null,null,{"$f":"IF(B3267<>\"\",VLOOKUP(B3267,[1]Desplegables!$BA$2:$BB$19,2,FALSE),\"\")","v":""},null,""]
[null,null,{"$f":"IF(B3268<>\"\",VLOOKUP(B3268,[1]Desplegables!$BA$2:$BB$19,2,FALSE),\"\")","v":""},null,""]
[null,null,{"$f":"IF(B3269<>\"\",VLOOKUP(B3269,[1]Desplegables!$BA$2:$BB$19,2,FALSE),\"\")","v":""},null,{"$f":"IF(C3269<>\"\",D3269/C3269,\"\")","v":""}]
[null,null,{"$f":"IF(B3270<>\"\",VLOOKUP(B3270,[1]Desplegables!$BA$2:$BB$19,2,FALSE),\"\")","v":""},null,""]
[null,null,{"$f":"IF(B3271<>\"\",VLOOKUP(B3271,[1]Desplegables!$BA$2:$BB$19,2,FALSE),\"\")","v":""},null,""]
[null,null,{"$f":"IF(B3272<>\"\",VLOOKUP(B3272,[1]Desplegables!$BA$2:$BB$19,2,FALSE),\"\")","v":""},null,""]
[null,null,{"$f":"IF(B3273<>\"\",VLOOKUP(B3273,[1]Desplegables!$BA$2:$BB$19,2,FALSE),\"\")","v":""},null,""]
[null,null,{"$f":"IF(B3274<>\"\",VLOOKUP(B3274,[1]Desplegables!$BA$2:$BB$19,2,FALSE),\"\")","v":""},null,""]
[null,null,{"$f":"IF(B3275<>\"\",VLOOKUP(B3275,[1]Desplegables!$BA$2:$BB$19,2,FALSE),\"\")","v":""},null,""]
[null,null,{"$f":"IF(B3276<>\"\",VLOOKUP(B3276,[1]Desplegables!$BA$2:$BB$19,2,FALSE),\"\")","v":""},null,""]
[null,null,{"$f":"IF(B3277<>\"\",VLOOKUP(B3277,[1]Desplegables!$BA$2:$BB$19,2,FALSE),\"\")","v":""},null,""]
[null,null,{"$f":"IF(B3278<>\"\",VLOOKUP(B3278,[1]Desplegables!$BA$2:$BB$19,2,FALSE),\"\")","v":""},null,""]
[null,null,{"$f":"IF(B3279<>\"\",VLOOKUP(B3279,[1]Desplegables!$BA$2:$BB$19,2,FALSE),\"\")","v":""},null,""]
[null,null,{"$f":"IF(B3280<>\"\",VLOOKUP(B3280,[1]Desplegables!$BA$2:$BB$19,2,FALSE),\"\")","v":""},null,""]
[null,null,{"$f":"IF(B3281<>\"\",VLOOKUP(B3281,[1]Desplegables!$BA$2:$BB$19,2,FALSE),\"\")","v":""},null,""]
[null,null,{"$f":"IF(B3282<>\"\",VLOOKUP(B3282,[1]Desplegables!$BA$2:$BB$19,2,FALSE),\"\")","v":""},null,""]
[null,null,{"$f":"IF(B3283<>\"\",VLOOKUP(B3283,[1]Desplegables!$BA$2:$BB$19,2,FALSE),\"\")","v":""},null,""]
[null,null,{"$f":"IF(B3284<>\"\",VLOOKUP(B3284,[1]Desplegables!$BA$2:$BB$19,2,FALSE),\"\")","v":""},null,""]
[null,null,{"$f":"IF(B3285<>\"\",VLOOKUP(B3285,[1]Desplegables!$BA$2:$BB$19,2,FALSE),\"\")","v":""},null,""]
[null,null,{"$f":"IF(B3286<>\"\",VLOOKUP(B3286,[1]Desplegables!$BA$2:$BB$19,2,FALSE),\"\")","v":""},null,""]
[null,null,{"$f":"IF(B3287<>\"\",VLOOKUP(B3287,[1]Desplegables!$BA$2:$BB$19,2,FALSE),\"\")","v":""},null,""]
[null,null,{"$f":"IF(B3288<>\"\",VLOOKUP(B3288,[1]Desplegables!$BA$2:$BB$19,2,FALSE),\"\")","v":""},null,""]
[null,null,{"$f":"IF(B3289<>\"\",VLOOKUP(B3289,[1]Desplegables!$BA$2:$BB$19,2,FALSE),\"\")","v":""},null,""]
[null,null,{"$f":"IF(B3290<>\"\",VLOOKUP(B3290,[1]Desplegables!$BA$2:$BB$19,2,FALSE),\"\")","v":""},null,""]
[null,null,{"$f":"IF(B3291<>\"\",VLOOKUP(B3291,[1]Desplegables!$BA$2:$BB$19,2,FALSE),\"\")","v":""},null,""]
[null,null,{"$f":"IF(B3292<>\"\",VLOOKUP(B3292,[1]Desplegables!$BA$2:$BB$19,2,FALSE),\"\")","v":""},null,""]
[null,null,{"$f":"IF(B3293<>\"\",VLOOKUP(B3293,[1]Desplegables!$BA$2:$BB$19,2,FALSE),\"\")","v":""},null,""]
[null,null,{"$f":"IF(B3294<>\"\",VLOOKUP(B3294,[1]Desplegables!$BA$2:$BB$19,2,FALSE),\"\")","v":""},null,""]
[null,null,{"$f":"IF(B3295<>\"\",VLOOKUP(B3295,[1]Desplegables!$BA$2:$BB$19,2,FALSE),\"\")","v":""},null,""]
[null,null,{"$f":"IF(B3296<>\"\",VLOOKUP(B3296,[1]Desplegables!$BA$2:$BB$19,2,FALSE),\"\")","v":""},null,""]
[null,null,{"$f":"IF(B3297<>\"\",VLOOKUP(B3297,[1]Desplegables!$BA$2:$BB$19,2,FALSE),\"\")","v":""},null,""]
[null,null,{"$f":"IF(B3298<>\"\",VLOOKUP(B3298,[1]Desplegables!$BA$2:$BB$19,2,FALSE),\"\")","v":""},null,""]
[null,null,{"$f":"IF(B3299<>\"\",VLOOKUP(B3299,[1]Desplegables!$BA$2:$BB$19,2,FALSE),\"\")","v":""},null,""]
[null,null,{"$f":"IF(B3300<>\"\",VLOOKUP(B3300,[1]Desplegables!$BA$2:$BB$19,2,FALSE),\"\")","v":""},null,""]
[null,null,{"$f":"IF(B3301<>\"\",VLOOKUP(B3301,[1]Desplegables!$BA$2:$BB$19,2,FALSE),\"\")","v":""},null,""]
[null,null,{"$f":"IF(B3302<>\"\",VLOOKUP(B3302,[1]Desplegables!$BA$2:$BB$19,2,FALSE),\"\")","v":""},null,""]
[null,null,{"$f":"IF(B3303<>\"\",VLOOKUP(B3303,[1]Desplegables!$BA$2:$BB$19,2,FALSE),\"\")","v":""},null,""]
[null,null,{"$f":"IF(B3304<>\"\",VLOOKUP(B3304,[1]Desplegables!$BA$2:$BB$19,2,FALSE),\"\")","v":""},null,""]
[null,null,{"$f":"IF(B3305<>\"\",VLOOKUP(B3305,[1]Desplegables!$BA$2:$BB$19,2,FALSE),\"\")","v":""},null,""]
[null,null,{"$f":"IF(B3306<>\"\",VLOOKUP(B3306,[1]Desplegables!$BA$2:$BB$19,2,FALSE),\"\")","v":""},null,""]
[null,null,{"$f":"IF(B3307<>\"\",VLOOKUP(B3307,[1]Desplegables!$BA$2:$BB$19,2,FALSE),\"\")","v":""},null,""]
[null,null,{"$f":"IF(B3308<>\"\",VLOOKUP(B3308,[1]Desplegables!$BA$2:$BB$19,2,FALSE),\"\")","v":""},null,""]
[null,null,{"$f":"IF(B3309<>\"\",VLOOKUP(B3309,[1]Desplegables!$BA$2:$BB$19,2,FALSE),\"\")","v":""},null,""]
[null,null,{"$f":"IF(B3310<>\"\",VLOOKUP(B3310,[1]Desplegables!$BA$2:$BB$19,2,FALSE),\"\")","v":""},null,""]
[null,null,{"$f":"IF(B3311<>\"\",VLOOKUP(B3311,[1]Desplegables!$BA$2:$BB$19,2,FALSE),\"\")","v":""},null,""]
[null,null,{"$f":"IF(B3312<>\"\",VLOOKUP(B3312,[1]Desplegables!$BA$2:$BB$19,2,FALSE),\"\")","v":""},null,""]
[null,null,{"$f":"IF(B3313<>\"\",VLOOKUP(B3313,[1]Desplegables!$BA$2:$BB$19,2,FALSE),\"\")","v":""},null,""]
[null,null,{"$f":"IF(B3314<>\"\",VLOOKUP(B3314,[1]Desplegables!$BA$2:$BB$19,2,FALSE),\"\")","v":""},null,""]
[null,null,{"$f":"IF(B3315<>\"\",VLOOKUP(B3315,[1]Desplegables!$BA$2:$BB$19,2,FALSE),\"\")","v":""},null,""]
[null,null,{"$f":"IF(B3316<>\"\",VLOOKUP(B3316,[1]Desplegables!$BA$2:$BB$19,2,FALSE),\"\")","v":""},null,""]
[null,null,{"$f":"IF(B3317<>\"\",VLOOKUP(B3317,[1]Desplegables!$BA$2:$BB$19,2,FALSE),\"\")","v":""},null,""]
[null,null,{"$f":"IF(B3318<>\"\",VLOOKUP(B3318,[1]Desplegables!$BA$2:$BB$19,2,FALSE),\"\")","v":""},null,""]
[null,null,{"$f":"IF(B3319<>\"\",VLOOKUP(B3319,[1]Desplegables!$BA$2:$BB$19,2,FALSE),\"\")","v":""},null,""]
[null,null,{"$f":"IF(B3320<>\"\",VLOOKUP(B3320,[1]Desplegables!$BA$2:$BB$19,2,FALSE),\"\")","v":""},null,""]
[null,null,{"$f":"IF(B3321<>\"\",VLOOKUP(B3321,[1]Desplegables!$BA$2:$BB$19,2,FALSE),\"\")","v":""},null,""]
[null,null,{"$f":"IF(B3322<>\"\",VLOOKUP(B3322,[1]Desplegables!$BA$2:$BB$19,2,FALSE),\"\")","v":""},null,""]
[null,null,{"$f":"IF(B3323<>\"\",VLOOKUP(B3323,[1]Desplegables!$BA$2:$BB$19,2,FALSE),\"\")","v":""},null,""]
[null,null,{"$f":"IF(B3324<>\"\",VLOOKUP(B3324,[1]Desplegables!$BA$2:$BB$19,2,FALSE),\"\")","v":""},null,""]
[null,null,{"$f":"IF(B3325<>\"\",VLOOKUP(B3325,[1]Desplegables!$BA$2:$BB$19,2,FALSE),\"\")","v":""},null,""]
[null,null,{"$f":"IF(B3326<>\"\",VLOOKUP(B3326,[1]Desplegables!$BA$2:$BB$19,2,FALSE),\"\")","v":""},null,""]
[null,null,{"$f":"IF(B3327<>\"\",VLOOKUP(B3327,[1]Desplegables!$BA$2:$BB$19,2,FALSE),\"\")","v":""},null,""]
[null,null,{"$f":"IF(B3328<>\"\",VLOOKUP(B3328,[1]Desplegables!$BA$2:$BB$19,2,FALSE),\"\")","v":""},null,""]
[null,null,{"$f":"IF(B3329<>\"\",VLOOKUP(B3329,[1]Desplegables!$BA$2:$BB$19,2,FALSE),\"\")","v":""},null,""]
[null,null,{"$f":"IF(B3330<>\"\",VLOOKUP(B3330,[1]Desplegables!$BA$2:$BB$19,2,FALSE),\"\")","v":""},null,""]
[null,null,{"$f":"IF(B3331<>\"\",VLOOKUP(B3331,[1]Desplegables!$BA$2:$BB$19,2,FALSE),\"\")","v":""},null,""]
[null,null,{"$f":"IF(B3332<>\"\",VLOOKUP(B3332,[1]Desplegables!$BA$2:$BB$19,2,FALSE),\"\")","v":""},null,""]
[null,null,{"$f":"IF(B3333<>\"\",VLOOKUP(B3333,[1]Desplegables!$BA$2:$BB$19,2,FALSE),\"\")","v":""},null,{"$f":"IF(C3333<>\"\",D3333/C3333,\"\")","v":""}]
[null,null,{"$f":"IF(B3334<>\"\",VLOOKUP(B3334,[1]Desplegables!$BA$2:$BB$19,2,FALSE),\"\")","v":""},null,""]
[null,null,{"$f":"IF(B3335<>\"\",VLOOKUP(B3335,[1]Desplegables!$BA$2:$BB$19,2,FALSE),\"\")","v":""},null,""]
[null,null,{"$f":"IF(B3336<>\"\",VLOOKUP(B3336,[1]Desplegables!$BA$2:$BB$19,2,FALSE),\"\")","v":""},null,""]
[null,null,{"$f":"IF(B3337<>\"\",VLOOKUP(B3337,[1]Desplegables!$BA$2:$BB$19,2,FALSE),\"\")","v":""},null,""]
[null,null,{"$f":"IF(B3338<>\"\",VLOOKUP(B3338,[1]Desplegables!$BA$2:$BB$19,2,FALSE),\"\")","v":""},null,""]
[null,null,{"$f":"IF(B3339<>\"\",VLOOKUP(B3339,[1]Desplegables!$BA$2:$BB$19,2,FALSE),\"\")","v":""},null,""]
[null,null,{"$f":"IF(B3340<>\"\",VLOOKUP(B3340,[1]Desplegables!$BA$2:$BB$19,2,FALSE),\"\")","v":""},null,""]
[null,null,{"$f":"IF(B3341<>\"\",VLOOKUP(B3341,[1]Desplegables!$BA$2:$BB$19,2,FALSE),\"\")","v":""},null,""]
[null,null,{"$f":"IF(B3342<>\"\",VLOOKUP(B3342,[1]Desplegables!$BA$2:$BB$19,2,FALSE),\"\")","v":""},null,""]
[null,null,{"$f":"IF(B3343<>\"\",VLOOKUP(B3343,[1]Desplegables!$BA$2:$BB$19,2,FALSE),\"\")","v":""},null,""]
[null,null,{"$f":"IF(B3344<>\"\",VLOOKUP(B3344,[1]Desplegables!$BA$2:$BB$19,2,FALSE),\"\")","v":""},null,""]
[null,null,{"$f":"IF(B3345<>\"\",VLOOKUP(B3345,[1]Desplegables!$BA$2:$BB$19,2,FALSE),\"\")","v":""},null,""]
[null,null,{"$f":"IF(B3346<>\"\",VLOOKUP(B3346,[1]Desplegables!$BA$2:$BB$19,2,FALSE),\"\")","v":""},null,""]
[null,null,{"$f":"IF(B3347<>\"\",VLOOKUP(B3347,[1]Desplegables!$BA$2:$BB$19,2,FALSE),\"\")","v":""},null,""]
[null,null,{"$f":"IF(B3348<>\"\",VLOOKUP(B3348,[1]Desplegables!$BA$2:$BB$19,2,FALSE),\"\")","v":""},null,""]
[null,null,{"$f":"IF(B3349<>\"\",VLOOKUP(B3349,[1]Desplegables!$BA$2:$BB$19,2,FALSE),\"\")","v":""},null,""]
[null,null,{"$f":"IF(B3350<>\"\",VLOOKUP(B3350,[1]Desplegables!$BA$2:$BB$19,2,FALSE),\"\")","v":""},null,""]
[null,null,{"$f":"IF(B3351<>\"\",VLOOKUP(B3351,[1]Desplegables!$BA$2:$BB$19,2,FALSE),\"\")","v":""},null,""]
[null,null,{"$f":"IF(B3352<>\"\",VLOOKUP(B3352,[1]Desplegables!$BA$2:$BB$19,2,FALSE),\"\")","v":""},null,""]
[null,null,{"$f":"IF(B3353<>\"\",VLOOKUP(B3353,[1]Desplegables!$BA$2:$BB$19,2,FALSE),\"\")","v":""},null,""]
[null,null,{"$f":"IF(B3354<>\"\",VLOOKUP(B3354,[1]Desplegables!$BA$2:$BB$19,2,FALSE),\"\")","v":""},null,""]
[null,null,{"$f":"IF(B3355<>\"\",VLOOKUP(B3355,[1]Desplegables!$BA$2:$BB$19,2,FALSE),\"\")","v":""},null,""]
[null,null,{"$f":"IF(B3356<>\"\",VLOOKUP(B3356,[1]Desplegables!$BA$2:$BB$19,2,FALSE),\"\")","v":""},null,""]
[null,null,{"$f":"IF(B3357<>\"\",VLOOKUP(B3357,[1]Desplegables!$BA$2:$BB$19,2,FALSE),\"\")","v":""},null,""]
[null,null,{"$f":"IF(B3358<>\"\",VLOOKUP(B3358,[1]Desplegables!$BA$2:$BB$19,2,FALSE),\"\")","v":""},null,""]
[null,null,{"$f":"IF(B3359<>\"\",VLOOKUP(B3359,[1]Desplegables!$BA$2:$BB$19,2,FALSE),\"\")","v":""},null,""]
[null,null,{"$f":"IF(B3360<>\"\",VLOOKUP(B3360,[1]Desplegables!$BA$2:$BB$19,2,FALSE),\"\")","v":""},null,""]
[null,null,{"$f":"IF(B3361<>\"\",VLOOKUP(B3361,[1]Desplegables!$BA$2:$BB$19,2,FALSE),\"\")","v":""},null,""]
[null,null,{"$f":"IF(B3362<>\"\",VLOOKUP(B3362,[1]Desplegables!$BA$2:$BB$19,2,FALSE),\"\")","v":""},null,""]
[null,null,{"$f":"IF(B3363<>\"\",VLOOKUP(B3363,[1]Desplegables!$BA$2:$BB$19,2,FALSE),\"\")","v":""},null,""]
[null,null,{"$f":"IF(B3364<>\"\",VLOOKUP(B3364,[1]Desplegables!$BA$2:$BB$19,2,FALSE),\"\")","v":""},null,""]
[null,null,{"$f":"IF(B3365<>\"\",VLOOKUP(B3365,[1]Desplegables!$BA$2:$BB$19,2,FALSE),\"\")","v":""},null,""]
[null,null,{"$f":"IF(B3366<>\"\",VLOOKUP(B3366,[1]Desplegables!$BA$2:$BB$19,2,FALSE),\"\")","v":""},null,""]
[null,null,{"$f":"IF(B3367<>\"\",VLOOKUP(B3367,[1]Desplegables!$BA$2:$BB$19,2,FALSE),\"\")","v":""},null,""]
[null,null,{"$f":"IF(B3368<>\"\",VLOOKUP(B3368,[1]Desplegables!$BA$2:$BB$19,2,FALSE),\"\")","v":""},null,""]
[null,null,{"$f":"IF(B3369<>\"\",VLOOKUP(B3369,[1]Desplegables!$BA$2:$BB$19,2,FALSE),\"\")","v":""},null,""]
[null,null,{"$f":"IF(B3370<>\"\",VLOOKUP(B3370,[1]Desplegables!$BA$2:$BB$19,2,FALSE),\"\")","v":""},null,""]
[null,null,{"$f":"IF(B3371<>\"\",VLOOKUP(B3371,[1]Desplegables!$BA$2:$BB$19,2,FALSE),\"\")","v":""},null,""]
[null,null,{"$f":"IF(B3372<>\"\",VLOOKUP(B3372,[1]Desplegables!$BA$2:$BB$19,2,FALSE),\"\")","v":""},null,""]
[null,null,{"$f":"IF(B3373<>\"\",VLOOKUP(B3373,[1]Desplegables!$BA$2:$BB$19,2,FALSE),\"\")","v":""},null,""]
[null,null,{"$f":"IF(B3374<>\"\",VLOOKUP(B3374,[1]Desplegables!$BA$2:$BB$19,2,FALSE),\"\")","v":""},null,""]
[null,null,{"$f":"IF(B3375<>\"\",VLOOKUP(B3375,[1]Desplegables!$BA$2:$BB$19,2,FALSE),\"\")","v":""},null,""]
[null,null,{"$f":"IF(B3376<>\"\",VLOOKUP(B3376,[1]Desplegables!$BA$2:$BB$19,2,FALSE),\"\")","v":""},null,""]
[null,null,{"$f":"IF(B3377<>\"\",VLOOKUP(B3377,[1]Desplegables!$BA$2:$BB$19,2,FALSE),\"\")","v":""},null,""]
[null,null,{"$f":"IF(B3378<>\"\",VLOOKUP(B3378,[1]Desplegables!$BA$2:$BB$19,2,FALSE),\"\")","v":""},null,""]
[null,null,{"$f":"IF(B3379<>\"\",VLOOKUP(B3379,[1]Desplegables!$BA$2:$BB$19,2,FALSE),\"\")","v":""},null,""]
[null,null,{"$f":"IF(B3380<>\"\",VLOOKUP(B3380,[1]Desplegables!$BA$2:$BB$19,2,FALSE),\"\")","v":""},null,""]
[null,null,{"$f":"IF(B3381<>\"\",VLOOKUP(B3381,[1]Desplegables!$BA$2:$BB$19,2,FALSE),\"\")","v":""},null,""]
[null,null,{"$f":"IF(B3382<>\"\",VLOOKUP(B3382,[1]Desplegables!$BA$2:$BB$19,2,FALSE),\"\")","v":""},null,""]
[null,null,{"$f":"IF(B3383<>\"\",VLOOKUP(B3383,[1]Desplegables!$BA$2:$BB$19,2,FALSE),\"\")","v":""},null,""]
[null,null,{"$f":"IF(B3384<>\"\",VLOOKUP(B3384,[1]Desplegables!$BA$2:$BB$19,2,FALSE),\"\")","v":""},null,""]
[null,null,{"$f":"IF(B3385<>\"\",VLOOKUP(B3385,[1]Desplegables!$BA$2:$BB$19,2,FALSE),\"\")","v":""},null,""]
[null,null,{"$f":"IF(B3386<>\"\",VLOOKUP(B3386,[1]Desplegables!$BA$2:$BB$19,2,FALSE),\"\")","v":""},null,""]
[null,null,{"$f":"IF(B3387<>\"\",VLOOKUP(B3387,[1]Desplegables!$BA$2:$BB$19,2,FALSE),\"\")","v":""},null,""]
[null,null,{"$f":"IF(B3388<>\"\",VLOOKUP(B3388,[1]Desplegables!$BA$2:$BB$19,2,FALSE),\"\")","v":""},null,""]
[null,null,{"$f":"IF(B3389<>\"\",VLOOKUP(B3389,[1]Desplegables!$BA$2:$BB$19,2,FALSE),\"\")","v":""},null,""]
[null,null,{"$f":"IF(B3390<>\"\",VLOOKUP(B3390,[1]Desplegables!$BA$2:$BB$19,2,FALSE),\"\")","v":""},null,""]
[null,null,{"$f":"IF(B3391<>\"\",VLOOKUP(B3391,[1]Desplegables!$BA$2:$BB$19,2,FALSE),\"\")","v":""},null,""]
[null,null,{"$f":"IF(B3392<>\"\",VLOOKUP(B3392,[1]Desplegables!$BA$2:$BB$19,2,FALSE),\"\")","v":""},null,""]
[null,null,{"$f":"IF(B3393<>\"\",VLOOKUP(B3393,[1]Desplegables!$BA$2:$BB$19,2,FALSE),\"\")","v":""},null,""]
[null,null,{"$f":"IF(B3394<>\"\",VLOOKUP(B3394,[1]Desplegables!$BA$2:$BB$19,2,FALSE),\"\")","v":""},null,""]
[null,null,{"$f":"IF(B3395<>\"\",VLOOKUP(B3395,[1]Desplegables!$BA$2:$BB$19,2,FALSE),\"\")","v":""},null,""]
[null,null,{"$f":"IF(B3396<>\"\",VLOOKUP(B3396,[1]Desplegables!$BA$2:$BB$19,2,FALSE),\"\")","v":""},null,""]
[null,null,{"$f":"IF(B3397<>\"\",VLOOKUP(B3397,[1]Desplegables!$BA$2:$BB$19,2,FALSE),\"\")","v":""},null,{"$f":"IF(C3397<>\"\",D3397/C3397,\"\")","v":""}]
[null,null,{"$f":"IF(B3398<>\"\",VLOOKUP(B3398,[1]Desplegables!$BA$2:$BB$19,2,FALSE),\"\")","v":""},null,""]
[null,null,{"$f":"IF(B3399<>\"\",VLOOKUP(B3399,[1]Desplegables!$BA$2:$BB$19,2,FALSE),\"\")","v":""},null,""]
[null,null,{"$f":"IF(B3400<>\"\",VLOOKUP(B3400,[1]Desplegables!$BA$2:$BB$19,2,FALSE),\"\")","v":""},null,""]
[null,null,{"$f":"IF(B3401<>\"\",VLOOKUP(B3401,[1]Desplegables!$BA$2:$BB$19,2,FALSE),\"\")","v":""},null,""]
[null,null,{"$f":"IF(B3402<>\"\",VLOOKUP(B3402,[1]Desplegables!$BA$2:$BB$19,2,FALSE),\"\")","v":""},null,""]
[null,null,{"$f":"IF(B3403<>\"\",VLOOKUP(B3403,[1]Desplegables!$BA$2:$BB$19,2,FALSE),\"\")","v":""},null,""]
[null,null,{"$f":"IF(B3404<>\"\",VLOOKUP(B3404,[1]Desplegables!$BA$2:$BB$19,2,FALSE),\"\")","v":""},null,""]
[null,null,{"$f":"IF(B3405<>\"\",VLOOKUP(B3405,[1]Desplegables!$BA$2:$BB$19,2,FALSE),\"\")","v":""},null,""]
[null,null,{"$f":"IF(B3406<>\"\",VLOOKUP(B3406,[1]Desplegables!$BA$2:$BB$19,2,FALSE),\"\")","v":""},null,""]
[null,null,{"$f":"IF(B3407<>\"\",VLOOKUP(B3407,[1]Desplegables!$BA$2:$BB$19,2,FALSE),\"\")","v":""},null,""]
[null,null,{"$f":"IF(B3408<>\"\",VLOOKUP(B3408,[1]Desplegables!$BA$2:$BB$19,2,FALSE),\"\")","v":""},null,""]
[null,null,{"$f":"IF(B3409<>\"\",VLOOKUP(B3409,[1]Desplegables!$BA$2:$BB$19,2,FALSE),\"\")","v":""},null,""]
[null,null,{"$f":"IF(B3410<>\"\",VLOOKUP(B3410,[1]Desplegables!$BA$2:$BB$19,2,FALSE),\"\")","v":""},null,""]
[null,null,{"$f":"IF(B3411<>\"\",VLOOKUP(B3411,[1]Desplegables!$BA$2:$BB$19,2,FALSE),\"\")","v":""},null,""]
[null,null,{"$f":"IF(B3412<>\"\",VLOOKUP(B3412,[1]Desplegables!$BA$2:$BB$19,2,FALSE),\"\")","v":""},null,""]
[null,null,{"$f":"IF(B3413<>\"\",VLOOKUP(B3413,[1]Desplegables!$BA$2:$BB$19,2,FALSE),\"\")","v":""},null,""]
[null,null,{"$f":"IF(B3414<>\"\",VLOOKUP(B3414,[1]Desplegables!$BA$2:$BB$19,2,FALSE),\"\")","v":""},null,""]
[null,null,{"$f":"IF(B3415<>\"\",VLOOKUP(B3415,[1]Desplegables!$BA$2:$BB$19,2,FALSE),\"\")","v":""},null,""]
[null,null,{"$f":"IF(B3416<>\"\",VLOOKUP(B3416,[1]Desplegables!$BA$2:$BB$19,2,FALSE),\"\")","v":""},null,""]
[null,null,{"$f":"IF(B3417<>\"\",VLOOKUP(B3417,[1]Desplegables!$BA$2:$BB$19,2,FALSE),\"\")","v":""},null,""]
[null,null,{"$f":"IF(B3418<>\"\",VLOOKUP(B3418,[1]Desplegables!$BA$2:$BB$19,2,FALSE),\"\")","v":""},null,""]
[null,null,{"$f":"IF(B3419<>\"\",VLOOKUP(B3419,[1]Desplegables!$BA$2:$BB$19,2,FALSE),\"\")","v":""},null,""]
[null,null,{"$f":"IF(B3420<>\"\",VLOOKUP(B3420,[1]Desplegables!$BA$2:$BB$19,2,FALSE),\"\")","v":""},null,""]
[null,null,{"$f":"IF(B3421<>\"\",VLOOKUP(B3421,[1]Desplegables!$BA$2:$BB$19,2,FALSE),\"\")","v":""},null,""]
[null,null,{"$f":"IF(B3422<>\"\",VLOOKUP(B3422,[1]Desplegables!$BA$2:$BB$19,2,FALSE),\"\")","v":""},null,""]
[null,null,{"$f":"IF(B3423<>\"\",VLOOKUP(B3423,[1]Desplegables!$BA$2:$BB$19,2,FALSE),\"\")","v":""},null,""]
[null,null,{"$f":"IF(B3424<>\"\",VLOOKUP(B3424,[1]Desplegables!$BA$2:$BB$19,2,FALSE),\"\")","v":""},null,""]
[null,null,{"$f":"IF(B3425<>\"\",VLOOKUP(B3425,[1]Desplegables!$BA$2:$BB$19,2,FALSE),\"\")","v":""},null,""]
[null,null,{"$f":"IF(B3426<>\"\",VLOOKUP(B3426,[1]Desplegables!$BA$2:$BB$19,2,FALSE),\"\")","v":""},null,""]
[null,null,{"$f":"IF(B3427<>\"\",VLOOKUP(B3427,[1]Desplegables!$BA$2:$BB$19,2,FALSE),\"\")","v":""},null,""]
[null,null,{"$f":"IF(B3428<>\"\",VLOOKUP(B3428,[1]Desplegables!$BA$2:$BB$19,2,FALSE),\"\")","v":""},null,""]
[null,null,{"$f":"IF(B3429<>\"\",VLOOKUP(B3429,[1]Desplegables!$BA$2:$BB$19,2,FALSE),\"\")","v":""},null,""]
[null,null,{"$f":"IF(B3430<>\"\",VLOOKUP(B3430,[1]Desplegables!$BA$2:$BB$19,2,FALSE),\"\")","v":""},null,""]
[null,null,{"$f":"IF(B3431<>\"\",VLOOKUP(B3431,[1]Desplegables!$BA$2:$BB$19,2,FALSE),\"\")","v":""},null,""]
[null,null,{"$f":"IF(B3432<>\"\",VLOOKUP(B3432,[1]Desplegables!$BA$2:$BB$19,2,FALSE),\"\")","v":""},null,""]
[null,null,{"$f":"IF(B3433<>\"\",VLOOKUP(B3433,[1]Desplegables!$BA$2:$BB$19,2,FALSE),\"\")","v":""},null,""]
[null,null,{"$f":"IF(B3434<>\"\",VLOOKUP(B3434,[1]Desplegables!$BA$2:$BB$19,2,FALSE),\"\")","v":""},null,""]
[null,null,{"$f":"IF(B3435<>\"\",VLOOKUP(B3435,[1]Desplegables!$BA$2:$BB$19,2,FALSE),\"\")","v":""},null,""]
[null,null,{"$f":"IF(B3436<>\"\",VLOOKUP(B3436,[1]Desplegables!$BA$2:$BB$19,2,FALSE),\"\")","v":""},null,""]
[null,null,{"$f":"IF(B3437<>\"\",VLOOKUP(B3437,[1]Desplegables!$BA$2:$BB$19,2,FALSE),\"\")","v":""},null,""]
[null,null,{"$f":"IF(B3438<>\"\",VLOOKUP(B3438,[1]Desplegables!$BA$2:$BB$19,2,FALSE),\"\")","v":""},null,""]
[null,null,{"$f":"IF(B3439<>\"\",VLOOKUP(B3439,[1]Desplegables!$BA$2:$BB$19,2,FALSE),\"\")","v":""},null,""]
[null,null,{"$f":"IF(B3440<>\"\",VLOOKUP(B3440,[1]Desplegables!$BA$2:$BB$19,2,FALSE),\"\")","v":""},null,""]
[null,null,{"$f":"IF(B3441<>\"\",VLOOKUP(B3441,[1]Desplegables!$BA$2:$BB$19,2,FALSE),\"\")","v":""},null,""]
[null,null,{"$f":"IF(B3442<>\"\",VLOOKUP(B3442,[1]Desplegables!$BA$2:$BB$19,2,FALSE),\"\")","v":""},null,""]
[null,null,{"$f":"IF(B3443<>\"\",VLOOKUP(B3443,[1]Desplegables!$BA$2:$BB$19,2,FALSE),\"\")","v":""},null,""]
[null,null,{"$f":"IF(B3444<>\"\",VLOOKUP(B3444,[1]Desplegables!$BA$2:$BB$19,2,FALSE),\"\")","v":""},null,""]
[null,null,{"$f":"IF(B3445<>\"\",VLOOKUP(B3445,[1]Desplegables!$BA$2:$BB$19,2,FALSE),\"\")","v":""},null,""]
[null,null,{"$f":"IF(B3446<>\"\",VLOOKUP(B3446,[1]Desplegables!$BA$2:$BB$19,2,FALSE),\"\")","v":""},null,""]
[null,null,{"$f":"IF(B3447<>\"\",VLOOKUP(B3447,[1]Desplegables!$BA$2:$BB$19,2,FALSE),\"\")","v":""},null,""]
[null,null,{"$f":"IF(B3448<>\"\",VLOOKUP(B3448,[1]Desplegables!$BA$2:$BB$19,2,FALSE),\"\")","v":""},null,""]
[null,null,{"$f":"IF(B3449<>\"\",VLOOKUP(B3449,[1]Desplegables!$BA$2:$BB$19,2,FALSE),\"\")","v":""},null,""]
[null,null,{"$f":"IF(B3450<>\"\",VLOOKUP(B3450,[1]Desplegables!$BA$2:$BB$19,2,FALSE),\"\")","v":""},null,""]
[null,null,{"$f":"IF(B3451<>\"\",VLOOKUP(B3451,[1]Desplegables!$BA$2:$BB$19,2,FALSE),\"\")","v":""},null,""]
[null,null,{"$f":"IF(B3452<>\"\",VLOOKUP(B3452,[1]Desplegables!$BA$2:$BB$19,2,FALSE),\"\")","v":""},null,""]
[null,null,{"$f":"IF(B3453<>\"\",VLOOKUP(B3453,[1]Desplegables!$BA$2:$BB$19,2,FALSE),\"\")","v":""},null,""]
[null,null,{"$f":"IF(B3454<>\"\",VLOOKUP(B3454,[1]Desplegables!$BA$2:$BB$19,2,FALSE),\"\")","v":""},null,""]
[null,null,{"$f":"IF(B3455<>\"\",VLOOKUP(B3455,[1]Desplegables!$BA$2:$BB$19,2,FALSE),\"\")","v":""},null,""]
[null,null,{"$f":"IF(B3456<>\"\",VLOOKUP(B3456,[1]Desplegables!$BA$2:$BB$19,2,FALSE),\"\")","v":""},null,""]
[null,null,{"$f":"IF(B3457<>\"\",VLOOKUP(B3457,[1]Desplegables!$BA$2:$BB$19,2,FALSE),\"\")","v":""},null,""]
[null,null,{"$f":"IF(B3458<>\"\",VLOOKUP(B3458,[1]Desplegables!$BA$2:$BB$19,2,FALSE),\"\")","v":""},null,""]
[null,null,{"$f":"IF(B3459<>\"\",VLOOKUP(B3459,[1]Desplegables!$BA$2:$BB$19,2,FALSE),\"\")","v":""},null,""]
[null,null,{"$f":"IF(B3460<>\"\",VLOOKUP(B3460,[1]Desplegables!$BA$2:$BB$19,2,FALSE),\"\")","v":""},null,""]
[null,null,{"$f":"IF(B3461<>\"\",VLOOKUP(B3461,[1]Desplegables!$BA$2:$BB$19,2,FALSE),\"\")","v":""},null,{"$f":"IF(C3461<>\"\",D3461/C3461,\"\")","v":""}]
[null,null,{"$f":"IF(B3462<>\"\",VLOOKUP(B3462,[1]Desplegables!$BA$2:$BB$19,2,FALSE),\"\")","v":""},null,""]
[null,null,{"$f":"IF(B3463<>\"\",VLOOKUP(B3463,[1]Desplegables!$BA$2:$BB$19,2,FALSE),\"\")","v":""},null,""]
[null,null,{"$f":"IF(B3464<>\"\",VLOOKUP(B3464,[1]Desplegables!$BA$2:$BB$19,2,FALSE),\"\")","v":""},null,""]
[null,null,{"$f":"IF(B3465<>\"\",VLOOKUP(B3465,[1]Desplegables!$BA$2:$BB$19,2,FALSE),\"\")","v":""},null,""]
[null,null,{"$f":"IF(B3466<>\"\",VLOOKUP(B3466,[1]Desplegables!$BA$2:$BB$19,2,FALSE),\"\")","v":""},null,""]
[null,null,{"$f":"IF(B3467<>\"\",VLOOKUP(B3467,[1]Desplegables!$BA$2:$BB$19,2,FALSE),\"\")","v":""},null,""]
[null,null,{"$f":"IF(B3468<>\"\",VLOOKUP(B3468,[1]Desplegables!$BA$2:$BB$19,2,FALSE),\"\")","v":""},null,""]
[null,null,{"$f":"IF(B3469<>\"\",VLOOKUP(B3469,[1]Desplegables!$BA$2:$BB$19,2,FALSE),\"\")","v":""},null,""]
[null,null,{"$f":"IF(B3470<>\"\",VLOOKUP(B3470,[1]Desplegables!$BA$2:$BB$19,2,FALSE),\"\")","v":""},null,""]
[null,null,{"$f":"IF(B3471<>\"\",VLOOKUP(B3471,[1]Desplegables!$BA$2:$BB$19,2,FALSE),\"\")","v":""},null,""]
[null,null,{"$f":"IF(B3472<>\"\",VLOOKUP(B3472,[1]Desplegables!$BA$2:$BB$19,2,FALSE),\"\")","v":""},null,""]
[null,null,{"$f":"IF(B3473<>\"\",VLOOKUP(B3473,[1]Desplegables!$BA$2:$BB$19,2,FALSE),\"\")","v":""},null,""]
[null,null,{"$f":"IF(B3474<>\"\",VLOOKUP(B3474,[1]Desplegables!$BA$2:$BB$19,2,FALSE),\"\")","v":""},null,""]
[null,null,{"$f":"IF(B3475<>\"\",VLOOKUP(B3475,[1]Desplegables!$BA$2:$BB$19,2,FALSE),\"\")","v":""},null,""]
[null,null,{"$f":"IF(B3476<>\"\",VLOOKUP(B3476,[1]Desplegables!$BA$2:$BB$19,2,FALSE),\"\")","v":""},null,""]
[null,null,{"$f":"IF(B3477<>\"\",VLOOKUP(B3477,[1]Desplegables!$BA$2:$BB$19,2,FALSE),\"\")","v":""},null,""]
[null,null,{"$f":"IF(B3478<>\"\",VLOOKUP(B3478,[1]Desplegables!$BA$2:$BB$19,2,FALSE),\"\")","v":""},null,""]
[null,null,{"$f":"IF(B3479<>\"\",VLOOKUP(B3479,[1]Desplegables!$BA$2:$BB$19,2,FALSE),\"\")","v":""},null,""]
[null,null,{"$f":"IF(B3480<>\"\",VLOOKUP(B3480,[1]Desplegables!$BA$2:$BB$19,2,FALSE),\"\")","v":""},null,""]
[null,null,{"$f":"IF(B3481<>\"\",VLOOKUP(B3481,[1]Desplegables!$BA$2:$BB$19,2,FALSE),\"\")","v":""},null,""]
[null,null,{"$f":"IF(B3482<>\"\",VLOOKUP(B3482,[1]Desplegables!$BA$2:$BB$19,2,FALSE),\"\")","v":""},null,""]
[null,null,{"$f":"IF(B3483<>\"\",VLOOKUP(B3483,[1]Desplegables!$BA$2:$BB$19,2,FALSE),\"\")","v":""},null,""]
[null,null,{"$f":"IF(B3484<>\"\",VLOOKUP(B3484,[1]Desplegables!$BA$2:$BB$19,2,FALSE),\"\")","v":""},null,""]
[null,null,{"$f":"IF(B3485<>\"\",VLOOKUP(B3485,[1]Desplegables!$BA$2:$BB$19,2,FALSE),\"\")","v":""},null,""]
[null,null,{"$f":"IF(B3486<>\"\",VLOOKUP(B3486,[1]Desplegables!$BA$2:$BB$19,2,FALSE),\"\")","v":""},null,""]
[null,null,{"$f":"IF(B3487<>\"\",VLOOKUP(B3487,[1]Desplegables!$BA$2:$BB$19,2,FALSE),\"\")","v":""},null,""]
[null,null,{"$f":"IF(B3488<>\"\",VLOOKUP(B3488,[1]Desplegables!$BA$2:$BB$19,2,FALSE),\"\")","v":""},null,""]
[null,null,{"$f":"IF(B3489<>\"\",VLOOKUP(B3489,[1]Desplegables!$BA$2:$BB$19,2,FALSE),\"\")","v":""},null,""]
[null,null,{"$f":"IF(B3490<>\"\",VLOOKUP(B3490,[1]Desplegables!$BA$2:$BB$19,2,FALSE),\"\")","v":""},null,""]
[null,null,{"$f":"IF(B3491<>\"\",VLOOKUP(B3491,[1]Desplegables!$BA$2:$BB$19,2,FALSE),\"\")","v":""},null,""]
[null,null,{"$f":"IF(B3492<>\"\",VLOOKUP(B3492,[1]Desplegables!$BA$2:$BB$19,2,FALSE),\"\")","v":""},null,""]
[null,null,{"$f":"IF(B3493<>\"\",VLOOKUP(B3493,[1]Desplegables!$BA$2:$BB$19,2,FALSE),\"\")","v":""},null,""]
[null,null,{"$f":"IF(B3494<>\"\",VLOOKUP(B3494,[1]Desplegables!$BA$2:$BB$19,2,FALSE),\"\")","v":""},null,""]
[null,null,{"$f":"IF(B3495<>\"\",VLOOKUP(B3495,[1]Desplegables!$BA$2:$BB$19,2,FALSE),\"\")","v":""},null,""]
[null,null,{"$f":"IF(B3496<>\"\",VLOOKUP(B3496,[1]Desplegables!$BA$2:$BB$19,2,FALSE),\"\")","v":""},null,""]
[null,null,{"$f":"IF(B3497<>\"\",VLOOKUP(B3497,[1]Desplegables!$BA$2:$BB$19,2,FALSE),\"\")","v":""},null,""]
[null,null,{"$f":"IF(B3498<>\"\",VLOOKUP(B3498,[1]Desplegables!$BA$2:$BB$19,2,FALSE),\"\")","v":""},null,""]
[null,null,{"$f":"IF(B3499<>\"\",VLOOKUP(B3499,[1]Desplegables!$BA$2:$BB$19,2,FALSE),\"\")","v":""},null,""]
[null,null,{"$f":"IF(B3500<>\"\",VLOOKUP(B3500,[1]Desplegables!$BA$2:$BB$19,2,FALSE),\"\")","v":""},null,""]
[null,null,{"$f":"IF(B3501<>\"\",VLOOKUP(B3501,[1]Desplegables!$BA$2:$BB$19,2,FALSE),\"\")","v":""},null,""]
[null,null,{"$f":"IF(B3502<>\"\",VLOOKUP(B3502,[1]Desplegables!$BA$2:$BB$19,2,FALSE),\"\")","v":""},null,""]
[null,null,{"$f":"IF(B3503<>\"\",VLOOKUP(B3503,[1]Desplegables!$BA$2:$BB$19,2,FALSE),\"\")","v":""},null,""]
[null,null,{"$f":"IF(B3504<>\"\",VLOOKUP(B3504,[1]Desplegables!$BA$2:$BB$19,2,FALSE),\"\")","v":""},null,""]
[null,null,{"$f":"IF(B3505<>\"\",VLOOKUP(B3505,[1]Desplegables!$BA$2:$BB$19,2,FALSE),\"\")","v":""},null,""]
[null,null,{"$f":"IF(B3506<>\"\",VLOOKUP(B3506,[1]Desplegables!$BA$2:$BB$19,2,FALSE),\"\")","v":""},null,""]
[null,null,{"$f":"IF(B3507<>\"\",VLOOKUP(B3507,[1]Desplegables!$BA$2:$BB$19,2,FALSE),\"\")","v":""},null,""]
[null,null,{"$f":"IF(B3508<>\"\",VLOOKUP(B3508,[1]Desplegables!$BA$2:$BB$19,2,FALSE),\"\")","v":""},null,""]
[null,null,{"$f":"IF(B3509<>\"\",VLOOKUP(B3509,[1]Desplegables!$BA$2:$BB$19,2,FALSE),\"\")","v":""},null,""]
[null,null,{"$f":"IF(B3510<>\"\",VLOOKUP(B3510,[1]Desplegables!$BA$2:$BB$19,2,FALSE),\"\")","v":""},null,""]
[null,null,{"$f":"IF(B3511<>\"\",VLOOKUP(B3511,[1]Desplegables!$BA$2:$BB$19,2,FALSE),\"\")","v":""},null,""]
[null,null,{"$f":"IF(B3512<>\"\",VLOOKUP(B3512,[1]Desplegables!$BA$2:$BB$19,2,FALSE),\"\")","v":""},null,""]
[null,null,{"$f":"IF(B3513<>\"\",VLOOKUP(B3513,[1]Desplegables!$BA$2:$BB$19,2,FALSE),\"\")","v":""},null,""]
[null,null,{"$f":"IF(B3514<>\"\",VLOOKUP(B3514,[1]Desplegables!$BA$2:$BB$19,2,FALSE),\"\")","v":""},null,""]
[null,null,{"$f":"IF(B3515<>\"\",VLOOKUP(B3515,[1]Desplegables!$BA$2:$BB$19,2,FALSE),\"\")","v":""},null,""]
[null,null,{"$f":"IF(B3516<>\"\",VLOOKUP(B3516,[1]Desplegables!$BA$2:$BB$19,2,FALSE),\"\")","v":""},null,""]
[null,null,{"$f":"IF(B3517<>\"\",VLOOKUP(B3517,[1]Desplegables!$BA$2:$BB$19,2,FALSE),\"\")","v":""},null,""]
[null,null,{"$f":"IF(B3518<>\"\",VLOOKUP(B3518,[1]Desplegables!$BA$2:$BB$19,2,FALSE),\"\")","v":""},null,""]
[null,null,{"$f":"IF(B3519<>\"\",VLOOKUP(B3519,[1]Desplegables!$BA$2:$BB$19,2,FALSE),\"\")","v":""},null,""]
[null,null,{"$f":"IF(B3520<>\"\",VLOOKUP(B3520,[1]Desplegables!$BA$2:$BB$19,2,FALSE),\"\")","v":""},null,""]
[null,null,{"$f":"IF(B3521<>\"\",VLOOKUP(B3521,[1]Desplegables!$BA$2:$BB$19,2,FALSE),\"\")","v":""},null,""]
[null,null,{"$f":"IF(B3522<>\"\",VLOOKUP(B3522,[1]Desplegables!$BA$2:$BB$19,2,FALSE),\"\")","v":""},null,""]
[null,null,{"$f":"IF(B3523<>\"\",VLOOKUP(B3523,[1]Desplegables!$BA$2:$BB$19,2,FALSE),\"\")","v":""},null,""]
[null,null,{"$f":"IF(B3524<>\"\",VLOOKUP(B3524,[1]Desplegables!$BA$2:$BB$19,2,FALSE),\"\")","v":""},null,""]
[null,null,{"$f":"IF(B3525<>\"\",VLOOKUP(B3525,[1]Desplegables!$BA$2:$BB$19,2,FALSE),\"\")","v":""},null,{"$f":"IF(C3525<>\"\",D3525/C3525,\"\")","v":""}]
[null,null,{"$f":"IF(B3526<>\"\",VLOOKUP(B3526,[1]Desplegables!$BA$2:$BB$19,2,FALSE),\"\")","v":""},null,""]
[null,null,{"$f":"IF(B3527<>\"\",VLOOKUP(B3527,[1]Desplegables!$BA$2:$BB$19,2,FALSE),\"\")","v":""},null,""]
[null,null,{"$f":"IF(B3528<>\"\",VLOOKUP(B3528,[1]Desplegables!$BA$2:$BB$19,2,FALSE),\"\")","v":""},null,""]
[null,null,{"$f":"IF(B3529<>\"\",VLOOKUP(B3529,[1]Desplegables!$BA$2:$BB$19,2,FALSE),\"\")","v":""},null,""]
[null,null,{"$f":"IF(B3530<>\"\",VLOOKUP(B3530,[1]Desplegables!$BA$2:$BB$19,2,FALSE),\"\")","v":""},null,""]
[null,null,{"$f":"IF(B3531<>\"\",VLOOKUP(B3531,[1]Desplegables!$BA$2:$BB$19,2,FALSE),\"\")","v":""},null,""]
[null,null,{"$f":"IF(B3532<>\"\",VLOOKUP(B3532,[1]Desplegables!$BA$2:$BB$19,2,FALSE),\"\")","v":""},null,""]
[null,null,{"$f":"IF(B3533<>\"\",VLOOKUP(B3533,[1]Desplegables!$BA$2:$BB$19,2,FALSE),\"\")","v":""},null,""]
[null,null,{"$f":"IF(B3534<>\"\",VLOOKUP(B3534,[1]Desplegables!$BA$2:$BB$19,2,FALSE),\"\")","v":""},null,""]
[null,null,{"$f":"IF(B3535<>\"\",VLOOKUP(B3535,[1]Desplegables!$BA$2:$BB$19,2,FALSE),\"\")","v":""},null,""]
[null,null,{"$f":"IF(B3536<>\"\",VLOOKUP(B3536,[1]Desplegables!$BA$2:$BB$19,2,FALSE),\"\")","v":""},null,""]
[null,null,{"$f":"IF(B3537<>\"\",VLOOKUP(B3537,[1]Desplegables!$BA$2:$BB$19,2,FALSE),\"\")","v":""},null,""]
[null,null,{"$f":"IF(B3538<>\"\",VLOOKUP(B3538,[1]Desplegables!$BA$2:$BB$19,2,FALSE),\"\")","v":""},null,""]
[null,null,{"$f":"IF(B3539<>\"\",VLOOKUP(B3539,[1]Desplegables!$BA$2:$BB$19,2,FALSE),\"\")","v":""},null,""]
[null,null,{"$f":"IF(B3540<>\"\",VLOOKUP(B3540,[1]Desplegables!$BA$2:$BB$19,2,FALSE),\"\")","v":""},null,""]
[null,null,{"$f":"IF(B3541<>\"\",VLOOKUP(B3541,[1]Desplegables!$BA$2:$BB$19,2,FALSE),\"\")","v":""},null,""]
[null,null,{"$f":"IF(B3542<>\"\",VLOOKUP(B3542,[1]Desplegables!$BA$2:$BB$19,2,FALSE),\"\")","v":""},null,""]
[null,null,{"$f":"IF(B3543<>\"\",VLOOKUP(B3543,[1]Desplegables!$BA$2:$BB$19,2,FALSE),\"\")","v":""},null,""]
[null,null,{"$f":"IF(B3544<>\"\",VLOOKUP(B3544,[1]Desplegables!$BA$2:$BB$19,2,FALSE),\"\")","v":""},null,""]
[null,null,{"$f":"IF(B3545<>\"\",VLOOKUP(B3545,[1]Desplegables!$BA$2:$BB$19,2,FALSE),\"\")","v":""},null,""]
[null,null,{"$f":"IF(B3546<>\"\",VLOOKUP(B3546,[1]Desplegables!$BA$2:$BB$19,2,FALSE),\"\")","v":""},null,""]
[null,null,{"$f":"IF(B3547<>\"\",VLOOKUP(B3547,[1]Desplegables!$BA$2:$BB$19,2,FALSE),\"\")","v":""},null,""]
[null,null,{"$f":"IF(B3548<>\"\",VLOOKUP(B3548,[1]Desplegables!$BA$2:$BB$19,2,FALSE),\"\")","v":""},null,""]
[null,null,{"$f":"IF(B3549<>\"\",VLOOKUP(B3549,[1]Desplegables!$BA$2:$BB$19,2,FALSE),\"\")","v":""},null,""]
[null,null,{"$f":"IF(B3550<>\"\",VLOOKUP(B3550,[1]Desplegables!$BA$2:$BB$19,2,FALSE),\"\")","v":""},null,""]
[null,null,{"$f":"IF(B3551<>\"\",VLOOKUP(B3551,[1]Desplegables!$BA$2:$BB$19,2,FALSE),\"\")","v":""},null,""]
[null,null,{"$f":"IF(B3552<>\"\",VLOOKUP(B3552,[1]Desplegables!$BA$2:$BB$19,2,FALSE),\"\")","v":""},null,""]
[null,null,{"$f":"IF(B3553<>\"\",VLOOKUP(B3553,[1]Desplegables!$BA$2:$BB$19,2,FALSE),\"\")","v":""},null,""]
[null,null,{"$f":"IF(B3554<>\"\",VLOOKUP(B3554,[1]Desplegables!$BA$2:$BB$19,2,FALSE),\"\")","v":""},null,""]
[null,null,{"$f":"IF(B3555<>\"\",VLOOKUP(B3555,[1]Desplegables!$BA$2:$BB$19,2,FALSE),\"\")","v":""},null,""]
[null,null,{"$f":"IF(B3556<>\"\",VLOOKUP(B3556,[1]Desplegables!$BA$2:$BB$19,2,FALSE),\"\")","v":""},null,""]
[null,null,{"$f":"IF(B3557<>\"\",VLOOKUP(B3557,[1]Desplegables!$BA$2:$BB$19,2,FALSE),\"\")","v":""},null,""]
[null,null,{"$f":"IF(B3558<>\"\",VLOOKUP(B3558,[1]Desplegables!$BA$2:$BB$19,2,FALSE),\"\")","v":""},null,""]
[null,null,{"$f":"IF(B3559<>\"\",VLOOKUP(B3559,[1]Desplegables!$BA$2:$BB$19,2,FALSE),\"\")","v":""},null,""]
[null,null,{"$f":"IF(B3560<>\"\",VLOOKUP(B3560,[1]Desplegables!$BA$2:$BB$19,2,FALSE),\"\")","v":""},null,""]
[null,null,{"$f":"IF(B3561<>\"\",VLOOKUP(B3561,[1]Desplegables!$BA$2:$BB$19,2,FALSE),\"\")","v":""},null,""]
[null,null,{"$f":"IF(B3562<>\"\",VLOOKUP(B3562,[1]Desplegables!$BA$2:$BB$19,2,FALSE),\"\")","v":""},null,""]
[null,null,{"$f":"IF(B3563<>\"\",VLOOKUP(B3563,[1]Desplegables!$BA$2:$BB$19,2,FALSE),\"\")","v":""},null,""]
[null,null,{"$f":"IF(B3564<>\"\",VLOOKUP(B3564,[1]Desplegables!$BA$2:$BB$19,2,FALSE),\"\")","v":""},null,""]
[null,null,{"$f":"IF(B3565<>\"\",VLOOKUP(B3565,[1]Desplegables!$BA$2:$BB$19,2,FALSE),\"\")","v":""},null,""]
[null,null,{"$f":"IF(B3566<>\"\",VLOOKUP(B3566,[1]Desplegables!$BA$2:$BB$19,2,FALSE),\"\")","v":""},null,""]
[null,null,{"$f":"IF(B3567<>\"\",VLOOKUP(B3567,[1]Desplegables!$BA$2:$BB$19,2,FALSE),\"\")","v":""},null,""]
[null,null,{"$f":"IF(B3568<>\"\",VLOOKUP(B3568,[1]Desplegables!$BA$2:$BB$19,2,FALSE),\"\")","v":""},null,""]
[null,null,{"$f":"IF(B3569<>\"\",VLOOKUP(B3569,[1]Desplegables!$BA$2:$BB$19,2,FALSE),\"\")","v":""},null,""]
[null,null,{"$f":"IF(B3570<>\"\",VLOOKUP(B3570,[1]Desplegables!$BA$2:$BB$19,2,FALSE),\"\")","v":""},null,""]
[null,null,{"$f":"IF(B3571<>\"\",VLOOKUP(B3571,[1]Desplegables!$BA$2:$BB$19,2,FALSE),\"\")","v":""},null,""]
[null,null,{"$f":"IF(B3572<>\"\",VLOOKUP(B3572,[1]Desplegables!$BA$2:$BB$19,2,FALSE),\"\")","v":""},null,""]
[null,null,{"$f":"IF(B3573<>\"\",VLOOKUP(B3573,[1]Desplegables!$BA$2:$BB$19,2,FALSE),\"\")","v":""},null,""]
[null,null,{"$f":"IF(B3574<>\"\",VLOOKUP(B3574,[1]Desplegables!$BA$2:$BB$19,2,FALSE),\"\")","v":""},null,""]
[null,null,{"$f":"IF(B3575<>\"\",VLOOKUP(B3575,[1]Desplegables!$BA$2:$BB$19,2,FALSE),\"\")","v":""},null,""]
[null,null,{"$f":"IF(B3576<>\"\",VLOOKUP(B3576,[1]Desplegables!$BA$2:$BB$19,2,FALSE),\"\")","v":""},null,""]
[null,null,{"$f":"IF(B3577<>\"\",VLOOKUP(B3577,[1]Desplegables!$BA$2:$BB$19,2,FALSE),\"\")","v":""},null,""]
[null,null,{"$f":"IF(B3578<>\"\",VLOOKUP(B3578,[1]Desplegables!$BA$2:$BB$19,2,FALSE),\"\")","v":""},null,""]
[null,null,{"$f":"IF(B3579<>\"\",VLOOKUP(B3579,[1]Desplegables!$BA$2:$BB$19,2,FALSE),\"\")","v":""},null,""]
[null,null,{"$f":"IF(B3580<>\"\",VLOOKUP(B3580,[1]Desplegables!$BA$2:$BB$19,2,FALSE),\"\")","v":""},null,""]
[null,null,{"$f":"IF(B3581<>\"\",VLOOKUP(B3581,[1]Desplegables!$BA$2:$BB$19,2,FALSE),\"\")","v":""},null,""]
[null,null,{"$f":"IF(B3582<>\"\",VLOOKUP(B3582,[1]Desplegables!$BA$2:$BB$19,2,FALSE),\"\")","v":""},null,""]
[null,null,{"$f":"IF(B3583<>\"\",VLOOKUP(B3583,[1]Desplegables!$BA$2:$BB$19,2,FALSE),\"\")","v":""},null,""]
[null,null,{"$f":"IF(B3584<>\"\",VLOOKUP(B3584,[1]Desplegables!$BA$2:$BB$19,2,FALSE),\"\")","v":""},null,""]
[null,null,{"$f":"IF(B3585<>\"\",VLOOKUP(B3585,[1]Desplegables!$BA$2:$BB$19,2,FALSE),\"\")","v":""},null,""]
[null,null,{"$f":"IF(B3586<>\"\",VLOOKUP(B3586,[1]Desplegables!$BA$2:$BB$19,2,FALSE),\"\")","v":""},null,""]
[null,null,{"$f":"IF(B3587<>\"\",VLOOKUP(B3587,[1]Desplegables!$BA$2:$BB$19,2,FALSE),\"\")","v":""},null,""]
[null,null,{"$f":"IF(B3588<>\"\",VLOOKUP(B3588,[1]Desplegables!$BA$2:$BB$19,2,FALSE),\"\")","v":""},null,""]
[null,null,{"$f":"IF(B3589<>\"\",VLOOKUP(B3589,[1]Desplegables!$BA$2:$BB$19,2,FALSE),\"\")","v":""},null,{"$f":"IF(C3589<>\"\",D3589/C3589,\"\")","v":""}]
[null,null,{"$f":"IF(B3590<>\"\",VLOOKUP(B3590,[1]Desplegables!$BA$2:$BB$19,2,FALSE),\"\")","v":""},null,""]
[null,null,{"$f":"IF(B3591<>\"\",VLOOKUP(B3591,[1]Desplegables!$BA$2:$BB$19,2,FALSE),\"\")","v":""},null,""]
[null,null,{"$f":"IF(B3592<>\"\",VLOOKUP(B3592,[1]Desplegables!$BA$2:$BB$19,2,FALSE),\"\")","v":""},null,""]
[null,null,{"$f":"IF(B3593<>\"\",VLOOKUP(B3593,[1]Desplegables!$BA$2:$BB$19,2,FALSE),\"\")","v":""},null,""]
[null,null,{"$f":"IF(B3594<>\"\",VLOOKUP(B3594,[1]Desplegables!$BA$2:$BB$19,2,FALSE),\"\")","v":""},null,""]
[null,null,{"$f":"IF(B3595<>\"\",VLOOKUP(B3595,[1]Desplegables!$BA$2:$BB$19,2,FALSE),\"\")","v":""},null,""]
[null,null,{"$f":"IF(B3596<>\"\",VLOOKUP(B3596,[1]Desplegables!$BA$2:$BB$19,2,FALSE),\"\")","v":""},null,""]
[null,null,{"$f":"IF(B3597<>\"\",VLOOKUP(B3597,[1]Desplegables!$BA$2:$BB$19,2,FALSE),\"\")","v":""},null,""]
[null,null,{"$f":"IF(B3598<>\"\",VLOOKUP(B3598,[1]Desplegables!$BA$2:$BB$19,2,FALSE),\"\")","v":""},null,""]
[null,null,{"$f":"IF(B3599<>\"\",VLOOKUP(B3599,[1]Desplegables!$BA$2:$BB$19,2,FALSE),\"\")","v":""},null,""]
[null,null,{"$f":"IF(B3600<>\"\",VLOOKUP(B3600,[1]Desplegables!$BA$2:$BB$19,2,FALSE),\"\")","v":""},null,""]
[null,null,{"$f":"IF(B3601<>\"\",VLOOKUP(B3601,[1]Desplegables!$BA$2:$BB$19,2,FALSE),\"\")","v":""},null,""]
[null,null,{"$f":"IF(B3602<>\"\",VLOOKUP(B3602,[1]Desplegables!$BA$2:$BB$19,2,FALSE),\"\")","v":""},null,""]
[null,null,{"$f":"IF(B3603<>\"\",VLOOKUP(B3603,[1]Desplegables!$BA$2:$BB$19,2,FALSE),\"\")","v":""},null,""]
[null,null,{"$f":"IF(B3604<>\"\",VLOOKUP(B3604,[1]Desplegables!$BA$2:$BB$19,2,FALSE),\"\")","v":""},null,""]
[null,null,{"$f":"IF(B3605<>\"\",VLOOKUP(B3605,[1]Desplegables!$BA$2:$BB$19,2,FALSE),\"\")","v":""},null,""]
[null,null,{"$f":"IF(B3606<>\"\",VLOOKUP(B3606,[1]Desplegables!$BA$2:$BB$19,2,FALSE),\"\")","v":""},null,""]
[null,null,{"$f":"IF(B3607<>\"\",VLOOKUP(B3607,[1]Desplegables!$BA$2:$BB$19,2,FALSE),\"\")","v":""},null,""]
[null,null,{"$f":"IF(B3608<>\"\",VLOOKUP(B3608,[1]Desplegables!$BA$2:$BB$19,2,FALSE),\"\")","v":""},null,""]
[null,null,{"$f":"IF(B3609<>\"\",VLOOKUP(B3609,[1]Desplegables!$BA$2:$BB$19,2,FALSE),\"\")","v":""},null,""]
[null,null,{"$f":"IF(B3610<>\"\",VLOOKUP(B3610,[1]Desplegables!$BA$2:$BB$19,2,FALSE),\"\")","v":""},null,""]
[null,null,{"$f":"IF(B3611<>\"\",VLOOKUP(B3611,[1]Desplegables!$BA$2:$BB$19,2,FALSE),\"\")","v":""},null,""]
[null,null,{"$f":"IF(B3612<>\"\",VLOOKUP(B3612,[1]Desplegables!$BA$2:$BB$19,2,FALSE),\"\")","v":""},null,""]
[null,null,{"$f":"IF(B3613<>\"\",VLOOKUP(B3613,[1]Desplegables!$BA$2:$BB$19,2,FALSE),\"\")","v":""},null,""]
[null,null,{"$f":"IF(B3614<>\"\",VLOOKUP(B3614,[1]Desplegables!$BA$2:$BB$19,2,FALSE),\"\")","v":""},null,""]
[null,null,{"$f":"IF(B3615<>\"\",VLOOKUP(B3615,[1]Desplegables!$BA$2:$BB$19,2,FALSE),\"\")","v":""},null,""]
[null,null,{"$f":"IF(B3616<>\"\",VLOOKUP(B3616,[1]Desplegables!$BA$2:$BB$19,2,FALSE),\"\")","v":""},null,""]
[null,null,{"$f":"IF(B3617<>\"\",VLOOKUP(B3617,[1]Desplegables!$BA$2:$BB$19,2,FALSE),\"\")","v":""},null,""]
[null,null,{"$f":"IF(B3618<>\"\",VLOOKUP(B3618,[1]Desplegables!$BA$2:$BB$19,2,FALSE),\"\")","v":""},null,""]
[null,null,{"$f":"IF(B3619<>\"\",VLOOKUP(B3619,[1]Desplegables!$BA$2:$BB$19,2,FALSE),\"\")","v":""},null,""]
[null,null,{"$f":"IF(B3620<>\"\",VLOOKUP(B3620,[1]Desplegables!$BA$2:$BB$19,2,FALSE),\"\")","v":""},null,""]
[null,null,{"$f":"IF(B3621<>\"\",VLOOKUP(B3621,[1]Desplegables!$BA$2:$BB$19,2,FALSE),\"\")","v":""},null,""]
[null,null,{"$f":"IF(B3622<>\"\",VLOOKUP(B3622,[1]Desplegables!$BA$2:$BB$19,2,FALSE),\"\")","v":""},null,""]
[null,null,{"$f":"IF(B3623<>\"\",VLOOKUP(B3623,[1]Desplegables!$BA$2:$BB$19,2,FALSE),\"\")","v":""},null,""]
[null,null,{"$f":"IF(B3624<>\"\",VLOOKUP(B3624,[1]Desplegables!$BA$2:$BB$19,2,FALSE),\"\")","v":""},null,""]
[null,null,{"$f":"IF(B3625<>\"\",VLOOKUP(B3625,[1]Desplegables!$BA$2:$BB$19,2,FALSE),\"\")","v":""},null,""]
[null,null,{"$f":"IF(B3626<>\"\",VLOOKUP(B3626,[1]Desplegables!$BA$2:$BB$19,2,FALSE),\"\")","v":""},null,""]
[null,null,{"$f":"IF(B3627<>\"\",VLOOKUP(B3627,[1]Desplegables!$BA$2:$BB$19,2,FALSE),\"\")","v":""},null,""]
[null,null,{"$f":"IF(B3628<>\"\",VLOOKUP(B3628,[1]Desplegables!$BA$2:$BB$19,2,FALSE),\"\")","v":""},null,""]
[null,null,{"$f":"IF(B3629<>\"\",VLOOKUP(B3629,[1]Desplegables!$BA$2:$BB$19,2,FALSE),\"\")","v":""},null,""]
[null,null,{"$f":"IF(B3630<>\"\",VLOOKUP(B3630,[1]Desplegables!$BA$2:$BB$19,2,FALSE),\"\")","v":""},null,""]
[null,null,{"$f":"IF(B3631<>\"\",VLOOKUP(B3631,[1]Desplegables!$BA$2:$BB$19,2,FALSE),\"\")","v":""},null,""]
[null,null,{"$f":"IF(B3632<>\"\",VLOOKUP(B3632,[1]Desplegables!$BA$2:$BB$19,2,FALSE),\"\")","v":""},null,""]
[null,null,{"$f":"IF(B3633<>\"\",VLOOKUP(B3633,[1]Desplegables!$BA$2:$BB$19,2,FALSE),\"\")","v":""},null,""]
[null,null,{"$f":"IF(B3634<>\"\",VLOOKUP(B3634,[1]Desplegables!$BA$2:$BB$19,2,FALSE),\"\")","v":""},null,""]
[null,null,{"$f":"IF(B3635<>\"\",VLOOKUP(B3635,[1]Desplegables!$BA$2:$BB$19,2,FALSE),\"\")","v":""},null,""]
[null,null,{"$f":"IF(B3636<>\"\",VLOOKUP(B3636,[1]Desplegables!$BA$2:$BB$19,2,FALSE),\"\")","v":""},null,""]
[null,null,{"$f":"IF(B3637<>\"\",VLOOKUP(B3637,[1]Desplegables!$BA$2:$BB$19,2,FALSE),\"\")","v":""},null,""]
[null,null,{"$f":"IF(B3638<>\"\",VLOOKUP(B3638,[1]Desplegables!$BA$2:$BB$19,2,FALSE),\"\")","v":""},null,""]
[null,null,{"$f":"IF(B3639<>\"\",VLOOKUP(B3639,[1]Desplegables!$BA$2:$BB$19,2,FALSE),\"\")","v":""},null,""]
[null,null,{"$f":"IF(B3640<>\"\",VLOOKUP(B3640,[1]Desplegables!$BA$2:$BB$19,2,FALSE),\"\")","v":""},null,""]
[null,null,{"$f":"IF(B3641<>\"\",VLOOKUP(B3641,[1]Desplegables!$BA$2:$BB$19,2,FALSE),\"\")","v":""},null,""]
[null,null,{"$f":"IF(B3642<>\"\",VLOOKUP(B3642,[1]Desplegables!$BA$2:$BB$19,2,FALSE),\"\")","v":""},null,""]
[null,null,{"$f":"IF(B3643<>\"\",VLOOKUP(B3643,[1]Desplegables!$BA$2:$BB$19,2,FALSE),\"\")","v":""},null,""]
[null,null,{"$f":"IF(B3644<>\"\",VLOOKUP(B3644,[1]Desplegables!$BA$2:$BB$19,2,FALSE),\"\")","v":""},null,""]
[null,null,{"$f":"IF(B3645<>\"\",VLOOKUP(B3645,[1]Desplegables!$BA$2:$BB$19,2,FALSE),\"\")","v":""},null,""]
[null,null,{"$f":"IF(B3646<>\"\",VLOOKUP(B3646,[1]Desplegables!$BA$2:$BB$19,2,FALSE),\"\")","v":""},null,""]
[null,null,{"$f":"IF(B3647<>\"\",VLOOKUP(B3647,[1]Desplegables!$BA$2:$BB$19,2,FALSE),\"\")","v":""},null,""]
[null,null,{"$f":"IF(B3648<>\"\",VLOOKUP(B3648,[1]Desplegables!$BA$2:$BB$19,2,FALSE),\"\")","v":""},null,""]
[null,null,{"$f":"IF(B3649<>\"\",VLOOKUP(B3649,[1]Desplegables!$BA$2:$BB$19,2,FALSE),\"\")","v":""},null,""]
[null,null,{"$f":"IF(B3650<>\"\",VLOOKUP(B3650,[1]Desplegables!$BA$2:$BB$19,2,FALSE),\"\")","v":""},null,""]
[null,null,{"$f":"IF(B3651<>\"\",VLOOKUP(B3651,[1]Desplegables!$BA$2:$BB$19,2,FALSE),\"\")","v":""},null,""]
[null,null,{"$f":"IF(B3652<>\"\",VLOOKUP(B3652,[1]Desplegables!$BA$2:$BB$19,2,FALSE),\"\")","v":""},null,""]
[null,null,{"$f":"IF(B3653<>\"\",VLOOKUP(B3653,[1]Desplegables!$BA$2:$BB$19,2,FALSE),\"\")","v":""},null,{"$f":"IF(C3653<>\"\",D3653/C3653,\"\")","v":""}]
[null,null,{"$f":"IF(B3654<>\"\",VLOOKUP(B3654,[1]Desplegables!$BA$2:$BB$19,2,FALSE),\"\")","v":""},null,""]
[null,null,{"$f":"IF(B3655<>\"\",VLOOKUP(B3655,[1]Desplegables!$BA$2:$BB$19,2,FALSE),\"\")","v":""},null,""]
[null,null,{"$f":"IF(B3656<>\"\",VLOOKUP(B3656,[1]Desplegables!$BA$2:$BB$19,2,FALSE),\"\")","v":""},null,""]
[null,null,{"$f":"IF(B3657<>\"\",VLOOKUP(B3657,[1]Desplegables!$BA$2:$BB$19,2,FALSE),\"\")","v":""},null,""]
[null,null,{"$f":"IF(B3658<>\"\",VLOOKUP(B3658,[1]Desplegables!$BA$2:$BB$19,2,FALSE),\"\")","v":""},null,""]
[null,null,{"$f":"IF(B3659<>\"\",VLOOKUP(B3659,[1]Desplegables!$BA$2:$BB$19,2,FALSE),\"\")","v":""},null,""]
[null,null,{"$f":"IF(B3660<>\"\",VLOOKUP(B3660,[1]Desplegables!$BA$2:$BB$19,2,FALSE),\"\")","v":""},null,""]
[null,null,{"$f":"IF(B3661<>\"\",VLOOKUP(B3661,[1]Desplegables!$BA$2:$BB$19,2,FALSE),\"\")","v":""},null,""]
[null,null,{"$f":"IF(B3662<>\"\",VLOOKUP(B3662,[1]Desplegables!$BA$2:$BB$19,2,FALSE),\"\")","v":""},null,""]
[null,null,{"$f":"IF(B3663<>\"\",VLOOKUP(B3663,[1]Desplegables!$BA$2:$BB$19,2,FALSE),\"\")","v":""},null,""]
[null,null,{"$f":"IF(B3664<>\"\",VLOOKUP(B3664,[1]Desplegables!$BA$2:$BB$19,2,FALSE),\"\")","v":""},null,""]
[null,null,{"$f":"IF(B3665<>\"\",VLOOKUP(B3665,[1]Desplegables!$BA$2:$BB$19,2,FALSE),\"\")","v":""},null,""]
[null,null,{"$f":"IF(B3666<>\"\",VLOOKUP(B3666,[1]Desplegables!$BA$2:$BB$19,2,FALSE),\"\")","v":""},null,""]
[null,null,{"$f":"IF(B3667<>\"\",VLOOKUP(B3667,[1]Desplegables!$BA$2:$BB$19,2,FALSE),\"\")","v":""},null,""]
[null,null,{"$f":"IF(B3668<>\"\",VLOOKUP(B3668,[1]Desplegables!$BA$2:$BB$19,2,FALSE),\"\")","v":""},null,""]
[null,null,{"$f":"IF(B3669<>\"\",VLOOKUP(B3669,[1]Desplegables!$BA$2:$BB$19,2,FALSE),\"\")","v":""},null,""]
[null,null,{"$f":"IF(B3670<>\"\",VLOOKUP(B3670,[1]Desplegables!$BA$2:$BB$19,2,FALSE),\"\")","v":""},null,""]
[null,null,{"$f":"IF(B3671<>\"\",VLOOKUP(B3671,[1]Desplegables!$BA$2:$BB$19,2,FALSE),\"\")","v":""},null,""]
[null,null,{"$f":"IF(B3672<>\"\",VLOOKUP(B3672,[1]Desplegables!$BA$2:$BB$19,2,FALSE),\"\")","v":""},null,""]
[null,null,{"$f":"IF(B3673<>\"\",VLOOKUP(B3673,[1]Desplegables!$BA$2:$BB$19,2,FALSE),\"\")","v":""},null,""]
[null,null,{"$f":"IF(B3674<>\"\",VLOOKUP(B3674,[1]Desplegables!$BA$2:$BB$19,2,FALSE),\"\")","v":""},null,""]
[null,null,{"$f":"IF(B3675<>\"\",VLOOKUP(B3675,[1]Desplegables!$BA$2:$BB$19,2,FALSE),\"\")","v":""},null,""]
[null,null,{"$f":"IF(B3676<>\"\",VLOOKUP(B3676,[1]Desplegables!$BA$2:$BB$19,2,FALSE),\"\")","v":""},null,""]
[null,null,{"$f":"IF(B3677<>\"\",VLOOKUP(B3677,[1]Desplegables!$BA$2:$BB$19,2,FALSE),\"\")","v":""},null,""]
[null,null,{"$f":"IF(B3678<>\"\",VLOOKUP(B3678,[1]Desplegables!$BA$2:$BB$19,2,FALSE),\"\")","v":""},null,""]
[null,null,{"$f":"IF(B3679<>\"\",VLOOKUP(B3679,[1]Desplegables!$BA$2:$BB$19,2,FALSE),\"\")","v":""},null,""]
[null,null,{"$f":"IF(B3680<>\"\",VLOOKUP(B3680,[1]Desplegables!$BA$2:$BB$19,2,FALSE),\"\")","v":""},null,""]
[null,null,{"$f":"IF(B3681<>\"\",VLOOKUP(B3681,[1]Desplegables!$BA$2:$BB$19,2,FALSE),\"\")","v":""},null,""]
[null,null,{"$f":"IF(B3682<>\"\",VLOOKUP(B3682,[1]Desplegables!$BA$2:$BB$19,2,FALSE),\"\")","v":""},null,""]
[null,null,{"$f":"IF(B3683<>\"\",VLOOKUP(B3683,[1]Desplegables!$BA$2:$BB$19,2,FALSE),\"\")","v":""},null,""]
[null,null,{"$f":"IF(B3684<>\"\",VLOOKUP(B3684,[1]Desplegables!$BA$2:$BB$19,2,FALSE),\"\")","v":""},null,""]
[null,null,{"$f":"IF(B3685<>\"\",VLOOKUP(B3685,[1]Desplegables!$BA$2:$BB$19,2,FALSE),\"\")","v":""},null,""]
[null,null,{"$f":"IF(B3686<>\"\",VLOOKUP(B3686,[1]Desplegables!$BA$2:$BB$19,2,FALSE),\"\")","v":""},null,""]
[null,null,{"$f":"IF(B3687<>\"\",VLOOKUP(B3687,[1]Desplegables!$BA$2:$BB$19,2,FALSE),\"\")","v":""},null,""]
[null,null,{"$f":"IF(B3688<>\"\",VLOOKUP(B3688,[1]Desplegables!$BA$2:$BB$19,2,FALSE),\"\")","v":""},null,""]
[null,null,{"$f":"IF(B3689<>\"\",VLOOKUP(B3689,[1]Desplegables!$BA$2:$BB$19,2,FALSE),\"\")","v":""},null,""]
[null,null,{"$f":"IF(B3690<>\"\",VLOOKUP(B3690,[1]Desplegables!$BA$2:$BB$19,2,FALSE),\"\")","v":""},null,""]
[null,null,{"$f":"IF(B3691<>\"\",VLOOKUP(B3691,[1]Desplegables!$BA$2:$BB$19,2,FALSE),\"\")","v":""},null,""]
[null,null,{"$f":"IF(B3692<>\"\",VLOOKUP(B3692,[1]Desplegables!$BA$2:$BB$19,2,FALSE),\"\")","v":""},null,""]
[null,null,{"$f":"IF(B3693<>\"\",VLOOKUP(B3693,[1]Desplegables!$BA$2:$BB$19,2,FALSE),\"\")","v":""},null,""]
[null,null,{"$f":"IF(B3694<>\"\",VLOOKUP(B3694,[1]Desplegables!$BA$2:$BB$19,2,FALSE),\"\")","v":""},null,""]
[null,null,{"$f":"IF(B3695<>\"\",VLOOKUP(B3695,[1]Desplegables!$BA$2:$BB$19,2,FALSE),\"\")","v":""},null,""]
[null,null,{"$f":"IF(B3696<>\"\",VLOOKUP(B3696,[1]Desplegables!$BA$2:$BB$19,2,FALSE),\"\")","v":""},null,""]
[null,null,{"$f":"IF(B3697<>\"\",VLOOKUP(B3697,[1]Desplegables!$BA$2:$BB$19,2,FALSE),\"\")","v":""},null,""]
[null,null,{"$f":"IF(B3698<>\"\",VLOOKUP(B3698,[1]Desplegables!$BA$2:$BB$19,2,FALSE),\"\")","v":""},null,""]
[null,null,{"$f":"IF(B3699<>\"\",VLOOKUP(B3699,[1]Desplegables!$BA$2:$BB$19,2,FALSE),\"\")","v":""},null,""]
[null,null,{"$f":"IF(B3700<>\"\",VLOOKUP(B3700,[1]Desplegables!$BA$2:$BB$19,2,FALSE),\"\")","v":""},null,""]
[null,null,{"$f":"IF(B3701<>\"\",VLOOKUP(B3701,[1]Desplegables!$BA$2:$BB$19,2,FALSE),\"\")","v":""},null,""]
[null,null,{"$f":"IF(B3702<>\"\",VLOOKUP(B3702,[1]Desplegables!$BA$2:$BB$19,2,FALSE),\"\")","v":""},null,""]
[null,null,{"$f":"IF(B3703<>\"\",VLOOKUP(B3703,[1]Desplegables!$BA$2:$BB$19,2,FALSE),\"\")","v":""},null,""]
[null,null,{"$f":"IF(B3704<>\"\",VLOOKUP(B3704,[1]Desplegables!$BA$2:$BB$19,2,FALSE),\"\")","v":""},null,""]
[null,null,{"$f":"IF(B3705<>\"\",VLOOKUP(B3705,[1]Desplegables!$BA$2:$BB$19,2,FALSE),\"\")","v":""},null,""]
[null,null,{"$f":"IF(B3706<>\"\",VLOOKUP(B3706,[1]Desplegables!$BA$2:$BB$19,2,FALSE),\"\")","v":""},null,""]
[null,null,{"$f":"IF(B3707<>\"\",VLOOKUP(B3707,[1]Desplegables!$BA$2:$BB$19,2,FALSE),\"\")","v":""},null,""]
[null,null,{"$f":"IF(B3708<>\"\",VLOOKUP(B3708,[1]Desplegables!$BA$2:$BB$19,2,FALSE),\"\")","v":""},null,""]
[null,null,{"$f":"IF(B3709<>\"\",VLOOKUP(B3709,[1]Desplegables!$BA$2:$BB$19,2,FALSE),\"\")","v":""},null,""]
[null,null,{"$f":"IF(B3710<>\"\",VLOOKUP(B3710,[1]Desplegables!$BA$2:$BB$19,2,FALSE),\"\")","v":""},null,""]
[null,null,{"$f":"IF(B3711<>\"\",VLOOKUP(B3711,[1]Desplegables!$BA$2:$BB$19,2,FALSE),\"\")","v":""},null,""]
[null,null,{"$f":"IF(B3712<>\"\",VLOOKUP(B3712,[1]Desplegables!$BA$2:$BB$19,2,FALSE),\"\")","v":""},null,""]
[null,null,{"$f":"IF(B3713<>\"\",VLOOKUP(B3713,[1]Desplegables!$BA$2:$BB$19,2,FALSE),\"\")","v":""},null,""]
[null,null,{"$f":"IF(B3714<>\"\",VLOOKUP(B3714,[1]Desplegables!$BA$2:$BB$19,2,FALSE),\"\")","v":""},null,""]
[null,null,{"$f":"IF(B3715<>\"\",VLOOKUP(B3715,[1]Desplegables!$BA$2:$BB$19,2,FALSE),\"\")","v":""},null,""]
[null,null,{"$f":"IF(B3716<>\"\",VLOOKUP(B3716,[1]Desplegables!$BA$2:$BB$19,2,FALSE),\"\")","v":""},null,""]
[null,null,{"$f":"IF(B3717<>\"\",VLOOKUP(B3717,[1]Desplegables!$BA$2:$BB$19,2,FALSE),\"\")","v":""},null,{"$f":"IF(C3717<>\"\",D3717/C3717,\"\")","v":""}]
[null,null,{"$f":"IF(B3718<>\"\",VLOOKUP(B3718,[1]Desplegables!$BA$2:$BB$19,2,FALSE),\"\")","v":""},null,""]
[null,null,{"$f":"IF(B3719<>\"\",VLOOKUP(B3719,[1]Desplegables!$BA$2:$BB$19,2,FALSE),\"\")","v":""},null,""]
[null,null,{"$f":"IF(B3720<>\"\",VLOOKUP(B3720,[1]Desplegables!$BA$2:$BB$19,2,FALSE),\"\")","v":""},null,""]
[null,null,{"$f":"IF(B3721<>\"\",VLOOKUP(B3721,[1]Desplegables!$BA$2:$BB$19,2,FALSE),\"\")","v":""},null,""]
[null,null,{"$f":"IF(B3722<>\"\",VLOOKUP(B3722,[1]Desplegables!$BA$2:$BB$19,2,FALSE),\"\")","v":""},null,""]
[null,null,{"$f":"IF(B3723<>\"\",VLOOKUP(B3723,[1]Desplegables!$BA$2:$BB$19,2,FALSE),\"\")","v":""},null,""]
[null,null,{"$f":"IF(B3724<>\"\",VLOOKUP(B3724,[1]Desplegables!$BA$2:$BB$19,2,FALSE),\"\")","v":""},null,""]
[null,null,{"$f":"IF(B3725<>\"\",VLOOKUP(B3725,[1]Desplegables!$BA$2:$BB$19,2,FALSE),\"\")","v":""},null,""]
[null,null,{"$f":"IF(B3726<>\"\",VLOOKUP(B3726,[1]Desplegables!$BA$2:$BB$19,2,FALSE),\"\")","v":""},null,""]
[null,null,{"$f":"IF(B3727<>\"\",VLOOKUP(B3727,[1]Desplegables!$BA$2:$BB$19,2,FALSE),\"\")","v":""},null,""]
[null,null,{"$f":"IF(B3728<>\"\",VLOOKUP(B3728,[1]Desplegables!$BA$2:$BB$19,2,FALSE),\"\")","v":""},null,""]
[null,null,{"$f":"IF(B3729<>\"\",VLOOKUP(B3729,[1]Desplegables!$BA$2:$BB$19,2,FALSE),\"\")","v":""},null,""]
[null,null,{"$f":"IF(B3730<>\"\",VLOOKUP(B3730,[1]Desplegables!$BA$2:$BB$19,2,FALSE),\"\")","v":""},null,""]
[null,null,{"$f":"IF(B3731<>\"\",VLOOKUP(B3731,[1]Desplegables!$BA$2:$BB$19,2,FALSE),\"\")","v":""},null,""]
[null,null,{"$f":"IF(B3732<>\"\",VLOOKUP(B3732,[1]Desplegables!$BA$2:$BB$19,2,FALSE),\"\")","v":""},null,""]
[null,null,{"$f":"IF(B3733<>\"\",VLOOKUP(B3733,[1]Desplegables!$BA$2:$BB$19,2,FALSE),\"\")","v":""},null,""]
[null,null,{"$f":"IF(B3734<>\"\",VLOOKUP(B3734,[1]Desplegables!$BA$2:$BB$19,2,FALSE),\"\")","v":""},null,""]
[null,null,{"$f":"IF(B3735<>\"\",VLOOKUP(B3735,[1]Desplegables!$BA$2:$BB$19,2,FALSE),\"\")","v":""},null,""]
[null,null,{"$f":"IF(B3736<>\"\",VLOOKUP(B3736,[1]Desplegables!$BA$2:$BB$19,2,FALSE),\"\")","v":""},null,""]
[null,null,{"$f":"IF(B3737<>\"\",VLOOKUP(B3737,[1]Desplegables!$BA$2:$BB$19,2,FALSE),\"\")","v":""},null,""]
[null,null,{"$f":"IF(B3738<>\"\",VLOOKUP(B3738,[1]Desplegables!$BA$2:$BB$19,2,FALSE),\"\")","v":""},null,""]
[null,null,{"$f":"IF(B3739<>\"\",VLOOKUP(B3739,[1]Desplegables!$BA$2:$BB$19,2,FALSE),\"\")","v":""},null,""]
[null,null,{"$f":"IF(B3740<>\"\",VLOOKUP(B3740,[1]Desplegables!$BA$2:$BB$19,2,FALSE),\"\")","v":""},null,""]
[null,null,{"$f":"IF(B3741<>\"\",VLOOKUP(B3741,[1]Desplegables!$BA$2:$BB$19,2,FALSE),\"\")","v":""},null,""]
[null,null,{"$f":"IF(B3742<>\"\",VLOOKUP(B3742,[1]Desplegables!$BA$2:$BB$19,2,FALSE),\"\")","v":""},null,""]
[null,null,{"$f":"IF(B3743<>\"\",VLOOKUP(B3743,[1]Desplegables!$BA$2:$BB$19,2,FALSE),\"\")","v":""},null,""]
[null,null,{"$f":"IF(B3744<>\"\",VLOOKUP(B3744,[1]Desplegables!$BA$2:$BB$19,2,FALSE),\"\")","v":""},null,""]
[null,null,{"$f":"IF(B3745<>\"\",VLOOKUP(B3745,[1]Desplegables!$BA$2:$BB$19,2,FALSE),\"\")","v":""},null,""]
[null,null,{"$f":"IF(B3746<>\"\",VLOOKUP(B3746,[1]Desplegables!$BA$2:$BB$19,2,FALSE),\"\")","v":""},null,""]
[null,null,{"$f":"IF(B3747<>\"\",VLOOKUP(B3747,[1]Desplegables!$BA$2:$BB$19,2,FALSE),\"\")","v":""},null,""]
[null,null,{"$f":"IF(B3748<>\"\",VLOOKUP(B3748,[1]Desplegables!$BA$2:$BB$19,2,FALSE),\"\")","v":""},null,""]
[null,null,{"$f":"IF(B3749<>\"\",VLOOKUP(B3749,[1]Desplegables!$BA$2:$BB$19,2,FALSE),\"\")","v":""},null,""]
[null,null,{"$f":"IF(B3750<>\"\",VLOOKUP(B3750,[1]Desplegables!$BA$2:$BB$19,2,FALSE),\"\")","v":""},null,""]
[null,null,{"$f":"IF(B3751<>\"\",VLOOKUP(B3751,[1]Desplegables!$BA$2:$BB$19,2,FALSE),\"\")","v":""},null,""]
[null,null,{"$f":"IF(B3752<>\"\",VLOOKUP(B3752,[1]Desplegables!$BA$2:$BB$19,2,FALSE),\"\")","v":""},null,""]
[null,null,{"$f":"IF(B3753<>\"\",VLOOKUP(B3753,[1]Desplegables!$BA$2:$BB$19,2,FALSE),\"\")","v":""},null,""]
[null,null,{"$f":"IF(B3754<>\"\",VLOOKUP(B3754,[1]Desplegables!$BA$2:$BB$19,2,FALSE),\"\")","v":""},null,""]
[null,null,{"$f":"IF(B3755<>\"\",VLOOKUP(B3755,[1]Desplegables!$BA$2:$BB$19,2,FALSE),\"\")","v":""},null,""]
[null,null,{"$f":"IF(B3756<>\"\",VLOOKUP(B3756,[1]Desplegables!$BA$2:$BB$19,2,FALSE),\"\")","v":""},null,""]
[null,null,{"$f":"IF(B3757<>\"\",VLOOKUP(B3757,[1]Desplegables!$BA$2:$BB$19,2,FALSE),\"\")","v":""},null,""]
[null,null,{"$f":"IF(B3758<>\"\",VLOOKUP(B3758,[1]Desplegables!$BA$2:$BB$19,2,FALSE),\"\")","v":""},null,""]
[null,null,{"$f":"IF(B3759<>\"\",VLOOKUP(B3759,[1]Desplegables!$BA$2:$BB$19,2,FALSE),\"\")","v":""},null,""]
[null,null,{"$f":"IF(B3760<>\"\",VLOOKUP(B3760,[1]Desplegables!$BA$2:$BB$19,2,FALSE),\"\")","v":""},null,""]
[null,null,{"$f":"IF(B3761<>\"\",VLOOKUP(B3761,[1]Desplegables!$BA$2:$BB$19,2,FALSE),\"\")","v":""},null,""]
[null,null,{"$f":"IF(B3762<>\"\",VLOOKUP(B3762,[1]Desplegables!$BA$2:$BB$19,2,FALSE),\"\")","v":""},null,""]
[null,null,{"$f":"IF(B3763<>\"\",VLOOKUP(B3763,[1]Desplegables!$BA$2:$BB$19,2,FALSE),\"\")","v":""},null,""]
[null,null,{"$f":"IF(B3764<>\"\",VLOOKUP(B3764,[1]Desplegables!$BA$2:$BB$19,2,FALSE),\"\")","v":""},null,""]
[null,null,{"$f":"IF(B3765<>\"\",VLOOKUP(B3765,[1]Desplegables!$BA$2:$BB$19,2,FALSE),\"\")","v":""},null,""]
[null,null,{"$f":"IF(B3766<>\"\",VLOOKUP(B3766,[1]Desplegables!$BA$2:$BB$19,2,FALSE),\"\")","v":""},null,""]
[null,null,{"$f":"IF(B3767<>\"\",VLOOKUP(B3767,[1]Desplegables!$BA$2:$BB$19,2,FALSE),\"\")","v":""},null,""]
[null,null,{"$f":"IF(B3768<>\"\",VLOOKUP(B3768,[1]Desplegables!$BA$2:$BB$19,2,FALSE),\"\")","v":""},null,""]
[null,null,{"$f":"IF(B3769<>\"\",VLOOKUP(B3769,[1]Desplegables!$BA$2:$BB$19,2,FALSE),\"\")","v":""},null,""]
[null,null,{"$f":"IF(B3770<>\"\",VLOOKUP(B3770,[1]Desplegables!$BA$2:$BB$19,2,FALSE),\"\")","v":""},null,""]
[null,null,{"$f":"IF(B3771<>\"\",VLOOKUP(B3771,[1]Desplegables!$BA$2:$BB$19,2,FALSE),\"\")","v":""},null,""]
[null,null,{"$f":"IF(B3772<>\"\",VLOOKUP(B3772,[1]Desplegables!$BA$2:$BB$19,2,FALSE),\"\")","v":""},null,""]
[null,null,{"$f":"IF(B3773<>\"\",VLOOKUP(B3773,[1]Desplegables!$BA$2:$BB$19,2,FALSE),\"\")","v":""},null,""]
[null,null,{"$f":"IF(B3774<>\"\",VLOOKUP(B3774,[1]Desplegables!$BA$2:$BB$19,2,FALSE),\"\")","v":""},null,""]
[null,null,{"$f":"IF(B3775<>\"\",VLOOKUP(B3775,[1]Desplegables!$BA$2:$BB$19,2,FALSE),\"\")","v":""},null,""]
[null,null,{"$f":"IF(B3776<>\"\",VLOOKUP(B3776,[1]Desplegables!$BA$2:$BB$19,2,FALSE),\"\")","v":""},null,""]
[null,null,{"$f":"IF(B3777<>\"\",VLOOKUP(B3777,[1]Desplegables!$BA$2:$BB$19,2,FALSE),\"\")","v":""},null,""]
[null,null,{"$f":"IF(B3778<>\"\",VLOOKUP(B3778,[1]Desplegables!$BA$2:$BB$19,2,FALSE),\"\")","v":""},null,""]
[null,null,{"$f":"IF(B3779<>\"\",VLOOKUP(B3779,[1]Desplegables!$BA$2:$BB$19,2,FALSE),\"\")","v":""},null,""]
[null,null,{"$f":"IF(B3780<>\"\",VLOOKUP(B3780,[1]Desplegables!$BA$2:$BB$19,2,FALSE),\"\")","v":""},null,""]
[null,null,{"$f":"IF(B3781<>\"\",VLOOKUP(B3781,[1]Desplegables!$BA$2:$BB$19,2,FALSE),\"\")","v":""},null,{"$f":"IF(C3781<>\"\",D3781/C3781,\"\")","v":""}]
[null,null,{"$f":"IF(B3782<>\"\",VLOOKUP(B3782,[1]Desplegables!$BA$2:$BB$19,2,FALSE),\"\")","v":""},null,""]
[null,null,{"$f":"IF(B3783<>\"\",VLOOKUP(B3783,[1]Desplegables!$BA$2:$BB$19,2,FALSE),\"\")","v":""},null,""]
[null,null,{"$f":"IF(B3784<>\"\",VLOOKUP(B3784,[1]Desplegables!$BA$2:$BB$19,2,FALSE),\"\")","v":""},null,""]
[null,null,{"$f":"IF(B3785<>\"\",VLOOKUP(B3785,[1]Desplegables!$BA$2:$BB$19,2,FALSE),\"\")","v":""},null,""]
[null,null,{"$f":"IF(B3786<>\"\",VLOOKUP(B3786,[1]Desplegables!$BA$2:$BB$19,2,FALSE),\"\")","v":""},null,""]
[null,null,{"$f":"IF(B3787<>\"\",VLOOKUP(B3787,[1]Desplegables!$BA$2:$BB$19,2,FALSE),\"\")","v":""},null,""]
[null,null,{"$f":"IF(B3788<>\"\",VLOOKUP(B3788,[1]Desplegables!$BA$2:$BB$19,2,FALSE),\"\")","v":""},null,""]
[null,null,{"$f":"IF(B3789<>\"\",VLOOKUP(B3789,[1]Desplegables!$BA$2:$BB$19,2,FALSE),\"\")","v":""},null,""]
[null,null,{"$f":"IF(B3790<>\"\",VLOOKUP(B3790,[1]Desplegables!$BA$2:$BB$19,2,FALSE),\"\")","v":""},null,""]
[null,null,{"$f":"IF(B3791<>\"\",VLOOKUP(B3791,[1]Desplegables!$BA$2:$BB$19,2,FALSE),\"\")","v":""},null,""]
[null,null,{"$f":"IF(B3792<>\"\",VLOOKUP(B3792,[1]Desplegables!$BA$2:$BB$19,2,FALSE),\"\")","v":""},null,""]
[null,null,{"$f":"IF(B3793<>\"\",VLOOKUP(B3793,[1]Desplegables!$BA$2:$BB$19,2,FALSE),\"\")","v":""},null,""]
[null,null,{"$f":"IF(B3794<>\"\",VLOOKUP(B3794,[1]Desplegables!$BA$2:$BB$19,2,FALSE),\"\")","v":""},null,""]
[null,null,{"$f":"IF(B3795<>\"\",VLOOKUP(B3795,[1]Desplegables!$BA$2:$BB$19,2,FALSE),\"\")","v":""},null,""]
[null,null,{"$f":"IF(B3796<>\"\",VLOOKUP(B3796,[1]Desplegables!$BA$2:$BB$19,2,FALSE),\"\")","v":""},null,""]
[null,null,{"$f":"IF(B3797<>\"\",VLOOKUP(B3797,[1]Desplegables!$BA$2:$BB$19,2,FALSE),\"\")","v":""},null,""]
[null,null,{"$f":"IF(B3798<>\"\",VLOOKUP(B3798,[1]Desplegables!$BA$2:$BB$19,2,FALSE),\"\")","v":""},null,""]
[null,null,{"$f":"IF(B3799<>\"\",VLOOKUP(B3799,[1]Desplegables!$BA$2:$BB$19,2,FALSE),\"\")","v":""},null,""]
[null,null,{"$f":"IF(B3800<>\"\",VLOOKUP(B3800,[1]Desplegables!$BA$2:$BB$19,2,FALSE),\"\")","v":""},null,""]
[null,null,{"$f":"IF(B3801<>\"\",VLOOKUP(B3801,[1]Desplegables!$BA$2:$BB$19,2,FALSE),\"\")","v":""},null,""]
[null,null,{"$f":"IF(B3802<>\"\",VLOOKUP(B3802,[1]Desplegables!$BA$2:$BB$19,2,FALSE),\"\")","v":""},null,""]
[null,null,{"$f":"IF(B3803<>\"\",VLOOKUP(B3803,[1]Desplegables!$BA$2:$BB$19,2,FALSE),\"\")","v":""},null,""]
[null,null,{"$f":"IF(B3804<>\"\",VLOOKUP(B3804,[1]Desplegables!$BA$2:$BB$19,2,FALSE),\"\")","v":""},null,""]
[null,null,{"$f":"IF(B3805<>\"\",VLOOKUP(B3805,[1]Desplegables!$BA$2:$BB$19,2,FALSE),\"\")","v":""},null,""]
[null,null,{"$f":"IF(B3806<>\"\",VLOOKUP(B3806,[1]Desplegables!$BA$2:$BB$19,2,FALSE),\"\")","v":""},null,""]
[null,null,{"$f":"IF(B3807<>\"\",VLOOKUP(B3807,[1]Desplegables!$BA$2:$BB$19,2,FALSE),\"\")","v":""},null,""]
[null,null,{"$f":"IF(B3808<>\"\",VLOOKUP(B3808,[1]Desplegables!$BA$2:$BB$19,2,FALSE),\"\")","v":""},null,""]
[null,null,{"$f":"IF(B3809<>\"\",VLOOKUP(B3809,[1]Desplegables!$BA$2:$BB$19,2,FALSE),\"\")","v":""},null,""]
[null,null,{"$f":"IF(B3810<>\"\",VLOOKUP(B3810,[1]Desplegables!$BA$2:$BB$19,2,FALSE),\"\")","v":""},null,""]
[null,null,{"$f":"IF(B3811<>\"\",VLOOKUP(B3811,[1]Desplegables!$BA$2:$BB$19,2,FALSE),\"\")","v":""},null,""]
[null,null,{"$f":"IF(B3812<>\"\",VLOOKUP(B3812,[1]Desplegables!$BA$2:$BB$19,2,FALSE),\"\")","v":""},null,""]
[null,null,{"$f":"IF(B3813<>\"\",VLOOKUP(B3813,[1]Desplegables!$BA$2:$BB$19,2,FALSE),\"\")","v":""},null,""]
[null,null,{"$f":"IF(B3814<>\"\",VLOOKUP(B3814,[1]Desplegables!$BA$2:$BB$19,2,FALSE),\"\")","v":""},null,""]
[null,null,{"$f":"IF(B3815<>\"\",VLOOKUP(B3815,[1]Desplegables!$BA$2:$BB$19,2,FALSE),\"\")","v":""},null,""]
[null,null,{"$f":"IF(B3816<>\"\",VLOOKUP(B3816,[1]Desplegables!$BA$2:$BB$19,2,FALSE),\"\")","v":""},null,""]
[null,null,{"$f":"IF(B3817<>\"\",VLOOKUP(B3817,[1]Desplegables!$BA$2:$BB$19,2,FALSE),\"\")","v":""},null,""]
[null,null,{"$f":"IF(B3818<>\"\",VLOOKUP(B3818,[1]Desplegables!$BA$2:$BB$19,2,FALSE),\"\")","v":""},null,""]
[null,null,{"$f":"IF(B3819<>\"\",VLOOKUP(B3819,[1]Desplegables!$BA$2:$BB$19,2,FALSE),\"\")","v":""},null,""]
[null,null,{"$f":"IF(B3820<>\"\",VLOOKUP(B3820,[1]Desplegables!$BA$2:$BB$19,2,FALSE),\"\")","v":""},null,""]
[null,null,{"$f":"IF(B3821<>\"\",VLOOKUP(B3821,[1]Desplegables!$BA$2:$BB$19,2,FALSE),\"\")","v":""},null,""]
[null,null,{"$f":"IF(B3822<>\"\",VLOOKUP(B3822,[1]Desplegables!$BA$2:$BB$19,2,FALSE),\"\")","v":""},null,""]
[null,null,{"$f":"IF(B3823<>\"\",VLOOKUP(B3823,[1]Desplegables!$BA$2:$BB$19,2,FALSE),\"\")","v":""},null,""]
[null,null,{"$f":"IF(B3824<>\"\",VLOOKUP(B3824,[1]Desplegables!$BA$2:$BB$19,2,FALSE),\"\")","v":""},null,""]
[null,null,{"$f":"IF(B3825<>\"\",VLOOKUP(B3825,[1]Desplegables!$BA$2:$BB$19,2,FALSE),\"\")","v":""},null,""]
[null,null,{"$f":"IF(B3826<>\"\",VLOOKUP(B3826,[1]Desplegables!$BA$2:$BB$19,2,FALSE),\"\")","v":""},null,""]
[null,null,{"$f":"IF(B3827<>\"\",VLOOKUP(B3827,[1]Desplegables!$BA$2:$BB$19,2,FALSE),\"\")","v":""},null,""]
[null,null,{"$f":"IF(B3828<>\"\",VLOOKUP(B3828,[1]Desplegables!$BA$2:$BB$19,2,FALSE),\"\")","v":""},null,""]
[null,null,{"$f":"IF(B3829<>\"\",VLOOKUP(B3829,[1]Desplegables!$BA$2:$BB$19,2,FALSE),\"\")","v":""},null,""]
[null,null,{"$f":"IF(B3830<>\"\",VLOOKUP(B3830,[1]Desplegables!$BA$2:$BB$19,2,FALSE),\"\")","v":""},null,""]
[null,null,{"$f":"IF(B3831<>\"\",VLOOKUP(B3831,[1]Desplegables!$BA$2:$BB$19,2,FALSE),\"\")","v":""},null,""]
[null,null,{"$f":"IF(B3832<>\"\",VLOOKUP(B3832,[1]Desplegables!$BA$2:$BB$19,2,FALSE),\"\")","v":""},null,""]
[null,null,{"$f":"IF(B3833<>\"\",VLOOKUP(B3833,[1]Desplegables!$BA$2:$BB$19,2,FALSE),\"\")","v":""},null,""]
[null,null,{"$f":"IF(B3834<>\"\",VLOOKUP(B3834,[1]Desplegables!$BA$2:$BB$19,2,FALSE),\"\")","v":""},null,""]
[null,null,{"$f":"IF(B3835<>\"\",VLOOKUP(B3835,[1]Desplegables!$BA$2:$BB$19,2,FALSE),\"\")","v":""},null,""]
[null,null,{"$f":"IF(B3836<>\"\",VLOOKUP(B3836,[1]Desplegables!$BA$2:$BB$19,2,FALSE),\"\")","v":""},null,""]
[null,null,{"$f":"IF(B3837<>\"\",VLOOKUP(B3837,[1]Desplegables!$BA$2:$BB$19,2,FALSE),\"\")","v":""},null,""]
[null,null,{"$f":"IF(B3838<>\"\",VLOOKUP(B3838,[1]Desplegables!$BA$2:$BB$19,2,FALSE),\"\")","v":""},null,""]
[null,null,{"$f":"IF(B3839<>\"\",VLOOKUP(B3839,[1]Desplegables!$BA$2:$BB$19,2,FALSE),\"\")","v":""},null,""]
[null,null,{"$f":"IF(B3840<>\"\",VLOOKUP(B3840,[1]Desplegables!$BA$2:$BB$19,2,FALSE),\"\")","v":""},null,""]
[null,null,{"$f":"IF(B3841<>\"\",VLOOKUP(B3841,[1]Desplegables!$BA$2:$BB$19,2,FALSE),\"\")","v":""},null,""]
[null,null,{"$f":"IF(B3842<>\"\",VLOOKUP(B3842,[1]Desplegables!$BA$2:$BB$19,2,FALSE),\"\")","v":""},null,""]
[null,null,{"$f":"IF(B3843<>\"\",VLOOKUP(B3843,[1]Desplegables!$BA$2:$BB$19,2,FALSE),\"\")","v":""},null,""]
[null,null,{"$f":"IF(B3844<>\"\",VLOOKUP(B3844,[1]Desplegables!$BA$2:$BB$19,2,FALSE),\"\")","v":""},null,""]
[null,null,{"$f":"IF(B3845<>\"\",VLOOKUP(B3845,[1]Desplegables!$BA$2:$BB$19,2,FALSE),\"\")","v":""},null,{"$f":"IF(C3845<>\"\",D3845/C3845,\"\")","v":""}]
[null,null,{"$f":"IF(B3846<>\"\",VLOOKUP(B3846,[1]Desplegables!$BA$2:$BB$19,2,FALSE),\"\")","v":""},null,""]
[null,null,{"$f":"IF(B3847<>\"\",VLOOKUP(B3847,[1]Desplegables!$BA$2:$BB$19,2,FALSE),\"\")","v":""},null,""]
[null,null,{"$f":"IF(B3848<>\"\",VLOOKUP(B3848,[1]Desplegables!$BA$2:$BB$19,2,FALSE),\"\")","v":""},null,""]
[null,null,{"$f":"IF(B3849<>\"\",VLOOKUP(B3849,[1]Desplegables!$BA$2:$BB$19,2,FALSE),\"\")","v":""},null,""]
[null,null,{"$f":"IF(B3850<>\"\",VLOOKUP(B3850,[1]Desplegables!$BA$2:$BB$19,2,FALSE),\"\")","v":""},null,""]
[null,null,{"$f":"IF(B3851<>\"\",VLOOKUP(B3851,[1]Desplegables!$BA$2:$BB$19,2,FALSE),\"\")","v":""},null,""]
[null,null,{"$f":"IF(B3852<>\"\",VLOOKUP(B3852,[1]Desplegables!$BA$2:$BB$19,2,FALSE),\"\")","v":""},null,""]
[null,null,{"$f":"IF(B3853<>\"\",VLOOKUP(B3853,[1]Desplegables!$BA$2:$BB$19,2,FALSE),\"\")","v":""},null,""]
[null,null,{"$f":"IF(B3854<>\"\",VLOOKUP(B3854,[1]Desplegables!$BA$2:$BB$19,2,FALSE),\"\")","v":""},null,""]
[null,null,{"$f":"IF(B3855<>\"\",VLOOKUP(B3855,[1]Desplegables!$BA$2:$BB$19,2,FALSE),\"\")","v":""},null,""]
[null,null,{"$f":"IF(B3856<>\"\",VLOOKUP(B3856,[1]Desplegables!$BA$2:$BB$19,2,FALSE),\"\")","v":""},null,""]
[null,null,{"$f":"IF(B3857<>\"\",VLOOKUP(B3857,[1]Desplegables!$BA$2:$BB$19,2,FALSE),\"\")","v":""},null,""]
[null,null,{"$f":"IF(B3858<>\"\",VLOOKUP(B3858,[1]Desplegables!$BA$2:$BB$19,2,FALSE),\"\")","v":""},null,""]
[null,null,{"$f":"IF(B3859<>\"\",VLOOKUP(B3859,[1]Desplegables!$BA$2:$BB$19,2,FALSE),\"\")","v":""},null,""]
[null,null,{"$f":"IF(B3860<>\"\",VLOOKUP(B3860,[1]Desplegables!$BA$2:$BB$19,2,FALSE),\"\")","v":""},null,""]
[null,null,{"$f":"IF(B3861<>\"\",VLOOKUP(B3861,[1]Desplegables!$BA$2:$BB$19,2,FALSE),\"\")","v":""},null,""]
[null,null,{"$f":"IF(B3862<>\"\",VLOOKUP(B3862,[1]Desplegables!$BA$2:$BB$19,2,FALSE),\"\")","v":""},null,""]
[null,null,{"$f":"IF(B3863<>\"\",VLOOKUP(B3863,[1]Desplegables!$BA$2:$BB$19,2,FALSE),\"\")","v":""},null,""]
[null,null,{"$f":"IF(B3864<>\"\",VLOOKUP(B3864,[1]Desplegables!$BA$2:$BB$19,2,FALSE),\"\")","v":""},null,""]
[null,null,{"$f":"IF(B3865<>\"\",VLOOKUP(B3865,[1]Desplegables!$BA$2:$BB$19,2,FALSE),\"\")","v":""},null,""]
[null,null,{"$f":"IF(B3866<>\"\",VLOOKUP(B3866,[1]Desplegables!$BA$2:$BB$19,2,FALSE),\"\")","v":""},null,""]
[null,null,{"$f":"IF(B3867<>\"\",VLOOKUP(B3867,[1]Desplegables!$BA$2:$BB$19,2,FALSE),\"\")","v":""},null,""]
[null,null,{"$f":"IF(B3868<>\"\",VLOOKUP(B3868,[1]Desplegables!$BA$2:$BB$19,2,FALSE),\"\")","v":""},null,""]
[null,null,{"$f":"IF(B3869<>\"\",VLOOKUP(B3869,[1]Desplegables!$BA$2:$BB$19,2,FALSE),\"\")","v":""},null,""]
[null,null,{"$f":"IF(B3870<>\"\",VLOOKUP(B3870,[1]Desplegables!$BA$2:$BB$19,2,FALSE),\"\")","v":""},null,""]
[null,null,{"$f":"IF(B3871<>\"\",VLOOKUP(B3871,[1]Desplegables!$BA$2:$BB$19,2,FALSE),\"\")","v":""},null,""]
[null,null,{"$f":"IF(B3872<>\"\",VLOOKUP(B3872,[1]Desplegables!$BA$2:$BB$19,2,FALSE),\"\")","v":""},null,""]
[null,null,{"$f":"IF(B3873<>\"\",VLOOKUP(B3873,[1]Desplegables!$BA$2:$BB$19,2,FALSE),\"\")","v":""},null,""]
[null,null,{"$f":"IF(B3874<>\"\",VLOOKUP(B3874,[1]Desplegables!$BA$2:$BB$19,2,FALSE),\"\")","v":""},null,""]
[null,null,{"$f":"IF(B3875<>\"\",VLOOKUP(B3875,[1]Desplegables!$BA$2:$BB$19,2,FALSE),\"\")","v":""},null,""]
[null,null,{"$f":"IF(B3876<>\"\",VLOOKUP(B3876,[1]Desplegables!$BA$2:$BB$19,2,FALSE),\"\")","v":""},null,""]
[null,null,{"$f":"IF(B3877<>\"\",VLOOKUP(B3877,[1]Desplegables!$BA$2:$BB$19,2,FALSE),\"\")","v":""},null,""]
[null,null,{"$f":"IF(B3878<>\"\",VLOOKUP(B3878,[1]Desplegables!$BA$2:$BB$19,2,FALSE),\"\")","v":""},null,""]
[null,null,{"$f":"IF(B3879<>\"\",VLOOKUP(B3879,[1]Desplegables!$BA$2:$BB$19,2,FALSE),\"\")","v":""},null,""]
[null,null,{"$f":"IF(B3880<>\"\",VLOOKUP(B3880,[1]Desplegables!$BA$2:$BB$19,2,FALSE),\"\")","v":""},null,""]
[null,null,{"$f":"IF(B3881<>\"\",VLOOKUP(B3881,[1]Desplegables!$BA$2:$BB$19,2,FALSE),\"\")","v":""},null,""]
[null,null,{"$f":"IF(B3882<>\"\",VLOOKUP(B3882,[1]Desplegables!$BA$2:$BB$19,2,FALSE),\"\")","v":""},null,""]
[null,null,{"$f":"IF(B3883<>\"\",VLOOKUP(B3883,[1]Desplegables!$BA$2:$BB$19,2,FALSE),\"\")","v":""},null,""]
[null,null,{"$f":"IF(B3884<>\"\",VLOOKUP(B3884,[1]Desplegables!$BA$2:$BB$19,2,FALSE),\"\")","v":""},null,""]
[null,null,{"$f":"IF(B3885<>\"\",VLOOKUP(B3885,[1]Desplegables!$BA$2:$BB$19,2,FALSE),\"\")","v":""},null,""]
[null,null,{"$f":"IF(B3886<>\"\",VLOOKUP(B3886,[1]Desplegables!$BA$2:$BB$19,2,FALSE),\"\")","v":""},null,""]
[null,null,{"$f":"IF(B3887<>\"\",VLOOKUP(B3887,[1]Desplegables!$BA$2:$BB$19,2,FALSE),\"\")","v":""},null,""]
[null,null,{"$f":"IF(B3888<>\"\",VLOOKUP(B3888,[1]Desplegables!$BA$2:$BB$19,2,FALSE),\"\")","v":""},null,""]
[null,null,{"$f":"IF(B3889<>\"\",VLOOKUP(B3889,[1]Desplegables!$BA$2:$BB$19,2,FALSE),\"\")","v":""},null,""]
[null,null,{"$f":"IF(B3890<>\"\",VLOOKUP(B3890,[1]Desplegables!$BA$2:$BB$19,2,FALSE),\"\")","v":""},null,""]
[null,null,{"$f":"IF(B3891<>\"\",VLOOKUP(B3891,[1]Desplegables!$BA$2:$BB$19,2,FALSE),\"\")","v":""},null,""]
[null,null,{"$f":"IF(B3892<>\"\",VLOOKUP(B3892,[1]Desplegables!$BA$2:$BB$19,2,FALSE),\"\")","v":""},null,""]
[null,null,{"$f":"IF(B3893<>\"\",VLOOKUP(B3893,[1]Desplegables!$BA$2:$BB$19,2,FALSE),\"\")","v":""},null,""]
[null,null,{"$f":"IF(B3894<>\"\",VLOOKUP(B3894,[1]Desplegables!$BA$2:$BB$19,2,FALSE),\"\")","v":""},null,""]
[null,null,{"$f":"IF(B3895<>\"\",VLOOKUP(B3895,[1]Desplegables!$BA$2:$BB$19,2,FALSE),\"\")","v":""},null,""]
[null,null,{"$f":"IF(B3896<>\"\",VLOOKUP(B3896,[1]Desplegables!$BA$2:$BB$19,2,FALSE),\"\")","v":""},null,""]
[null,null,{"$f":"IF(B3897<>\"\",VLOOKUP(B3897,[1]Desplegables!$BA$2:$BB$19,2,FALSE),\"\")","v":""},null,""]
[null,null,{"$f":"IF(B3898<>\"\",VLOOKUP(B3898,[1]Desplegables!$BA$2:$BB$19,2,FALSE),\"\")","v":""},null,""]
[null,null,{"$f":"IF(B3899<>\"\",VLOOKUP(B3899,[1]Desplegables!$BA$2:$BB$19,2,FALSE),\"\")","v":""},null,""]
[null,null,{"$f":"IF(B3900<>\"\",VLOOKUP(B3900,[1]Desplegables!$BA$2:$BB$19,2,FALSE),\"\")","v":""},null,""]
[null,null,{"$f":"IF(B3901<>\"\",VLOOKUP(B3901,[1]Desplegables!$BA$2:$BB$19,2,FALSE),\"\")","v":""},null,""]
[null,null,{"$f":"IF(B3902<>\"\",VLOOKUP(B3902,[1]Desplegables!$BA$2:$BB$19,2,FALSE),\"\")","v":""},null,""]
[null,null,{"$f":"IF(B3903<>\"\",VLOOKUP(B3903,[1]Desplegables!$BA$2:$BB$19,2,FALSE),\"\")","v":""},null,""]
[null,null,{"$f":"IF(B3904<>\"\",VLOOKUP(B3904,[1]Desplegables!$BA$2:$BB$19,2,FALSE),\"\")","v":""},null,""]
[null,null,{"$f":"IF(B3905<>\"\",VLOOKUP(B3905,[1]Desplegables!$BA$2:$BB$19,2,FALSE),\"\")","v":""},null,""]
[null,null,{"$f":"IF(B3906<>\"\",VLOOKUP(B3906,[1]Desplegables!$BA$2:$BB$19,2,FALSE),\"\")","v":""},null,""]
[null,null,{"$f":"IF(B3907<>\"\",VLOOKUP(B3907,[1]Desplegables!$BA$2:$BB$19,2,FALSE),\"\")","v":""},null,""]
[null,null,{"$f":"IF(B3908<>\"\",VLOOKUP(B3908,[1]Desplegables!$BA$2:$BB$19,2,FALSE),\"\")","v":""},null,""]
[null,null,{"$f":"IF(B3909<>\"\",VLOOKUP(B3909,[1]Desplegables!$BA$2:$BB$19,2,FALSE),\"\")","v":""},null,{"$f":"IF(C3909<>\"\",D3909/C3909,\"\")","v":""}]
[null,null,{"$f":"IF(B3910<>\"\",VLOOKUP(B3910,[1]Desplegables!$BA$2:$BB$19,2,FALSE),\"\")","v":""},null,""]
[null,null,{"$f":"IF(B3911<>\"\",VLOOKUP(B3911,[1]Desplegables!$BA$2:$BB$19,2,FALSE),\"\")","v":""},null,""]
[null,null,{"$f":"IF(B3912<>\"\",VLOOKUP(B3912,[1]Desplegables!$BA$2:$BB$19,2,FALSE),\"\")","v":""},null,""]
[null,null,{"$f":"IF(B3913<>\"\",VLOOKUP(B3913,[1]Desplegables!$BA$2:$BB$19,2,FALSE),\"\")","v":""},null,""]
[null,null,{"$f":"IF(B3914<>\"\",VLOOKUP(B3914,[1]Desplegables!$BA$2:$BB$19,2,FALSE),\"\")","v":""},null,""]
[null,null,{"$f":"IF(B3915<>\"\",VLOOKUP(B3915,[1]Desplegables!$BA$2:$BB$19,2,FALSE),\"\")","v":""},null,""]
[null,null,{"$f":"IF(B3916<>\"\",VLOOKUP(B3916,[1]Desplegables!$BA$2:$BB$19,2,FALSE),\"\")","v":""},null,""]
[null,null,{"$f":"IF(B3917<>\"\",VLOOKUP(B3917,[1]Desplegables!$BA$2:$BB$19,2,FALSE),\"\")","v":""},null,""]
[null,null,{"$f":"IF(B3918<>\"\",VLOOKUP(B3918,[1]Desplegables!$BA$2:$BB$19,2,FALSE),\"\")","v":""},null,""]
[null,null,{"$f":"IF(B3919<>\"\",VLOOKUP(B3919,[1]Desplegables!$BA$2:$BB$19,2,FALSE),\"\")","v":""},null,""]
[null,null,{"$f":"IF(B3920<>\"\",VLOOKUP(B3920,[1]Desplegables!$BA$2:$BB$19,2,FALSE),\"\")","v":""},null,""]
[null,null,{"$f":"IF(B3921<>\"\",VLOOKUP(B3921,[1]Desplegables!$BA$2:$BB$19,2,FALSE),\"\")","v":""},null,""]
[null,null,{"$f":"IF(B3922<>\"\",VLOOKUP(B3922,[1]Desplegables!$BA$2:$BB$19,2,FALSE),\"\")","v":""},null,""]
[null,null,{"$f":"IF(B3923<>\"\",VLOOKUP(B3923,[1]Desplegables!$BA$2:$BB$19,2,FALSE),\"\")","v":""},null,""]
[null,null,{"$f":"IF(B3924<>\"\",VLOOKUP(B3924,[1]Desplegables!$BA$2:$BB$19,2,FALSE),\"\")","v":""},null,""]
[null,null,{"$f":"IF(B3925<>\"\",VLOOKUP(B3925,[1]Desplegables!$BA$2:$BB$19,2,FALSE),\"\")","v":""},null,""]
[null,null,{"$f":"IF(B3926<>\"\",VLOOKUP(B3926,[1]Desplegables!$BA$2:$BB$19,2,FALSE),\"\")","v":""},null,""]
[null,null,{"$f":"IF(B3927<>\"\",VLOOKUP(B3927,[1]Desplegables!$BA$2:$BB$19,2,FALSE),\"\")","v":""},null,""]
[null,null,{"$f":"IF(B3928<>\"\",VLOOKUP(B3928,[1]Desplegables!$BA$2:$BB$19,2,FALSE),\"\")","v":""},null,""]
[null,null,{"$f":"IF(B3929<>\"\",VLOOKUP(B3929,[1]Desplegables!$BA$2:$BB$19,2,FALSE),\"\")","v":""},null,""]
[null,null,{"$f":"IF(B3930<>\"\",VLOOKUP(B3930,[1]Desplegables!$BA$2:$BB$19,2,FALSE),\"\")","v":""},null,""]
[null,null,{"$f":"IF(B3931<>\"\",VLOOKUP(B3931,[1]Desplegables!$BA$2:$BB$19,2,FALSE),\"\")","v":""},null,""]
[null,null,{"$f":"IF(B3932<>\"\",VLOOKUP(B3932,[1]Desplegables!$BA$2:$BB$19,2,FALSE),\"\")","v":""},null,""]
[null,null,{"$f":"IF(B3933<>\"\",VLOOKUP(B3933,[1]Desplegables!$BA$2:$BB$19,2,FALSE),\"\")","v":""},null,""]
[null,null,{"$f":"IF(B3934<>\"\",VLOOKUP(B3934,[1]Desplegables!$BA$2:$BB$19,2,FALSE),\"\")","v":""},null,""]
[null,null,{"$f":"IF(B3935<>\"\",VLOOKUP(B3935,[1]Desplegables!$BA$2:$BB$19,2,FALSE),\"\")","v":""},null,""]
[null,null,{"$f":"IF(B3936<>\"\",VLOOKUP(B3936,[1]Desplegables!$BA$2:$BB$19,2,FALSE),\"\")","v":""},null,""]
[null,null,{"$f":"IF(B3937<>\"\",VLOOKUP(B3937,[1]Desplegables!$BA$2:$BB$19,2,FALSE),\"\")","v":""},null,""]
[null,null,{"$f":"IF(B3938<>\"\",VLOOKUP(B3938,[1]Desplegables!$BA$2:$BB$19,2,FALSE),\"\")","v":""},null,""]
[null,null,{"$f":"IF(B3939<>\"\",VLOOKUP(B3939,[1]Desplegables!$BA$2:$BB$19,2,FALSE),\"\")","v":""},null,""]
[null,null,{"$f":"IF(B3940<>\"\",VLOOKUP(B3940,[1]Desplegables!$BA$2:$BB$19,2,FALSE),\"\")","v":""},null,""]
[null,null,{"$f":"IF(B3941<>\"\",VLOOKUP(B3941,[1]Desplegables!$BA$2:$BB$19,2,FALSE),\"\")","v":""},null,""]
[null,null,{"$f":"IF(B3942<>\"\",VLOOKUP(B3942,[1]Desplegables!$BA$2:$BB$19,2,FALSE),\"\")","v":""},null,""]
[null,null,{"$f":"IF(B3943<>\"\",VLOOKUP(B3943,[1]Desplegables!$BA$2:$BB$19,2,FALSE),\"\")","v":""},null,""]
[null,null,{"$f":"IF(B3944<>\"\",VLOOKUP(B3944,[1]Desplegables!$BA$2:$BB$19,2,FALSE),\"\")","v":""},null,""]
[null,null,{"$f":"IF(B3945<>\"\",VLOOKUP(B3945,[1]Desplegables!$BA$2:$BB$19,2,FALSE),\"\")","v":""},null,""]
[null,null,{"$f":"IF(B3946<>\"\",VLOOKUP(B3946,[1]Desplegables!$BA$2:$BB$19,2,FALSE),\"\")","v":""},null,""]
[null,null,{"$f":"IF(B3947<>\"\",VLOOKUP(B3947,[1]Desplegables!$BA$2:$BB$19,2,FALSE),\"\")","v":""},null,""]
[null,null,{"$f":"IF(B3948<>\"\",VLOOKUP(B3948,[1]Desplegables!$BA$2:$BB$19,2,FALSE),\"\")","v":""},null,""]
[null,null,{"$f":"IF(B3949<>\"\",VLOOKUP(B3949,[1]Desplegables!$BA$2:$BB$19,2,FALSE),\"\")","v":""},null,""]
[null,null,{"$f":"IF(B3950<>\"\",VLOOKUP(B3950,[1]Desplegables!$BA$2:$BB$19,2,FALSE),\"\")","v":""},null,""]
[null,null,{"$f":"IF(B3951<>\"\",VLOOKUP(B3951,[1]Desplegables!$BA$2:$BB$19,2,FALSE),\"\")","v":""},null,""]
[null,null,{"$f":"IF(B3952<>\"\",VLOOKUP(B3952,[1]Desplegables!$BA$2:$BB$19,2,FALSE),\"\")","v":""},null,""]
[null,null,{"$f":"IF(B3953<>\"\",VLOOKUP(B3953,[1]Desplegables!$BA$2:$BB$19,2,FALSE),\"\")","v":""},null,""]
[null,null,{"$f":"IF(B3954<>\"\",VLOOKUP(B3954,[1]Desplegables!$BA$2:$BB$19,2,FALSE),\"\")","v":""},null,""]
[null,null,{"$f":"IF(B3955<>\"\",VLOOKUP(B3955,[1]Desplegables!$BA$2:$BB$19,2,FALSE),\"\")","v":""},null,""]
[null,null,{"$f":"IF(B3956<>\"\",VLOOKUP(B3956,[1]Desplegables!$BA$2:$BB$19,2,FALSE),\"\")","v":""},null,""]
[null,null,{"$f":"IF(B3957<>\"\",VLOOKUP(B3957,[1]Desplegables!$BA$2:$BB$19,2,FALSE),\"\")","v":""},null,""]
[null,null,{"$f":"IF(B3958<>\"\",VLOOKUP(B3958,[1]Desplegables!$BA$2:$BB$19,2,FALSE),\"\")","v":""},null,""]
[null,null,{"$f":"IF(B3959<>\"\",VLOOKUP(B3959,[1]Desplegables!$BA$2:$BB$19,2,FALSE),\"\")","v":""},null,""]
[null,null,{"$f":"IF(B3960<>\"\",VLOOKUP(B3960,[1]Desplegables!$BA$2:$BB$19,2,FALSE),\"\")","v":""},null,""]
[null,null,{"$f":"IF(B3961<>\"\",VLOOKUP(B3961,[1]Desplegables!$BA$2:$BB$19,2,FALSE),\"\")","v":""},null,""]
[null,null,{"$f":"IF(B3962<>\"\",VLOOKUP(B3962,[1]Desplegables!$BA$2:$BB$19,2,FALSE),\"\")","v":""},null,""]
[null,null,{"$f":"IF(B3963<>\"\",VLOOKUP(B3963,[1]Desplegables!$BA$2:$BB$19,2,FALSE),\"\")","v":""},null,""]
[null,null,{"$f":"IF(B3964<>\"\",VLOOKUP(B3964,[1]Desplegables!$BA$2:$BB$19,2,FALSE),\"\")","v":""},null,""]
[null,null,{"$f":"IF(B3965<>\"\",VLOOKUP(B3965,[1]Desplegables!$BA$2:$BB$19,2,FALSE),\"\")","v":""},null,""]
[null,null,{"$f":"IF(B3966<>\"\",VLOOKUP(B3966,[1]Desplegables!$BA$2:$BB$19,2,FALSE),\"\")","v":""},null,""]
[null,null,{"$f":"IF(B3967<>\"\",VLOOKUP(B3967,[1]Desplegables!$BA$2:$BB$19,2,FALSE),\"\")","v":""},null,""]
[null,null,{"$f":"IF(B3968<>\"\",VLOOKUP(B3968,[1]Desplegables!$BA$2:$BB$19,2,FALSE),\"\")","v":""},null,""]
[null,null,{"$f":"IF(B3969<>\"\",VLOOKUP(B3969,[1]Desplegables!$BA$2:$BB$19,2,FALSE),\"\")","v":""},null,""]
[null,null,{"$f":"IF(B3970<>\"\",VLOOKUP(B3970,[1]Desplegables!$BA$2:$BB$19,2,FALSE),\"\")","v":""},null,""]
[null,null,{"$f":"IF(B3971<>\"\",VLOOKUP(B3971,[1]Desplegables!$BA$2:$BB$19,2,FALSE),\"\")","v":""},null,""]
[null,null,{"$f":"IF(B3972<>\"\",VLOOKUP(B3972,[1]Desplegables!$BA$2:$BB$19,2,FALSE),\"\")","v":""},null,""]
[null,null,{"$f":"IF(B3973<>\"\",VLOOKUP(B3973,[1]Desplegables!$BA$2:$BB$19,2,FALSE),\"\")","v":""},null,{"$f":"IF(C3973<>\"\",D3973/C3973,\"\")","v":""}]
[null,null,{"$f":"IF(B3974<>\"\",VLOOKUP(B3974,[1]Desplegables!$BA$2:$BB$19,2,FALSE),\"\")","v":""},null,""]
[null,null,{"$f":"IF(B3975<>\"\",VLOOKUP(B3975,[1]Desplegables!$BA$2:$BB$19,2,FALSE),\"\")","v":""},null,""]
[null,null,{"$f":"IF(B3976<>\"\",VLOOKUP(B3976,[1]Desplegables!$BA$2:$BB$19,2,FALSE),\"\")","v":""},null,""]
[null,null,{"$f":"IF(B3977<>\"\",VLOOKUP(B3977,[1]Desplegables!$BA$2:$BB$19,2,FALSE),\"\")","v":""},null,""]
[null,null,{"$f":"IF(B3978<>\"\",VLOOKUP(B3978,[1]Desplegables!$BA$2:$BB$19,2,FALSE),\"\")","v":""},null,""]
[null,null,{"$f":"IF(B3979<>\"\",VLOOKUP(B3979,[1]Desplegables!$BA$2:$BB$19,2,FALSE),\"\")","v":""},null,""]
[null,null,{"$f":"IF(B3980<>\"\",VLOOKUP(B3980,[1]Desplegables!$BA$2:$BB$19,2,FALSE),\"\")","v":""},null,""]
[null,null,{"$f":"IF(B3981<>\"\",VLOOKUP(B3981,[1]Desplegables!$BA$2:$BB$19,2,FALSE),\"\")","v":""},null,""]
[null,null,{"$f":"IF(B3982<>\"\",VLOOKUP(B3982,[1]Desplegables!$BA$2:$BB$19,2,FALSE),\"\")","v":""},null,""]
[null,null,{"$f":"IF(B3983<>\"\",VLOOKUP(B3983,[1]Desplegables!$BA$2:$BB$19,2,FALSE),\"\")","v":""},null,""]
[null,null,{"$f":"IF(B3984<>\"\",VLOOKUP(B3984,[1]Desplegables!$BA$2:$BB$19,2,FALSE),\"\")","v":""},null,""]
[null,null,{"$f":"IF(B3985<>\"\",VLOOKUP(B3985,[1]Desplegables!$BA$2:$BB$19,2,FALSE),\"\")","v":""},null,""]
[null,null,{"$f":"IF(B3986<>\"\",VLOOKUP(B3986,[1]Desplegables!$BA$2:$BB$19,2,FALSE),\"\")","v":""},null,""]
[null,null,{"$f":"IF(B3987<>\"\",VLOOKUP(B3987,[1]Desplegables!$BA$2:$BB$19,2,FALSE),\"\")","v":""},null,""]
[null,null,{"$f":"IF(B3988<>\"\",VLOOKUP(B3988,[1]Desplegables!$BA$2:$BB$19,2,FALSE),\"\")","v":""},null,""]
[null,null,{"$f":"IF(B3989<>\"\",VLOOKUP(B3989,[1]Desplegables!$BA$2:$BB$19,2,FALSE),\"\")","v":""},null,""]
[null,null,{"$f":"IF(B3990<>\"\",VLOOKUP(B3990,[1]Desplegables!$BA$2:$BB$19,2,FALSE),\"\")","v":""},null,""]
[null,null,{"$f":"IF(B3991<>\"\",VLOOKUP(B3991,[1]Desplegables!$BA$2:$BB$19,2,FALSE),\"\")","v":""},null,""]
[null,null,{"$f":"IF(B3992<>\"\",VLOOKUP(B3992,[1]Desplegables!$BA$2:$BB$19,2,FALSE),\"\")","v":""},null,""]
[null,null,{"$f":"IF(B3993<>\"\",VLOOKUP(B3993,[1]Desplegables!$BA$2:$BB$19,2,FALSE),\"\")","v":""},null,""]
[null,null,{"$f":"IF(B3994<>\"\",VLOOKUP(B3994,[1]Desplegables!$BA$2:$BB$19,2,FALSE),\"\")","v":""},null,""]
[null,null,{"$f":"IF(B3995<>\"\",VLOOKUP(B3995,[1]Desplegables!$BA$2:$BB$19,2,FALSE),\"\")","v":""},null,""]
[null,null,{"$f":"IF(B3996<>\"\",VLOOKUP(B3996,[1]Desplegables!$BA$2:$BB$19,2,FALSE),\"\")","v":""},null,""]
[null,null,{"$f":"IF(B3997<>\"\",VLOOKUP(B3997,[1]Desplegables!$BA$2:$BB$19,2,FALSE),\"\")","v":""},null,""]
[null,null,{"$f":"IF(B3998<>\"\",VLOOKUP(B3998,[1]Desplegables!$BA$2:$BB$19,2,FALSE),\"\")","v":""},null,""]
[null,null,{"$f":"IF(B3999<>\"\",VLOOKUP(B3999,[1]Desplegables!$BA$2:$BB$19,2,FALSE),\"\")","v":""},null,""]
[null,null,{"$f":"IF(B4000<>\"\",VLOOKUP(B4000,[1]Desplegables!$BA$2:$BB$19,2,FALSE),\"\")","v":""},null,""]
[null,null,{"$f":"IF(B4001<>\"\",VLOOKUP(B4001,[1]Desplegables!$BA$2:$BB$19,2,FALSE),\"\")","v":""},null,""]
[null,null,{"$f":"IF(B4002<>\"\",VLOOKUP(B4002,[1]Desplegables!$BA$2:$BB$19,2,FALSE),\"\")","v":""},null,""]
[null,null,{"$f":"IF(B4003<>\"\",VLOOKUP(B4003,[1]Desplegables!$BA$2:$BB$19,2,FALSE),\"\")","v":""},null,""]
[null,null,{"$f":"IF(B4004<>\"\",VLOOKUP(B4004,[1]Desplegables!$BA$2:$BB$19,2,FALSE),\"\")","v":""},null,""]
[null,null,{"$f":"IF(B4005<>\"\",VLOOKUP(B4005,[1]Desplegables!$BA$2:$BB$19,2,FALSE),\"\")","v":""},null,""]
[null,null,{"$f":"IF(B4006<>\"\",VLOOKUP(B4006,[1]Desplegables!$BA$2:$BB$19,2,FALSE),\"\")","v":""},null,""]
[null,null,{"$f":"IF(B4007<>\"\",VLOOKUP(B4007,[1]Desplegables!$BA$2:$BB$19,2,FALSE),\"\")","v":""},null,""]
[null,null,{"$f":"IF(B4008<>\"\",VLOOKUP(B4008,[1]Desplegables!$BA$2:$BB$19,2,FALSE),\"\")","v":""},null,""]
[null,null,{"$f":"IF(B4009<>\"\",VLOOKUP(B4009,[1]Desplegables!$BA$2:$BB$19,2,FALSE),\"\")","v":""},null,""]
[null,null,{"$f":"IF(B4010<>\"\",VLOOKUP(B4010,[1]Desplegables!$BA$2:$BB$19,2,FALSE),\"\")","v":""},null,""]
[null,null,{"$f":"IF(B4011<>\"\",VLOOKUP(B4011,[1]Desplegables!$BA$2:$BB$19,2,FALSE),\"\")","v":""},null,""]
[null,null,{"$f":"IF(B4012<>\"\",VLOOKUP(B4012,[1]Desplegables!$BA$2:$BB$19,2,FALSE),\"\")","v":""},null,""]
[null,null,{"$f":"IF(B4013<>\"\",VLOOKUP(B4013,[1]Desplegables!$BA$2:$BB$19,2,FALSE),\"\")","v":""},null,""]
[null,null,{"$f":"IF(B4014<>\"\",VLOOKUP(B4014,[1]Desplegables!$BA$2:$BB$19,2,FALSE),\"\")","v":""},null,""]
[null,null,{"$f":"IF(B4015<>\"\",VLOOKUP(B4015,[1]Desplegables!$BA$2:$BB$19,2,FALSE),\"\")","v":""},null,""]
[null,null,{"$f":"IF(B4016<>\"\",VLOOKUP(B4016,[1]Desplegables!$BA$2:$BB$19,2,FALSE),\"\")","v":""},null,""]
[null,null,{"$f":"IF(B4017<>\"\",VLOOKUP(B4017,[1]Desplegables!$BA$2:$BB$19,2,FALSE),\"\")","v":""},null,""]
[null,null,{"$f":"IF(B4018<>\"\",VLOOKUP(B4018,[1]Desplegables!$BA$2:$BB$19,2,FALSE),\"\")","v":""},null,""]
[null,null,{"$f":"IF(B4019<>\"\",VLOOKUP(B4019,[1]Desplegables!$BA$2:$BB$19,2,FALSE),\"\")","v":""},null,""]
[null,null,{"$f":"IF(B4020<>\"\",VLOOKUP(B4020,[1]Desplegables!$BA$2:$BB$19,2,FALSE),\"\")","v":""},null,""]
[null,null,{"$f":"IF(B4021<>\"\",VLOOKUP(B4021,[1]Desplegables!$BA$2:$BB$19,2,FALSE),\"\")","v":""},null,""]
[null,null,{"$f":"IF(B4022<>\"\",VLOOKUP(B4022,[1]Desplegables!$BA$2:$BB$19,2,FALSE),\"\")","v":""},null,""]
[null,null,{"$f":"IF(B4023<>\"\",VLOOKUP(B4023,[1]Desplegables!$BA$2:$BB$19,2,FALSE),\"\")","v":""},null,""]
[null,null,{"$f":"IF(B4024<>\"\",VLOOKUP(B4024,[1]Desplegables!$BA$2:$BB$19,2,FALSE),\"\")","v":""},null,""]
[null,null,{"$f":"IF(B4025<>\"\",VLOOKUP(B4025,[1]Desplegables!$BA$2:$BB$19,2,FALSE),\"\")","v":""},null,""]
[null,null,{"$f":"IF(B4026<>\"\",VLOOKUP(B4026,[1]Desplegables!$BA$2:$BB$19,2,FALSE),\"\")","v":""},null,""]
[null,null,{"$f":"IF(B4027<>\"\",VLOOKUP(B4027,[1]Desplegables!$BA$2:$BB$19,2,FALSE),\"\")","v":""},null,""]
[null,null,{"$f":"IF(B4028<>\"\",VLOOKUP(B4028,[1]Desplegables!$BA$2:$BB$19,2,FALSE),\"\")","v":""},null,""]
[null,null,{"$f":"IF(B4029<>\"\",VLOOKUP(B4029,[1]Desplegables!$BA$2:$BB$19,2,FALSE),\"\")","v":""},null,""]
[null,null,{"$f":"IF(B4030<>\"\",VLOOKUP(B4030,[1]Desplegables!$BA$2:$BB$19,2,FALSE),\"\")","v":""},null,""]
[null,null,{"$f":"IF(B4031<>\"\",VLOOKUP(B4031,[1]Desplegables!$BA$2:$BB$19,2,FALSE),\"\")","v":""},null,""]
[null,null,{"$f":"IF(B4032<>\"\",VLOOKUP(B4032,[1]Desplegables!$BA$2:$BB$19,2,FALSE),\"\")","v":""},null,""]
[null,null,{"$f":"IF(B4033<>\"\",VLOOKUP(B4033,[1]Desplegables!$BA$2:$BB$19,2,FALSE),\"\")","v":""},null,""]
[null,null,{"$f":"IF(B4034<>\"\",VLOOKUP(B4034,[1]Desplegables!$BA$2:$BB$19,2,FALSE),\"\")","v":""},null,""]
[null,null,{"$f":"IF(B4035<>\"\",VLOOKUP(B4035,[1]Desplegables!$BA$2:$BB$19,2,FALSE),\"\")","v":""},null,""]
[null,null,{"$f":"IF(B4036<>\"\",VLOOKUP(B4036,[1]Desplegables!$BA$2:$BB$19,2,FALSE),\"\")","v":""},null,""]
[null,null,{"$f":"IF(B4037<>\"\",VLOOKUP(B4037,[1]Desplegables!$BA$2:$BB$19,2,FALSE),\"\")","v":""},null,{"$f":"IF(C4037<>\"\",D4037/C4037,\"\")","v":""}]
[null,null,{"$f":"IF(B4038<>\"\",VLOOKUP(B4038,[1]Desplegables!$BA$2:$BB$19,2,FALSE),\"\")","v":""},null,""]
[null,null,{"$f":"IF(B4039<>\"\",VLOOKUP(B4039,[1]Desplegables!$BA$2:$BB$19,2,FALSE),\"\")","v":""},null,""]
[null,null,{"$f":"IF(B4040<>\"\",VLOOKUP(B4040,[1]Desplegables!$BA$2:$BB$19,2,FALSE),\"\")","v":""},null,""]
[null,null,{"$f":"IF(B4041<>\"\",VLOOKUP(B4041,[1]Desplegables!$BA$2:$BB$19,2,FALSE),\"\")","v":""},null,""]
[null,null,{"$f":"IF(B4042<>\"\",VLOOKUP(B4042,[1]Desplegables!$BA$2:$BB$19,2,FALSE),\"\")","v":""},null,""]
[null,null,{"$f":"IF(B4043<>\"\",VLOOKUP(B4043,[1]Desplegables!$BA$2:$BB$19,2,FALSE),\"\")","v":""},null,""]
[null,null,{"$f":"IF(B4044<>\"\",VLOOKUP(B4044,[1]Desplegables!$BA$2:$BB$19,2,FALSE),\"\")","v":""},null,""]
[null,null,{"$f":"IF(B4045<>\"\",VLOOKUP(B4045,[1]Desplegables!$BA$2:$BB$19,2,FALSE),\"\")","v":""},null,""]
[null,null,{"$f":"IF(B4046<>\"\",VLOOKUP(B4046,[1]Desplegables!$BA$2:$BB$19,2,FALSE),\"\")","v":""},null,""]
[null,null,{"$f":"IF(B4047<>\"\",VLOOKUP(B4047,[1]Desplegables!$BA$2:$BB$19,2,FALSE),\"\")","v":""},null,""]
[null,null,{"$f":"IF(B4048<>\"\",VLOOKUP(B4048,[1]Desplegables!$BA$2:$BB$19,2,FALSE),\"\")","v":""},null,""]
[null,null,{"$f":"IF(B4049<>\"\",VLOOKUP(B4049,[1]Desplegables!$BA$2:$BB$19,2,FALSE),\"\")","v":""},null,""]
[null,null,{"$f":"IF(B4050<>\"\",VLOOKUP(B4050,[1]Desplegables!$BA$2:$BB$19,2,FALSE),\"\")","v":""},null,""]
[null,null,{"$f":"IF(B4051<>\"\",VLOOKUP(B4051,[1]Desplegables!$BA$2:$BB$19,2,FALSE),\"\")","v":""},null,""]
[null,null,{"$f":"IF(B4052<>\"\",VLOOKUP(B4052,[1]Desplegables!$BA$2:$BB$19,2,FALSE),\"\")","v":""},null,""]
[null,null,{"$f":"IF(B4053<>\"\",VLOOKUP(B4053,[1]Desplegables!$BA$2:$BB$19,2,FALSE),\"\")","v":""},null,""]
[null,null,{"$f":"IF(B4054<>\"\",VLOOKUP(B4054,[1]Desplegables!$BA$2:$BB$19,2,FALSE),\"\")","v":""},null,""]
[null,null,{"$f":"IF(B4055<>\"\",VLOOKUP(B4055,[1]Desplegables!$BA$2:$BB$19,2,FALSE),\"\")","v":""},null,""]
[null,null,{"$f":"IF(B4056<>\"\",VLOOKUP(B4056,[1]Desplegables!$BA$2:$BB$19,2,FALSE),\"\")","v":""},null,""]
[null,null,{"$f":"IF(B4057<>\"\",VLOOKUP(B4057,[1]Desplegables!$BA$2:$BB$19,2,FALSE),\"\")","v":""},null,""]
[null,null,{"$f":"IF(B4058<>\"\",VLOOKUP(B4058,[1]Desplegables!$BA$2:$BB$19,2,FALSE),\"\")","v":""},null,""]
[null,null,{"$f":"IF(B4059<>\"\",VLOOKUP(B4059,[1]Desplegables!$BA$2:$BB$19,2,FALSE),\"\")","v":""},null,""]
[null,null,{"$f":"IF(B4060<>\"\",VLOOKUP(B4060,[1]Desplegables!$BA$2:$BB$19,2,FALSE),\"\")","v":""},null,""]
[null,null,{"$f":"IF(B4061<>\"\",VLOOKUP(B4061,[1]Desplegables!$BA$2:$BB$19,2,FALSE),\"\")","v":""},null,""]
[null,null,{"$f":"IF(B4062<>\"\",VLOOKUP(B4062,[1]Desplegables!$BA$2:$BB$19,2,FALSE),\"\")","v":""},null,""]
[null,null,{"$f":"IF(B4063<>\"\",VLOOKUP(B4063,[1]Desplegables!$BA$2:$BB$19,2,FALSE),\"\")","v":""},null,""]
[null,null,{"$f":"IF(B4064<>\"\",VLOOKUP(B4064,[1]Desplegables!$BA$2:$BB$19,2,FALSE),\"\")","v":""},null,""]
[null,null,{"$f":"IF(B4065<>\"\",VLOOKUP(B4065,[1]Desplegables!$BA$2:$BB$19,2,FALSE),\"\")","v":""},null,""]
[null,null,{"$f":"IF(B4066<>\"\",VLOOKUP(B4066,[1]Desplegables!$BA$2:$BB$19,2,FALSE),\"\")","v":""},null,""]
[null,null,{"$f":"IF(B4067<>\"\",VLOOKUP(B4067,[1]Desplegables!$BA$2:$BB$19,2,FALSE),\"\")","v":""},null,""]
[null,null,{"$f":"IF(B4068<>\"\",VLOOKUP(B4068,[1]Desplegables!$BA$2:$BB$19,2,FALSE),\"\")","v":""},null,""]
[null,null,{"$f":"IF(B4069<>\"\",VLOOKUP(B4069,[1]Desplegables!$BA$2:$BB$19,2,FALSE),\"\")","v":""},null,""]
[null,null,{"$f":"IF(B4070<>\"\",VLOOKUP(B4070,[1]Desplegables!$BA$2:$BB$19,2,FALSE),\"\")","v":""},null,""]
[null,null,{"$f":"IF(B4071<>\"\",VLOOKUP(B4071,[1]Desplegables!$BA$2:$BB$19,2,FALSE),\"\")","v":""},null,""]
[null,null,{"$f":"IF(B4072<>\"\",VLOOKUP(B4072,[1]Desplegables!$BA$2:$BB$19,2,FALSE),\"\")","v":""},null,""]
[null,null,{"$f":"IF(B4073<>\"\",VLOOKUP(B4073,[1]Desplegables!$BA$2:$BB$19,2,FALSE),\"\")","v":""},null,""]
[null,null,{"$f":"IF(B4074<>\"\",VLOOKUP(B4074,[1]Desplegables!$BA$2:$BB$19,2,FALSE),\"\")","v":""},null,""]
[null,null,{"$f":"IF(B4075<>\"\",VLOOKUP(B4075,[1]Desplegables!$BA$2:$BB$19,2,FALSE),\"\")","v":""},null,""]
[null,null,{"$f":"IF(B4076<>\"\",VLOOKUP(B4076,[1]Desplegables!$BA$2:$BB$19,2,FALSE),\"\")","v":""},null,""]
[null,null,{"$f":"IF(B4077<>\"\",VLOOKUP(B4077,[1]Desplegables!$BA$2:$BB$19,2,FALSE),\"\")","v":""},null,""]
[null,null,{"$f":"IF(B4078<>\"\",VLOOKUP(B4078,[1]Desplegables!$BA$2:$BB$19,2,FALSE),\"\")","v":""},null,""]
[null,null,{"$f":"IF(B4079<>\"\",VLOOKUP(B4079,[1]Desplegables!$BA$2:$BB$19,2,FALSE),\"\")","v":""},null,""]
[null,null,{"$f":"IF(B4080<>\"\",VLOOKUP(B4080,[1]Desplegables!$BA$2:$BB$19,2,FALSE),\"\")","v":""},null,""]
[null,null,{"$f":"IF(B4081<>\"\",VLOOKUP(B4081,[1]Desplegables!$BA$2:$BB$19,2,FALSE),\"\")","v":""},null,""]
[null,null,{"$f":"IF(B4082<>\"\",VLOOKUP(B4082,[1]Desplegables!$BA$2:$BB$19,2,FALSE),\"\")","v":""},null,""]
[null,null,{"$f":"IF(B4083<>\"\",VLOOKUP(B4083,[1]Desplegables!$BA$2:$BB$19,2,FALSE),\"\")","v":""},null,""]
[null,null,{"$f":"IF(B4084<>\"\",VLOOKUP(B4084,[1]Desplegables!$BA$2:$BB$19,2,FALSE),\"\")","v":""},null,""]
[null,null,{"$f":"IF(B4085<>\"\",VLOOKUP(B4085,[1]Desplegables!$BA$2:$BB$19,2,FALSE),\"\")","v":""},null,""]
[null,null,{"$f":"IF(B4086<>\"\",VLOOKUP(B4086,[1]Desplegables!$BA$2:$BB$19,2,FALSE),\"\")","v":""},null,""]
[null,null,{"$f":"IF(B4087<>\"\",VLOOKUP(B4087,[1]Desplegables!$BA$2:$BB$19,2,FALSE),\"\")","v":""},null,""]
[null,null,{"$f":"IF(B4088<>\"\",VLOOKUP(B4088,[1]Desplegables!$BA$2:$BB$19,2,FALSE),\"\")","v":""},null,""]
[null,null,{"$f":"IF(B4089<>\"\",VLOOKUP(B4089,[1]Desplegables!$BA$2:$BB$19,2,FALSE),\"\")","v":""},null,""]
[null,null,{"$f":"IF(B4090<>\"\",VLOOKUP(B4090,[1]Desplegables!$BA$2:$BB$19,2,FALSE),\"\")","v":""},null,""]
[null,null,{"$f":"IF(B4091<>\"\",VLOOKUP(B4091,[1]Desplegables!$BA$2:$BB$19,2,FALSE),\"\")","v":""},null,""]
[null,null,{"$f":"IF(B4092<>\"\",VLOOKUP(B4092,[1]Desplegables!$BA$2:$BB$19,2,FALSE),\"\")","v":""},null,""]
[null,null,{"$f":"IF(B4093<>\"\",VLOOKUP(B4093,[1]Desplegables!$BA$2:$BB$19,2,FALSE),\"\")","v":""},null,""]
[null,null,{"$f":"IF(B4094<>\"\",VLOOKUP(B4094,[1]Desplegables!$BA$2:$BB$19,2,FALSE),\"\")","v":""},null,""]
[null,null,{"$f":"IF(B4095<>\"\",VLOOKUP(B4095,[1]Desplegables!$BA$2:$BB$19,2,FALSE),\"\")","v":""},null,""]
[null,null,{"$f":"IF(B4096<>\"\",VLOOKUP(B4096,[1]Desplegables!$BA$2:$BB$19,2,FALSE),\"\")","v":""},null,""]
[null,null,{"$f":"IF(B4097<>\"\",VLOOKUP(B4097,[1]Desplegables!$BA$2:$BB$19,2,FALSE),\"\")","v":""},null,""]
[null,null,{"$f":"IF(B4098<>\"\",VLOOKUP(B4098,[1]Desplegables!$BA$2:$BB$19,2,FALSE),\"\")","v":""},null,""]
[null,null,{"$f":"IF(B4099<>\"\",VLOOKUP(B4099,[1]Desplegables!$BA$2:$BB$19,2,FALSE),\"\")","v":""},null,""]
[null,null,{"$f":"IF(B4100<>\"\",VLOOKUP(B4100,[1]Desplegables!$BA$2:$BB$19,2,FALSE),\"\")","v":""},null,""]
[null,null,{"$f":"IF(B4101<>\"\",VLOOKUP(B4101,[1]Desplegables!$BA$2:$BB$19,2,FALSE),\"\")","v":""},null,{"$f":"IF(C4101<>\"\",D4101/C4101,\"\")","v":""}]
[null,null,{"$f":"IF(B4102<>\"\",VLOOKUP(B4102,[1]Desplegables!$BA$2:$BB$19,2,FALSE),\"\")","v":""},null,""]
[null,null,{"$f":"IF(B4103<>\"\",VLOOKUP(B4103,[1]Desplegables!$BA$2:$BB$19,2,FALSE),\"\")","v":""},null,""]
[null,null,{"$f":"IF(B4104<>\"\",VLOOKUP(B4104,[1]Desplegables!$BA$2:$BB$19,2,FALSE),\"\")","v":""},null,""]
[null,null,{"$f":"IF(B4105<>\"\",VLOOKUP(B4105,[1]Desplegables!$BA$2:$BB$19,2,FALSE),\"\")","v":""},null,""]
[null,null,{"$f":"IF(B4106<>\"\",VLOOKUP(B4106,[1]Desplegables!$BA$2:$BB$19,2,FALSE),\"\")","v":""},null,""]
[null,null,{"$f":"IF(B4107<>\"\",VLOOKUP(B4107,[1]Desplegables!$BA$2:$BB$19,2,FALSE),\"\")","v":""},null,""]
[null,null,{"$f":"IF(B4108<>\"\",VLOOKUP(B4108,[1]Desplegables!$BA$2:$BB$19,2,FALSE),\"\")","v":""},null,""]
[null,null,{"$f":"IF(B4109<>\"\",VLOOKUP(B4109,[1]Desplegables!$BA$2:$BB$19,2,FALSE),\"\")","v":""},null,""]
[null,null,{"$f":"IF(B4110<>\"\",VLOOKUP(B4110,[1]Desplegables!$BA$2:$BB$19,2,FALSE),\"\")","v":""},null,""]
[null,null,{"$f":"IF(B4111<>\"\",VLOOKUP(B4111,[1]Desplegables!$BA$2:$BB$19,2,FALSE),\"\")","v":""},null,""]
[null,null,{"$f":"IF(B4112<>\"\",VLOOKUP(B4112,[1]Desplegables!$BA$2:$BB$19,2,FALSE),\"\")","v":""},null,""]
[null,null,{"$f":"IF(B4113<>\"\",VLOOKUP(B4113,[1]Desplegables!$BA$2:$BB$19,2,FALSE),\"\")","v":""},null,""]
[null,null,{"$f":"IF(B4114<>\"\",VLOOKUP(B4114,[1]Desplegables!$BA$2:$BB$19,2,FALSE),\"\")","v":""},null,""]
[null,null,{"$f":"IF(B4115<>\"\",VLOOKUP(B4115,[1]Desplegables!$BA$2:$BB$19,2,FALSE),\"\")","v":""},null,""]
[null,null,{"$f":"IF(B4116<>\"\",VLOOKUP(B4116,[1]Desplegables!$BA$2:$BB$19,2,FALSE),\"\")","v":""},null,""]
[null,null,{"$f":"IF(B4117<>\"\",VLOOKUP(B4117,[1]Desplegables!$BA$2:$BB$19,2,FALSE),\"\")","v":""},null,""]
[null,null,{"$f":"IF(B4118<>\"\",VLOOKUP(B4118,[1]Desplegables!$BA$2:$BB$19,2,FALSE),\"\")","v":""},null,""]
[null,null,{"$f":"IF(B4119<>\"\",VLOOKUP(B4119,[1]Desplegables!$BA$2:$BB$19,2,FALSE),\"\")","v":""},null,""]
[null,null,{"$f":"IF(B4120<>\"\",VLOOKUP(B4120,[1]Desplegables!$BA$2:$BB$19,2,FALSE),\"\")","v":""},null,""]
[null,null,{"$f":"IF(B4121<>\"\",VLOOKUP(B4121,[1]Desplegables!$BA$2:$BB$19,2,FALSE),\"\")","v":""},null,""]
[null,null,{"$f":"IF(B4122<>\"\",VLOOKUP(B4122,[1]Desplegables!$BA$2:$BB$19,2,FALSE),\"\")","v":""},null,""]
[null,null,{"$f":"IF(B4123<>\"\",VLOOKUP(B4123,[1]Desplegables!$BA$2:$BB$19,2,FALSE),\"\")","v":""},null,""]
[null,null,{"$f":"IF(B4124<>\"\",VLOOKUP(B4124,[1]Desplegables!$BA$2:$BB$19,2,FALSE),\"\")","v":""},null,""]
[null,null,{"$f":"IF(B4125<>\"\",VLOOKUP(B4125,[1]Desplegables!$BA$2:$BB$19,2,FALSE),\"\")","v":""},null,""]
[null,null,{"$f":"IF(B4126<>\"\",VLOOKUP(B4126,[1]Desplegables!$BA$2:$BB$19,2,FALSE),\"\")","v":""},null,""]
[null,null,{"$f":"IF(B4127<>\"\",VLOOKUP(B4127,[1]Desplegables!$BA$2:$BB$19,2,FALSE),\"\")","v":""},null,""]
[null,null,{"$f":"IF(B4128<>\"\",VLOOKUP(B4128,[1]Desplegables!$BA$2:$BB$19,2,FALSE),\"\")","v":""},null,""]
[null,null,{"$f":"IF(B4129<>\"\",VLOOKUP(B4129,[1]Desplegables!$BA$2:$BB$19,2,FALSE),\"\")","v":""},null,""]
[null,null,{"$f":"IF(B4130<>\"\",VLOOKUP(B4130,[1]Desplegables!$BA$2:$BB$19,2,FALSE),\"\")","v":""},null,""]
[null,null,{"$f":"IF(B4131<>\"\",VLOOKUP(B4131,[1]Desplegables!$BA$2:$BB$19,2,FALSE),\"\")","v":""},null,""]
[null,null,{"$f":"IF(B4132<>\"\",VLOOKUP(B4132,[1]Desplegables!$BA$2:$BB$19,2,FALSE),\"\")","v":""},null,""]
[null,null,{"$f":"IF(B4133<>\"\",VLOOKUP(B4133,[1]Desplegables!$BA$2:$BB$19,2,FALSE),\"\")","v":""},null,""]
[null,null,{"$f":"IF(B4134<>\"\",VLOOKUP(B4134,[1]Desplegables!$BA$2:$BB$19,2,FALSE),\"\")","v":""},null,""]
[null,null,{"$f":"IF(B4135<>\"\",VLOOKUP(B4135,[1]Desplegables!$BA$2:$BB$19,2,FALSE),\"\")","v":""},null,""]
[null,null,{"$f":"IF(B4136<>\"\",VLOOKUP(B4136,[1]Desplegables!$BA$2:$BB$19,2,FALSE),\"\")","v":""},null,""]
[null,null,{"$f":"IF(B4137<>\"\",VLOOKUP(B4137,[1]Desplegables!$BA$2:$BB$19,2,FALSE),\"\")","v":""},null,""]
[null,null,{"$f":"IF(B4138<>\"\",VLOOKUP(B4138,[1]Desplegables!$BA$2:$BB$19,2,FALSE),\"\")","v":""},null,""]
[null,null,{"$f":"IF(B4139<>\"\",VLOOKUP(B4139,[1]Desplegables!$BA$2:$BB$19,2,FALSE),\"\")","v":""},null,""]
[null,null,{"$f":"IF(B4140<>\"\",VLOOKUP(B4140,[1]Desplegables!$BA$2:$BB$19,2,FALSE),\"\")","v":""},null,""]
[null,null,{"$f":"IF(B4141<>\"\",VLOOKUP(B4141,[1]Desplegables!$BA$2:$BB$19,2,FALSE),\"\")","v":""},null,""]
[null,null,{"$f":"IF(B4142<>\"\",VLOOKUP(B4142,[1]Desplegables!$BA$2:$BB$19,2,FALSE),\"\")","v":""},null,""]
[null,null,{"$f":"IF(B4143<>\"\",VLOOKUP(B4143,[1]Desplegables!$BA$2:$BB$19,2,FALSE),\"\")","v":""},null,""]
[null,null,{"$f":"IF(B4144<>\"\",VLOOKUP(B4144,[1]Desplegables!$BA$2:$BB$19,2,FALSE),\"\")","v":""},null,""]
[null,null,{"$f":"IF(B4145<>\"\",VLOOKUP(B4145,[1]Desplegables!$BA$2:$BB$19,2,FALSE),\"\")","v":""},null,""]
[null,null,{"$f":"IF(B4146<>\"\",VLOOKUP(B4146,[1]Desplegables!$BA$2:$BB$19,2,FALSE),\"\")","v":""},null,""]
[null,null,{"$f":"IF(B4147<>\"\",VLOOKUP(B4147,[1]Desplegables!$BA$2:$BB$19,2,FALSE),\"\")","v":""},null,""]
[null,null,{"$f":"IF(B4148<>\"\",VLOOKUP(B4148,[1]Desplegables!$BA$2:$BB$19,2,FALSE),\"\")","v":""},null,""]
[null,null,{"$f":"IF(B4149<>\"\",VLOOKUP(B4149,[1]Desplegables!$BA$2:$BB$19,2,FALSE),\"\")","v":""},null,""]
[null,null,{"$f":"IF(B4150<>\"\",VLOOKUP(B4150,[1]Desplegables!$BA$2:$BB$19,2,FALSE),\"\")","v":""},null,""]
[null,null,{"$f":"IF(B4151<>\"\",VLOOKUP(B4151,[1]Desplegables!$BA$2:$BB$19,2,FALSE),\"\")","v":""},null,""]
[null,null,{"$f":"IF(B4152<>\"\",VLOOKUP(B4152,[1]Desplegables!$BA$2:$BB$19,2,FALSE),\"\")","v":""},null,""]
[null,null,{"$f":"IF(B4153<>\"\",VLOOKUP(B4153,[1]Desplegables!$BA$2:$BB$19,2,FALSE),\"\")","v":""},null,""]
[null,null,{"$f":"IF(B4154<>\"\",VLOOKUP(B4154,[1]Desplegables!$BA$2:$BB$19,2,FALSE),\"\")","v":""},null,""]
[null,null,{"$f":"IF(B4155<>\"\",VLOOKUP(B4155,[1]Desplegables!$BA$2:$BB$19,2,FALSE),\"\")","v":""},null,""]
[null,null,{"$f":"IF(B4156<>\"\",VLOOKUP(B4156,[1]Desplegables!$BA$2:$BB$19,2,FALSE),\"\")","v":""},null,""]
[null,null,{"$f":"IF(B4157<>\"\",VLOOKUP(B4157,[1]Desplegables!$BA$2:$BB$19,2,FALSE),\"\")","v":""},null,""]
[null,null,{"$f":"IF(B4158<>\"\",VLOOKUP(B4158,[1]Desplegables!$BA$2:$BB$19,2,FALSE),\"\")","v":""},null,""]
[null,null,{"$f":"IF(B4159<>\"\",VLOOKUP(B4159,[1]Desplegables!$BA$2:$BB$19,2,FALSE),\"\")","v":""},null,""]
[null,null,{"$f":"IF(B4160<>\"\",VLOOKUP(B4160,[1]Desplegables!$BA$2:$BB$19,2,FALSE),\"\")","v":""},null,""]
[null,null,{"$f":"IF(B4161<>\"\",VLOOKUP(B4161,[1]Desplegables!$BA$2:$BB$19,2,FALSE),\"\")","v":""},null,""]
[null,null,{"$f":"IF(B4162<>\"\",VLOOKUP(B4162,[1]Desplegables!$BA$2:$BB$19,2,FALSE),\"\")","v":""},null,""]
[null,null,{"$f":"IF(B4163<>\"\",VLOOKUP(B4163,[1]Desplegables!$BA$2:$BB$19,2,FALSE),\"\")","v":""},null,""]
[null,null,{"$f":"IF(B4164<>\"\",VLOOKUP(B4164,[1]Desplegables!$BA$2:$BB$19,2,FALSE),\"\")","v":""},null,""]
[null,null,{"$f":"IF(B4165<>\"\",VLOOKUP(B4165,[1]Desplegables!$BA$2:$BB$19,2,FALSE),\"\")","v":""},null,{"$f":"IF(C4165<>\"\",D4165/C4165,\"\")","v":""}]
[null,null,{"$f":"IF(B4166<>\"\",VLOOKUP(B4166,[1]Desplegables!$BA$2:$BB$19,2,FALSE),\"\")","v":""},null,""]
[null,null,{"$f":"IF(B4167<>\"\",VLOOKUP(B4167,[1]Desplegables!$BA$2:$BB$19,2,FALSE),\"\")","v":""},null,""]
[null,null,{"$f":"IF(B4168<>\"\",VLOOKUP(B4168,[1]Desplegables!$BA$2:$BB$19,2,FALSE),\"\")","v":""},null,""]
[null,null,{"$f":"IF(B4169<>\"\",VLOOKUP(B4169,[1]Desplegables!$BA$2:$BB$19,2,FALSE),\"\")","v":""},null,""]
[null,null,{"$f":"IF(B4170<>\"\",VLOOKUP(B4170,[1]Desplegables!$BA$2:$BB$19,2,FALSE),\"\")","v":""},null,""]
[null,null,{"$f":"IF(B4171<>\"\",VLOOKUP(B4171,[1]Desplegables!$BA$2:$BB$19,2,FALSE),\"\")","v":""},null,""]
[null,null,{"$f":"IF(B4172<>\"\",VLOOKUP(B4172,[1]Desplegables!$BA$2:$BB$19,2,FALSE),\"\")","v":""},null,""]
[null,null,{"$f":"IF(B4173<>\"\",VLOOKUP(B4173,[1]Desplegables!$BA$2:$BB$19,2,FALSE),\"\")","v":""},null,""]
[null,null,{"$f":"IF(B4174<>\"\",VLOOKUP(B4174,[1]Desplegables!$BA$2:$BB$19,2,FALSE),\"\")","v":""},null,""]
[null,null,{"$f":"IF(B4175<>\"\",VLOOKUP(B4175,[1]Desplegables!$BA$2:$BB$19,2,FALSE),\"\")","v":""},null,""]
[null,null,{"$f":"IF(B4176<>\"\",VLOOKUP(B4176,[1]Desplegables!$BA$2:$BB$19,2,FALSE),\"\")","v":""},null,""]
[null,null,{"$f":"IF(B4177<>\"\",VLOOKUP(B4177,[1]Desplegables!$BA$2:$BB$19,2,FALSE),\"\")","v":""},null,""]
[null,null,{"$f":"IF(B4178<>\"\",VLOOKUP(B4178,[1]Desplegables!$BA$2:$BB$19,2,FALSE),\"\")","v":""},null,""]
[null,null,{"$f":"IF(B4179<>\"\",VLOOKUP(B4179,[1]Desplegables!$BA$2:$BB$19,2,FALSE),\"\")","v":""},null,""]
[null,null,{"$f":"IF(B4180<>\"\",VLOOKUP(B4180,[1]Desplegables!$BA$2:$BB$19,2,FALSE),\"\")","v":""},null,""]
[null,null,{"$f":"IF(B4181<>\"\",VLOOKUP(B4181,[1]Desplegables!$BA$2:$BB$19,2,FALSE),\"\")","v":""},null,""]
[null,null,{"$f":"IF(B4182<>\"\",VLOOKUP(B4182,[1]Desplegables!$BA$2:$BB$19,2,FALSE),\"\")","v":""},null,""]
[null,null,{"$f":"IF(B4183<>\"\",VLOOKUP(B4183,[1]Desplegables!$BA$2:$BB$19,2,FALSE),\"\")","v":""},null,""]
[null,null,{"$f":"IF(B4184<>\"\",VLOOKUP(B4184,[1]Desplegables!$BA$2:$BB$19,2,FALSE),\"\")","v":""},null,""]
[null,null,{"$f":"IF(B4185<>\"\",VLOOKUP(B4185,[1]Desplegables!$BA$2:$BB$19,2,FALSE),\"\")","v":""},null,""]
[null,null,{"$f":"IF(B4186<>\"\",VLOOKUP(B4186,[1]Desplegables!$BA$2:$BB$19,2,FALSE),\"\")","v":""},null,""]
[null,null,{"$f":"IF(B4187<>\"\",VLOOKUP(B4187,[1]Desplegables!$BA$2:$BB$19,2,FALSE),\"\")","v":""},null,""]
[null,null,{"$f":"IF(B4188<>\"\",VLOOKUP(B4188,[1]Desplegables!$BA$2:$BB$19,2,FALSE),\"\")","v":""},null,""]
[null,null,{"$f":"IF(B4189<>\"\",VLOOKUP(B4189,[1]Desplegables!$BA$2:$BB$19,2,FALSE),\"\")","v":""},null,""]
[null,null,{"$f":"IF(B4190<>\"\",VLOOKUP(B4190,[1]Desplegables!$BA$2:$BB$19,2,FALSE),\"\")","v":""},null,""]
[null,null,{"$f":"IF(B4191<>\"\",VLOOKUP(B4191,[1]Desplegables!$BA$2:$BB$19,2,FALSE),\"\")","v":""},null,""]
[null,null,{"$f":"IF(B4192<>\"\",VLOOKUP(B4192,[1]Desplegables!$BA$2:$BB$19,2,FALSE),\"\")","v":""},null,""]
[null,null,{"$f":"IF(B4193<>\"\",VLOOKUP(B4193,[1]Desplegables!$BA$2:$BB$19,2,FALSE),\"\")","v":""},null,""]
[null,null,{"$f":"IF(B4194<>\"\",VLOOKUP(B4194,[1]Desplegables!$BA$2:$BB$19,2,FALSE),\"\")","v":""},null,""]
[null,null,{"$f":"IF(B4195<>\"\",VLOOKUP(B4195,[1]Desplegables!$BA$2:$BB$19,2,FALSE),\"\")","v":""},null,""]
[null,null,{"$f":"IF(B4196<>\"\",VLOOKUP(B4196,[1]Desplegables!$BA$2:$BB$19,2,FALSE),\"\")","v":""},null,""]
[null,null,{"$f":"IF(B4197<>\"\",VLOOKUP(B4197,[1]Desplegables!$BA$2:$BB$19,2,FALSE),\"\")","v":""},null,""]
[null,null,{"$f":"IF(B4198<>\"\",VLOOKUP(B4198,[1]Desplegables!$BA$2:$BB$19,2,FALSE),\"\")","v":""},null,""]
[null,null,{"$f":"IF(B4199<>\"\",VLOOKUP(B4199,[1]Desplegables!$BA$2:$BB$19,2,FALSE),\"\")","v":""},null,""]
[null,null,{"$f":"IF(B4200<>\"\",VLOOKUP(B4200,[1]Desplegables!$BA$2:$BB$19,2,FALSE),\"\")","v":""},null,""]
[null,null,{"$f":"IF(B4201<>\"\",VLOOKUP(B4201,[1]Desplegables!$BA$2:$BB$19,2,FALSE),\"\")","v":""},null,""]
[null,null,{"$f":"IF(B4202<>\"\",VLOOKUP(B4202,[1]Desplegables!$BA$2:$BB$19,2,FALSE),\"\")","v":""},null,""]
[null,null,{"$f":"IF(B4203<>\"\",VLOOKUP(B4203,[1]Desplegables!$BA$2:$BB$19,2,FALSE),\"\")","v":""},null,""]
[null,null,{"$f":"IF(B4204<>\"\",VLOOKUP(B4204,[1]Desplegables!$BA$2:$BB$19,2,FALSE),\"\")","v":""},null,""]
[null,null,{"$f":"IF(B4205<>\"\",VLOOKUP(B4205,[1]Desplegables!$BA$2:$BB$19,2,FALSE),\"\")","v":""},null,""]
[null,null,{"$f":"IF(B4206<>\"\",VLOOKUP(B4206,[1]Desplegables!$BA$2:$BB$19,2,FALSE),\"\")","v":""},null,""]
[null,null,{"$f":"IF(B4207<>\"\",VLOOKUP(B4207,[1]Desplegables!$BA$2:$BB$19,2,FALSE),\"\")","v":""},null,""]
[null,null,{"$f":"IF(B4208<>\"\",VLOOKUP(B4208,[1]Desplegables!$BA$2:$BB$19,2,FALSE),\"\")","v":""},null,""]
[null,null,{"$f":"IF(B4209<>\"\",VLOOKUP(B4209,[1]Desplegables!$BA$2:$BB$19,2,FALSE),\"\")","v":""},null,""]
[null,null,{"$f":"IF(B4210<>\"\",VLOOKUP(B4210,[1]Desplegables!$BA$2:$BB$19,2,FALSE),\"\")","v":""},null,""]
[null,null,{"$f":"IF(B4211<>\"\",VLOOKUP(B4211,[1]Desplegables!$BA$2:$BB$19,2,FALSE),\"\")","v":""},null,""]
[null,null,{"$f":"IF(B4212<>\"\",VLOOKUP(B4212,[1]Desplegables!$BA$2:$BB$19,2,FALSE),\"\")","v":""},null,""]
[null,null,{"$f":"IF(B4213<>\"\",VLOOKUP(B4213,[1]Desplegables!$BA$2:$BB$19,2,FALSE),\"\")","v":""},null,""]
[null,null,{"$f":"IF(B4214<>\"\",VLOOKUP(B4214,[1]Desplegables!$BA$2:$BB$19,2,FALSE),\"\")","v":""},null,""]
[null,null,{"$f":"IF(B4215<>\"\",VLOOKUP(B4215,[1]Desplegables!$BA$2:$BB$19,2,FALSE),\"\")","v":""},null,""]
[null,null,{"$f":"IF(B4216<>\"\",VLOOKUP(B4216,[1]Desplegables!$BA$2:$BB$19,2,FALSE),\"\")","v":""},null,""]
[null,null,{"$f":"IF(B4217<>\"\",VLOOKUP(B4217,[1]Desplegables!$BA$2:$BB$19,2,FALSE),\"\")","v":""},null,""]
[null,null,{"$f":"IF(B4218<>\"\",VLOOKUP(B4218,[1]Desplegables!$BA$2:$BB$19,2,FALSE),\"\")","v":""},null,""]
[null,null,{"$f":"IF(B4219<>\"\",VLOOKUP(B4219,[1]Desplegables!$BA$2:$BB$19,2,FALSE),\"\")","v":""},null,""]
[null,null,{"$f":"IF(B4220<>\"\",VLOOKUP(B4220,[1]Desplegables!$BA$2:$BB$19,2,FALSE),\"\")","v":""},null,""]
[null,null,{"$f":"IF(B4221<>\"\",VLOOKUP(B4221,[1]Desplegables!$BA$2:$BB$19,2,FALSE),\"\")","v":""},null,""]
[null,null,{"$f":"IF(B4222<>\"\",VLOOKUP(B4222,[1]Desplegables!$BA$2:$BB$19,2,FALSE),\"\")","v":""},null,""]
[null,null,{"$f":"IF(B4223<>\"\",VLOOKUP(B4223,[1]Desplegables!$BA$2:$BB$19,2,FALSE),\"\")","v":""},null,""]
[null,null,{"$f":"IF(B4224<>\"\",VLOOKUP(B4224,[1]Desplegables!$BA$2:$BB$19,2,FALSE),\"\")","v":""},null,""]
[null,null,{"$f":"IF(B4225<>\"\",VLOOKUP(B4225,[1]Desplegables!$BA$2:$BB$19,2,FALSE),\"\")","v":""},null,""]
[null,null,{"$f":"IF(B4226<>\"\",VLOOKUP(B4226,[1]Desplegables!$BA$2:$BB$19,2,FALSE),\"\")","v":""},null,""]
[null,null,{"$f":"IF(B4227<>\"\",VLOOKUP(B4227,[1]Desplegables!$BA$2:$BB$19,2,FALSE),\"\")","v":""},null,""]
[null,null,{"$f":"IF(B4228<>\"\",VLOOKUP(B4228,[1]Desplegables!$BA$2:$BB$19,2,FALSE),\"\")","v":""},null,""]
[null,null,{"$f":"IF(B4229<>\"\",VLOOKUP(B4229,[1]Desplegables!$BA$2:$BB$19,2,FALSE),\"\")","v":""},null,{"$f":"IF(C4229<>\"\",D4229/C4229,\"\")","v":""}]
[null,null,{"$f":"IF(B4230<>\"\",VLOOKUP(B4230,[1]Desplegables!$BA$2:$BB$19,2,FALSE),\"\")","v":""},null,""]
[null,null,{"$f":"IF(B4231<>\"\",VLOOKUP(B4231,[1]Desplegables!$BA$2:$BB$19,2,FALSE),\"\")","v":""},null,""]
[null,null,{"$f":"IF(B4232<>\"\",VLOOKUP(B4232,[1]Desplegables!$BA$2:$BB$19,2,FALSE),\"\")","v":""},null,""]
[null,null,{"$f":"IF(B4233<>\"\",VLOOKUP(B4233,[1]Desplegables!$BA$2:$BB$19,2,FALSE),\"\")","v":""},null,""]
[null,null,{"$f":"IF(B4234<>\"\",VLOOKUP(B4234,[1]Desplegables!$BA$2:$BB$19,2,FALSE),\"\")","v":""},null,""]
[null,null,{"$f":"IF(B4235<>\"\",VLOOKUP(B4235,[1]Desplegables!$BA$2:$BB$19,2,FALSE),\"\")","v":""},null,""]
[null,null,{"$f":"IF(B4236<>\"\",VLOOKUP(B4236,[1]Desplegables!$BA$2:$BB$19,2,FALSE),\"\")","v":""},null,""]
[null,null,{"$f":"IF(B4237<>\"\",VLOOKUP(B4237,[1]Desplegables!$BA$2:$BB$19,2,FALSE),\"\")","v":""},null,""]
[null,null,{"$f":"IF(B4238<>\"\",VLOOKUP(B4238,[1]Desplegables!$BA$2:$BB$19,2,FALSE),\"\")","v":""},null,""]
[null,null,{"$f":"IF(B4239<>\"\",VLOOKUP(B4239,[1]Desplegables!$BA$2:$BB$19,2,FALSE),\"\")","v":""},null,""]
[null,null,{"$f":"IF(B4240<>\"\",VLOOKUP(B4240,[1]Desplegables!$BA$2:$BB$19,2,FALSE),\"\")","v":""},null,""]
[null,null,{"$f":"IF(B4241<>\"\",VLOOKUP(B4241,[1]Desplegables!$BA$2:$BB$19,2,FALSE),\"\")","v":""},null,""]
[null,null,{"$f":"IF(B4242<>\"\",VLOOKUP(B4242,[1]Desplegables!$BA$2:$BB$19,2,FALSE),\"\")","v":""},null,""]
[null,null,{"$f":"IF(B4243<>\"\",VLOOKUP(B4243,[1]Desplegables!$BA$2:$BB$19,2,FALSE),\"\")","v":""},null,""]
[null,null,{"$f":"IF(B4244<>\"\",VLOOKUP(B4244,[1]Desplegables!$BA$2:$BB$19,2,FALSE),\"\")","v":""},null,""]
[null,null,{"$f":"IF(B4245<>\"\",VLOOKUP(B4245,[1]Desplegables!$BA$2:$BB$19,2,FALSE),\"\")","v":""},null,""]
[null,null,{"$f":"IF(B4246<>\"\",VLOOKUP(B4246,[1]Desplegables!$BA$2:$BB$19,2,FALSE),\"\")","v":""},null,""]
[null,null,{"$f":"IF(B4247<>\"\",VLOOKUP(B4247,[1]Desplegables!$BA$2:$BB$19,2,FALSE),\"\")","v":""},null,""]
[null,null,{"$f":"IF(B4248<>\"\",VLOOKUP(B4248,[1]Desplegables!$BA$2:$BB$19,2,FALSE),\"\")","v":""},null,""]
[null,null,{"$f":"IF(B4249<>\"\",VLOOKUP(B4249,[1]Desplegables!$BA$2:$BB$19,2,FALSE),\"\")","v":""},null,""]
[null,null,{"$f":"IF(B4250<>\"\",VLOOKUP(B4250,[1]Desplegables!$BA$2:$BB$19,2,FALSE),\"\")","v":""},null,""]
[null,null,{"$f":"IF(B4251<>\"\",VLOOKUP(B4251,[1]Desplegables!$BA$2:$BB$19,2,FALSE),\"\")","v":""},null,""]
[null,null,{"$f":"IF(B4252<>\"\",VLOOKUP(B4252,[1]Desplegables!$BA$2:$BB$19,2,FALSE),\"\")","v":""},null,""]
[null,null,{"$f":"IF(B4253<>\"\",VLOOKUP(B4253,[1]Desplegables!$BA$2:$BB$19,2,FALSE),\"\")","v":""},null,""]
[null,null,{"$f":"IF(B4254<>\"\",VLOOKUP(B4254,[1]Desplegables!$BA$2:$BB$19,2,FALSE),\"\")","v":""},null,""]
[null,null,{"$f":"IF(B4255<>\"\",VLOOKUP(B4255,[1]Desplegables!$BA$2:$BB$19,2,FALSE),\"\")","v":""},null,""]
[null,null,{"$f":"IF(B4256<>\"\",VLOOKUP(B4256,[1]Desplegables!$BA$2:$BB$19,2,FALSE),\"\")","v":""},null,""]
[null,null,{"$f":"IF(B4257<>\"\",VLOOKUP(B4257,[1]Desplegables!$BA$2:$BB$19,2,FALSE),\"\")","v":""},null,""]
[null,null,{"$f":"IF(B4258<>\"\",VLOOKUP(B4258,[1]Desplegables!$BA$2:$BB$19,2,FALSE),\"\")","v":""},null,""]
[null,null,{"$f":"IF(B4259<>\"\",VLOOKUP(B4259,[1]Desplegables!$BA$2:$BB$19,2,FALSE),\"\")","v":""},null,""]
[null,null,{"$f":"IF(B4260<>\"\",VLOOKUP(B4260,[1]Desplegables!$BA$2:$BB$19,2,FALSE),\"\")","v":""},null,""]
[null,null,{"$f":"IF(B4261<>\"\",VLOOKUP(B4261,[1]Desplegables!$BA$2:$BB$19,2,FALSE),\"\")","v":""},null,""]
[null,null,{"$f":"IF(B4262<>\"\",VLOOKUP(B4262,[1]Desplegables!$BA$2:$BB$19,2,FALSE),\"\")","v":""},null,""]
[null,null,{"$f":"IF(B4263<>\"\",VLOOKUP(B4263,[1]Desplegables!$BA$2:$BB$19,2,FALSE),\"\")","v":""},null,""]
[null,null,{"$f":"IF(B4264<>\"\",VLOOKUP(B4264,[1]Desplegables!$BA$2:$BB$19,2,FALSE),\"\")","v":""},null,""]
[null,null,{"$f":"IF(B4265<>\"\",VLOOKUP(B4265,[1]Desplegables!$BA$2:$BB$19,2,FALSE),\"\")","v":""},null,""]
[null,null,{"$f":"IF(B4266<>\"\",VLOOKUP(B4266,[1]Desplegables!$BA$2:$BB$19,2,FALSE),\"\")","v":""},null,""]
[null,null,{"$f":"IF(B4267<>\"\",VLOOKUP(B4267,[1]Desplegables!$BA$2:$BB$19,2,FALSE),\"\")","v":""},null,""]
[null,null,{"$f":"IF(B4268<>\"\",VLOOKUP(B4268,[1]Desplegables!$BA$2:$BB$19,2,FALSE),\"\")","v":""},null,""]
[null,null,{"$f":"IF(B4269<>\"\",VLOOKUP(B4269,[1]Desplegables!$BA$2:$BB$19,2,FALSE),\"\")","v":""},null,""]
[null,null,{"$f":"IF(B4270<>\"\",VLOOKUP(B4270,[1]Desplegables!$BA$2:$BB$19,2,FALSE),\"\")","v":""},null,""]
[null,null,{"$f":"IF(B4271<>\"\",VLOOKUP(B4271,[1]Desplegables!$BA$2:$BB$19,2,FALSE),\"\")","v":""},null,""]
[null,null,{"$f":"IF(B4272<>\"\",VLOOKUP(B4272,[1]Desplegables!$BA$2:$BB$19,2,FALSE),\"\")","v":""},null,""]
[null,null,{"$f":"IF(B4273<>\"\",VLOOKUP(B4273,[1]Desplegables!$BA$2:$BB$19,2,FALSE),\"\")","v":""},null,""]
[null,null,{"$f":"IF(B4274<>\"\",VLOOKUP(B4274,[1]Desplegables!$BA$2:$BB$19,2,FALSE),\"\")","v":""},null,""]
[null,null,{"$f":"IF(B4275<>\"\",VLOOKUP(B4275,[1]Desplegables!$BA$2:$BB$19,2,FALSE),\"\")","v":""},null,""]
[null,null,{"$f":"IF(B4276<>\"\",VLOOKUP(B4276,[1]Desplegables!$BA$2:$BB$19,2,FALSE),\"\")","v":""},null,""]
[null,null,{"$f":"IF(B4277<>\"\",VLOOKUP(B4277,[1]Desplegables!$BA$2:$BB$19,2,FALSE),\"\")","v":""},null,""]
[null,null,{"$f":"IF(B4278<>\"\",VLOOKUP(B4278,[1]Desplegables!$BA$2:$BB$19,2,FALSE),\"\")","v":""},null,""]
[null,null,{"$f":"IF(B4279<>\"\",VLOOKUP(B4279,[1]Desplegables!$BA$2:$BB$19,2,FALSE),\"\")","v":""},null,""]
[null,null,{"$f":"IF(B4280<>\"\",VLOOKUP(B4280,[1]Desplegables!$BA$2:$BB$19,2,FALSE),\"\")","v":""},null,""]
[null,null,{"$f":"IF(B4281<>\"\",VLOOKUP(B4281,[1]Desplegables!$BA$2:$BB$19,2,FALSE),\"\")","v":""},null,""]
[null,null,{"$f":"IF(B4282<>\"\",VLOOKUP(B4282,[1]Desplegables!$BA$2:$BB$19,2,FALSE),\"\")","v":""},null,""]
[null,null,{"$f":"IF(B4283<>\"\",VLOOKUP(B4283,[1]Desplegables!$BA$2:$BB$19,2,FALSE),\"\")","v":""},null,""]
[null,null,{"$f":"IF(B4284<>\"\",VLOOKUP(B4284,[1]Desplegables!$BA$2:$BB$19,2,FALSE),\"\")","v":""},null,""]
[null,null,{"$f":"IF(B4285<>\"\",VLOOKUP(B4285,[1]Desplegables!$BA$2:$BB$19,2,FALSE),\"\")","v":""},null,""]
[null,null,{"$f":"IF(B4286<>\"\",VLOOKUP(B4286,[1]Desplegables!$BA$2:$BB$19,2,FALSE),\"\")","v":""},null,""]
[null,null,{"$f":"IF(B4287<>\"\",VLOOKUP(B4287,[1]Desplegables!$BA$2:$BB$19,2,FALSE),\"\")","v":""},null,""]
[null,null,{"$f":"IF(B4288<>\"\",VLOOKUP(B4288,[1]Desplegables!$BA$2:$BB$19,2,FALSE),\"\")","v":""},null,""]
[null,null,{"$f":"IF(B4289<>\"\",VLOOKUP(B4289,[1]Desplegables!$BA$2:$BB$19,2,FALSE),\"\")","v":""},null,""]
[null,null,{"$f":"IF(B4290<>\"\",VLOOKUP(B4290,[1]Desplegables!$BA$2:$BB$19,2,FALSE),\"\")","v":""},null,""]
[null,null,{"$f":"IF(B4291<>\"\",VLOOKUP(B4291,[1]Desplegables!$BA$2:$BB$19,2,FALSE),\"\")","v":""},null,""]
[null,null,{"$f":"IF(B4292<>\"\",VLOOKUP(B4292,[1]Desplegables!$BA$2:$BB$19,2,FALSE),\"\")","v":""},null,""]
[null,null,{"$f":"IF(B4293<>\"\",VLOOKUP(B4293,[1]Desplegables!$BA$2:$BB$19,2,FALSE),\"\")","v":""},null,{"$f":"IF(C4293<>\"\",D4293/C4293,\"\")","v":""}]
[null,null,{"$f":"IF(B4294<>\"\",VLOOKUP(B4294,[1]Desplegables!$BA$2:$BB$19,2,FALSE),\"\")","v":""},null,""]
[null,null,{"$f":"IF(B4295<>\"\",VLOOKUP(B4295,[1]Desplegables!$BA$2:$BB$19,2,FALSE),\"\")","v":""},null,""]
[null,null,{"$f":"IF(B4296<>\"\",VLOOKUP(B4296,[1]Desplegables!$BA$2:$BB$19,2,FALSE),\"\")","v":""},null,""]
[null,null,{"$f":"IF(B4297<>\"\",VLOOKUP(B4297,[1]Desplegables!$BA$2:$BB$19,2,FALSE),\"\")","v":""},null,""]
[null,null,{"$f":"IF(B4298<>\"\",VLOOKUP(B4298,[1]Desplegables!$BA$2:$BB$19,2,FALSE),\"\")","v":""},null,""]
[null,null,{"$f":"IF(B4299<>\"\",VLOOKUP(B4299,[1]Desplegables!$BA$2:$BB$19,2,FALSE),\"\")","v":""},null,""]
[null,null,{"$f":"IF(B4300<>\"\",VLOOKUP(B4300,[1]Desplegables!$BA$2:$BB$19,2,FALSE),\"\")","v":""},null,""]
[null,null,{"$f":"IF(B4301<>\"\",VLOOKUP(B4301,[1]Desplegables!$BA$2:$BB$19,2,FALSE),\"\")","v":""},null,""]
[null,null,{"$f":"IF(B4302<>\"\",VLOOKUP(B4302,[1]Desplegables!$BA$2:$BB$19,2,FALSE),\"\")","v":""},null,""]
[null,null,{"$f":"IF(B4303<>\"\",VLOOKUP(B4303,[1]Desplegables!$BA$2:$BB$19,2,FALSE),\"\")","v":""},null,""]
[null,null,{"$f":"IF(B4304<>\"\",VLOOKUP(B4304,[1]Desplegables!$BA$2:$BB$19,2,FALSE),\"\")","v":""},null,""]
[null,null,{"$f":"IF(B4305<>\"\",VLOOKUP(B4305,[1]Desplegables!$BA$2:$BB$19,2,FALSE),\"\")","v":""},null,""]
[null,null,{"$f":"IF(B4306<>\"\",VLOOKUP(B4306,[1]Desplegables!$BA$2:$BB$19,2,FALSE),\"\")","v":""},null,""]
[null,null,{"$f":"IF(B4307<>\"\",VLOOKUP(B4307,[1]Desplegables!$BA$2:$BB$19,2,FALSE),\"\")","v":""},null,""]
[null,null,{"$f":"IF(B4308<>\"\",VLOOKUP(B4308,[1]Desplegables!$BA$2:$BB$19,2,FALSE),\"\")","v":""},null,""]
[null,null,{"$f":"IF(B4309<>\"\",VLOOKUP(B4309,[1]Desplegables!$BA$2:$BB$19,2,FALSE),\"\")","v":""},null,""]
[null,null,{"$f":"IF(B4310<>\"\",VLOOKUP(B4310,[1]Desplegables!$BA$2:$BB$19,2,FALSE),\"\")","v":""},null,""]
[null,null,{"$f":"IF(B4311<>\"\",VLOOKUP(B4311,[1]Desplegables!$BA$2:$BB$19,2,FALSE),\"\")","v":""},null,""]
[null,null,{"$f":"IF(B4312<>\"\",VLOOKUP(B4312,[1]Desplegables!$BA$2:$BB$19,2,FALSE),\"\")","v":""},null,""]
[null,null,{"$f":"IF(B4313<>\"\",VLOOKUP(B4313,[1]Desplegables!$BA$2:$BB$19,2,FALSE),\"\")","v":""},null,""]
[null,null,{"$f":"IF(B4314<>\"\",VLOOKUP(B4314,[1]Desplegables!$BA$2:$BB$19,2,FALSE),\"\")","v":""},null,""]
[null,null,{"$f":"IF(B4315<>\"\",VLOOKUP(B4315,[1]Desplegables!$BA$2:$BB$19,2,FALSE),\"\")","v":""},null,""]
[null,null,{"$f":"IF(B4316<>\"\",VLOOKUP(B4316,[1]Desplegables!$BA$2:$BB$19,2,FALSE),\"\")","v":""},null,""]
[null,null,{"$f":"IF(B4317<>\"\",VLOOKUP(B4317,[1]Desplegables!$BA$2:$BB$19,2,FALSE),\"\")","v":""},null,""]
[null,null,{"$f":"IF(B4318<>\"\",VLOOKUP(B4318,[1]Desplegables!$BA$2:$BB$19,2,FALSE),\"\")","v":""},null,""]
[null,null,{"$f":"IF(B4319<>\"\",VLOOKUP(B4319,[1]Desplegables!$BA$2:$BB$19,2,FALSE),\"\")","v":""},null,""]
[null,null,{"$f":"IF(B4320<>\"\",VLOOKUP(B4320,[1]Desplegables!$BA$2:$BB$19,2,FALSE),\"\")","v":""},null,""]
[null,null,{"$f":"IF(B4321<>\"\",VLOOKUP(B4321,[1]Desplegables!$BA$2:$BB$19,2,FALSE),\"\")","v":""},null,""]
[null,null,{"$f":"IF(B4322<>\"\",VLOOKUP(B4322,[1]Desplegables!$BA$2:$BB$19,2,FALSE),\"\")","v":""},null,""]
[null,null,{"$f":"IF(B4323<>\"\",VLOOKUP(B4323,[1]Desplegables!$BA$2:$BB$19,2,FALSE),\"\")","v":""},null,""]
[null,null,{"$f":"IF(B4324<>\"\",VLOOKUP(B4324,[1]Desplegables!$BA$2:$BB$19,2,FALSE),\"\")","v":""},null,""]
[null,null,{"$f":"IF(B4325<>\"\",VLOOKUP(B4325,[1]Desplegables!$BA$2:$BB$19,2,FALSE),\"\")","v":""},null,""]
[null,null,{"$f":"IF(B4326<>\"\",VLOOKUP(B4326,[1]Desplegables!$BA$2:$BB$19,2,FALSE),\"\")","v":""},null,""]
[null,null,{"$f":"IF(B4327<>\"\",VLOOKUP(B4327,[1]Desplegables!$BA$2:$BB$19,2,FALSE),\"\")","v":""},null,""]
[null,null,{"$f":"IF(B4328<>\"\",VLOOKUP(B4328,[1]Desplegables!$BA$2:$BB$19,2,FALSE),\"\")","v":""},null,""]
[null,null,{"$f":"IF(B4329<>\"\",VLOOKUP(B4329,[1]Desplegables!$BA$2:$BB$19,2,FALSE),\"\")","v":""},null,""]
[null,null,{"$f":"IF(B4330<>\"\",VLOOKUP(B4330,[1]Desplegables!$BA$2:$BB$19,2,FALSE),\"\")","v":""},null,""]
[null,null,{"$f":"IF(B4331<>\"\",VLOOKUP(B4331,[1]Desplegables!$BA$2:$BB$19,2,FALSE),\"\")","v":""},null,""]
[null,null,{"$f":"IF(B4332<>\"\",VLOOKUP(B4332,[1]Desplegables!$BA$2:$BB$19,2,FALSE),\"\")","v":""},null,""]
[null,null,{"$f":"IF(B4333<>\"\",VLOOKUP(B4333,[1]Desplegables!$BA$2:$BB$19,2,FALSE),\"\")","v":""},null,""]
[null,null,{"$f":"IF(B4334<>\"\",VLOOKUP(B4334,[1]Desplegables!$BA$2:$BB$19,2,FALSE),\"\")","v":""},null,""]
[null,null,{"$f":"IF(B4335<>\"\",VLOOKUP(B4335,[1]Desplegables!$BA$2:$BB$19,2,FALSE),\"\")","v":""},null,""]
[null,null,{"$f":"IF(B4336<>\"\",VLOOKUP(B4336,[1]Desplegables!$BA$2:$BB$19,2,FALSE),\"\")","v":""},null,""]
[null,null,{"$f":"IF(B4337<>\"\",VLOOKUP(B4337,[1]Desplegables!$BA$2:$BB$19,2,FALSE),\"\")","v":""},null,""]
[null,null,{"$f":"IF(B4338<>\"\",VLOOKUP(B4338,[1]Desplegables!$BA$2:$BB$19,2,FALSE),\"\")","v":""},null,""]
[null,null,{"$f":"IF(B4339<>\"\",VLOOKUP(B4339,[1]Desplegables!$BA$2:$BB$19,2,FALSE),\"\")","v":""},null,""]
[null,null,{"$f":"IF(B4340<>\"\",VLOOKUP(B4340,[1]Desplegables!$BA$2:$BB$19,2,FALSE),\"\")","v":""},null,""]
[null,null,{"$f":"IF(B4341<>\"\",VLOOKUP(B4341,[1]Desplegables!$BA$2:$BB$19,2,FALSE),\"\")","v":""},null,""]
[null,null,{"$f":"IF(B4342<>\"\",VLOOKUP(B4342,[1]Desplegables!$BA$2:$BB$19,2,FALSE),\"\")","v":""},null,""]
[null,null,{"$f":"IF(B4343<>\"\",VLOOKUP(B4343,[1]Desplegables!$BA$2:$BB$19,2,FALSE),\"\")","v":""},null,""]
[null,null,{"$f":"IF(B4344<>\"\",VLOOKUP(B4344,[1]Desplegables!$BA$2:$BB$19,2,FALSE),\"\")","v":""},null,""]
[null,null,{"$f":"IF(B4345<>\"\",VLOOKUP(B4345,[1]Desplegables!$BA$2:$BB$19,2,FALSE),\"\")","v":""},null,""]
[null,null,{"$f":"IF(B4346<>\"\",VLOOKUP(B4346,[1]Desplegables!$BA$2:$BB$19,2,FALSE),\"\")","v":""},null,""]
[null,null,{"$f":"IF(B4347<>\"\",VLOOKUP(B4347,[1]Desplegables!$BA$2:$BB$19,2,FALSE),\"\")","v":""},null,""]
[null,null,{"$f":"IF(B4348<>\"\",VLOOKUP(B4348,[1]Desplegables!$BA$2:$BB$19,2,FALSE),\"\")","v":""},null,""]
[null,null,{"$f":"IF(B4349<>\"\",VLOOKUP(B4349,[1]Desplegables!$BA$2:$BB$19,2,FALSE),\"\")","v":""},null,""]
[null,null,{"$f":"IF(B4350<>\"\",VLOOKUP(B4350,[1]Desplegables!$BA$2:$BB$19,2,FALSE),\"\")","v":""},null,""]
[null,null,{"$f":"IF(B4351<>\"\",VLOOKUP(B4351,[1]Desplegables!$BA$2:$BB$19,2,FALSE),\"\")","v":""},null,""]
[null,null,{"$f":"IF(B4352<>\"\",VLOOKUP(B4352,[1]Desplegables!$BA$2:$BB$19,2,FALSE),\"\")","v":""},null,""]
[null,null,{"$f":"IF(B4353<>\"\",VLOOKUP(B4353,[1]Desplegables!$BA$2:$BB$19,2,FALSE),\"\")","v":""},null,""]
[null,null,{"$f":"IF(B4354<>\"\",VLOOKUP(B4354,[1]Desplegables!$BA$2:$BB$19,2,FALSE),\"\")","v":""},null,""]
[null,null,{"$f":"IF(B4355<>\"\",VLOOKUP(B4355,[1]Desplegables!$BA$2:$BB$19,2,FALSE),\"\")","v":""},null,""]
[null,null,{"$f":"IF(B4356<>\"\",VLOOKUP(B4356,[1]Desplegables!$BA$2:$BB$19,2,FALSE),\"\")","v":""},null,""]
[null,null,{"$f":"IF(B4357<>\"\",VLOOKUP(B4357,[1]Desplegables!$BA$2:$BB$19,2,FALSE),\"\")","v":""},null,{"$f":"IF(C4357<>\"\",D4357/C4357,\"\")","v":""}]
[null,null,{"$f":"IF(B4358<>\"\",VLOOKUP(B4358,[1]Desplegables!$BA$2:$BB$19,2,FALSE),\"\")","v":""},null,""]
[null,null,{"$f":"IF(B4359<>\"\",VLOOKUP(B4359,[1]Desplegables!$BA$2:$BB$19,2,FALSE),\"\")","v":""},null,""]
[null,null,{"$f":"IF(B4360<>\"\",VLOOKUP(B4360,[1]Desplegables!$BA$2:$BB$19,2,FALSE),\"\")","v":""},null,""]
[null,null,{"$f":"IF(B4361<>\"\",VLOOKUP(B4361,[1]Desplegables!$BA$2:$BB$19,2,FALSE),\"\")","v":""},null,""]
[null,null,{"$f":"IF(B4362<>\"\",VLOOKUP(B4362,[1]Desplegables!$BA$2:$BB$19,2,FALSE),\"\")","v":""},null,""]
[null,null,{"$f":"IF(B4363<>\"\",VLOOKUP(B4363,[1]Desplegables!$BA$2:$BB$19,2,FALSE),\"\")","v":""},null,""]
[null,null,{"$f":"IF(B4364<>\"\",VLOOKUP(B4364,[1]Desplegables!$BA$2:$BB$19,2,FALSE),\"\")","v":""},null,""]
[null,null,{"$f":"IF(B4365<>\"\",VLOOKUP(B4365,[1]Desplegables!$BA$2:$BB$19,2,FALSE),\"\")","v":""},null,""]
[null,null,{"$f":"IF(B4366<>\"\",VLOOKUP(B4366,[1]Desplegables!$BA$2:$BB$19,2,FALSE),\"\")","v":""},null,""]
[null,null,{"$f":"IF(B4367<>\"\",VLOOKUP(B4367,[1]Desplegables!$BA$2:$BB$19,2,FALSE),\"\")","v":""},null,""]
[null,null,{"$f":"IF(B4368<>\"\",VLOOKUP(B4368,[1]Desplegables!$BA$2:$BB$19,2,FALSE),\"\")","v":""},null,""]
[null,null,{"$f":"IF(B4369<>\"\",VLOOKUP(B4369,[1]Desplegables!$BA$2:$BB$19,2,FALSE),\"\")","v":""},null,""]
[null,null,{"$f":"IF(B4370<>\"\",VLOOKUP(B4370,[1]Desplegables!$BA$2:$BB$19,2,FALSE),\"\")","v":""},null,""]
[null,null,{"$f":"IF(B4371<>\"\",VLOOKUP(B4371,[1]Desplegables!$BA$2:$BB$19,2,FALSE),\"\")","v":""},null,""]
[null,null,{"$f":"IF(B4372<>\"\",VLOOKUP(B4372,[1]Desplegables!$BA$2:$BB$19,2,FALSE),\"\")","v":""},null,""]
[null,null,{"$f":"IF(B4373<>\"\",VLOOKUP(B4373,[1]Desplegables!$BA$2:$BB$19,2,FALSE),\"\")","v":""},null,""]
[null,null,{"$f":"IF(B4374<>\"\",VLOOKUP(B4374,[1]Desplegables!$BA$2:$BB$19,2,FALSE),\"\")","v":""},null,""]
[null,null,{"$f":"IF(B4375<>\"\",VLOOKUP(B4375,[1]Desplegables!$BA$2:$BB$19,2,FALSE),\"\")","v":""},null,""]
[null,null,{"$f":"IF(B4376<>\"\",VLOOKUP(B4376,[1]Desplegables!$BA$2:$BB$19,2,FALSE),\"\")","v":""},null,""]
[null,null,{"$f":"IF(B4377<>\"\",VLOOKUP(B4377,[1]Desplegables!$BA$2:$BB$19,2,FALSE),\"\")","v":""},null,""]
[null,null,{"$f":"IF(B4378<>\"\",VLOOKUP(B4378,[1]Desplegables!$BA$2:$BB$19,2,FALSE),\"\")","v":""},null,""]
[null,null,{"$f":"IF(B4379<>\"\",VLOOKUP(B4379,[1]Desplegables!$BA$2:$BB$19,2,FALSE),\"\")","v":""},null,""]
[null,null,{"$f":"IF(B4380<>\"\",VLOOKUP(B4380,[1]Desplegables!$BA$2:$BB$19,2,FALSE),\"\")","v":""},null,""]
[null,null,{"$f":"IF(B4381<>\"\",VLOOKUP(B4381,[1]Desplegables!$BA$2:$BB$19,2,FALSE),\"\")","v":""},null,""]
[null,null,{"$f":"IF(B4382<>\"\",VLOOKUP(B4382,[1]Desplegables!$BA$2:$BB$19,2,FALSE),\"\")","v":""},null,""]
[null,null,{"$f":"IF(B4383<>\"\",VLOOKUP(B4383,[1]Desplegables!$BA$2:$BB$19,2,FALSE),\"\")","v":""},null,""]
[null,null,{"$f":"IF(B4384<>\"\",VLOOKUP(B4384,[1]Desplegables!$BA$2:$BB$19,2,FALSE),\"\")","v":""},null,""]
[null,null,{"$f":"IF(B4385<>\"\",VLOOKUP(B4385,[1]Desplegables!$BA$2:$BB$19,2,FALSE),\"\")","v":""},null,""]
[null,null,{"$f":"IF(B4386<>\"\",VLOOKUP(B4386,[1]Desplegables!$BA$2:$BB$19,2,FALSE),\"\")","v":""},null,""]
[null,null,{"$f":"IF(B4387<>\"\",VLOOKUP(B4387,[1]Desplegables!$BA$2:$BB$19,2,FALSE),\"\")","v":""},null,""]
[null,null,{"$f":"IF(B4388<>\"\",VLOOKUP(B4388,[1]Desplegables!$BA$2:$BB$19,2,FALSE),\"\")","v":""},null,""]
[null,null,{"$f":"IF(B4389<>\"\",VLOOKUP(B4389,[1]Desplegables!$BA$2:$BB$19,2,FALSE),\"\")","v":""},null,""]
[null,null,{"$f":"IF(B4390<>\"\",VLOOKUP(B4390,[1]Desplegables!$BA$2:$BB$19,2,FALSE),\"\")","v":""},null,""]
[null,null,{"$f":"IF(B4391<>\"\",VLOOKUP(B4391,[1]Desplegables!$BA$2:$BB$19,2,FALSE),\"\")","v":""},null,""]
[null,null,{"$f":"IF(B4392<>\"\",VLOOKUP(B4392,[1]Desplegables!$BA$2:$BB$19,2,FALSE),\"\")","v":""},null,""]
[null,null,{"$f":"IF(B4393<>\"\",VLOOKUP(B4393,[1]Desplegables!$BA$2:$BB$19,2,FALSE),\"\")","v":""},null,""]
[null,null,{"$f":"IF(B4394<>\"\",VLOOKUP(B4394,[1]Desplegables!$BA$2:$BB$19,2,FALSE),\"\")","v":""},null,""]
[null,null,{"$f":"IF(B4395<>\"\",VLOOKUP(B4395,[1]Desplegables!$BA$2:$BB$19,2,FALSE),\"\")","v":""},null,""]
[null,null,{"$f":"IF(B4396<>\"\",VLOOKUP(B4396,[1]Desplegables!$BA$2:$BB$19,2,FALSE),\"\")","v":""},null,""]
[null,null,{"$f":"IF(B4397<>\"\",VLOOKUP(B4397,[1]Desplegables!$BA$2:$BB$19,2,FALSE),\"\")","v":""},null,""]
[null,null,{"$f":"IF(B4398<>\"\",VLOOKUP(B4398,[1]Desplegables!$BA$2:$BB$19,2,FALSE),\"\")","v":""},null,""]
[null,null,{"$f":"IF(B4399<>\"\",VLOOKUP(B4399,[1]Desplegables!$BA$2:$BB$19,2,FALSE),\"\")","v":""},null,""]
[null,null,{"$f":"IF(B4400<>\"\",VLOOKUP(B4400,[1]Desplegables!$BA$2:$BB$19,2,FALSE),\"\")","v":""},null,""]
[null,null,{"$f":"IF(B4401<>\"\",VLOOKUP(B4401,[1]Desplegables!$BA$2:$BB$19,2,FALSE),\"\")","v":""},null,""]
[null,null,{"$f":"IF(B4402<>\"\",VLOOKUP(B4402,[1]Desplegables!$BA$2:$BB$19,2,FALSE),\"\")","v":""},null,""]
[null,null,{"$f":"IF(B4403<>\"\",VLOOKUP(B4403,[1]Desplegables!$BA$2:$BB$19,2,FALSE),\"\")","v":""},null,""]
[null,null,{"$f":"IF(B4404<>\"\",VLOOKUP(B4404,[1]Desplegables!$BA$2:$BB$19,2,FALSE),\"\")","v":""},null,""]
[null,null,{"$f":"IF(B4405<>\"\",VLOOKUP(B4405,[1]Desplegables!$BA$2:$BB$19,2,FALSE),\"\")","v":""},null,""]
[null,null,{"$f":"IF(B4406<>\"\",VLOOKUP(B4406,[1]Desplegables!$BA$2:$BB$19,2,FALSE),\"\")","v":""},null,""]
[null,null,{"$f":"IF(B4407<>\"\",VLOOKUP(B4407,[1]Desplegables!$BA$2:$BB$19,2,FALSE),\"\")","v":""},null,""]
[null,null,{"$f":"IF(B4408<>\"\",VLOOKUP(B4408,[1]Desplegables!$BA$2:$BB$19,2,FALSE),\"\")","v":""},null,""]
[null,null,{"$f":"IF(B4409<>\"\",VLOOKUP(B4409,[1]Desplegables!$BA$2:$BB$19,2,FALSE),\"\")","v":""},null,""]
[null,null,{"$f":"IF(B4410<>\"\",VLOOKUP(B4410,[1]Desplegables!$BA$2:$BB$19,2,FALSE),\"\")","v":""},null,""]
[null,null,{"$f":"IF(B4411<>\"\",VLOOKUP(B4411,[1]Desplegables!$BA$2:$BB$19,2,FALSE),\"\")","v":""},null,""]
[null,null,{"$f":"IF(B4412<>\"\",VLOOKUP(B4412,[1]Desplegables!$BA$2:$BB$19,2,FALSE),\"\")","v":""},null,""]
[null,null,{"$f":"IF(B4413<>\"\",VLOOKUP(B4413,[1]Desplegables!$BA$2:$BB$19,2,FALSE),\"\")","v":""},null,""]
[null,null,{"$f":"IF(B4414<>\"\",VLOOKUP(B4414,[1]Desplegables!$BA$2:$BB$19,2,FALSE),\"\")","v":""},null,""]
[null,null,{"$f":"IF(B4415<>\"\",VLOOKUP(B4415,[1]Desplegables!$BA$2:$BB$19,2,FALSE),\"\")","v":""},null,""]
[null,null,{"$f":"IF(B4416<>\"\",VLOOKUP(B4416,[1]Desplegables!$BA$2:$BB$19,2,FALSE),\"\")","v":""},null,""]
[null,null,{"$f":"IF(B4417<>\"\",VLOOKUP(B4417,[1]Desplegables!$BA$2:$BB$19,2,FALSE),\"\")","v":""},null,""]
[null,null,{"$f":"IF(B4418<>\"\",VLOOKUP(B4418,[1]Desplegables!$BA$2:$BB$19,2,FALSE),\"\")","v":""},null,""]
[null,null,{"$f":"IF(B4419<>\"\",VLOOKUP(B4419,[1]Desplegables!$BA$2:$BB$19,2,FALSE),\"\")","v":""},null,""]
[null,null,{"$f":"IF(B4420<>\"\",VLOOKUP(B4420,[1]Desplegables!$BA$2:$BB$19,2,FALSE),\"\")","v":""},null,""]
[null,null,{"$f":"IF(B4421<>\"\",VLOOKUP(B4421,[1]Desplegables!$BA$2:$BB$19,2,FALSE),\"\")","v":""},null,{"$f":"IF(C4421<>\"\",D4421/C4421,\"\")","v":""}]
[null,null,{"$f":"IF(B4422<>\"\",VLOOKUP(B4422,[1]Desplegables!$BA$2:$BB$19,2,FALSE),\"\")","v":""},null,""]
[null,null,{"$f":"IF(B4423<>\"\",VLOOKUP(B4423,[1]Desplegables!$BA$2:$BB$19,2,FALSE),\"\")","v":""},null,""]
[null,null,{"$f":"IF(B4424<>\"\",VLOOKUP(B4424,[1]Desplegables!$BA$2:$BB$19,2,FALSE),\"\")","v":""},null,""]
[null,null,{"$f":"IF(B4425<>\"\",VLOOKUP(B4425,[1]Desplegables!$BA$2:$BB$19,2,FALSE),\"\")","v":""},null,""]
[null,null,{"$f":"IF(B4426<>\"\",VLOOKUP(B4426,[1]Desplegables!$BA$2:$BB$19,2,FALSE),\"\")","v":""},null,""]
[null,null,{"$f":"IF(B4427<>\"\",VLOOKUP(B4427,[1]Desplegables!$BA$2:$BB$19,2,FALSE),\"\")","v":""},null,""]
[null,null,{"$f":"IF(B4428<>\"\",VLOOKUP(B4428,[1]Desplegables!$BA$2:$BB$19,2,FALSE),\"\")","v":""},null,""]
[null,null,{"$f":"IF(B4429<>\"\",VLOOKUP(B4429,[1]Desplegables!$BA$2:$BB$19,2,FALSE),\"\")","v":""},null,""]
[null,null,{"$f":"IF(B4430<>\"\",VLOOKUP(B4430,[1]Desplegables!$BA$2:$BB$19,2,FALSE),\"\")","v":""},null,""]
[null,null,{"$f":"IF(B4431<>\"\",VLOOKUP(B4431,[1]Desplegables!$BA$2:$BB$19,2,FALSE),\"\")","v":""},null,""]
[null,null,{"$f":"IF(B4432<>\"\",VLOOKUP(B4432,[1]Desplegables!$BA$2:$BB$19,2,FALSE),\"\")","v":""},null,""]
[null,null,{"$f":"IF(B4433<>\"\",VLOOKUP(B4433,[1]Desplegables!$BA$2:$BB$19,2,FALSE),\"\")","v":""},null,""]
[null,null,{"$f":"IF(B4434<>\"\",VLOOKUP(B4434,[1]Desplegables!$BA$2:$BB$19,2,FALSE),\"\")","v":""},null,""]
[null,null,{"$f":"IF(B4435<>\"\",VLOOKUP(B4435,[1]Desplegables!$BA$2:$BB$19,2,FALSE),\"\")","v":""},null,""]
[null,null,{"$f":"IF(B4436<>\"\",VLOOKUP(B4436,[1]Desplegables!$BA$2:$BB$19,2,FALSE),\"\")","v":""},null,""]
[null,null,{"$f":"IF(B4437<>\"\",VLOOKUP(B4437,[1]Desplegables!$BA$2:$BB$19,2,FALSE),\"\")","v":""},null,""]
[null,null,{"$f":"IF(B4438<>\"\",VLOOKUP(B4438,[1]Desplegables!$BA$2:$BB$19,2,FALSE),\"\")","v":""},null,""]
[null,null,{"$f":"IF(B4439<>\"\",VLOOKUP(B4439,[1]Desplegables!$BA$2:$BB$19,2,FALSE),\"\")","v":""},null,""]
[null,null,{"$f":"IF(B4440<>\"\",VLOOKUP(B4440,[1]Desplegables!$BA$2:$BB$19,2,FALSE),\"\")","v":""},null,""]
[null,null,{"$f":"IF(B4441<>\"\",VLOOKUP(B4441,[1]Desplegables!$BA$2:$BB$19,2,FALSE),\"\")","v":""},null,""]
[null,null,{"$f":"IF(B4442<>\"\",VLOOKUP(B4442,[1]Desplegables!$BA$2:$BB$19,2,FALSE),\"\")","v":""},null,""]
[null,null,{"$f":"IF(B4443<>\"\",VLOOKUP(B4443,[1]Desplegables!$BA$2:$BB$19,2,FALSE),\"\")","v":""},null,""]
[null,null,{"$f":"IF(B4444<>\"\",VLOOKUP(B4444,[1]Desplegables!$BA$2:$BB$19,2,FALSE),\"\")","v":""},null,""]
[null,null,{"$f":"IF(B4445<>\"\",VLOOKUP(B4445,[1]Desplegables!$BA$2:$BB$19,2,FALSE),\"\")","v":""},null,""]
[null,null,{"$f":"IF(B4446<>\"\",VLOOKUP(B4446,[1]Desplegables!$BA$2:$BB$19,2,FALSE),\"\")","v":""},null,""]
[null,null,{"$f":"IF(B4447<>\"\",VLOOKUP(B4447,[1]Desplegables!$BA$2:$BB$19,2,FALSE),\"\")","v":""},null,""]
[null,null,{"$f":"IF(B4448<>\"\",VLOOKUP(B4448,[1]Desplegables!$BA$2:$BB$19,2,FALSE),\"\")","v":""},null,""]
[null,null,{"$f":"IF(B4449<>\"\",VLOOKUP(B4449,[1]Desplegables!$BA$2:$BB$19,2,FALSE),\"\")","v":""},null,""]
[null,null,{"$f":"IF(B4450<>\"\",VLOOKUP(B4450,[1]Desplegables!$BA$2:$BB$19,2,FALSE),\"\")","v":""},null,""]
[null,null,{"$f":"IF(B4451<>\"\",VLOOKUP(B4451,[1]Desplegables!$BA$2:$BB$19,2,FALSE),\"\")","v":""},null,""]
[null,null,{"$f":"IF(B4452<>\"\",VLOOKUP(B4452,[1]Desplegables!$BA$2:$BB$19,2,FALSE),\"\")","v":""},null,""]
[null,null,{"$f":"IF(B4453<>\"\",VLOOKUP(B4453,[1]Desplegables!$BA$2:$BB$19,2,FALSE),\"\")","v":""},null,""]
[null,null,{"$f":"IF(B4454<>\"\",VLOOKUP(B4454,[1]Desplegables!$BA$2:$BB$19,2,FALSE),\"\")","v":""},null,""]
[null,null,{"$f":"IF(B4455<>\"\",VLOOKUP(B4455,[1]Desplegables!$BA$2:$BB$19,2,FALSE),\"\")","v":""},null,""]
[null,null,{"$f":"IF(B4456<>\"\",VLOOKUP(B4456,[1]Desplegables!$BA$2:$BB$19,2,FALSE),\"\")","v":""},null,""]
[null,null,{"$f":"IF(B4457<>\"\",VLOOKUP(B4457,[1]Desplegables!$BA$2:$BB$19,2,FALSE),\"\")","v":""},null,""]
[null,null,{"$f":"IF(B4458<>\"\",VLOOKUP(B4458,[1]Desplegables!$BA$2:$BB$19,2,FALSE),\"\")","v":""},null,""]
[null,null,{"$f":"IF(B4459<>\"\",VLOOKUP(B4459,[1]Desplegables!$BA$2:$BB$19,2,FALSE),\"\")","v":""},null,""]
[null,null,{"$f":"IF(B4460<>\"\",VLOOKUP(B4460,[1]Desplegables!$BA$2:$BB$19,2,FALSE),\"\")","v":""},null,""]
[null,null,{"$f":"IF(B4461<>\"\",VLOOKUP(B4461,[1]Desplegables!$BA$2:$BB$19,2,FALSE),\"\")","v":""},null,""]
[null,null,{"$f":"IF(B4462<>\"\",VLOOKUP(B4462,[1]Desplegables!$BA$2:$BB$19,2,FALSE),\"\")","v":""},null,""]
[null,null,{"$f":"IF(B4463<>\"\",VLOOKUP(B4463,[1]Desplegables!$BA$2:$BB$19,2,FALSE),\"\")","v":""},null,""]
[null,null,{"$f":"IF(B4464<>\"\",VLOOKUP(B4464,[1]Desplegables!$BA$2:$BB$19,2,FALSE),\"\")","v":""},null,""]
[null,null,{"$f":"IF(B4465<>\"\",VLOOKUP(B4465,[1]Desplegables!$BA$2:$BB$19,2,FALSE),\"\")","v":""},null,""]
[null,null,{"$f":"IF(B4466<>\"\",VLOOKUP(B4466,[1]Desplegables!$BA$2:$BB$19,2,FALSE),\"\")","v":""},null,""]
[null,null,{"$f":"IF(B4467<>\"\",VLOOKUP(B4467,[1]Desplegables!$BA$2:$BB$19,2,FALSE),\"\")","v":""},null,""]
[null,null,{"$f":"IF(B4468<>\"\",VLOOKUP(B4468,[1]Desplegables!$BA$2:$BB$19,2,FALSE),\"\")","v":""},null,""]
[null,null,{"$f":"IF(B4469<>\"\",VLOOKUP(B4469,[1]Desplegables!$BA$2:$BB$19,2,FALSE),\"\")","v":""},null,""]
[null,null,{"$f":"IF(B4470<>\"\",VLOOKUP(B4470,[1]Desplegables!$BA$2:$BB$19,2,FALSE),\"\")","v":""},null,""]
[null,null,{"$f":"IF(B4471<>\"\",VLOOKUP(B4471,[1]Desplegables!$BA$2:$BB$19,2,FALSE),\"\")","v":""},null,""]
[null,null,{"$f":"IF(B4472<>\"\",VLOOKUP(B4472,[1]Desplegables!$BA$2:$BB$19,2,FALSE),\"\")","v":""},null,""]
[null,null,{"$f":"IF(B4473<>\"\",VLOOKUP(B4473,[1]Desplegables!$BA$2:$BB$19,2,FALSE),\"\")","v":""},null,""]
[null,null,{"$f":"IF(B4474<>\"\",VLOOKUP(B4474,[1]Desplegables!$BA$2:$BB$19,2,FALSE),\"\")","v":""},null,""]
[null,null,{"$f":"IF(B4475<>\"\",VLOOKUP(B4475,[1]Desplegables!$BA$2:$BB$19,2,FALSE),\"\")","v":""},null,""]
[null,null,{"$f":"IF(B4476<>\"\",VLOOKUP(B4476,[1]Desplegables!$BA$2:$BB$19,2,FALSE),\"\")","v":""},null,""]
[null,null,{"$f":"IF(B4477<>\"\",VLOOKUP(B4477,[1]Desplegables!$BA$2:$BB$19,2,FALSE),\"\")","v":""},null,""]
[null,null,{"$f":"IF(B4478<>\"\",VLOOKUP(B4478,[1]Desplegables!$BA$2:$BB$19,2,FALSE),\"\")","v":""},null,""]
[null,null,{"$f":"IF(B4479<>\"\",VLOOKUP(B4479,[1]Desplegables!$BA$2:$BB$19,2,FALSE),\"\")","v":""},null,""]
[null,null,{"$f":"IF(B4480<>\"\",VLOOKUP(B4480,[1]Desplegables!$BA$2:$BB$19,2,FALSE),\"\")","v":""},null,""]
[null,null,{"$f":"IF(B4481<>\"\",VLOOKUP(B4481,[1]Desplegables!$BA$2:$BB$19,2,FALSE),\"\")","v":""},null,""]
[null,null,{"$f":"IF(B4482<>\"\",VLOOKUP(B4482,[1]Desplegables!$BA$2:$BB$19,2,FALSE),\"\")","v":""},null,""]
[null,null,{"$f":"IF(B4483<>\"\",VLOOKUP(B4483,[1]Desplegables!$BA$2:$BB$19,2,FALSE),\"\")","v":""},null,""]
[null,null,{"$f":"IF(B4484<>\"\",VLOOKUP(B4484,[1]Desplegables!$BA$2:$BB$19,2,FALSE),\"\")","v":""},null,""]
[null,null,{"$f":"IF(B4485<>\"\",VLOOKUP(B4485,[1]Desplegables!$BA$2:$BB$19,2,FALSE),\"\")","v":""},null,{"$f":"IF(C4485<>\"\",D4485/C4485,\"\")","v":""}]
[null,null,{"$f":"IF(B4486<>\"\",VLOOKUP(B4486,[1]Desplegables!$BA$2:$BB$19,2,FALSE),\"\")","v":""},null,""]
[null,null,{"$f":"IF(B4487<>\"\",VLOOKUP(B4487,[1]Desplegables!$BA$2:$BB$19,2,FALSE),\"\")","v":""},null,""]
[null,null,{"$f":"IF(B4488<>\"\",VLOOKUP(B4488,[1]Desplegables!$BA$2:$BB$19,2,FALSE),\"\")","v":""},null,""]
[null,null,{"$f":"IF(B4489<>\"\",VLOOKUP(B4489,[1]Desplegables!$BA$2:$BB$19,2,FALSE),\"\")","v":""},null,""]
[null,null,{"$f":"IF(B4490<>\"\",VLOOKUP(B4490,[1]Desplegables!$BA$2:$BB$19,2,FALSE),\"\")","v":""},null,""]
[null,null,{"$f":"IF(B4491<>\"\",VLOOKUP(B4491,[1]Desplegables!$BA$2:$BB$19,2,FALSE),\"\")","v":""},null,""]
[null,null,{"$f":"IF(B4492<>\"\",VLOOKUP(B4492,[1]Desplegables!$BA$2:$BB$19,2,FALSE),\"\")","v":""},null,""]
[null,null,{"$f":"IF(B4493<>\"\",VLOOKUP(B4493,[1]Desplegables!$BA$2:$BB$19,2,FALSE),\"\")","v":""},null,""]
[null,null,{"$f":"IF(B4494<>\"\",VLOOKUP(B4494,[1]Desplegables!$BA$2:$BB$19,2,FALSE),\"\")","v":""},null,""]
[null,null,{"$f":"IF(B4495<>\"\",VLOOKUP(B4495,[1]Desplegables!$BA$2:$BB$19,2,FALSE),\"\")","v":""},null,""]
[null,null,{"$f":"IF(B4496<>\"\",VLOOKUP(B4496,[1]Desplegables!$BA$2:$BB$19,2,FALSE),\"\")","v":""},null,""]
[null,null,{"$f":"IF(B4497<>\"\",VLOOKUP(B4497,[1]Desplegables!$BA$2:$BB$19,2,FALSE),\"\")","v":""},null,""]
[null,null,{"$f":"IF(B4498<>\"\",VLOOKUP(B4498,[1]Desplegables!$BA$2:$BB$19,2,FALSE),\"\")","v":""},null,""]
[null,null,{"$f":"IF(B4499<>\"\",VLOOKUP(B4499,[1]Desplegables!$BA$2:$BB$19,2,FALSE),\"\")","v":""},null,""]
[null,null,{"$f":"IF(B4500<>\"\",VLOOKUP(B4500,[1]Desplegables!$BA$2:$BB$19,2,FALSE),\"\")","v":""},null,""]
[null,null,{"$f":"IF(B4501<>\"\",VLOOKUP(B4501,[1]Desplegables!$BA$2:$BB$19,2,FALSE),\"\")","v":""},null,""]
[null,null,{"$f":"IF(B4502<>\"\",VLOOKUP(B4502,[1]Desplegables!$BA$2:$BB$19,2,FALSE),\"\")","v":""},null,""]
[null,null,{"$f":"IF(B4503<>\"\",VLOOKUP(B4503,[1]Desplegables!$BA$2:$BB$19,2,FALSE),\"\")","v":""},null,""]
[null,null,{"$f":"IF(B4504<>\"\",VLOOKUP(B4504,[1]Desplegables!$BA$2:$BB$19,2,FALSE),\"\")","v":""},null,""]
[null,null,{"$f":"IF(B4505<>\"\",VLOOKUP(B4505,[1]Desplegables!$BA$2:$BB$19,2,FALSE),\"\")","v":""},null,""]
[null,null,{"$f":"IF(B4506<>\"\",VLOOKUP(B4506,[1]Desplegables!$BA$2:$BB$19,2,FALSE),\"\")","v":""},null,""]
[null,null,{"$f":"IF(B4507<>\"\",VLOOKUP(B4507,[1]Desplegables!$BA$2:$BB$19,2,FALSE),\"\")","v":""},null,""]
[null,null,{"$f":"IF(B4508<>\"\",VLOOKUP(B4508,[1]Desplegables!$BA$2:$BB$19,2,FALSE),\"\")","v":""},null,""]
[null,null,{"$f":"IF(B4509<>\"\",VLOOKUP(B4509,[1]Desplegables!$BA$2:$BB$19,2,FALSE),\"\")","v":""},null,""]
[null,null,{"$f":"IF(B4510<>\"\",VLOOKUP(B4510,[1]Desplegables!$BA$2:$BB$19,2,FALSE),\"\")","v":""},null,""]
[null,null,{"$f":"IF(B4511<>\"\",VLOOKUP(B4511,[1]Desplegables!$BA$2:$BB$19,2,FALSE),\"\")","v":""},null,""]
[null,null,{"$f":"IF(B4512<>\"\",VLOOKUP(B4512,[1]Desplegables!$BA$2:$BB$19,2,FALSE),\"\")","v":""},null,""]
[null,null,{"$f":"IF(B4513<>\"\",VLOOKUP(B4513,[1]Desplegables!$BA$2:$BB$19,2,FALSE),\"\")","v":""},null,""]
[null,null,{"$f":"IF(B4514<>\"\",VLOOKUP(B4514,[1]Desplegables!$BA$2:$BB$19,2,FALSE),\"\")","v":""},null,""]
[null,null,{"$f":"IF(B4515<>\"\",VLOOKUP(B4515,[1]Desplegables!$BA$2:$BB$19,2,FALSE),\"\")","v":""},null,""]
[null,null,{"$f":"IF(B4516<>\"\",VLOOKUP(B4516,[1]Desplegables!$BA$2:$BB$19,2,FALSE),\"\")","v":""},null,""]
[null,null,{"$f":"IF(B4517<>\"\",VLOOKUP(B4517,[1]Desplegables!$BA$2:$BB$19,2,FALSE),\"\")","v":""},null,""]
[null,null,{"$f":"IF(B4518<>\"\",VLOOKUP(B4518,[1]Desplegables!$BA$2:$BB$19,2,FALSE),\"\")","v":""},null,""]
[null,null,{"$f":"IF(B4519<>\"\",VLOOKUP(B4519,[1]Desplegables!$BA$2:$BB$19,2,FALSE),\"\")","v":""},null,""]
[null,null,{"$f":"IF(B4520<>\"\",VLOOKUP(B4520,[1]Desplegables!$BA$2:$BB$19,2,FALSE),\"\")","v":""},null,""]
[null,null,{"$f":"IF(B4521<>\"\",VLOOKUP(B4521,[1]Desplegables!$BA$2:$BB$19,2,FALSE),\"\")","v":""},null,""]
[null,null,{"$f":"IF(B4522<>\"\",VLOOKUP(B4522,[1]Desplegables!$BA$2:$BB$19,2,FALSE),\"\")","v":""},null,""]
[null,null,{"$f":"IF(B4523<>\"\",VLOOKUP(B4523,[1]Desplegables!$BA$2:$BB$19,2,FALSE),\"\")","v":""},null,""]
[null,null,{"$f":"IF(B4524<>\"\",VLOOKUP(B4524,[1]Desplegables!$BA$2:$BB$19,2,FALSE),\"\")","v":""},null,""]
[null,null,{"$f":"IF(B4525<>\"\",VLOOKUP(B4525,[1]Desplegables!$BA$2:$BB$19,2,FALSE),\"\")","v":""},null,""]
[null,null,{"$f":"IF(B4526<>\"\",VLOOKUP(B4526,[1]Desplegables!$BA$2:$BB$19,2,FALSE),\"\")","v":""},null,""]
[null,null,{"$f":"IF(B4527<>\"\",VLOOKUP(B4527,[1]Desplegables!$BA$2:$BB$19,2,FALSE),\"\")","v":""},null,""]
[null,null,{"$f":"IF(B4528<>\"\",VLOOKUP(B4528,[1]Desplegables!$BA$2:$BB$19,2,FALSE),\"\")","v":""},null,""]
[null,null,{"$f":"IF(B4529<>\"\",VLOOKUP(B4529,[1]Desplegables!$BA$2:$BB$19,2,FALSE),\"\")","v":""},null,""]
[null,null,{"$f":"IF(B4530<>\"\",VLOOKUP(B4530,[1]Desplegables!$BA$2:$BB$19,2,FALSE),\"\")","v":""},null,""]
[null,null,{"$f":"IF(B4531<>\"\",VLOOKUP(B4531,[1]Desplegables!$BA$2:$BB$19,2,FALSE),\"\")","v":""},null,""]
[null,null,{"$f":"IF(B4532<>\"\",VLOOKUP(B4532,[1]Desplegables!$BA$2:$BB$19,2,FALSE),\"\")","v":""},null,""]
[null,null,{"$f":"IF(B4533<>\"\",VLOOKUP(B4533,[1]Desplegables!$BA$2:$BB$19,2,FALSE),\"\")","v":""},null,""]
[null,null,{"$f":"IF(B4534<>\"\",VLOOKUP(B4534,[1]Desplegables!$BA$2:$BB$19,2,FALSE),\"\")","v":""},null,""]
[null,null,{"$f":"IF(B4535<>\"\",VLOOKUP(B4535,[1]Desplegables!$BA$2:$BB$19,2,FALSE),\"\")","v":""},null,""]
[null,null,{"$f":"IF(B4536<>\"\",VLOOKUP(B4536,[1]Desplegables!$BA$2:$BB$19,2,FALSE),\"\")","v":""},null,""]
[null,null,{"$f":"IF(B4537<>\"\",VLOOKUP(B4537,[1]Desplegables!$BA$2:$BB$19,2,FALSE),\"\")","v":""},null,""]
[null,null,{"$f":"IF(B4538<>\"\",VLOOKUP(B4538,[1]Desplegables!$BA$2:$BB$19,2,FALSE),\"\")","v":""},null,""]
[null,null,{"$f":"IF(B4539<>\"\",VLOOKUP(B4539,[1]Desplegables!$BA$2:$BB$19,2,FALSE),\"\")","v":""},null,""]
[null,null,{"$f":"IF(B4540<>\"\",VLOOKUP(B4540,[1]Desplegables!$BA$2:$BB$19,2,FALSE),\"\")","v":""},null,""]
[null,null,{"$f":"IF(B4541<>\"\",VLOOKUP(B4541,[1]Desplegables!$BA$2:$BB$19,2,FALSE),\"\")","v":""},null,""]
[null,null,{"$f":"IF(B4542<>\"\",VLOOKUP(B4542,[1]Desplegables!$BA$2:$BB$19,2,FALSE),\"\")","v":""},null,""]
[null,null,{"$f":"IF(B4543<>\"\",VLOOKUP(B4543,[1]Desplegables!$BA$2:$BB$19,2,FALSE),\"\")","v":""},null,""]
[null,null,{"$f":"IF(B4544<>\"\",VLOOKUP(B4544,[1]Desplegables!$BA$2:$BB$19,2,FALSE),\"\")","v":""},null,""]
[null,null,{"$f":"IF(B4545<>\"\",VLOOKUP(B4545,[1]Desplegables!$BA$2:$BB$19,2,FALSE),\"\")","v":""},null,""]
[null,null,{"$f":"IF(B4546<>\"\",VLOOKUP(B4546,[1]Desplegables!$BA$2:$BB$19,2,FALSE),\"\")","v":""},null,""]
[null,null,{"$f":"IF(B4547<>\"\",VLOOKUP(B4547,[1]Desplegables!$BA$2:$BB$19,2,FALSE),\"\")","v":""},null,""]
[null,null,{"$f":"IF(B4548<>\"\",VLOOKUP(B4548,[1]Desplegables!$BA$2:$BB$19,2,FALSE),\"\")","v":""},null,""]
[null,null,{"$f":"IF(B4549<>\"\",VLOOKUP(B4549,[1]Desplegables!$BA$2:$BB$19,2,FALSE),\"\")","v":""},null,{"$f":"IF(C4549<>\"\",D4549/C4549,\"\")","v":""}]
[null,null,{"$f":"IF(B4550<>\"\",VLOOKUP(B4550,[1]Desplegables!$BA$2:$BB$19,2,FALSE),\"\")","v":""},null,""]
[null,null,{"$f":"IF(B4551<>\"\",VLOOKUP(B4551,[1]Desplegables!$BA$2:$BB$19,2,FALSE),\"\")","v":""},null,""]
[null,null,{"$f":"IF(B4552<>\"\",VLOOKUP(B4552,[1]Desplegables!$BA$2:$BB$19,2,FALSE),\"\")","v":""},null,""]
[null,null,{"$f":"IF(B4553<>\"\",VLOOKUP(B4553,[1]Desplegables!$BA$2:$BB$19,2,FALSE),\"\")","v":""},null,""]
[null,null,{"$f":"IF(B4554<>\"\",VLOOKUP(B4554,[1]Desplegables!$BA$2:$BB$19,2,FALSE),\"\")","v":""},null,""]
[null,null,{"$f":"IF(B4555<>\"\",VLOOKUP(B4555,[1]Desplegables!$BA$2:$BB$19,2,FALSE),\"\")","v":""},null,""]
[null,null,{"$f":"IF(B4556<>\"\",VLOOKUP(B4556,[1]Desplegables!$BA$2:$BB$19,2,FALSE),\"\")","v":""},null,""]
[null,null,{"$f":"IF(B4557<>\"\",VLOOKUP(B4557,[1]Desplegables!$BA$2:$BB$19,2,FALSE),\"\")","v":""},null,""]
[null,null,{"$f":"IF(B4558<>\"\",VLOOKUP(B4558,[1]Desplegables!$BA$2:$BB$19,2,FALSE),\"\")","v":""},null,""]
[null,null,{"$f":"IF(B4559<>\"\",VLOOKUP(B4559,[1]Desplegables!$BA$2:$BB$19,2,FALSE),\"\")","v":""},null,""]
[null,null,{"$f":"IF(B4560<>\"\",VLOOKUP(B4560,[1]Desplegables!$BA$2:$BB$19,2,FALSE),\"\")","v":""},null,""]
[null,null,{"$f":"IF(B4561<>\"\",VLOOKUP(B4561,[1]Desplegables!$BA$2:$BB$19,2,FALSE),\"\")","v":""},null,""]
[null,null,{"$f":"IF(B4562<>\"\",VLOOKUP(B4562,[1]Desplegables!$BA$2:$BB$19,2,FALSE),\"\")","v":""},null,""]
[null,null,{"$f":"IF(B4563<>\"\",VLOOKUP(B4563,[1]Desplegables!$BA$2:$BB$19,2,FALSE),\"\")","v":""},null,""]
[null,null,{"$f":"IF(B4564<>\"\",VLOOKUP(B4564,[1]Desplegables!$BA$2:$BB$19,2,FALSE),\"\")","v":""},null,""]
[null,null,{"$f":"IF(B4565<>\"\",VLOOKUP(B4565,[1]Desplegables!$BA$2:$BB$19,2,FALSE),\"\")","v":""},null,""]
[null,null,{"$f":"IF(B4566<>\"\",VLOOKUP(B4566,[1]Desplegables!$BA$2:$BB$19,2,FALSE),\"\")","v":""},null,""]
[null,null,{"$f":"IF(B4567<>\"\",VLOOKUP(B4567,[1]Desplegables!$BA$2:$BB$19,2,FALSE),\"\")","v":""},null,""]
[null,null,{"$f":"IF(B4568<>\"\",VLOOKUP(B4568,[1]Desplegables!$BA$2:$BB$19,2,FALSE),\"\")","v":""},null,""]
[null,null,{"$f":"IF(B4569<>\"\",VLOOKUP(B4569,[1]Desplegables!$BA$2:$BB$19,2,FALSE),\"\")","v":""},null,""]
[null,null,{"$f":"IF(B4570<>\"\",VLOOKUP(B4570,[1]Desplegables!$BA$2:$BB$19,2,FALSE),\"\")","v":""},null,""]
[null,null,{"$f":"IF(B4571<>\"\",VLOOKUP(B4571,[1]Desplegables!$BA$2:$BB$19,2,FALSE),\"\")","v":""},null,""]
[null,null,{"$f":"IF(B4572<>\"\",VLOOKUP(B4572,[1]Desplegables!$BA$2:$BB$19,2,FALSE),\"\")","v":""},null,""]
[null,null,{"$f":"IF(B4573<>\"\",VLOOKUP(B4573,[1]Desplegables!$BA$2:$BB$19,2,FALSE),\"\")","v":""},null,""]
[null,null,{"$f":"IF(B4574<>\"\",VLOOKUP(B4574,[1]Desplegables!$BA$2:$BB$19,2,FALSE),\"\")","v":""},null,""]
[null,null,{"$f":"IF(B4575<>\"\",VLOOKUP(B4575,[1]Desplegables!$BA$2:$BB$19,2,FALSE),\"\")","v":""},null,""]
[null,null,{"$f":"IF(B4576<>\"\",VLOOKUP(B4576,[1]Desplegables!$BA$2:$BB$19,2,FALSE),\"\")","v":""},null,""]
[null,null,{"$f":"IF(B4577<>\"\",VLOOKUP(B4577,[1]Desplegables!$BA$2:$BB$19,2,FALSE),\"\")","v":""},null,""]
[null,null,{"$f":"IF(B4578<>\"\",VLOOKUP(B4578,[1]Desplegables!$BA$2:$BB$19,2,FALSE),\"\")","v":""},null,""]
[null,null,{"$f":"IF(B4579<>\"\",VLOOKUP(B4579,[1]Desplegables!$BA$2:$BB$19,2,FALSE),\"\")","v":""},null,""]
[null,null,{"$f":"IF(B4580<>\"\",VLOOKUP(B4580,[1]Desplegables!$BA$2:$BB$19,2,FALSE),\"\")","v":""},null,""]
[null,null,{"$f":"IF(B4581<>\"\",VLOOKUP(B4581,[1]Desplegables!$BA$2:$BB$19,2,FALSE),\"\")","v":""},null,""]
[null,null,{"$f":"IF(B4582<>\"\",VLOOKUP(B4582,[1]Desplegables!$BA$2:$BB$19,2,FALSE),\"\")","v":""},null,""]
[null,null,{"$f":"IF(B4583<>\"\",VLOOKUP(B4583,[1]Desplegables!$BA$2:$BB$19,2,FALSE),\"\")","v":""},null,""]
[null,null,{"$f":"IF(B4584<>\"\",VLOOKUP(B4584,[1]Desplegables!$BA$2:$BB$19,2,FALSE),\"\")","v":""},null,""]
[null,null,{"$f":"IF(B4585<>\"\",VLOOKUP(B4585,[1]Desplegables!$BA$2:$BB$19,2,FALSE),\"\")","v":""},null,""]
[null,null,{"$f":"IF(B4586<>\"\",VLOOKUP(B4586,[1]Desplegables!$BA$2:$BB$19,2,FALSE),\"\")","v":""},null,""]
[null,null,{"$f":"IF(B4587<>\"\",VLOOKUP(B4587,[1]Desplegables!$BA$2:$BB$19,2,FALSE),\"\")","v":""},null,""]
[null,null,{"$f":"IF(B4588<>\"\",VLOOKUP(B4588,[1]Desplegables!$BA$2:$BB$19,2,FALSE),\"\")","v":""},null,""]
[null,null,{"$f":"IF(B4589<>\"\",VLOOKUP(B4589,[1]Desplegables!$BA$2:$BB$19,2,FALSE),\"\")","v":""},null,""]
[null,null,{"$f":"IF(B4590<>\"\",VLOOKUP(B4590,[1]Desplegables!$BA$2:$BB$19,2,FALSE),\"\")","v":""},null,""]
[null,null,{"$f":"IF(B4591<>\"\",VLOOKUP(B4591,[1]Desplegables!$BA$2:$BB$19,2,FALSE),\"\")","v":""},null,""]
[null,null,{"$f":"IF(B4592<>\"\",VLOOKUP(B4592,[1]Desplegables!$BA$2:$BB$19,2,FALSE),\"\")","v":""},null,""]
[null,null,{"$f":"IF(B4593<>\"\",VLOOKUP(B4593,[1]Desplegables!$BA$2:$BB$19,2,FALSE),\"\")","v":""},null,""]
[null,null,{"$f":"IF(B4594<>\"\",VLOOKUP(B4594,[1]Desplegables!$BA$2:$BB$19,2,FALSE),\"\")","v":""},null,""]
[null,null,{"$f":"IF(B4595<>\"\",VLOOKUP(B4595,[1]Desplegables!$BA$2:$BB$19,2,FALSE),\"\")","v":""},null,""]
[null,null,{"$f":"IF(B4596<>\"\",VLOOKUP(B4596,[1]Desplegables!$BA$2:$BB$19,2,FALSE),\"\")","v":""},null,""]
[null,null,{"$f":"IF(B4597<>\"\",VLOOKUP(B4597,[1]Desplegables!$BA$2:$BB$19,2,FALSE),\"\")","v":""},null,""]
[null,null,{"$f":"IF(B4598<>\"\",VLOOKUP(B4598,[1]Desplegables!$BA$2:$BB$19,2,FALSE),\"\")","v":""},null,""]
[null,null,{"$f":"IF(B4599<>\"\",VLOOKUP(B4599,[1]Desplegables!$BA$2:$BB$19,2,FALSE),\"\")","v":""},null,""]
[null,null,{"$f":"IF(B4600<>\"\",VLOOKUP(B4600,[1]Desplegables!$BA$2:$BB$19,2,FALSE),\"\")","v":""},null,""]
[null,null,{"$f":"IF(B4601<>\"\",VLOOKUP(B4601,[1]Desplegables!$BA$2:$BB$19,2,FALSE),\"\")","v":""},null,""]
[null,null,{"$f":"IF(B4602<>\"\",VLOOKUP(B4602,[1]Desplegables!$BA$2:$BB$19,2,FALSE),\"\")","v":""},null,""]
[null,null,{"$f":"IF(B4603<>\"\",VLOOKUP(B4603,[1]Desplegables!$BA$2:$BB$19,2,FALSE),\"\")","v":""},null,""]
[null,null,{"$f":"IF(B4604<>\"\",VLOOKUP(B4604,[1]Desplegables!$BA$2:$BB$19,2,FALSE),\"\")","v":""},null,""]
[null,null,{"$f":"IF(B4605<>\"\",VLOOKUP(B4605,[1]Desplegables!$BA$2:$BB$19,2,FALSE),\"\")","v":""},null,""]
[null,null,{"$f":"IF(B4606<>\"\",VLOOKUP(B4606,[1]Desplegables!$BA$2:$BB$19,2,FALSE),\"\")","v":""},null,""]
[null,null,{"$f":"IF(B4607<>\"\",VLOOKUP(B4607,[1]Desplegables!$BA$2:$BB$19,2,FALSE),\"\")","v":""},null,""]
[null,null,{"$f":"IF(B4608<>\"\",VLOOKUP(B4608,[1]Desplegables!$BA$2:$BB$19,2,FALSE),\"\")","v":""},null,""]
[null,null,{"$f":"IF(B4609<>\"\",VLOOKUP(B4609,[1]Desplegables!$BA$2:$BB$19,2,FALSE),\"\")","v":""},null,""]
[null,null,{"$f":"IF(B4610<>\"\",VLOOKUP(B4610,[1]Desplegables!$BA$2:$BB$19,2,FALSE),\"\")","v":""},null,""]
[null,null,{"$f":"IF(B4611<>\"\",VLOOKUP(B4611,[1]Desplegables!$BA$2:$BB$19,2,FALSE),\"\")","v":""},null,""]
[null,null,{"$f":"IF(B4612<>\"\",VLOOKUP(B4612,[1]Desplegables!$BA$2:$BB$19,2,FALSE),\"\")","v":""},null,""]
[null,null,{"$f":"IF(B4613<>\"\",VLOOKUP(B4613,[1]Desplegables!$BA$2:$BB$19,2,FALSE),\"\")","v":""},null,{"$f":"IF(C4613<>\"\",D4613/C4613,\"\")","v":""}]
[null,null,{"$f":"IF(B4614<>\"\",VLOOKUP(B4614,[1]Desplegables!$BA$2:$BB$19,2,FALSE),\"\")","v":""},null,""]
[null,null,{"$f":"IF(B4615<>\"\",VLOOKUP(B4615,[1]Desplegables!$BA$2:$BB$19,2,FALSE),\"\")","v":""},null,""]
[null,null,{"$f":"IF(B4616<>\"\",VLOOKUP(B4616,[1]Desplegables!$BA$2:$BB$19,2,FALSE),\"\")","v":""},null,""]
[null,null,{"$f":"IF(B4617<>\"\",VLOOKUP(B4617,[1]Desplegables!$BA$2:$BB$19,2,FALSE),\"\")","v":""},null,""]
[null,null,{"$f":"IF(B4618<>\"\",VLOOKUP(B4618,[1]Desplegables!$BA$2:$BB$19,2,FALSE),\"\")","v":""},null,""]
[null,null,{"$f":"IF(B4619<>\"\",VLOOKUP(B4619,[1]Desplegables!$BA$2:$BB$19,2,FALSE),\"\")","v":""},null,""]
[null,null,{"$f":"IF(B4620<>\"\",VLOOKUP(B4620,[1]Desplegables!$BA$2:$BB$19,2,FALSE),\"\")","v":""},null,""]
[null,null,{"$f":"IF(B4621<>\"\",VLOOKUP(B4621,[1]Desplegables!$BA$2:$BB$19,2,FALSE),\"\")","v":""},null,""]
[null,null,{"$f":"IF(B4622<>\"\",VLOOKUP(B4622,[1]Desplegables!$BA$2:$BB$19,2,FALSE),\"\")","v":""},null,""]
[null,null,{"$f":"IF(B4623<>\"\",VLOOKUP(B4623,[1]Desplegables!$BA$2:$BB$19,2,FALSE),\"\")","v":""},null,""]
[null,null,{"$f":"IF(B4624<>\"\",VLOOKUP(B4624,[1]Desplegables!$BA$2:$BB$19,2,FALSE),\"\")","v":""},null,""]
[null,null,{"$f":"IF(B4625<>\"\",VLOOKUP(B4625,[1]Desplegables!$BA$2:$BB$19,2,FALSE),\"\")","v":""},null,""]
[null,null,{"$f":"IF(B4626<>\"\",VLOOKUP(B4626,[1]Desplegables!$BA$2:$BB$19,2,FALSE),\"\")","v":""},null,""]
[null,null,{"$f":"IF(B4627<>\"\",VLOOKUP(B4627,[1]Desplegables!$BA$2:$BB$19,2,FALSE),\"\")","v":""},null,""]
[null,null,{"$f":"IF(B4628<>\"\",VLOOKUP(B4628,[1]Desplegables!$BA$2:$BB$19,2,FALSE),\"\")","v":""},null,""]
[null,null,{"$f":"IF(B4629<>\"\",VLOOKUP(B4629,[1]Desplegables!$BA$2:$BB$19,2,FALSE),\"\")","v":""},null,""]
[null,null,{"$f":"IF(B4630<>\"\",VLOOKUP(B4630,[1]Desplegables!$BA$2:$BB$19,2,FALSE),\"\")","v":""},null,""]
[null,null,{"$f":"IF(B4631<>\"\",VLOOKUP(B4631,[1]Desplegables!$BA$2:$BB$19,2,FALSE),\"\")","v":""},null,""]
[null,null,{"$f":"IF(B4632<>\"\",VLOOKUP(B4632,[1]Desplegables!$BA$2:$BB$19,2,FALSE),\"\")","v":""},null,""]
[null,null,{"$f":"IF(B4633<>\"\",VLOOKUP(B4633,[1]Desplegables!$BA$2:$BB$19,2,FALSE),\"\")","v":""},null,""]
[null,null,{"$f":"IF(B4634<>\"\",VLOOKUP(B4634,[1]Desplegables!$BA$2:$BB$19,2,FALSE),\"\")","v":""},null,""]
[null,null,{"$f":"IF(B4635<>\"\",VLOOKUP(B4635,[1]Desplegables!$BA$2:$BB$19,2,FALSE),\"\")","v":""},null,""]
[null,null,{"$f":"IF(B4636<>\"\",VLOOKUP(B4636,[1]Desplegables!$BA$2:$BB$19,2,FALSE),\"\")","v":""},null,""]
[null,null,{"$f":"IF(B4637<>\"\",VLOOKUP(B4637,[1]Desplegables!$BA$2:$BB$19,2,FALSE),\"\")","v":""},null,""]
[null,null,{"$f":"IF(B4638<>\"\",VLOOKUP(B4638,[1]Desplegables!$BA$2:$BB$19,2,FALSE),\"\")","v":""},null,""]
[null,null,{"$f":"IF(B4639<>\"\",VLOOKUP(B4639,[1]Desplegables!$BA$2:$BB$19,2,FALSE),\"\")","v":""},null,""]
[null,null,{"$f":"IF(B4640<>\"\",VLOOKUP(B4640,[1]Desplegables!$BA$2:$BB$19,2,FALSE),\"\")","v":""},null,""]
[null,null,{"$f":"IF(B4641<>\"\",VLOOKUP(B4641,[1]Desplegables!$BA$2:$BB$19,2,FALSE),\"\")","v":""},null,""]
[null,null,{"$f":"IF(B4642<>\"\",VLOOKUP(B4642,[1]Desplegables!$BA$2:$BB$19,2,FALSE),\"\")","v":""},null,""]
[null,null,{"$f":"IF(B4643<>\"\",VLOOKUP(B4643,[1]Desplegables!$BA$2:$BB$19,2,FALSE),\"\")","v":""},null,""]
[null,null,{"$f":"IF(B4644<>\"\",VLOOKUP(B4644,[1]Desplegables!$BA$2:$BB$19,2,FALSE),\"\")","v":""},null,""]
[null,null,{"$f":"IF(B4645<>\"\",VLOOKUP(B4645,[1]Desplegables!$BA$2:$BB$19,2,FALSE),\"\")","v":""},null,""]
[null,null,{"$f":"IF(B4646<>\"\",VLOOKUP(B4646,[1]Desplegables!$BA$2:$BB$19,2,FALSE),\"\")","v":""},null,""]
[null,null,{"$f":"IF(B4647<>\"\",VLOOKUP(B4647,[1]Desplegables!$BA$2:$BB$19,2,FALSE),\"\")","v":""},null,""]
[null,null,{"$f":"IF(B4648<>\"\",VLOOKUP(B4648,[1]Desplegables!$BA$2:$BB$19,2,FALSE),\"\")","v":""},null,""]
[null,null,{"$f":"IF(B4649<>\"\",VLOOKUP(B4649,[1]Desplegables!$BA$2:$BB$19,2,FALSE),\"\")","v":""},null,""]
[null,null,{"$f":"IF(B4650<>\"\",VLOOKUP(B4650,[1]Desplegables!$BA$2:$BB$19,2,FALSE),\"\")","v":""},null,""]
[null,null,{"$f":"IF(B4651<>\"\",VLOOKUP(B4651,[1]Desplegables!$BA$2:$BB$19,2,FALSE),\"\")","v":""},null,""]
[null,null,{"$f":"IF(B4652<>\"\",VLOOKUP(B4652,[1]Desplegables!$BA$2:$BB$19,2,FALSE),\"\")","v":""},null,""]
[null,null,{"$f":"IF(B4653<>\"\",VLOOKUP(B4653,[1]Desplegables!$BA$2:$BB$19,2,FALSE),\"\")","v":""},null,""]
[null,null,{"$f":"IF(B4654<>\"\",VLOOKUP(B4654,[1]Desplegables!$BA$2:$BB$19,2,FALSE),\"\")","v":""},null,""]
[null,null,{"$f":"IF(B4655<>\"\",VLOOKUP(B4655,[1]Desplegables!$BA$2:$BB$19,2,FALSE),\"\")","v":""},null,""]
[null,null,{"$f":"IF(B4656<>\"\",VLOOKUP(B4656,[1]Desplegables!$BA$2:$BB$19,2,FALSE),\"\")","v":""},null,""]
[null,null,{"$f":"IF(B4657<>\"\",VLOOKUP(B4657,[1]Desplegables!$BA$2:$BB$19,2,FALSE),\"\")","v":""},null,""]
[null,null,{"$f":"IF(B4658<>\"\",VLOOKUP(B4658,[1]Desplegables!$BA$2:$BB$19,2,FALSE),\"\")","v":""},null,""]
[null,null,{"$f":"IF(B4659<>\"\",VLOOKUP(B4659,[1]Desplegables!$BA$2:$BB$19,2,FALSE),\"\")","v":""},null,""]
[null,null,{"$f":"IF(B4660<>\"\",VLOOKUP(B4660,[1]Desplegables!$BA$2:$BB$19,2,FALSE),\"\")","v":""},null,""]
[null,null,{"$f":"IF(B4661<>\"\",VLOOKUP(B4661,[1]Desplegables!$BA$2:$BB$19,2,FALSE),\"\")","v":""},null,""]
[null,null,{"$f":"IF(B4662<>\"\",VLOOKUP(B4662,[1]Desplegables!$BA$2:$BB$19,2,FALSE),\"\")","v":""},null,""]
[null,null,{"$f":"IF(B4663<>\"\",VLOOKUP(B4663,[1]Desplegables!$BA$2:$BB$19,2,FALSE),\"\")","v":""},null,""]
[null,null,{"$f":"IF(B4664<>\"\",VLOOKUP(B4664,[1]Desplegables!$BA$2:$BB$19,2,FALSE),\"\")","v":""},null,""]
[null,null,{"$f":"IF(B4665<>\"\",VLOOKUP(B4665,[1]Desplegables!$BA$2:$BB$19,2,FALSE),\"\")","v":""},null,""]
[null,null,{"$f":"IF(B4666<>\"\",VLOOKUP(B4666,[1]Desplegables!$BA$2:$BB$19,2,FALSE),\"\")","v":""},null,""]
[null,null,{"$f":"IF(B4667<>\"\",VLOOKUP(B4667,[1]Desplegables!$BA$2:$BB$19,2,FALSE),\"\")","v":""},null,""]
[null,null,{"$f":"IF(B4668<>\"\",VLOOKUP(B4668,[1]Desplegables!$BA$2:$BB$19,2,FALSE),\"\")","v":""},null,""]
[null,null,{"$f":"IF(B4669<>\"\",VLOOKUP(B4669,[1]Desplegables!$BA$2:$BB$19,2,FALSE),\"\")","v":""},null,""]
[null,null,{"$f":"IF(B4670<>\"\",VLOOKUP(B4670,[1]Desplegables!$BA$2:$BB$19,2,FALSE),\"\")","v":""},null,""]
[null,null,{"$f":"IF(B4671<>\"\",VLOOKUP(B4671,[1]Desplegables!$BA$2:$BB$19,2,FALSE),\"\")","v":""},null,""]
[null,null,{"$f":"IF(B4672<>\"\",VLOOKUP(B4672,[1]Desplegables!$BA$2:$BB$19,2,FALSE),\"\")","v":""},null,""]
[null,null,{"$f":"IF(B4673<>\"\",VLOOKUP(B4673,[1]Desplegables!$BA$2:$BB$19,2,FALSE),\"\")","v":""},null,""]
[null,null,{"$f":"IF(B4674<>\"\",VLOOKUP(B4674,[1]Desplegables!$BA$2:$BB$19,2,FALSE),\"\")","v":""},null,""]
[null,null,{"$f":"IF(B4675<>\"\",VLOOKUP(B4675,[1]Desplegables!$BA$2:$BB$19,2,FALSE),\"\")","v":""},null,""]
[null,null,{"$f":"IF(B4676<>\"\",VLOOKUP(B4676,[1]Desplegables!$BA$2:$BB$19,2,FALSE),\"\")","v":""},null,""]
[null,null,{"$f":"IF(B4677<>\"\",VLOOKUP(B4677,[1]Desplegables!$BA$2:$BB$19,2,FALSE),\"\")","v":""},null,{"$f":"IF(C4677<>\"\",D4677/C4677,\"\")","v":""}]
[null,null,{"$f":"IF(B4678<>\"\",VLOOKUP(B4678,[1]Desplegables!$BA$2:$BB$19,2,FALSE),\"\")","v":""},null,""]
[null,null,{"$f":"IF(B4679<>\"\",VLOOKUP(B4679,[1]Desplegables!$BA$2:$BB$19,2,FALSE),\"\")","v":""},null,""]
[null,null,{"$f":"IF(B4680<>\"\",VLOOKUP(B4680,[1]Desplegables!$BA$2:$BB$19,2,FALSE),\"\")","v":""},null,""]
[null,null,{"$f":"IF(B4681<>\"\",VLOOKUP(B4681,[1]Desplegables!$BA$2:$BB$19,2,FALSE),\"\")","v":""},null,""]
[null,null,{"$f":"IF(B4682<>\"\",VLOOKUP(B4682,[1]Desplegables!$BA$2:$BB$19,2,FALSE),\"\")","v":""},null,""]
[null,null,{"$f":"IF(B4683<>\"\",VLOOKUP(B4683,[1]Desplegables!$BA$2:$BB$19,2,FALSE),\"\")","v":""},null,""]
[null,null,{"$f":"IF(B4684<>\"\",VLOOKUP(B4684,[1]Desplegables!$BA$2:$BB$19,2,FALSE),\"\")","v":""},null,""]
[null,null,{"$f":"IF(B4685<>\"\",VLOOKUP(B4685,[1]Desplegables!$BA$2:$BB$19,2,FALSE),\"\")","v":""},null,""]
[null,null,{"$f":"IF(B4686<>\"\",VLOOKUP(B4686,[1]Desplegables!$BA$2:$BB$19,2,FALSE),\"\")","v":""},null,""]
[null,null,{"$f":"IF(B4687<>\"\",VLOOKUP(B4687,[1]Desplegables!$BA$2:$BB$19,2,FALSE),\"\")","v":""},null,""]
[null,null,{"$f":"IF(B4688<>\"\",VLOOKUP(B4688,[1]Desplegables!$BA$2:$BB$19,2,FALSE),\"\")","v":""},null,""]
[null,null,{"$f":"IF(B4689<>\"\",VLOOKUP(B4689,[1]Desplegables!$BA$2:$BB$19,2,FALSE),\"\")","v":""},null,""]
[null,null,{"$f":"IF(B4690<>\"\",VLOOKUP(B4690,[1]Desplegables!$BA$2:$BB$19,2,FALSE),\"\")","v":""},null,""]
[null,null,{"$f":"IF(B4691<>\"\",VLOOKUP(B4691,[1]Desplegables!$BA$2:$BB$19,2,FALSE),\"\")","v":""},null,""]
[null,null,{"$f":"IF(B4692<>\"\",VLOOKUP(B4692,[1]Desplegables!$BA$2:$BB$19,2,FALSE),\"\")","v":""},null,""]
[null,null,{"$f":"IF(B4693<>\"\",VLOOKUP(B4693,[1]Desplegables!$BA$2:$BB$19,2,FALSE),\"\")","v":""},null,""]
[null,null,{"$f":"IF(B4694<>\"\",VLOOKUP(B4694,[1]Desplegables!$BA$2:$BB$19,2,FALSE),\"\")","v":""},null,""]
[null,null,{"$f":"IF(B4695<>\"\",VLOOKUP(B4695,[1]Desplegables!$BA$2:$BB$19,2,FALSE),\"\")","v":""},null,""]
[null,null,{"$f":"IF(B4696<>\"\",VLOOKUP(B4696,[1]Desplegables!$BA$2:$BB$19,2,FALSE),\"\")","v":""},null,""]
[null,null,{"$f":"IF(B4697<>\"\",VLOOKUP(B4697,[1]Desplegables!$BA$2:$BB$19,2,FALSE),\"\")","v":""},null,""]
[null,null,{"$f":"IF(B4698<>\"\",VLOOKUP(B4698,[1]Desplegables!$BA$2:$BB$19,2,FALSE),\"\")","v":""},null,""]
[null,null,{"$f":"IF(B4699<>\"\",VLOOKUP(B4699,[1]Desplegables!$BA$2:$BB$19,2,FALSE),\"\")","v":""},null,""]
[null,null,{"$f":"IF(B4700<>\"\",VLOOKUP(B4700,[1]Desplegables!$BA$2:$BB$19,2,FALSE),\"\")","v":""},null,""]
[null,null,{"$f":"IF(B4701<>\"\",VLOOKUP(B4701,[1]Desplegables!$BA$2:$BB$19,2,FALSE),\"\")","v":""},null,""]
[null,null,{"$f":"IF(B4702<>\"\",VLOOKUP(B4702,[1]Desplegables!$BA$2:$BB$19,2,FALSE),\"\")","v":""},null,""]
[null,null,{"$f":"IF(B4703<>\"\",VLOOKUP(B4703,[1]Desplegables!$BA$2:$BB$19,2,FALSE),\"\")","v":""},null,""]
[null,null,{"$f":"IF(B4704<>\"\",VLOOKUP(B4704,[1]Desplegables!$BA$2:$BB$19,2,FALSE),\"\")","v":""},null,""]
[null,null,{"$f":"IF(B4705<>\"\",VLOOKUP(B4705,[1]Desplegables!$BA$2:$BB$19,2,FALSE),\"\")","v":""},null,""]
[null,null,{"$f":"IF(B4706<>\"\",VLOOKUP(B4706,[1]Desplegables!$BA$2:$BB$19,2,FALSE),\"\")","v":""},null,""]
[null,null,{"$f":"IF(B4707<>\"\",VLOOKUP(B4707,[1]Desplegables!$BA$2:$BB$19,2,FALSE),\"\")","v":""},null,""]
[null,null,{"$f":"IF(B4708<>\"\",VLOOKUP(B4708,[1]Desplegables!$BA$2:$BB$19,2,FALSE),\"\")","v":""},null,""]
[null,null,{"$f":"IF(B4709<>\"\",VLOOKUP(B4709,[1]Desplegables!$BA$2:$BB$19,2,FALSE),\"\")","v":""},null,""]
[null,null,{"$f":"IF(B4710<>\"\",VLOOKUP(B4710,[1]Desplegables!$BA$2:$BB$19,2,FALSE),\"\")","v":""},null,""]
[null,null,{"$f":"IF(B4711<>\"\",VLOOKUP(B4711,[1]Desplegables!$BA$2:$BB$19,2,FALSE),\"\")","v":""},null,""]
[null,null,{"$f":"IF(B4712<>\"\",VLOOKUP(B4712,[1]Desplegables!$BA$2:$BB$19,2,FALSE),\"\")","v":""},null,""]
[null,null,{"$f":"IF(B4713<>\"\",VLOOKUP(B4713,[1]Desplegables!$BA$2:$BB$19,2,FALSE),\"\")","v":""},null,""]
[null,null,{"$f":"IF(B4714<>\"\",VLOOKUP(B4714,[1]Desplegables!$BA$2:$BB$19,2,FALSE),\"\")","v":""},null,""]
[null,null,{"$f":"IF(B4715<>\"\",VLOOKUP(B4715,[1]Desplegables!$BA$2:$BB$19,2,FALSE),\"\")","v":""},null,""]
[null,null,{"$f":"IF(B4716<>\"\",VLOOKUP(B4716,[1]Desplegables!$BA$2:$BB$19,2,FALSE),\"\")","v":""},null,""]
[null,null,{"$f":"IF(B4717<>\"\",VLOOKUP(B4717,[1]Desplegables!$BA$2:$BB$19,2,FALSE),\"\")","v":""},null,""]
[null,null,{"$f":"IF(B4718<>\"\",VLOOKUP(B4718,[1]Desplegables!$BA$2:$BB$19,2,FALSE),\"\")","v":""},null,""]
[null,null,{"$f":"IF(B4719<>\"\",VLOOKUP(B4719,[1]Desplegables!$BA$2:$BB$19,2,FALSE),\"\")","v":""},null,""]
[null,null,{"$f":"IF(B4720<>\"\",VLOOKUP(B4720,[1]Desplegables!$BA$2:$BB$19,2,FALSE),\"\")","v":""},null,""]
[null,null,{"$f":"IF(B4721<>\"\",VLOOKUP(B4721,[1]Desplegables!$BA$2:$BB$19,2,FALSE),\"\")","v":""},null,""]
[null,null,{"$f":"IF(B4722<>\"\",VLOOKUP(B4722,[1]Desplegables!$BA$2:$BB$19,2,FALSE),\"\")","v":""},null,""]
[null,null,{"$f":"IF(B4723<>\"\",VLOOKUP(B4723,[1]Desplegables!$BA$2:$BB$19,2,FALSE),\"\")","v":""},null,""]
[null,null,{"$f":"IF(B4724<>\"\",VLOOKUP(B4724,[1]Desplegables!$BA$2:$BB$19,2,FALSE),\"\")","v":""},null,""]
[null,null,{"$f":"IF(B4725<>\"\",VLOOKUP(B4725,[1]Desplegables!$BA$2:$BB$19,2,FALSE),\"\")","v":""},null,""]
[null,null,{"$f":"IF(B4726<>\"\",VLOOKUP(B4726,[1]Desplegables!$BA$2:$BB$19,2,FALSE),\"\")","v":""},null,""]
[null,null,{"$f":"IF(B4727<>\"\",VLOOKUP(B4727,[1]Desplegables!$BA$2:$BB$19,2,FALSE),\"\")","v":""},null,""]
[null,null,{"$f":"IF(B4728<>\"\",VLOOKUP(B4728,[1]Desplegables!$BA$2:$BB$19,2,FALSE),\"\")","v":""},null,""]
[null,null,{"$f":"IF(B4729<>\"\",VLOOKUP(B4729,[1]Desplegables!$BA$2:$BB$19,2,FALSE),\"\")","v":""},null,""]
[null,null,{"$f":"IF(B4730<>\"\",VLOOKUP(B4730,[1]Desplegables!$BA$2:$BB$19,2,FALSE),\"\")","v":""},null,""]
[null,null,{"$f":"IF(B4731<>\"\",VLOOKUP(B4731,[1]Desplegables!$BA$2:$BB$19,2,FALSE),\"\")","v":""},null,""]
[null,null,{"$f":"IF(B4732<>\"\",VLOOKUP(B4732,[1]Desplegables!$BA$2:$BB$19,2,FALSE),\"\")","v":""},null,""]
[null,null,{"$f":"IF(B4733<>\"\",VLOOKUP(B4733,[1]Desplegables!$BA$2:$BB$19,2,FALSE),\"\")","v":""},null,""]
[null,null,{"$f":"IF(B4734<>\"\",VLOOKUP(B4734,[1]Desplegables!$BA$2:$BB$19,2,FALSE),\"\")","v":""},null,""]
[null,null,{"$f":"IF(B4735<>\"\",VLOOKUP(B4735,[1]Desplegables!$BA$2:$BB$19,2,FALSE),\"\")","v":""},null,""]
[null,null,{"$f":"IF(B4736<>\"\",VLOOKUP(B4736,[1]Desplegables!$BA$2:$BB$19,2,FALSE),\"\")","v":""},null,""]
[null,null,{"$f":"IF(B4737<>\"\",VLOOKUP(B4737,[1]Desplegables!$BA$2:$BB$19,2,FALSE),\"\")","v":""},null,""]
[null,null,{"$f":"IF(B4738<>\"\",VLOOKUP(B4738,[1]Desplegables!$BA$2:$BB$19,2,FALSE),\"\")","v":""},null,""]
[null,null,{"$f":"IF(B4739<>\"\",VLOOKUP(B4739,[1]Desplegables!$BA$2:$BB$19,2,FALSE),\"\")","v":""},null,""]
[null,null,{"$f":"IF(B4740<>\"\",VLOOKUP(B4740,[1]Desplegables!$BA$2:$BB$19,2,FALSE),\"\")","v":""},null,""]
[null,null,{"$f":"IF(B4741<>\"\",VLOOKUP(B4741,[1]Desplegables!$BA$2:$BB$19,2,FALSE),\"\")","v":""},null,{"$f":"IF(C4741<>\"\",D4741/C4741,\"\")","v":""}]
[null,null,{"$f":"IF(B4742<>\"\",VLOOKUP(B4742,[1]Desplegables!$BA$2:$BB$19,2,FALSE),\"\")","v":""},null,""]
[null,null,{"$f":"IF(B4743<>\"\",VLOOKUP(B4743,[1]Desplegables!$BA$2:$BB$19,2,FALSE),\"\")","v":""},null,""]
[null,null,{"$f":"IF(B4744<>\"\",VLOOKUP(B4744,[1]Desplegables!$BA$2:$BB$19,2,FALSE),\"\")","v":""},null,""]
[null,null,{"$f":"IF(B4745<>\"\",VLOOKUP(B4745,[1]Desplegables!$BA$2:$BB$19,2,FALSE),\"\")","v":""},null,""]
[null,null,{"$f":"IF(B4746<>\"\",VLOOKUP(B4746,[1]Desplegables!$BA$2:$BB$19,2,FALSE),\"\")","v":""},null,""]
[null,null,{"$f":"IF(B4747<>\"\",VLOOKUP(B4747,[1]Desplegables!$BA$2:$BB$19,2,FALSE),\"\")","v":""},null,""]
[null,null,{"$f":"IF(B4748<>\"\",VLOOKUP(B4748,[1]Desplegables!$BA$2:$BB$19,2,FALSE),\"\")","v":""},null,""]
[null,null,{"$f":"IF(B4749<>\"\",VLOOKUP(B4749,[1]Desplegables!$BA$2:$BB$19,2,FALSE),\"\")","v":""},null,""]
[null,null,{"$f":"IF(B4750<>\"\",VLOOKUP(B4750,[1]Desplegables!$BA$2:$BB$19,2,FALSE),\"\")","v":""},null,""]
[null,null,{"$f":"IF(B4751<>\"\",VLOOKUP(B4751,[1]Desplegables!$BA$2:$BB$19,2,FALSE),\"\")","v":""},null,""]
[null,null,{"$f":"IF(B4752<>\"\",VLOOKUP(B4752,[1]Desplegables!$BA$2:$BB$19,2,FALSE),\"\")","v":""},null,""]
[null,null,{"$f":"IF(B4753<>\"\",VLOOKUP(B4753,[1]Desplegables!$BA$2:$BB$19,2,FALSE),\"\")","v":""},null,""]
[null,null,{"$f":"IF(B4754<>\"\",VLOOKUP(B4754,[1]Desplegables!$BA$2:$BB$19,2,FALSE),\"\")","v":""},null,""]
[null,null,{"$f":"IF(B4755<>\"\",VLOOKUP(B4755,[1]Desplegables!$BA$2:$BB$19,2,FALSE),\"\")","v":""},null,""]
[null,null,{"$f":"IF(B4756<>\"\",VLOOKUP(B4756,[1]Desplegables!$BA$2:$BB$19,2,FALSE),\"\")","v":""},null,""]
[null,null,{"$f":"IF(B4757<>\"\",VLOOKUP(B4757,[1]Desplegables!$BA$2:$BB$19,2,FALSE),\"\")","v":""},null,""]
[null,null,{"$f":"IF(B4758<>\"\",VLOOKUP(B4758,[1]Desplegables!$BA$2:$BB$19,2,FALSE),\"\")","v":""},null,""]
[null,null,{"$f":"IF(B4759<>\"\",VLOOKUP(B4759,[1]Desplegables!$BA$2:$BB$19,2,FALSE),\"\")","v":""},null,""]
[null,null,{"$f":"IF(B4760<>\"\",VLOOKUP(B4760,[1]Desplegables!$BA$2:$BB$19,2,FALSE),\"\")","v":""},null,""]
[null,null,{"$f":"IF(B4761<>\"\",VLOOKUP(B4761,[1]Desplegables!$BA$2:$BB$19,2,FALSE),\"\")","v":""},null,""]
[null,null,{"$f":"IF(B4762<>\"\",VLOOKUP(B4762,[1]Desplegables!$BA$2:$BB$19,2,FALSE),\"\")","v":""},null,""]
[null,null,{"$f":"IF(B4763<>\"\",VLOOKUP(B4763,[1]Desplegables!$BA$2:$BB$19,2,FALSE),\"\")","v":""},null,""]
[null,null,{"$f":"IF(B4764<>\"\",VLOOKUP(B4764,[1]Desplegables!$BA$2:$BB$19,2,FALSE),\"\")","v":""},null,""]
[null,null,{"$f":"IF(B4765<>\"\",VLOOKUP(B4765,[1]Desplegables!$BA$2:$BB$19,2,FALSE),\"\")","v":""},null,""]
[null,null,{"$f":"IF(B4766<>\"\",VLOOKUP(B4766,[1]Desplegables!$BA$2:$BB$19,2,FALSE),\"\")","v":""},null,""]
[null,null,{"$f":"IF(B4767<>\"\",VLOOKUP(B4767,[1]Desplegables!$BA$2:$BB$19,2,FALSE),\"\")","v":""},null,""]
[null,null,{"$f":"IF(B4768<>\"\",VLOOKUP(B4768,[1]Desplegables!$BA$2:$BB$19,2,FALSE),\"\")","v":""},null,""]
[null,null,{"$f":"IF(B4769<>\"\",VLOOKUP(B4769,[1]Desplegables!$BA$2:$BB$19,2,FALSE),\"\")","v":""},null,""]
[null,null,{"$f":"IF(B4770<>\"\",VLOOKUP(B4770,[1]Desplegables!$BA$2:$BB$19,2,FALSE),\"\")","v":""},null,""]
[null,null,{"$f":"IF(B4771<>\"\",VLOOKUP(B4771,[1]Desplegables!$BA$2:$BB$19,2,FALSE),\"\")","v":""},null,""]
[null,null,{"$f":"IF(B4772<>\"\",VLOOKUP(B4772,[1]Desplegables!$BA$2:$BB$19,2,FALSE),\"\")","v":""},null,""]
[null,null,{"$f":"IF(B4773<>\"\",VLOOKUP(B4773,[1]Desplegables!$BA$2:$BB$19,2,FALSE),\"\")","v":""},null,""]
[null,null,{"$f":"IF(B4774<>\"\",VLOOKUP(B4774,[1]Desplegables!$BA$2:$BB$19,2,FALSE),\"\")","v":""},null,""]
[null,null,{"$f":"IF(B4775<>\"\",VLOOKUP(B4775,[1]Desplegables!$BA$2:$BB$19,2,FALSE),\"\")","v":""},null,""]
[null,null,{"$f":"IF(B4776<>\"\",VLOOKUP(B4776,[1]Desplegables!$BA$2:$BB$19,2,FALSE),\"\")","v":""},null,""]
[null,null,{"$f":"IF(B4777<>\"\",VLOOKUP(B4777,[1]Desplegables!$BA$2:$BB$19,2,FALSE),\"\")","v":""},null,""]
[null,null,{"$f":"IF(B4778<>\"\",VLOOKUP(B4778,[1]Desplegables!$BA$2:$BB$19,2,FALSE),\"\")","v":""},null,""]
[null,null,{"$f":"IF(B4779<>\"\",VLOOKUP(B4779,[1]Desplegables!$BA$2:$BB$19,2,FALSE),\"\")","v":""},null,""]
[null,null,{"$f":"IF(B4780<>\"\",VLOOKUP(B4780,[1]Desplegables!$BA$2:$BB$19,2,FALSE),\"\")","v":""},null,""]
[null,null,{"$f":"IF(B4781<>\"\",VLOOKUP(B4781,[1]Desplegables!$BA$2:$BB$19,2,FALSE),\"\")","v":""},null,""]
[null,null,{"$f":"IF(B4782<>\"\",VLOOKUP(B4782,[1]Desplegables!$BA$2:$BB$19,2,FALSE),\"\")","v":""},null,""]
[null,null,{"$f":"IF(B4783<>\"\",VLOOKUP(B4783,[1]Desplegables!$BA$2:$BB$19,2,FALSE),\"\")","v":""},null,""]
[null,null,{"$f":"IF(B4784<>\"\",VLOOKUP(B4784,[1]Desplegables!$BA$2:$BB$19,2,FALSE),\"\")","v":""},null,""]
[null,null,{"$f":"IF(B4785<>\"\",VLOOKUP(B4785,[1]Desplegables!$BA$2:$BB$19,2,FALSE),\"\")","v":""},null,""]
[null,null,{"$f":"IF(B4786<>\"\",VLOOKUP(B4786,[1]Desplegables!$BA$2:$BB$19,2,FALSE),\"\")","v":""},null,""]
[null,null,{"$f":"IF(B4787<>\"\",VLOOKUP(B4787,[1]Desplegables!$BA$2:$BB$19,2,FALSE),\"\")","v":""},null,""]
[null,null,{"$f":"IF(B4788<>\"\",VLOOKUP(B4788,[1]Desplegables!$BA$2:$BB$19,2,FALSE),\"\")","v":""},null,""]
[null,null,{"$f":"IF(B4789<>\"\",VLOOKUP(B4789,[1]Desplegables!$BA$2:$BB$19,2,FALSE),\"\")","v":""},null,""]
[null,null,{"$f":"IF(B4790<>\"\",VLOOKUP(B4790,[1]Desplegables!$BA$2:$BB$19,2,FALSE),\"\")","v":""},null,""]
[null,null,{"$f":"IF(B4791<>\"\",VLOOKUP(B4791,[1]Desplegables!$BA$2:$BB$19,2,FALSE),\"\")","v":""},null,""]
[null,null,{"$f":"IF(B4792<>\"\",VLOOKUP(B4792,[1]Desplegables!$BA$2:$BB$19,2,FALSE),\"\")","v":""},null,""]
[null,null,{"$f":"IF(B4793<>\"\",VLOOKUP(B4793,[1]Desplegables!$BA$2:$BB$19,2,FALSE),\"\")","v":""},null,""]
[null,null,{"$f":"IF(B4794<>\"\",VLOOKUP(B4794,[1]Desplegables!$BA$2:$BB$19,2,FALSE),\"\")","v":""},null,""]
[null,null,{"$f":"IF(B4795<>\"\",VLOOKUP(B4795,[1]Desplegables!$BA$2:$BB$19,2,FALSE),\"\")","v":""},null,""]
[null,null,{"$f":"IF(B4796<>\"\",VLOOKUP(B4796,[1]Desplegables!$BA$2:$BB$19,2,FALSE),\"\")","v":""},null,""]
[null,null,{"$f":"IF(B4797<>\"\",VLOOKUP(B4797,[1]Desplegables!$BA$2:$BB$19,2,FALSE),\"\")","v":""},null,""]
[null,null,{"$f":"IF(B4798<>\"\",VLOOKUP(B4798,[1]Desplegables!$BA$2:$BB$19,2,FALSE),\"\")","v":""},null,""]
[null,null,{"$f":"IF(B4799<>\"\",VLOOKUP(B4799,[1]Desplegables!$BA$2:$BB$19,2,FALSE),\"\")","v":""},null,""]
[null,null,{"$f":"IF(B4800<>\"\",VLOOKUP(B4800,[1]Desplegables!$BA$2:$BB$19,2,FALSE),\"\")","v":""},null,""]
[null,null,{"$f":"IF(B4801<>\"\",VLOOKUP(B4801,[1]Desplegables!$BA$2:$BB$19,2,FALSE),\"\")","v":""},null,""]
[null,null,{"$f":"IF(B4802<>\"\",VLOOKUP(B4802,[1]Desplegables!$BA$2:$BB$19,2,FALSE),\"\")","v":""},null,""]
[null,null,{"$f":"IF(B4803<>\"\",VLOOKUP(B4803,[1]Desplegables!$BA$2:$BB$19,2,FALSE),\"\")","v":""},null,""]
[null,null,{"$f":"IF(B4804<>\"\",VLOOKUP(B4804,[1]Desplegables!$BA$2:$BB$19,2,FALSE),\"\")","v":""},null,""]
[null,null,{"$f":"IF(B4805<>\"\",VLOOKUP(B4805,[1]Desplegables!$BA$2:$BB$19,2,FALSE),\"\")","v":""},null,{"$f":"IF(C4805<>\"\",D4805/C4805,\"\")","v":""}]
[null,null,{"$f":"IF(B4806<>\"\",VLOOKUP(B4806,[1]Desplegables!$BA$2:$BB$19,2,FALSE),\"\")","v":""},null,""]
[null,null,{"$f":"IF(B4807<>\"\",VLOOKUP(B4807,[1]Desplegables!$BA$2:$BB$19,2,FALSE),\"\")","v":""},null,""]
[null,null,{"$f":"IF(B4808<>\"\",VLOOKUP(B4808,[1]Desplegables!$BA$2:$BB$19,2,FALSE),\"\")","v":""},null,""]
[null,null,{"$f":"IF(B4809<>\"\",VLOOKUP(B4809,[1]Desplegables!$BA$2:$BB$19,2,FALSE),\"\")","v":""},null,""]
[null,null,{"$f":"IF(B4810<>\"\",VLOOKUP(B4810,[1]Desplegables!$BA$2:$BB$19,2,FALSE),\"\")","v":""},null,""]
[null,null,{"$f":"IF(B4811<>\"\",VLOOKUP(B4811,[1]Desplegables!$BA$2:$BB$19,2,FALSE),\"\")","v":""},null,""]
[null,null,{"$f":"IF(B4812<>\"\",VLOOKUP(B4812,[1]Desplegables!$BA$2:$BB$19,2,FALSE),\"\")","v":""},null,""]
[null,null,{"$f":"IF(B4813<>\"\",VLOOKUP(B4813,[1]Desplegables!$BA$2:$BB$19,2,FALSE),\"\")","v":""},null,""]
[null,null,{"$f":"IF(B4814<>\"\",VLOOKUP(B4814,[1]Desplegables!$BA$2:$BB$19,2,FALSE),\"\")","v":""},null,""]
[null,null,{"$f":"IF(B4815<>\"\",VLOOKUP(B4815,[1]Desplegables!$BA$2:$BB$19,2,FALSE),\"\")","v":""},null,""]
[null,null,{"$f":"IF(B4816<>\"\",VLOOKUP(B4816,[1]Desplegables!$BA$2:$BB$19,2,FALSE),\"\")","v":""},null,""]
[null,null,{"$f":"IF(B4817<>\"\",VLOOKUP(B4817,[1]Desplegables!$BA$2:$BB$19,2,FALSE),\"\")","v":""},null,""]
[null,null,{"$f":"IF(B4818<>\"\",VLOOKUP(B4818,[1]Desplegables!$BA$2:$BB$19,2,FALSE),\"\")","v":""},null,""]
[null,null,{"$f":"IF(B4819<>\"\",VLOOKUP(B4819,[1]Desplegables!$BA$2:$BB$19,2,FALSE),\"\")","v":""},null,""]
[null,null,{"$f":"IF(B4820<>\"\",VLOOKUP(B4820,[1]Desplegables!$BA$2:$BB$19,2,FALSE),\"\")","v":""},null,""]
[null,null,{"$f":"IF(B4821<>\"\",VLOOKUP(B4821,[1]Desplegables!$BA$2:$BB$19,2,FALSE),\"\")","v":""},null,""]
[null,null,{"$f":"IF(B4822<>\"\",VLOOKUP(B4822,[1]Desplegables!$BA$2:$BB$19,2,FALSE),\"\")","v":""},null,""]
[null,null,{"$f":"IF(B4823<>\"\",VLOOKUP(B4823,[1]Desplegables!$BA$2:$BB$19,2,FALSE),\"\")","v":""},null,""]
[null,null,{"$f":"IF(B4824<>\"\",VLOOKUP(B4824,[1]Desplegables!$BA$2:$BB$19,2,FALSE),\"\")","v":""},null,""]
[null,null,{"$f":"IF(B4825<>\"\",VLOOKUP(B4825,[1]Desplegables!$BA$2:$BB$19,2,FALSE),\"\")","v":""},null,""]
[null,null,{"$f":"IF(B4826<>\"\",VLOOKUP(B4826,[1]Desplegables!$BA$2:$BB$19,2,FALSE),\"\")","v":""},null,""]
[null,null,{"$f":"IF(B4827<>\"\",VLOOKUP(B4827,[1]Desplegables!$BA$2:$BB$19,2,FALSE),\"\")","v":""},null,""]
[null,null,{"$f":"IF(B4828<>\"\",VLOOKUP(B4828,[1]Desplegables!$BA$2:$BB$19,2,FALSE),\"\")","v":""},null,""]
[null,null,{"$f":"IF(B4829<>\"\",VLOOKUP(B4829,[1]Desplegables!$BA$2:$BB$19,2,FALSE),\"\")","v":""},null,""]
[null,null,{"$f":"IF(B4830<>\"\",VLOOKUP(B4830,[1]Desplegables!$BA$2:$BB$19,2,FALSE),\"\")","v":""},null,""]
[null,null,{"$f":"IF(B4831<>\"\",VLOOKUP(B4831,[1]Desplegables!$BA$2:$BB$19,2,FALSE),\"\")","v":""},null,""]
[null,null,{"$f":"IF(B4832<>\"\",VLOOKUP(B4832,[1]Desplegables!$BA$2:$BB$19,2,FALSE),\"\")","v":""},null,""]
[null,null,{"$f":"IF(B4833<>\"\",VLOOKUP(B4833,[1]Desplegables!$BA$2:$BB$19,2,FALSE),\"\")","v":""},null,""]
[null,null,{"$f":"IF(B4834<>\"\",VLOOKUP(B4834,[1]Desplegables!$BA$2:$BB$19,2,FALSE),\"\")","v":""},null,""]
[null,null,{"$f":"IF(B4835<>\"\",VLOOKUP(B4835,[1]Desplegables!$BA$2:$BB$19,2,FALSE),\"\")","v":""},null,""]
[null,null,{"$f":"IF(B4836<>\"\",VLOOKUP(B4836,[1]Desplegables!$BA$2:$BB$19,2,FALSE),\"\")","v":""},null,""]
[null,null,{"$f":"IF(B4837<>\"\",VLOOKUP(B4837,[1]Desplegables!$BA$2:$BB$19,2,FALSE),\"\")","v":""},null,""]
[null,null,{"$f":"IF(B4838<>\"\",VLOOKUP(B4838,[1]Desplegables!$BA$2:$BB$19,2,FALSE),\"\")","v":""},null,""]
[null,null,{"$f":"IF(B4839<>\"\",VLOOKUP(B4839,[1]Desplegables!$BA$2:$BB$19,2,FALSE),\"\")","v":""},null,""]
[null,null,{"$f":"IF(B4840<>\"\",VLOOKUP(B4840,[1]Desplegables!$BA$2:$BB$19,2,FALSE),\"\")","v":""},null,""]
[null,null,{"$f":"IF(B4841<>\"\",VLOOKUP(B4841,[1]Desplegables!$BA$2:$BB$19,2,FALSE),\"\")","v":""},null,""]
[null,null,{"$f":"IF(B4842<>\"\",VLOOKUP(B4842,[1]Desplegables!$BA$2:$BB$19,2,FALSE),\"\")","v":""},null,""]
[null,null,{"$f":"IF(B4843<>\"\",VLOOKUP(B4843,[1]Desplegables!$BA$2:$BB$19,2,FALSE),\"\")","v":""},null,""]
[null,null,{"$f":"IF(B4844<>\"\",VLOOKUP(B4844,[1]Desplegables!$BA$2:$BB$19,2,FALSE),\"\")","v":""},null,""]
[null,null,{"$f":"IF(B4845<>\"\",VLOOKUP(B4845,[1]Desplegables!$BA$2:$BB$19,2,FALSE),\"\")","v":""},null,""]
[null,null,{"$f":"IF(B4846<>\"\",VLOOKUP(B4846,[1]Desplegables!$BA$2:$BB$19,2,FALSE),\"\")","v":""},null,""]
[null,null,{"$f":"IF(B4847<>\"\",VLOOKUP(B4847,[1]Desplegables!$BA$2:$BB$19,2,FALSE),\"\")","v":""},null,""]
[null,null,{"$f":"IF(B4848<>\"\",VLOOKUP(B4848,[1]Desplegables!$BA$2:$BB$19,2,FALSE),\"\")","v":""},null,""]
[null,null,{"$f":"IF(B4849<>\"\",VLOOKUP(B4849,[1]Desplegables!$BA$2:$BB$19,2,FALSE),\"\")","v":""},null,""]
[null,null,{"$f":"IF(B4850<>\"\",VLOOKUP(B4850,[1]Desplegables!$BA$2:$BB$19,2,FALSE),\"\")","v":""},null,""]
[null,null,{"$f":"IF(B4851<>\"\",VLOOKUP(B4851,[1]Desplegables!$BA$2:$BB$19,2,FALSE),\"\")","v":""},null,""]
[null,null,{"$f":"IF(B4852<>\"\",VLOOKUP(B4852,[1]Desplegables!$BA$2:$BB$19,2,FALSE),\"\")","v":""},null,""]
[null,null,{"$f":"IF(B4853<>\"\",VLOOKUP(B4853,[1]Desplegables!$BA$2:$BB$19,2,FALSE),\"\")","v":""},null,""]
[null,null,{"$f":"IF(B4854<>\"\",VLOOKUP(B4854,[1]Desplegables!$BA$2:$BB$19,2,FALSE),\"\")","v":""},null,""]
[null,null,{"$f":"IF(B4855<>\"\",VLOOKUP(B4855,[1]Desplegables!$BA$2:$BB$19,2,FALSE),\"\")","v":""},null,""]
[null,null,{"$f":"IF(B4856<>\"\",VLOOKUP(B4856,[1]Desplegables!$BA$2:$BB$19,2,FALSE),\"\")","v":""},null,""]
[null,null,{"$f":"IF(B4857<>\"\",VLOOKUP(B4857,[1]Desplegables!$BA$2:$BB$19,2,FALSE),\"\")","v":""},null,""]
[null,null,{"$f":"IF(B4858<>\"\",VLOOKUP(B4858,[1]Desplegables!$BA$2:$BB$19,2,FALSE),\"\")","v":""},null,""]
[null,null,{"$f":"IF(B4859<>\"\",VLOOKUP(B4859,[1]Desplegables!$BA$2:$BB$19,2,FALSE),\"\")","v":""},null,""]
[null,null,{"$f":"IF(B4860<>\"\",VLOOKUP(B4860,[1]Desplegables!$BA$2:$BB$19,2,FALSE),\"\")","v":""},null,""]
[null,null,{"$f":"IF(B4861<>\"\",VLOOKUP(B4861,[1]Desplegables!$BA$2:$BB$19,2,FALSE),\"\")","v":""},null,""]
[null,null,{"$f":"IF(B4862<>\"\",VLOOKUP(B4862,[1]Desplegables!$BA$2:$BB$19,2,FALSE),\"\")","v":""},null,""]
[null,null,{"$f":"IF(B4863<>\"\",VLOOKUP(B4863,[1]Desplegables!$BA$2:$BB$19,2,FALSE),\"\")","v":""},null,""]
[null,null,{"$f":"IF(B4864<>\"\",VLOOKUP(B4864,[1]Desplegables!$BA$2:$BB$19,2,FALSE),\"\")","v":""},null,""]
[null,null,{"$f":"IF(B4865<>\"\",VLOOKUP(B4865,[1]Desplegables!$BA$2:$BB$19,2,FALSE),\"\")","v":""},null,""]
[null,null,{"$f":"IF(B4866<>\"\",VLOOKUP(B4866,[1]Desplegables!$BA$2:$BB$19,2,FALSE),\"\")","v":""},null,""]
[null,null,{"$f":"IF(B4867<>\"\",VLOOKUP(B4867,[1]Desplegables!$BA$2:$BB$19,2,FALSE),\"\")","v":""},null,""]
[null,null,{"$f":"IF(B4868<>\"\",VLOOKUP(B4868,[1]Desplegables!$BA$2:$BB$19,2,FALSE),\"\")","v":""},null,""]
[null,null,{"$f":"IF(B4869<>\"\",VLOOKUP(B4869,[1]Desplegables!$BA$2:$BB$19,2,FALSE),\"\")","v":""},null,{"$f":"IF(C4869<>\"\",D4869/C4869,\"\")","v":""}]
[null,null,{"$f":"IF(B4870<>\"\",VLOOKUP(B4870,[1]Desplegables!$BA$2:$BB$19,2,FALSE),\"\")","v":""},null,""]
[null,null,{"$f":"IF(B4871<>\"\",VLOOKUP(B4871,[1]Desplegables!$BA$2:$BB$19,2,FALSE),\"\")","v":""},null,""]
[null,null,{"$f":"IF(B4872<>\"\",VLOOKUP(B4872,[1]Desplegables!$BA$2:$BB$19,2,FALSE),\"\")","v":""},null,""]
[null,null,{"$f":"IF(B4873<>\"\",VLOOKUP(B4873,[1]Desplegables!$BA$2:$BB$19,2,FALSE),\"\")","v":""},null,""]
[null,null,{"$f":"IF(B4874<>\"\",VLOOKUP(B4874,[1]Desplegables!$BA$2:$BB$19,2,FALSE),\"\")","v":""},null,""]
[null,null,{"$f":"IF(B4875<>\"\",VLOOKUP(B4875,[1]Desplegables!$BA$2:$BB$19,2,FALSE),\"\")","v":""},null,""]
[null,null,{"$f":"IF(B4876<>\"\",VLOOKUP(B4876,[1]Desplegables!$BA$2:$BB$19,2,FALSE),\"\")","v":""},null,""]
[null,null,{"$f":"IF(B4877<>\"\",VLOOKUP(B4877,[1]Desplegables!$BA$2:$BB$19,2,FALSE),\"\")","v":""},null,""]
[null,null,{"$f":"IF(B4878<>\"\",VLOOKUP(B4878,[1]Desplegables!$BA$2:$BB$19,2,FALSE),\"\")","v":""},null,""]
[null,null,{"$f":"IF(B4879<>\"\",VLOOKUP(B4879,[1]Desplegables!$BA$2:$BB$19,2,FALSE),\"\")","v":""},null,""]
[null,null,{"$f":"IF(B4880<>\"\",VLOOKUP(B4880,[1]Desplegables!$BA$2:$BB$19,2,FALSE),\"\")","v":""},null,""]
[null,null,{"$f":"IF(B4881<>\"\",VLOOKUP(B4881,[1]Desplegables!$BA$2:$BB$19,2,FALSE),\"\")","v":""},null,""]
[null,null,{"$f":"IF(B4882<>\"\",VLOOKUP(B4882,[1]Desplegables!$BA$2:$BB$19,2,FALSE),\"\")","v":""},null,""]
[null,null,{"$f":"IF(B4883<>\"\",VLOOKUP(B4883,[1]Desplegables!$BA$2:$BB$19,2,FALSE),\"\")","v":""},null,""]
[null,null,{"$f":"IF(B4884<>\"\",VLOOKUP(B4884,[1]Desplegables!$BA$2:$BB$19,2,FALSE),\"\")","v":""},null,""]
[null,null,{"$f":"IF(B4885<>\"\",VLOOKUP(B4885,[1]Desplegables!$BA$2:$BB$19,2,FALSE),\"\")","v":""},null,""]
[null,null,{"$f":"IF(B4886<>\"\",VLOOKUP(B4886,[1]Desplegables!$BA$2:$BB$19,2,FALSE),\"\")","v":""},null,""]
[null,null,{"$f":"IF(B4887<>\"\",VLOOKUP(B4887,[1]Desplegables!$BA$2:$BB$19,2,FALSE),\"\")","v":""},null,""]
[null,null,{"$f":"IF(B4888<>\"\",VLOOKUP(B4888,[1]Desplegables!$BA$2:$BB$19,2,FALSE),\"\")","v":""},null,""]
[null,null,{"$f":"IF(B4889<>\"\",VLOOKUP(B4889,[1]Desplegables!$BA$2:$BB$19,2,FALSE),\"\")","v":""},null,""]
[null,null,{"$f":"IF(B4890<>\"\",VLOOKUP(B4890,[1]Desplegables!$BA$2:$BB$19,2,FALSE),\"\")","v":""},null,""]
[null,null,{"$f":"IF(B4891<>\"\",VLOOKUP(B4891,[1]Desplegables!$BA$2:$BB$19,2,FALSE),\"\")","v":""},null,""]
[null,null,{"$f":"IF(B4892<>\"\",VLOOKUP(B4892,[1]Desplegables!$BA$2:$BB$19,2,FALSE),\"\")","v":""},null,""]
[null,null,{"$f":"IF(B4893<>\"\",VLOOKUP(B4893,[1]Desplegables!$BA$2:$BB$19,2,FALSE),\"\")","v":""},null,""]
[null,null,{"$f":"IF(B4894<>\"\",VLOOKUP(B4894,[1]Desplegables!$BA$2:$BB$19,2,FALSE),\"\")","v":""},null,""]
[null,null,{"$f":"IF(B4895<>\"\",VLOOKUP(B4895,[1]Desplegables!$BA$2:$BB$19,2,FALSE),\"\")","v":""},null,""]
[null,null,{"$f":"IF(B4896<>\"\",VLOOKUP(B4896,[1]Desplegables!$BA$2:$BB$19,2,FALSE),\"\")","v":""},null,""]
[null,null,{"$f":"IF(B4897<>\"\",VLOOKUP(B4897,[1]Desplegables!$BA$2:$BB$19,2,FALSE),\"\")","v":""},null,""]
[null,null,{"$f":"IF(B4898<>\"\",VLOOKUP(B4898,[1]Desplegables!$BA$2:$BB$19,2,FALSE),\"\")","v":""},null,""]
[null,null,{"$f":"IF(B4899<>\"\",VLOOKUP(B4899,[1]Desplegables!$BA$2:$BB$19,2,FALSE),\"\")","v":""},null,""]
[null,null,{"$f":"IF(B4900<>\"\",VLOOKUP(B4900,[1]Desplegables!$BA$2:$BB$19,2,FALSE),\"\")","v":""},null,""]
[null,null,{"$f":"IF(B4901<>\"\",VLOOKUP(B4901,[1]Desplegables!$BA$2:$BB$19,2,FALSE),\"\")","v":""},null,""]
[null,null,{"$f":"IF(B4902<>\"\",VLOOKUP(B4902,[1]Desplegables!$BA$2:$BB$19,2,FALSE),\"\")","v":""},null,""]
[null,null,{"$f":"IF(B4903<>\"\",VLOOKUP(B4903,[1]Desplegables!$BA$2:$BB$19,2,FALSE),\"\")","v":""},null,""]
[null,null,{"$f":"IF(B4904<>\"\",VLOOKUP(B4904,[1]Desplegables!$BA$2:$BB$19,2,FALSE),\"\")","v":""},null,""]
[null,null,{"$f":"IF(B4905<>\"\",VLOOKUP(B4905,[1]Desplegables!$BA$2:$BB$19,2,FALSE),\"\")","v":""},null,""]
[null,null,{"$f":"IF(B4906<>\"\",VLOOKUP(B4906,[1]Desplegables!$BA$2:$BB$19,2,FALSE),\"\")","v":""},null,""]
[null,null,{"$f":"IF(B4907<>\"\",VLOOKUP(B4907,[1]Desplegables!$BA$2:$BB$19,2,FALSE),\"\")","v":""},null,""]
[null,null,{"$f":"IF(B4908<>\"\",VLOOKUP(B4908,[1]Desplegables!$BA$2:$BB$19,2,FALSE),\"\")","v":""},null,""]
[null,null,{"$f":"IF(B4909<>\"\",VLOOKUP(B4909,[1]Desplegables!$BA$2:$BB$19,2,FALSE),\"\")","v":""},null,""]
[null,null,{"$f":"IF(B4910<>\"\",VLOOKUP(B4910,[1]Desplegables!$BA$2:$BB$19,2,FALSE),\"\")","v":""},null,""]
[null,null,{"$f":"IF(B4911<>\"\",VLOOKUP(B4911,[1]Desplegables!$BA$2:$BB$19,2,FALSE),\"\")","v":""},null,""]
[null,null,{"$f":"IF(B4912<>\"\",VLOOKUP(B4912,[1]Desplegables!$BA$2:$BB$19,2,FALSE),\"\")","v":""},null,""]
[null,null,{"$f":"IF(B4913<>\"\",VLOOKUP(B4913,[1]Desplegables!$BA$2:$BB$19,2,FALSE),\"\")","v":""},null,""]
[null,null,{"$f":"IF(B4914<>\"\",VLOOKUP(B4914,[1]Desplegables!$BA$2:$BB$19,2,FALSE),\"\")","v":""},null,""]
[null,null,{"$f":"IF(B4915<>\"\",VLOOKUP(B4915,[1]Desplegables!$BA$2:$BB$19,2,FALSE),\"\")","v":""},null,""]
[null,null,{"$f":"IF(B4916<>\"\",VLOOKUP(B4916,[1]Desplegables!$BA$2:$BB$19,2,FALSE),\"\")","v":""},null,""]
[null,null,{"$f":"IF(B4917<>\"\",VLOOKUP(B4917,[1]Desplegables!$BA$2:$BB$19,2,FALSE),\"\")","v":""},null,""]
[null,null,{"$f":"IF(B4918<>\"\",VLOOKUP(B4918,[1]Desplegables!$BA$2:$BB$19,2,FALSE),\"\")","v":""},null,""]
[null,null,{"$f":"IF(B4919<>\"\",VLOOKUP(B4919,[1]Desplegables!$BA$2:$BB$19,2,FALSE),\"\")","v":""},null,""]
[null,null,{"$f":"IF(B4920<>\"\",VLOOKUP(B4920,[1]Desplegables!$BA$2:$BB$19,2,FALSE),\"\")","v":""},null,""]
[null,null,{"$f":"IF(B4921<>\"\",VLOOKUP(B4921,[1]Desplegables!$BA$2:$BB$19,2,FALSE),\"\")","v":""},null,""]
[null,null,{"$f":"IF(B4922<>\"\",VLOOKUP(B4922,[1]Desplegables!$BA$2:$BB$19,2,FALSE),\"\")","v":""},null,""]
[null,null,{"$f":"IF(B4923<>\"\",VLOOKUP(B4923,[1]Desplegables!$BA$2:$BB$19,2,FALSE),\"\")","v":""},null,""]
[null,null,{"$f":"IF(B4924<>\"\",VLOOKUP(B4924,[1]Desplegables!$BA$2:$BB$19,2,FALSE),\"\")","v":""},null,""]
[null,null,{"$f":"IF(B4925<>\"\",VLOOKUP(B4925,[1]Desplegables!$BA$2:$BB$19,2,FALSE),\"\")","v":""},null,""]
[null,null,{"$f":"IF(B4926<>\"\",VLOOKUP(B4926,[1]Desplegables!$BA$2:$BB$19,2,FALSE),\"\")","v":""},null,""]
[null,null,{"$f":"IF(B4927<>\"\",VLOOKUP(B4927,[1]Desplegables!$BA$2:$BB$19,2,FALSE),\"\")","v":""},null,""]
[null,null,{"$f":"IF(B4928<>\"\",VLOOKUP(B4928,[1]Desplegables!$BA$2:$BB$19,2,FALSE),\"\")","v":""},null,""]
[null,null,{"$f":"IF(B4929<>\"\",VLOOKUP(B4929,[1]Desplegables!$BA$2:$BB$19,2,FALSE),\"\")","v":""},null,""]
[null,null,{"$f":"IF(B4930<>\"\",VLOOKUP(B4930,[1]Desplegables!$BA$2:$BB$19,2,FALSE),\"\")","v":""},null,""]
[null,null,{"$f":"IF(B4931<>\"\",VLOOKUP(B4931,[1]Desplegables!$BA$2:$BB$19,2,FALSE),\"\")","v":""},null,""]
[null,null,{"$f":"IF(B4932<>\"\",VLOOKUP(B4932,[1]Desplegables!$BA$2:$BB$19,2,FALSE),\"\")","v":""},null,""]
[null,null,{"$f":"IF(B4933<>\"\",VLOOKUP(B4933,[1]Desplegables!$BA$2:$BB$19,2,FALSE),\"\")","v":""},null,{"$f":"IF(C4933<>\"\",D4933/C4933,\"\")","v":""}]
[null,null,{"$f":"IF(B4934<>\"\",VLOOKUP(B4934,[1]Desplegables!$BA$2:$BB$19,2,FALSE),\"\")","v":""},null,""]
[null,null,{"$f":"IF(B4935<>\"\",VLOOKUP(B4935,[1]Desplegables!$BA$2:$BB$19,2,FALSE),\"\")","v":""},null,""]
[null,null,{"$f":"IF(B4936<>\"\",VLOOKUP(B4936,[1]Desplegables!$BA$2:$BB$19,2,FALSE),\"\")","v":""},null,""]
[null,null,{"$f":"IF(B4937<>\"\",VLOOKUP(B4937,[1]Desplegables!$BA$2:$BB$19,2,FALSE),\"\")","v":""},null,""]
[null,null,{"$f":"IF(B4938<>\"\",VLOOKUP(B4938,[1]Desplegables!$BA$2:$BB$19,2,FALSE),\"\")","v":""},null,""]
[null,null,{"$f":"IF(B4939<>\"\",VLOOKUP(B4939,[1]Desplegables!$BA$2:$BB$19,2,FALSE),\"\")","v":""},null,""]
[null,null,{"$f":"IF(B4940<>\"\",VLOOKUP(B4940,[1]Desplegables!$BA$2:$BB$19,2,FALSE),\"\")","v":""},null,""]
[null,null,{"$f":"IF(B4941<>\"\",VLOOKUP(B4941,[1]Desplegables!$BA$2:$BB$19,2,FALSE),\"\")","v":""},null,""]
[null,null,{"$f":"IF(B4942<>\"\",VLOOKUP(B4942,[1]Desplegables!$BA$2:$BB$19,2,FALSE),\"\")","v":""},null,""]
[null,null,{"$f":"IF(B4943<>\"\",VLOOKUP(B4943,[1]Desplegables!$BA$2:$BB$19,2,FALSE),\"\")","v":""},null,""]
[null,null,{"$f":"IF(B4944<>\"\",VLOOKUP(B4944,[1]Desplegables!$BA$2:$BB$19,2,FALSE),\"\")","v":""},null,""]
[null,null,{"$f":"IF(B4945<>\"\",VLOOKUP(B4945,[1]Desplegables!$BA$2:$BB$19,2,FALSE),\"\")","v":""},null,""]
[null,null,{"$f":"IF(B4946<>\"\",VLOOKUP(B4946,[1]Desplegables!$BA$2:$BB$19,2,FALSE),\"\")","v":""},null,""]
[null,null,{"$f":"IF(B4947<>\"\",VLOOKUP(B4947,[1]Desplegables!$BA$2:$BB$19,2,FALSE),\"\")","v":""},null,""]
[null,null,{"$f":"IF(B4948<>\"\",VLOOKUP(B4948,[1]Desplegables!$BA$2:$BB$19,2,FALSE),\"\")","v":""},null,""]
[null,null,{"$f":"IF(B4949<>\"\",VLOOKUP(B4949,[1]Desplegables!$BA$2:$BB$19,2,FALSE),\"\")","v":""},null,""]
[null,null,{"$f":"IF(B4950<>\"\",VLOOKUP(B4950,[1]Desplegables!$BA$2:$BB$19,2,FALSE),\"\")","v":""},null,""]
[null,null,{"$f":"IF(B4951<>\"\",VLOOKUP(B4951,[1]Desplegables!$BA$2:$BB$19,2,FALSE),\"\")","v":""},null,""]
[null,null,{"$f":"IF(B4952<>\"\",VLOOKUP(B4952,[1]Desplegables!$BA$2:$BB$19,2,FALSE),\"\")","v":""},null,""]
[null,null,{"$f":"IF(B4953<>\"\",VLOOKUP(B4953,[1]Desplegables!$BA$2:$BB$19,2,FALSE),\"\")","v":""},null,""]
[null,null,{"$f":"IF(B4954<>\"\",VLOOKUP(B4954,[1]Desplegables!$BA$2:$BB$19,2,FALSE),\"\")","v":""},null,""]
[null,null,{"$f":"IF(B4955<>\"\",VLOOKUP(B4955,[1]Desplegables!$BA$2:$BB$19,2,FALSE),\"\")","v":""},null,""]
[null,null,{"$f":"IF(B4956<>\"\",VLOOKUP(B4956,[1]Desplegables!$BA$2:$BB$19,2,FALSE),\"\")","v":""},null,""]
[null,null,{"$f":"IF(B4957<>\"\",VLOOKUP(B4957,[1]Desplegables!$BA$2:$BB$19,2,FALSE),\"\")","v":""},null,""]
[null,null,{"$f":"IF(B4958<>\"\",VLOOKUP(B4958,[1]Desplegables!$BA$2:$BB$19,2,FALSE),\"\")","v":""},null,""]
[null,null,{"$f":"IF(B4959<>\"\",VLOOKUP(B4959,[1]Desplegables!$BA$2:$BB$19,2,FALSE),\"\")","v":""},null,""]
[null,null,{"$f":"IF(B4960<>\"\",VLOOKUP(B4960,[1]Desplegables!$BA$2:$BB$19,2,FALSE),\"\")","v":""},null,""]
[null,null,{"$f":"IF(B4961<>\"\",VLOOKUP(B4961,[1]Desplegables!$BA$2:$BB$19,2,FALSE),\"\")","v":""},null,""]
[null,null,{"$f":"IF(B4962<>\"\",VLOOKUP(B4962,[1]Desplegables!$BA$2:$BB$19,2,FALSE),\"\")","v":""},null,""]
[null,null,{"$f":"IF(B4963<>\"\",VLOOKUP(B4963,[1]Desplegables!$BA$2:$BB$19,2,FALSE),\"\")","v":""},null,""]
[null,null,{"$f":"IF(B4964<>\"\",VLOOKUP(B4964,[1]Desplegables!$BA$2:$BB$19,2,FALSE),\"\")","v":""},null,""]
[null,null,{"$f":"IF(B4965<>\"\",VLOOKUP(B4965,[1]Desplegables!$BA$2:$BB$19,2,FALSE),\"\")","v":""},null,""]
[null,null,{"$f":"IF(B4966<>\"\",VLOOKUP(B4966,[1]Desplegables!$BA$2:$BB$19,2,FALSE),\"\")","v":""},null,""]
[null,null,{"$f":"IF(B4967<>\"\",VLOOKUP(B4967,[1]Desplegables!$BA$2:$BB$19,2,FALSE),\"\")","v":""},null,""]
[null,null,{"$f":"IF(B4968<>\"\",VLOOKUP(B4968,[1]Desplegables!$BA$2:$BB$19,2,FALSE),\"\")","v":""},null,""]
[null,null,{"$f":"IF(B4969<>\"\",VLOOKUP(B4969,[1]Desplegables!$BA$2:$BB$19,2,FALSE),\"\")","v":""},null,""]
[null,null,{"$f":"IF(B4970<>\"\",VLOOKUP(B4970,[1]Desplegables!$BA$2:$BB$19,2,FALSE),\"\")","v":""},null,""]
[null,null,{"$f":"IF(B4971<>\"\",VLOOKUP(B4971,[1]Desplegables!$BA$2:$BB$19,2,FALSE),\"\")","v":""},null,""]
[null,null,{"$f":"IF(B4972<>\"\",VLOOKUP(B4972,[1]Desplegables!$BA$2:$BB$19,2,FALSE),\"\")","v":""},null,""]
[null,null,{"$f":"IF(B4973<>\"\",VLOOKUP(B4973,[1]Desplegables!$BA$2:$BB$19,2,FALSE),\"\")","v":""},null,""]
[null,null,{"$f":"IF(B4974<>\"\",VLOOKUP(B4974,[1]Desplegables!$BA$2:$BB$19,2,FALSE),\"\")","v":""},null,""]
[null,null,{"$f":"IF(B4975<>\"\",VLOOKUP(B4975,[1]Desplegables!$BA$2:$BB$19,2,FALSE),\"\")","v":""},null,""]
[null,null,{"$f":"IF(B4976<>\"\",VLOOKUP(B4976,[1]Desplegables!$BA$2:$BB$19,2,FALSE),\"\")","v":""},null,""]
[null,null,{"$f":"IF(B4977<>\"\",VLOOKUP(B4977,[1]Desplegables!$BA$2:$BB$19,2,FALSE),\"\")","v":""},null,""]
[null,null,{"$f":"IF(B4978<>\"\",VLOOKUP(B4978,[1]Desplegables!$BA$2:$BB$19,2,FALSE),\"\")","v":""},null,""]
[null,null,{"$f":"IF(B4979<>\"\",VLOOKUP(B4979,[1]Desplegables!$BA$2:$BB$19,2,FALSE),\"\")","v":""},null,""]
[null,null,{"$f":"IF(B4980<>\"\",VLOOKUP(B4980,[1]Desplegables!$BA$2:$BB$19,2,FALSE),\"\")","v":""},null,""]
[null,null,{"$f":"IF(B4981<>\"\",VLOOKUP(B4981,[1]Desplegables!$BA$2:$BB$19,2,FALSE),\"\")","v":""},null,""]
[null,null,{"$f":"IF(B4982<>\"\",VLOOKUP(B4982,[1]Desplegables!$BA$2:$BB$19,2,FALSE),\"\")","v":""},null,""]
[null,null,{"$f":"IF(B4983<>\"\",VLOOKUP(B4983,[1]Desplegables!$BA$2:$BB$19,2,FALSE),\"\")","v":""},null,""]
[null,null,{"$f":"IF(B4984<>\"\",VLOOKUP(B4984,[1]Desplegables!$BA$2:$BB$19,2,FALSE),\"\")","v":""},null,""]
[null,null,{"$f":"IF(B4985<>\"\",VLOOKUP(B4985,[1]Desplegables!$BA$2:$BB$19,2,FALSE),\"\")","v":""},null,""]
[null,null,{"$f":"IF(B4986<>\"\",VLOOKUP(B4986,[1]Desplegables!$BA$2:$BB$19,2,FALSE),\"\")","v":""},null,""]
[null,null,{"$f":"IF(B4987<>\"\",VLOOKUP(B4987,[1]Desplegables!$BA$2:$BB$19,2,FALSE),\"\")","v":""},null,""]
[null,null,{"$f":"IF(B4988<>\"\",VLOOKUP(B4988,[1]Desplegables!$BA$2:$BB$19,2,FALSE),\"\")","v":""},null,""]
[null,null,{"$f":"IF(B4989<>\"\",VLOOKUP(B4989,[1]Desplegables!$BA$2:$BB$19,2,FALSE),\"\")","v":""},null,""]
[null,null,{"$f":"IF(B4990<>\"\",VLOOKUP(B4990,[1]Desplegables!$BA$2:$BB$19,2,FALSE),\"\")","v":""},null,""]
[null,null,{"$f":"IF(B4991<>\"\",VLOOKUP(B4991,[1]Desplegables!$BA$2:$BB$19,2,FALSE),\"\")","v":""},null,""]
[null,null,{"$f":"IF(B4992<>\"\",VLOOKUP(B4992,[1]Desplegables!$BA$2:$BB$19,2,FALSE),\"\")","v":""},null,""]
[null,null,{"$f":"IF(B4993<>\"\",VLOOKUP(B4993,[1]Desplegables!$BA$2:$BB$19,2,FALSE),\"\")","v":""},null,""]
[null,null,{"$f":"IF(B4994<>\"\",VLOOKUP(B4994,[1]Desplegables!$BA$2:$BB$19,2,FALSE),\"\")","v":""},null,""]
[null,null,{"$f":"IF(B4995<>\"\",VLOOKUP(B4995,[1]Desplegables!$BA$2:$BB$19,2,FALSE),\"\")","v":""},null,""]
[null,null,{"$f":"IF(B4996<>\"\",VLOOKUP(B4996,[1]Desplegables!$BA$2:$BB$19,2,FALSE),\"\")","v":""},null,""]
[null,null,{"$f":"IF(B4997<>\"\",VLOOKUP(B4997,[1]Desplegables!$BA$2:$BB$19,2,FALSE),\"\")","v":""},null,{"$f":"IF(C4997<>\"\",D4997/C4997,\"\")","v":""}]
[null,null,{"$f":"IF(B4998<>\"\",VLOOKUP(B4998,[1]Desplegables!$BA$2:$BB$19,2,FALSE),\"\")","v":""},null,""]
[null,null,{"$f":"IF(B4999<>\"\",VLOOKUP(B4999,[1]Desplegables!$BA$2:$BB$19,2,FALSE),\"\")","v":""},null,""]
[null,null,{"$f":"IF(B5000<>\"\",VLOOKUP(B5000,[1]Desplegables!$BA$2:$BB$19,2,FALSE),\"\")","v":""},null,""]
["Demasiados datos","X","X","X","X"]

{"sheet":"PPAM Ambiental","index":3,"n_rows":5001,"n_cols":5,"rows_kept":5001,"cut":false,"hidden":false,"merged":[]}
[{"$f":"CONCATENATE(\"INSTALACIÓN CLASIFICADA PARA PPAM:  \",IF(E1<1,\"NO\",\"SI\"))","v":"INSTALACIÓN CLASIFICADA PARA PPAM:  NO"},"Hoja peligro AMBIENTAL. CANTIDADES máximas por capacidad\n(el máximo inventario que cabe en la instalación).",null,"SUMA = ",{"$f":"SUM(E4:E5000)","v":0}]
[null,"Identificar primero por su nombre y CAS. Use el menor umbral."]
["SUSTANCIA ASOCIADA A ACCIDENTES MAYORES\nDECRETO 1347 DE 2021","IDENTIFICACIÓN EN EL ANEXO DEL DECRETO 1347 DE 2021\nPara PELIGROS, selecciónelos de la lista desplegable en cada casilla","UMBRAL TONELADAS\n(QUn)","CANTIDAD\nMÁXIMA/DÍA\n(toneladas)\n(qn)"," qn / Qun"]
["1. Nitrato de amonio (nota 1)","Por su nombre y número CAS",10000,null,{"$f":"IF(C4<>\"\",D4/C4,\"\")","v":0}]
["2. Nitrato de amonio (nota 2)","Por su nombre y número CAS",5000,null,{"$f":"IF(C5<>\"\",D5/C5,\"\")","v":0}]
["3. Nitrato de amonio (nota 3)","Por su nombre y número CAS",2500,null,0]
["4. Nitrato de amonio (nota 4)","Por su nombre y número CAS",50,null,0]
["5. Nitrato de potasio (nota 5)","Por su nombre y número CAS",10000,null,0]
["6. Nitrato de potasio (nota 6)","Por su nombre y número CAS",5000,null,0]
["7. Pentaóxido de diarsénico, ácido arsénico (V) y/o sales","Por su nombre y número CAS",2,null,0]
["8. Trióxido de arsénico, ácido arsenioso (III) y/o sales","Por su nombre y número CAS",0.1,null,0]
["9. Bromo","Por su nombre y número CAS",100,null,0]
["10. Cloro","Por su nombre y número CAS",25,null,0]
["11. Compuestos de níquel en forma pulverulenta inhalable: monóxido de níquel, dióxido de níquel, sulfuro de níquel, disulfuro de triníquel, trióxido de diníquel","Por su nombre y número CAS",1,null,0]
["12. Etilenimina","Por su nombre y número CAS",20,null,0]
["13. Flúor","Por su nombre y número CAS",20,null,0]
["14. Formaldehído (concentración del 90% o más)","Por su nombre y número CAS",50,null,0]
["15. Hidrógeno","Por su nombre y número CAS",50,null,0]
["16. Ácido clorhídrico (gas licuado)","Por su nombre y número CAS",250,null,0]
["17. Derivados de alquilplomo","Por su nombre y número CAS",50,null,0]
["18. Gases inflamables licuados de las categorías 1 o 2 (incluido el GLP) y gas natural (nota 7)","Por su nombre y número CAS",200,null,0]
["19. Acetileno","Por su nombre y número CAS",50,null,0]
["20. Óxido de etileno","Por su nombre y número CAS",50,null,0]
["21. Óxido de propileno","Por su nombre y número CAS",50,null,0]
["22. Metanol","Por su nombre y número CAS",5000,null,0]
["23. 4,4´-metilen-bis (2-cloroanilina) y/o sus sales en forma pulverulenta","Por su nombre y número CAS",0.01,null,0]
["24. Isocianato de metilo","Por su nombre y número CAS",0.15,null,0]
["25. Oxígeno","Por su nombre y número CAS",2000,null,0]
["26. 2,4-diisocianato de tolueno\n       2,6-diisocianato de tolueno","Por su nombre y número CAS",100,null,0]
["27. Dicloruro de carbonilo (fosgeno)","Por su nombre y número CAS",0.75,null,0]
["28. Arsina (trihidruro de arsénico)","Por su nombre y número CAS",1,null,0]
["29. Fosfina (trihidruro de fósforo)","Por su nombre y número CAS",1,null,0]
["30. Dicloruro de azufre","Por su nombre y número CAS",1,null,0]
["31. Trióxido de azufre","Por su nombre y número CAS",75,null,0]
["32. Policlorodibenzofuranos y policlorodibenzo-dioxinas (incluida la TCDD) calculadas en equivalente de TCDD (nota 8)","Por su nombre y número CAS",1E-3,null,0]
["33. CARCINÓGENOS o mezclas que contengan más de 5% en peso de:\n4-aminodifenilo y/o sus sales, triclorobenceno, bencidina y/o sus sales, éter bis (clorometílico), éter clorometílico y metílico, 1,2-dibromoetano, sulfato de dietilo, sulfato de dimetilo, cloruro de dimetil-carbamoilo, 1,2-dibromo-3-cloropropano, 1,2-dimetilhidracina, dimetilnitrosamina, triamida hexametilfosfórica, hidracina, 2-naftilamina y/o sus sales, 4-nitrodifenil o 1,3-propanosulfona","Por su nombre y número CAS",2,null,0]
["34. Petróleo, sus derivados y combustibles alternativos\n       a) gasolinas y naftas\n       b) querosenos (incluidos carburorreactores)\n       c) gasóleos\n      d) fuelóleos pesados\n      e) combustibles alternativos a los mencionados en las letras a) a d) destinados a los mismos fines y con propiedades similares en lo relativo a la inflamabilidad y los peligros medioambientales","Por su nombre y número CAS",25000,null,0]
["35. Amoniaco anhidro","Por su nombre y número CAS",200,null,0]
["36. Trifluoruro de boro","Por su nombre y número CAS",20,null,0]
["37. Sulfuro de hidrógeno","Por su nombre y número CAS",20,null,0]
["38. Piperidina","Por su nombre y número CAS",200,null,0]
["39. Bis(2-dimetilaminoetil) (metil)amina","Por su nombre y número CAS",200,null,0]
["40. 3-(2-etilhexiloxi) propilamina","Por su nombre y número CAS",200,null,0]
["41. Mezclas (*) de hipoclorito de sodio clasificadas como peligrosas para el ambiente acuático en la categoría 1 de peligro agudo que contengan menos de un 5% de cloro activo y no estén clasificadas en ninguna otra categoría de peligro en la parte 1 de la tabla (Sustancias por categorías de peligro - SGA)\n(*) Siempre que la mezcla, en ausencia de hipoclorito de sodio, no esté clasificada como peligrosa para el ambiente acuático en la categoría 1 de peligro agudo.","Por su nombre y número CAS",500,null,0]
["42. Propilamina","Por su nombre y número CAS",2000,null,0]
["43. Acrilato de terc-butilo","Por su nombre y número CAS",500,null,0]
["44. 2-metil-3-butenonitrilo","Por su nombre y número CAS",2000,null,0]
["45. Tetrahidro-3,5-dimetil-1,3,5-tiadiazina-2-tiona (dazomet)","Por su nombre y número CAS",200,null,0]
["46. Acrilato de metilo","Por su nombre y número CAS",2000,null,0]
["47. 3-metilpiridina","Por su nombre y número CAS",2000,null,0]
["48. 1-bromo-3-cloropropano","Por su nombre y número CAS",2000,null,0]
["49. Clorato de sodio","Por su nombre y número CAS",250,null,0]
["50. Amoniaco en solución","Por su nombre y número CAS",500,null,0]
["51. Cianuro de hidrógeno","Por su nombre y número CAS",20,null,0]
["52. Fluoruro de hidrógeno","Por su nombre y número CAS",50,null,0]
["53. Dióxido de azufre","Por su nombre y número CAS",250,null,0]
["54. Acrilonitrilo","Por su nombre y número CAS",200,null,0]
["55. Disulfoton","Por su nombre y número CAS",0.1,null,0]
["56. Paration","Por su nombre y número CAS",0.1,null,0]
["57. Aldicarb","Por su nombre y número CAS",0.1,null,0]
["58. Warfarina","Por su nombre y número CAS",0.1,null,0]
["59. Cloruro de vinilo monómero","Por su nombre y número CAS",50,null,0]
["60. Metil bromuro (bromuro de metilo / CH3Br)","Por su nombre y número CAS",200,null,0]
["61. Tetraetilo de plomo (plomo tetraetilo / Pb(C2H5)4)","Por su nombre y número CAS",50,null,0]
["A partir de aquí, escriba los nombres y al frente seleccione su peligro","Seleccione el peligro de la lista desplegable en cada casilla",null,"* * *",""]
[null,null,{"$f":"IF(B66<>\"\",VLOOKUP(B66,Peligrosppam,2,FALSE),\"\")","v":""},null,""]
[null,null,"",null,""]
[null,null,"",null,""]
[null,null,"",null,{"$f":"IF(C69<>\"\",D69/C69,\"\")","v":""}]
[null,null,"",null,""]
[null,null,"",null,""]
[null,null,"",null,""]
[null,null,"",null,""]
[null,null,"",null,""]
[null,null,"",null,""]
[null,null,"",null,""]
[null,null,"",null,""]
[null,null,"",null,""]
[null,null,"",null,""]
[null,null,"",null,""]
[null,null,"",null,""]
[null,null,"",null,""]
[null,null,"",null,""]
[null,null,"",null,""]
[null,null,"",null,""]
[null,null,"",null,""]
[null,null,"",null,""]
[null,null,"",null,""]
[null,null,"",null,""]
[null,null,"",null,""]
[null,null,"",null,""]
[null,null,"",null,""]
[null,null,"",null,""]
[null,null,"",null,""]
[null,null,"",null,""]
[null,null,"",null,""]
[null,null,"",null,""]
[null,null,"",null,""]
[null,null,"",null,""]
[null,null,"",null,""]
[null,null,"",null,""]
[null,null,"",null,""]
[null,null,"",null,""]
[null,null,"",null,""]
[null,null,"",null,""]
[null,null,"",null,""]
[null,null,"",null,""]
[null,null,"",null,""]
[null,null,"",null,""]
[null,null,"",null,""]
[null,null,"",null,""]
[null,null,"",null,""]
[null,null,"",null,""]
[null,null,"",null,""]
[null,null,"",null,""]
[null,null,"",null,""]
[null,null,"",null,""]
[null,null,"",null,""]
[null,null,"",null,""]
[null,null,"",null,""]
[null,null,"",null,""]
[null,null,"",null,""]
[null,null,"",null,""]
[null,null,"",null,""]
[null,null,"",null,""]
[null,null,"",null,""]
[null,null,"",null,""]
[null,null,"",null,""]
[null,null,"",null,""]
[null,null,{"$f":"IF(B130<>\"\",VLOOKUP(B130,Peligrosppam,2,FALSE),\"\")","v":""},null,""]
[null,null,"",null,""]
[null,null,"",null,""]
[null,null,"",null,{"$f":"IF(C133<>\"\",D133/C133,\"\")","v":""}]
[null,null,"",null,""]
[null,null,"",null,""]
[null,null,"",null,""]
[null,null,"",null,""]
[null,null,"",null,""]
[null,null,"",null,""]
[null,null,"",null,""]
[null,null,"",null,""]
[null,null,"",null,""]
[null,null,"",null,""]
[null,null,"",null,""]
[null,null,"",null,""]
[null,null,"",null,""]
[null,null,"",null,""]
[null,null,"",null,""]
[null,null,"",null,""]
[null,null,"",null,""]
[null,null,"",null,""]
[null,null,"",null,""]
[null,null,"",null,""]
[null,null,"",null,""]
[null,null,"",null,""]
[null,null,"",null,""]
[null,null,"",null,""]
[null,null,"",null,""]
[null,null,"",null,""]
[null,null,"",null,""]
[null,null,"",null,""]
[null,null,"",null,""]
[null,null,"",null,""]
[null,null,"",null,""]
[null,null,"",null,""]
[null,null,"",null,""]
[null,null,"",null,""]
[null,null,"",null,""]
[null,null,"",null,""]
[null,null,"",null,""]
[null,null,"",null,""]
[null,null,"",null,""]
[null,null,"",null,""]
[null,null,"",null,""]
[null,null,"",null,""]
[null,null,"",null,""]
[null,null,"",null,""]
[null,null,"",null,""]
[null,null,"",null,""]
[null,null,"",null,""]
[null,null,"",null,""]
[null,null,"",null,""]
[null,null,"",null,""]
[null,null,"",null,""]
[null,null,"",null,""]
[null,null,"",null,""]
[null,null,"",null,""]
[null,null,"",null,""]
[null,null,"",null,""]
[null,null,"",null,""]
[null,null,"",null,""]
[null,null,"",null,""]
[null,null,"",null,""]
[null,null,{"$f":"IF(B194<>\"\",VLOOKUP(B194,Peligrosppam,2,FALSE),\"\")","v":""},null,""]
[null,null,"",null,""]
[null,null,"",null,""]
[null,null,"",null,{"$f":"IF(C197<>\"\",D197/C197,\"\")","v":""}]
[null,null,"",null,""]
[null,null,"",null,""]
[null,null,"",null,""]
[null,null,"",null,""]
[null,null,"",null,""]
[null,null,"",null,""]
[null,null,"",null,""]
[null,null,"",null,""]
[null,null,"",null,""]
[null,null,"",null,""]
[null,null,"",null,""]
[null,null,"",null,""]
[null,null,"",null,""]
[null,null,"",null,""]
[null,null,"",null,""]
[null,null,"",null,""]
[null,null,"",null,""]
[null,null,"",null,""]
[null,null,"",null,""]
[null,null,"",null,""]
[null,null,"",null,""]
[null,null,"",null,""]
[null,null,"",null,""]
[null,null,"",null,""]
[null,null,"",null,""]
[null,null,"",null,""]
[null,null,"",null,""]
[null,null,"",null,""]
[null,null,"",null,""]
[null,null,"",null,""]
[null,null,"",null,""]
[null,null,"",null,""]
[null,null,"",null,""]
[null,null,"",null,""]
[null,null,"",null,""]
[null,null,"",null,""]
[null,null,"",null,""]
[null,null,"",null,""]
[null,null,"",null,""]
[null,null,"",null,""]
[null,null,"",null,""]
[null,null,"",null,""]
[null,null,"",null,""]
[null,null,"",null,""]
[null,null,"",null,""]
[null,null,"",null,""]
[null,null,"",null,""]
[null,null,"",null,""]
[null,null,"",null,""]
[null,null,"",null,""]
[null,null,"",null,""]
[null,null,"",null,""]
[null,null,"",null,""]
[null,null,"",null,""]
[null,null,"",null,""]
[null,null,"",null,""]
[null,null,"",null,""]
[null,null,"",null,""]
[null,null,"",null,""]
[null,null,"",null,""]
[null,null,{"$f":"IF(B258<>\"\",VLOOKUP(B258,Peligrosppam,2,FALSE),\"\")","v":""},null,""]
[null,null,"",null,""]
[null,null,"",null,""]
[null,null,"",null,{"$f":"IF(C261<>\"\",D261/C261,\"\")","v":""}]
[null,null,"",null,""]
[null,null,"",null,""]
[null,null,"",null,""]
[null,null,"",null,""]
[null,null,"",null,""]
[null,null,"",null,""]
[null,null,"",null,""]
[null,null,"",null,""]
[null,null,"",null,""]
[null,null,"",null,""]
[null,null,"",null,""]
[null,null,"",null,""]
[null,null,"",null,""]
[null,null,"",null,""]
[null,null,"",null,""]
[null,null,"",null,""]
[null,null,"",null,""]
[null,null,"",null,""]
[null,null,"",null,""]
[null,null,"",null,""]
[null,null,"",null,""]
[null,null,"",null,""]
[null,null,"",null,""]
[null,null,"",null,""]
[null,null,"",null,""]
[null,null,"",null,""]
[null,null,"",null,""]
[null,null,"",null,""]
[null,null,"",null,""]
[null,null,"",null,""]
[null,null,"",null,""]
[null,null,"",null,""]
[null,null,"",null,""]
[null,null,"",null,""]
[null,null,"",null,""]
[null,null,"",null,""]
[null,null,"",null,""]
[null,null,"",null,""]
[null,null,"",null,""]
[null,null,"",null,""]
[null,null,"",null,""]
[null,null,"",null,""]
[null,null,"",null,""]
[null,null,"",null,""]
[null,null,"",null,""]
[null,null,"",null,""]
[null,null,"",null,""]
[null,null,"",null,""]
[null,null,"",null,""]
[null,null,"",null,""]
[null,null,"",null,""]
[null,null,"",null,""]
[null,null,"",null,""]
[null,null,"",null,""]
[null,null,"",null,""]
[null,null,"",null,""]
[null,null,"",null,""]
[null,null,"",null,""]
[null,null,"",null,""]
[null,null,"",null,""]
[null,null,{"$f":"IF(B322<>\"\",VLOOKUP(B322,Peligrosppam,2,FALSE),\"\")","v":""},null,""]
[null,null,"",null,""]
[null,null,"",null,""]
[null,null,"",null,{"$f":"IF(C325<>\"\",D325/C325,\"\")","v":""}]
[null,null,"",null,""]
[null,null,"",null,""]
[null,null,"",null,""]
[null,null,"",null,""]
[null,null,"",null,""]
[null,null,"",null,""]
[null,null,"",null,""]
[null,null,"",null,""]
[null,null,"",null,""]
[null,null,"",null,""]
[null,null,"",null,""]
[null,null,"",null,""]
[null,null,"",null,""]
[null,null,"",null,""]
[null,null,"",null,""]
[null,null,"",null,""]
[null,null,"",null,""]
[null,null,"",null,""]
[null,null,"",null,""]
[null,null,"",null,""]
[null,null,"",null,""]
[null,null,"",null,""]
[null,null,"",null,""]
[null,null,"",null,""]
[null,null,"",null,""]
[null,null,"",null,""]
[null,null,"",null,""]
[null,null,"",null,""]
[null,null,"",null,""]
[null,null,"",null,""]
[null,null,"",null,""]
[null,null,"",null,""]
[null,null,"",null,""]
[null,null,"",null,""]
[null,null,"",null,""]
[null,null,"",null,""]
[null,null,"",null,""]
[null,null,"",null,""]
[null,null,"",null,""]
[null,null,"",null,""]
[null,null,"",null,""]
[null,null,"",null,""]
[null,null,"",null,""]
[null,null,"",null,""]
[null,null,"",null,""]
[null,null,"",null,""]
[null,null,"",null,""]
[null,null,"",null,""]
[null,null,"",null,""]
[null,null,"",null,""]
[null,null,"",null,""]
[null,null,"",null,""]
[null,null,"",null,""]
[null,null,"",null,""]
[null,null,"",null,""]
[null,null,"",null,""]
[null,null,"",null,""]
[null,null,"",null,""]
[null,null,"",null,""]
[null,null,"",null,""]
[null,null,{"$f":"IF(B386<>\"\",VLOOKUP(B386,Peligrosppam,2,FALSE),\"\")","v":""},null,""]
[null,null,"",null,""]
[null,null,"",null,""]
[null,null,"",null,{"$f":"IF(C389<>\"\",D389/C389,\"\")","v":""}]
[null,null,"",null,""]
[null,null,"",null,""]
[null,null,"",null,""]
[null,null,"",null,""]
[null,null,"",null,""]
[null,null,"",null,""]
[null,null,"",null,""]
[null,null,"",null,""]
[null,null,"",null,""]
[null,null,"",null,""]
[null,null,"",null,""]
[null,null,"",null,""]
[null,null,"",null,""]
[null,null,"",null,""]
[null,null,"",null,""]
[null,null,"",null,""]
[null,null,"",null,""]
[null,null,"",null,""]
[null,null,"",null,""]
[null,null,"",null,""]
[null,null,"",null,""]
[null,null,"",null,""]
[null,null,"",null,""]
[null,null,"",null,""]
[null,null,"",null,""]
[null,null,"",null,""]
[null,null,"",null,""]
[null,null,"",null,""]
[null,null,"",null,""]
[null,null,"",null,""]
[null,null,"",null,""]
[null,null,"",null,""]
[null,null,"",null,""]
[null,null,"",null,""]
[null,null,"",null,""]
[null,null,"",null,""]
[null,null,"",null,""]
[null,null,"",null,""]
[null,null,"",null,""]
[null,null,"",null,""]
[null,null,"",null,""]
[null,null,"",null,""]
[null,null,"",null,""]
[null,null,"",null,""]
[null,null,"",null,""]
[null,null,"",null,""]
[null,null,"",null,""]
[null,null,"",null,""]
[null,null,"",null,""]
[null,null,"",null,""]
[null,null,"",null,""]
[null,null,"",null,""]
[null,null,"",null,""]
[null,null,"",null,""]
[null,null,"",null,""]
[null,null,"",null,""]
[null,null,"",null,""]
[null,null,"",null,""]
[null,null,"",null,""]
[null,null,"",null,""]
[null,null,{"$f":"IF(B450<>\"\",VLOOKUP(B450,Peligrosppam,2,FALSE),\"\")","v":""},null,""]
[null,null,"",null,""]
[null,null,"",null,""]
[null,null,"",null,{"$f":"IF(C453<>\"\",D453/C453,\"\")","v":""}]
[null,null,"",null,""]
[null,null,"",null,""]
[null,null,"",null,""]
[null,null,"",null,""]
[null,null,"",null,""]
[null,null,"",null,""]
[null,null,"",null,""]
[null,null,"",null,""]
[null,null,"",null,""]
[null,null,"",null,""]
[null,null,"",null,""]
[null,null,"",null,""]
[null,null,"",null,""]
[null,null,"",null,""]
[null,null,"",null,""]
[null,null,"",null,""]
[null,null,"",null,""]
[null,null,"",null,""]
[null,null,"",null,""]
[null,null,"",null,""]
[null,null,"",null,""]
[null,null,"",null,""]
[null,null,"",null,""]
[null,null,"",null,""]
[null,null,"",null,""]
[null,null,"",null,""]
[null,null,"",null,""]
[null,null,"",null,""]
[null,null,"",null,""]
[null,null,"",null,""]
[null,null,"",null,""]
[null,null,"",null,""]
[null,null,"",null,""]
[null,null,"",null,""]
[null,null,"",null,""]
[null,null,"",null,""]
[null,null,"",null,""]
[null,null,"",null,""]
[null,null,"",null,""]
[null,null,"",null,""]
[null,null,"",null,""]
[null,null,"",null,""]
[null,null,"",null,""]
[null,null,"",null,""]
[null,null,"",null,""]
[null,null,"",null,""]
[null,null,"",null,""]
[null,null,"",null,""]
[null,null,"",null,""]
[null,null,"",null,""]
[null,null,"",null,""]
[null,null,"",null,""]
[null,null,"",null,""]
[null,null,"",null,""]
[null,null,"",null,""]
[null,null,"",null,""]
[null,null,"",null,""]
[null,null,"",null,""]
[null,null,"",null,""]
[null,null,"",null,""]
[null,null,{"$f":"IF(B514<>\"\",VLOOKUP(B514,Peligrosppam,2,FALSE),\"\")","v":""},null,""]
[null,null,"",null,""]
[null,null,"",null,""]
[null,null,"",null,{"$f":"IF(C517<>\"\",D517/C517,\"\")","v":""}]
[null,null,"",null,""]
[null,null,"",null,""]
[null,null,"",null,""]
[null,null,"",null,""]
[null,null,"",null,""]
[null,null,"",null,""]
[null,null,"",null,""]
[null,null,"",null,""]
[null,null,"",null,""]
[null,null,"",null,""]
[null,null,"",null,""]
[null,null,"",null,""]
[null,null,"",null,""]
[null,null,"",null,""]
[null,null,"",null,""]
[null,null,"",null,""]
[null,null,"",null,""]
[null,null,"",null,""]
[null,null,"",null,""]
[null,null,"",null,""]
[null,null,"",null,""]
[null,null,"",null,""]
[null,null,"",null,""]
[null,null,"",null,""]
[null,null,"",null,""]
[null,null,"",null,""]
[null,null,"",null,""]
[null,null,"",null,""]
[null,null,"",null,""]
[null,null,"",null,""]
[null,null,"",null,""]
[null,null,"",null,""]
[null,null,"",null,""]
[null,null,"",null,""]
[null,null,"",null,""]
[null,null,"",null,""]
[null,null,"",null,""]
[null,null,"",null,""]
[null,null,"",null,""]
[null,null,"",null,""]
[null,null,"",null,""]
[null,null,"",null,""]
[null,null,"",null,""]
[null,null,"",null,""]
[null,null,"",null,""]
[null,null,"",null,""]
[null,null,"",null,""]
[null,null,"",null,""]
[null,null,"",null,""]
[null,null,"",null,""]
[null,null,"",null,""]
[null,null,"",null,""]
[null,null,"",null,""]
[null,null,"",null,""]
[null,null,"",null,""]
[null,null,"",null,""]
[null,null,"",null,""]
[null,null,"",null,""]
[null,null,"",null,""]
[null,null,"",null,""]
[null,null,{"$f":"IF(B578<>\"\",VLOOKUP(B578,Peligrosppam,2,FALSE),\"\")","v":""},null,""]
[null,null,"",null,""]
[null,null,"",null,""]
[null,null,"",null,{"$f":"IF(C581<>\"\",D581/C581,\"\")","v":""}]
[null,null,"",null,""]
[null,null,"",null,""]
[null,null,"",null,""]
[null,null,"",null,""]
[null,null,"",null,""]
[null,null,"",null,""]
[null,null,"",null,""]
[null,null,"",null,""]
[null,null,"",null,""]
[null,null,"",null,""]
[null,null,"",null,""]
[null,null,"",null,""]
[null,null,"",null,""]
[null,null,"",null,""]
[null,null,"",null,""]
[null,null,"",null,""]
[null,null,"",null,""]
[null,null,"",null,""]
[null,null,"",null,""]
[null,null,"",null,""]
[null,null,"",null,""]
[null,null,"",null,""]
[null,null,"",null,""]
[null,null,"",null,""]
[null,null,"",null,""]
[null,null,"",null,""]
[null,null,"",null,""]
[null,null,"",null,""]
[null,null,"",null,""]
[null,null,"",null,""]
[null,null,"",null,""]
[null,null,"",null,""]
[null,null,"",null,""]
[null,null,"",null,""]
[null,null,"",null,""]
[null,null,"",null,""]
[null,null,"",null,""]
[null,null,"",null,""]
[null,null,"",null,""]
[null,null,"",null,""]
[null,null,"",null,""]
[null,null,"",null,""]
[null,null,"",null,""]
[null,null,"",null,""]
[null,null,"",null,""]
[null,null,"",null,""]
[null,null,"",null,""]
[null,null,"",null,""]
[null,null,"",null,""]
[null,null,"",null,""]
[null,null,"",null,""]
[null,null,"",null,""]
[null,null,"",null,""]
[null,null,"",null,""]
[null,null,"",null,""]
[null,null,"",null,""]
[null,null,"",null,""]
[null,null,"",null,""]
[null,null,"",null,""]
[null,null,"",null,""]
[null,null,{"$f":"IF(B642<>\"\",VLOOKUP(B642,Peligrosppam,2,FALSE),\"\")","v":""},null,""]
[null,null,"",null,""]
[null,null,"",null,""]
[null,null,"",null,{"$f":"IF(C645<>\"\",D645/C645,\"\")","v":""}]
[null,null,"",null,""]
[null,null,"",null,""]
[null,null,"",null,""]
[null,null,"",null,""]
[null,null,"",null,""]
[null,null,"",null,""]
[null,null,"",null,""]
[null,null,"",null,""]
[null,null,"",null,""]
[null,null,"",null,""]
[null,null,"",null,""]
[null,null,"",null,""]
[null,null,"",null,""]
[null,null,"",null,""]
[null,null,"",null,""]
[null,null,"",null,""]
[null,null,"",null,""]
[null,null,"",null,""]
[null,null,"",null,""]
[null,null,"",null,""]
[null,null,"",null,""]
[null,null,"",null,""]
[null,null,"",null,""]
[null,null,"",null,""]
[null,null,"",null,""]
[null,null,"",null,""]
[null,null,"",null,""]
[null,null,"",null,""]
[null,null,"",null,""]
[null,null,"",null,""]
[null,null,"",null,""]
[null,null,"",null,""]
[null,null,"",null,""]
[null,null,"",null,""]
[null,null,"",null,""]
[null,null,"",null,""]
[null,null,"",null,""]
[null,null,"",null,""]
[null,null,"",null,""]
[null,null,"",null,""]
[null,null,"",null,""]
[null,null,"",null,""]
[null,null,"",null,""]
[null,null,"",null,""]
[null,null,"",null,""]
[null,null,"",null,""]
[null,null,"",null,""]
[null,null,"",null,""]
[null,null,"",null,""]
[null,null,"",null,""]
[null,null,"",null,""]
[null,null,"",null,""]
[null,null,"",null,""]
[null,null,"",null,""]
[null,null,"",null,""]
[null,null,"",null,""]
[null,null,"",null,""]
[null,null,"",null,""]
[null,null,"",null,""]
[null,null,"",null,""]
[null,null,{"$f":"IF(B706<>\"\",VLOOKUP(B706,Peligrosppam,2,FALSE),\"\")","v":""},null,""]
[null,null,"",null,""]
[null,null,"",null,""]
[null,null,"",null,{"$f":"IF(C709<>\"\",D709/C709,\"\")","v":""}]
[null,null,"",null,""]
[null,null,"",null,""]
[null,null,"",null,""]
[null,null,"",null,""]
[null,null,"",null,""]
[null,null,"",null,""]
[null,null,"",null,""]
[null,null,"",null,""]
[null,null,"",null,""]
[null,null,"",null,""]
[null,null,"",null,""]
[null,null,"",null,""]
[null,null,"",null,""]
[null,null,"",null,""]
[null,null,"",null,""]
[null,null,"",null,""]
[null,null,"",null,""]
[null,null,"",null,""]
[null,null,"",null,""]
[null,null,"",null,""]
[null,null,"",null,""]
[null,null,"",null,""]
[null,null,"",null,""]
[null,null,"",null,""]
[null,null,"",null,""]
[null,null,"",null,""]
[null,null,"",null,""]
[null,null,"",null,""]
[null,null,"",null,""]
[null,null,"",null,""]
[null,null,"",null,""]
[null,null,"",null,""]
[null,null,"",null,""]
[null,null,"",null,""]
[null,null,"",null,""]
[null,null,"",null,""]
[null,null,"",null,""]
[null,null,"",null,""]
[null,null,"",null,""]
[null,null,"",null,""]
[null,null,"",null,""]
[null,null,"",null,""]
[null,null,"",null,""]
[null,null,"",null,""]
[null,null,"",null,""]
[null,null,"",null,""]
[null,null,"",null,""]
[null,null,"",null,""]
[null,null,"",null,""]
[null,null,"",null,""]
[null,null,"",null,""]
[null,null,"",null,""]
[null,null,"",null,""]
[null,null,"",null,""]
[null,null,"",null,""]
[null,null,"",null,""]
[null,null,"",null,""]
[null,null,"",null,""]
[null,null,"",null,""]
[null,null,"",null,""]
[null,null,{"$f":"IF(B770<>\"\",VLOOKUP(B770,Peligrosppam,2,FALSE),\"\")","v":""},null,""]
[null,null,"",null,""]
[null,null,"",null,""]
[null,null,"",null,{"$f":"IF(C773<>\"\",D773/C773,\"\")","v":""}]
[null,null,"",null,""]
[null,null,"",null,""]
[null,null,"",null,""]
[null,null,"",null,""]
[null,null,"",null,""]
[null,null,"",null,""]
[null,null,"",null,""]
[null,null,"",null,""]
[null,null,"",null,""]
[null,null,"",null,""]
[null,null,"",null,""]
[null,null,"",null,""]
[null,null,"",null,""]
[null,null,"",null,""]
[null,null,"",null,""]
[null,null,"",null,""]
[null,null,"",null,""]
[null,null,"",null,""]
[null,null,"",null,""]
[null,null,"",null,""]
[null,null,"",null,""]
[null,null,"",null,""]
[null,null,"",null,""]
[null,null,"",null,""]
[null,null,"",null,""]
[null,null,"",null,""]
[null,null,"",null,""]
[null,null,"",null,""]
[null,null,"",null,""]
[null,null,"",null,""]
[null,null,"",null,""]
[null,null,"",null,""]
[null,null,"",null,""]
[null,null,"",null,""]
[null,null,"",null,""]
[null,null,"",null,""]
[null,null,"",null,""]
[null,null,"",null,""]
[null,null,"",null,""]
[null,null,"",null,""]
[null,null,"",null,""]
[null,null,"",null,""]
[null,null,"",null,""]
[null,null,"",null,""]
[null,null,"",null,""]
[null,null,"",null,""]
[null,null,"",null,""]
[null,null,"",null,""]
[null,null,"",null,""]
[null,null,"",null,""]
[null,null,"",null,""]
[null,null,"",null,""]
[null,null,"",null,""]
[null,null,"",null,""]
[null,null,"",null,""]
[null,null,"",null,""]
[null,null,"",null,""]
[null,null,"",null,""]
[null,null,"",null,""]
[null,null,"",null,""]
[null,null,{"$f":"IF(B834<>\"\",VLOOKUP(B834,Peligrosppam,2,FALSE),\"\")","v":""},null,""]
[null,null,"",null,""]
[null,null,"",null,""]
[null,null,"",null,{"$f":"IF(C837<>\"\",D837/C837,\"\")","v":""}]
[null,null,"",null,""]
[null,null,"",null,""]
[null,null,"",null,""]
[null,null,"",null,""]
[null,null,"",null,""]
[null,null,"",null,""]
[null,null,"",null,""]
[null,null,"",null,""]
[null,null,"",null,""]
[null,null,"",null,""]
[null,null,"",null,""]
[null,null,"",null,""]
[null,null,"",null,""]
[null,null,"",null,""]
[null,null,"",null,""]
[null,null,"",null,""]
[null,null,"",null,""]
[null,null,"",null,""]
[null,null,"",null,""]
[null,null,"",null,""]
[null,null,"",null,""]
[null,null,"",null,""]
[null,null,"",null,""]
[null,null,"",null,""]
[null,null,"",null,""]
[null,null,"",null,""]
[null,null,"",null,""]
[null,null,"",null,""]
[null,null,"",null,""]
[null,null,"",null,""]
[null,null,"",null,""]
[null,null,"",null,""]
[null,null,"",null,""]
[null,null,"",null,""]
[null,null,"",null,""]
[null,null,"",null,""]
[null,null,"",null,""]
[null,null,"",null,""]
[null,null,"",null,""]
[null,null,"",null,""]
[null,null,"",null,""]
[null,null,"",null,""]
[null,null,"",null,""]
[null,null,"",null,""]
[null,null,"",null,""]
[null,null,"",null,""]
[null,null,"",null,""]
[null,null,"",null,""]
[null,null,"",null,""]
[null,null,"",null,""]
[null,null,"",null,""]
[null,null,"",null,""]
[null,null,"",null,""]
[null,null,"",null,""]
[null,null,"",null,""]
[null,null,"",null,""]
[null,null,"",null,""]
[null,null,"",null,""]
[null,null,"",null,""]
[null,null,"",null,""]
[null,null,{"$f":"IF(B898<>\"\",VLOOKUP(B898,Peligrosppam,2,FALSE),\"\")","v":""},null,""]
[null,null,"",null,""]
[null,null,"",null,""]
[null,null,"",null,{"$f":"IF(C901<>\"\",D901/C901,\"\")","v":""}]
[null,null,"",null,""]
[null,null,"",null,""]
[null,null,"",null,""]
[null,null,"",null,""]
[null,null,"",null,""]
[null,null,"",null,""]
[null,null,"",null,""]
[null,null,"",null,""]
[null,null,"",null,""]
[null,null,"",null,""]
[null,null,"",null,""]
[null,null,"",null,""]
[null,null,"",null,""]
[null,null,"",null,""]
[null,null,"",null,""]
[null,null,"",null,""]
[null,null,"",null,""]
[null,null,"",null,""]
[null,null,"",null,""]
[null,null,"",null,""]
[null,null,"",null,""]
[null,null,"",null,""]
[null,null,"",null,""]
[null,null,"",null,""]
[null,null,"",null,""]
[null,null,"",null,""]
[null,null,"",null,""]
[null,null,"",null,""]
[null,null,"",null,""]
[null,null,"",null,""]
[null,null,"",null,""]
[null,null,"",null,""]
[null,null,"",null,""]
[null,null,"",null,""]
[null,null,"",null,""]
[null,null,"",null,""]
[null,null,"",null,""]
[null,null,"",null,""]
[null,null,"",null,""]
[null,null,"",null,""]
[null,null,"",null,""]
[null,null,"",null,""]
[null,null,"",null,""]
[null,null,"",null,""]
[null,null,"",null,""]
[null,null,"",null,""]
[null,null,"",null,""]
[null,null,"",null,""]
[null,null,"",null,""]
[null,null,"",null,""]
[null,null,"",null,""]
[null,null,"",null,""]
[null,null,"",null,""]
[null,null,"",null,""]
[null,null,"",null,""]
[null,null,"",null,""]
[null,null,"",null,""]
[null,null,"",null,""]
[null,null,"",null,""]
[null,null,"",null,""]
[null,null,{"$f":"IF(B962<>\"\",VLOOKUP(B962,Peligrosppam,2,FALSE),\"\")","v":""},null,""]
[null,null,"",null,""]
[null,null,"",null,""]
[null,null,"",null,{"$f":"IF(C965<>\"\",D965/C965,\"\")","v":""}]
[null,null,"",null,""]
[null,null,"",null,""]
[null,null,"",null,""]
[null,null,"",null,""]
[null,null,"",null,""]
[null,null,"",null,""]
[null,null,"",null,""]
[null,null,"",null,""]
[null,null,"",null,""]
[null,null,"",null,""]
[null,null,"",null,""]
[null,null,"",null,""]
[null,null,"",null,""]
[null,null,"",null,""]
[null,null,"",null,""]
[null,null,"",null,""]
[null,null,"",null,""]
[null,null,"",null,""]
[null,null,"",null,""]
[null,null,"",null,""]
[null,null,"",null,""]
[null,null,"",null,""]
[null,null,"",null,""]
[null,null,"",null,""]
[null,null,"",null,""]
[null,null,"",null,""]
[null,null,"",null,""]
[null,null,"",null,""]
[null,null,"",null,""]
[null,null,"",null,""]
[null,null,"",null,""]
[null,null,"",null,""]
[null,null,"",null,""]
[null,null,"",null,""]
[null,null,"",null,""]
[null,null,"",null,""]
[null,null,"",null,""]
[null,null,"",null,""]
[null,null,"",null,""]
[null,null,"",null,""]
[null,null,"",null,""]
[null,null,"",null,""]
[null,null,"",null,""]
[null,null,"",null,""]
[null,null,"",null,""]
[null,null,"",null,""]
[null,null,"",null,""]
[null,null,"",null,""]
[null,null,"",null,""]
[null,null,"",null,""]
[null,null,"",null,""]
[null,null,"",null,""]
[null,null,"",null,""]
[null,null,"",null,""]
[null,null,"",null,""]
[null,null,"",null,""]
[null,null,"",null,""]
[null,null,"",null,""]
[null,null,"",null,""]
[null,null,"",null,""]
[null,null,{"$f":"IF(B1026<>\"\",VLOOKUP(B1026,Peligrosppam,2,FALSE),\"\")","v":""},null,""]
[null,null,"",null,""]
[null,null,"",null,""]
[null,null,"",null,{"$f":"IF(C1029<>\"\",D1029/C1029,\"\")","v":""}]
[null,null,"",null,""]
[null,null,"",null,""]
[null,null,"",null,""]
[null,null,"",null,""]
[null,null,"",null,""]
[null,null,"",null,""]
[null,null,"",null,""]
[null,null,"",null,""]
[null,null,"",null,""]
[null,null,"",null,""]
[null,null,"",null,""]
[null,null,"",null,""]
[null,null,"",null,""]
[null,null,"",null,""]
[null,null,"",null,""]
[null,null,"",null,""]
[null,null,"",null,""]
[null,null,"",null,""]
[null,null,"",null,""]
[null,null,"",null,""]
[null,null,"",null,""]
[null,null,"",null,""]
[null,null,"",null,""]
[null,null,"",null,""]
[null,null,"",null,""]
[null,null,"",null,""]
[null,null,"",null,""]
[null,null,"",null,""]
[null,null,"",null,""]
[null,null,"",null,""]
[null,null,"",null,""]
[null,null,"",null,""]
[null,null,"",null,""]
[null,null,"",null,""]
[null,null,"",null,""]
[null,null,"",null,""]
[null,null,"",null,""]
[null,null,"",null,""]
[null,null,"",null,""]
[null,null,"",null,""]
[null,null,"",null,""]
[null,null,"",null,""]
[null,null,"",null,""]
[null,null,"",null,""]
[null,null,"",null,""]
[null,null,"",null,""]
[null,null,"",null,""]
[null,null,"",null,""]
[null,null,"",null,""]
[null,null,"",null,""]
[null,null,"",null,""]
[null,null,"",null,""]
[null,null,"",null,""]
[null,null,"",null,""]
[null,null,"",null,""]
[null,null,"",null,""]
[null,null,"",null,""]
[null,null,"",null,""]
[null,null,"",null,""]
[null,null,"",null,""]
[null,null,{"$f":"IF(B1090<>\"\",VLOOKUP(B1090,Peligrosppam,2,FALSE),\"\")","v":""},null,""]
[null,null,"",null,""]
[null,null,"",null,""]
[null,null,"",null,{"$f":"IF(C1093<>\"\",D1093/C1093,\"\")","v":""}]
[null,null,"",null,""]
[null,null,"",null,""]
[null,null,"",null,""]
[null,null,"",null,""]
[null,null,"",null,""]
[null,null,"",null,""]
[null,null,"",null,""]
[null,null,"",null,""]
[null,null,"",null,""]
[null,null,"",null,""]
[null,null,"",null,""]
[null,null,"",null,""]
[null,null,"",null,""]
[null,null,"",null,""]
[null,null,"",null,""]
[null,null,"",null,""]
[null,null,"",null,""]
[null,null,"",null,""]
[null,null,"",null,""]
[null,null,"",null,""]
[null,null,"",null,""]
[null,null,"",null,""]
[null,null,"",null,""]
[null,null,"",null,""]
[null,null,"",null,""]
[null,null,"",null,""]
[null,null,"",null,""]
[null,null,"",null,""]
[null,null,"",null,""]
[null,null,"",null,""]
[null,null,"",null,""]
[null,null,"",null,""]
[null,null,"",null,""]
[null,null,"",null,""]
[null,null,"",null,""]
[null,null,"",null,""]
[null,null,"",null,""]
[null,null,"",null,""]
[null,null,"",null,""]
[null,null,"",null,""]
[null,null,"",null,""]
[null,null,"",null,""]
[null,null,"",null,""]
[null,null,"",null,""]
[null,null,"",null,""]
[null,null,"",null,""]
[null,null,"",null,""]
[null,null,"",null,""]
[null,null,"",null,""]
[null,null,"",null,""]
[null,null,"",null,""]
[null,null,"",null,""]
[null,null,"",null,""]
[null,null,"",null,""]
[null,null,"",null,""]
[null,null,"",null,""]
[null,null,"",null,""]
[null,null,"",null,""]
[null,null,"",null,""]
[null,null,"",null,""]
[null,null,{"$f":"IF(B1154<>\"\",VLOOKUP(B1154,Peligrosppam,2,FALSE),\"\")","v":""},null,""]
[null,null,"",null,""]
[null,null,"",null,""]
[null,null,"",null,{"$f":"IF(C1157<>\"\",D1157/C1157,\"\")","v":""}]
[null,null,"",null,""]
[null,null,"",null,""]
[null,null,"",null,""]
[null,null,"",null,""]
[null,null,"",null,""]
[null,null,"",null,""]
[null,null,"",null,""]
[null,null,"",null,""]
[null,null,"",null,""]
[null,null,"",null,""]
[null,null,"",null,""]
[null,null,"",null,""]
[null,null,"",null,""]
[null,null,"",null,""]
[null,null,"",null,""]
[null,null,"",null,""]
[null,null,"",null,""]
[null,null,"",null,""]
[null,null,"",null,""]
[null,null,"",null,""]
[null,null,"",null,""]
[null,null,"",null,""]
[null,null,"",null,""]
[null,null,"",null,""]
[null,null,"",null,""]
[null,null,"",null,""]
[null,null,"",null,""]
[null,null,"",null,""]
[null,null,"",null,""]
[null,null,"",null,""]
[null,null,"",null,""]
[null,null,"",null,""]
[null,null,"",null,""]
[null,null,"",null,""]
[null,null,"",null,""]
[null,null,"",null,""]
[null,null,"",null,""]
[null,null,"",null,""]
[null,null,"",null,""]
[null,null,"",null,""]
[null,null,"",null,""]
[null,null,"",null,""]
[null,null,"",null,""]
[null,null,"",null,""]
[null,null,"",null,""]
[null,null,"",null,""]
[null,null,"",null,""]
[null,null,"",null,""]
[null,null,"",null,""]
[null,null,"",null,""]
[null,null,"",null,""]
[null,null,"",null,""]
[null,null,"",null,""]
[null,null,"",null,""]
[null,null,"",null,""]
[null,null,"",null,""]
[null,null,"",null,""]
[null,null,"",null,""]
[null,null,"",null,""]
[null,null,"",null,""]
[null,null,{"$f":"IF(B1218<>\"\",VLOOKUP(B1218,Peligrosppam,2,FALSE),\"\")","v":""},null,""]
[null,null,"",null,""]
[null,null,"",null,""]
[null,null,"",null,{"$f":"IF(C1221<>\"\",D1221/C1221,\"\")","v":""}]
[null,null,"",null,""]
[null,null,"",null,""]
[null,null,"",null,""]
[null,null,"",null,""]
[null,null,"",null,""]
[null,null,"",null,""]
[null,null,"",null,""]
[null,null,"",null,""]
[null,null,"",null,""]
[null,null,"",null,""]
[null,null,"",null,""]
[null,null,"",null,""]
[null,null,"",null,""]
[null,null,"",null,""]
[null,null,"",null,""]
[null,null,"",null,""]
[null,null,"",null,""]
[null,null,"",null,""]
[null,null,"",null,""]
[null,null,"",null,""]
[null,null,"",null,""]
[null,null,"",null,""]
[null,null,"",null,""]
[null,null,"",null,""]
[null,null,"",null,""]
[null,null,"",null,""]
[null,null,"",null,""]
[null,null,"",null,""]
[null,null,"",null,""]
[null,null,"",null,""]
[null,null,"",null,""]
[null,null,"",null,""]
[null,null,"",null,""]
[null,null,"",null,""]
[null,null,"",null,""]
[null,null,"",null,""]
[null,null,"",null,""]
[null,null,"",null,""]
[null,null,"",null,""]
[null,null,"",null,""]
[null,null,"",null,""]
[null,null,"",null,""]
[null,null,"",null,""]
[null,null,"",null,""]
[null,null,"",null,""]
[null,null,"",null,""]
[null,null,"",null,""]
[null,null,"",null,""]
[null,null,"",null,""]
[null,null,"",null,""]
[null,null,"",null,""]
[null,null,"",null,""]
[null,null,"",null,""]
[null,null,"",null,""]
[null,null,"",null,""]
[null,null,"",null,""]
[null,null,"",null,""]
[null,null,"",null,""]
[null,null,"",null,""]
[null,null,"",null,""]
[null,null,{"$f":"IF(B1282<>\"\",VLOOKUP(B1282,Peligrosppam,2,FALSE),\"\")","v":""},null,""]
[null,null,"",null,""]
[null,null,"",null,""]
[null,null,"",null,{"$f":"IF(C1285<>\"\",D1285/C1285,\"\")","v":""}]
[null,null,"",null,""]
[null,null,"",null,""]
[null,null,"",null,""]
[null,null,"",null,""]
[null,null,"",null,""]
[null,null,"",null,""]
[null,null,"",null,""]
[null,null,"",null,""]
[null,null,"",null,""]
[null,null,"",null,""]
[null,null,"",null,""]
[null,null,"",null,""]
[null,null,"",null,""]
[null,null,"",null,""]
[null,null,"",null,""]
[null,null,"",null,""]
[null,null,"",null,""]
[null,null,"",null,""]
[null,null,"",null,""]
[null,null,"",null,""]
[null,null,"",null,""]
[null,null,"",null,""]
[null,null,"",null,""]
[null,null,"",null,""]
[null,null,"",null,""]
[null,null,"",null,""]
[null,null,"",null,""]
[null,null,"",null,""]
[null,null,"",null,""]
[null,null,"",null,""]
[null,null,"",null,""]
[null,null,"",null,""]
[null,null,"",null,""]
[null,null,"",null,""]
[null,null,"",null,""]
[null,null,"",null,""]
[null,null,"",null,""]
[null,null,"",null,""]
[null,null,"",null,""]
[null,null,"",null,""]
[null,null,"",null,""]
[null,null,"",null,""]
[null,null,"",null,""]
[null,null,"",null,""]
[null,null,"",null,""]
[null,null,"",null,""]
[null,null,"",null,""]
[null,null,"",null,""]
[null,null,"",null,""]
[null,null,"",null,""]
[null,null,"",null,""]
[null,null,"",null,""]
[null,null,"",null,""]
[null,null,"",null,""]
[null,null,"",null,""]
[null,null,"",null,""]
[null,null,"",null,""]
[null,null,"",null,""]
[null,null,"",null,""]
[null,null,"",null,""]
[null,null,{"$f":"IF(B1346<>\"\",VLOOKUP(B1346,Peligrosppam,2,FALSE),\"\")","v":""},null,""]
[null,null,"",null,""]
[null,null,"",null,""]
[null,null,"",null,{"$f":"IF(C1349<>\"\",D1349/C1349,\"\")","v":""}]
[null,null,"",null,""]
[null,null,"",null,""]
[null,null,"",null,""]
[null,null,"",null,""]
[null,null,"",null,""]
[null,null,"",null,""]
[null,null,"",null,""]
[null,null,"",null,""]
[null,null,"",null,""]
[null,null,"",null,""]
[null,null,"",null,""]
[null,null,"",null,""]
[null,null,"",null,""]
[null,null,"",null,""]
[null,null,"",null,""]
[null,null,"",null,""]
[null,null,"",null,""]
[null,null,"",null,""]
[null,null,"",null,""]
[null,null,"",null,""]
[null,null,"",null,""]
[null,null,"",null,""]
[null,null,"",null,""]
[null,null,"",null,""]
[null,null,"",null,""]
[null,null,"",null,""]
[null,null,"",null,""]
[null,null,"",null,""]
[null,null,"",null,""]
[null,null,"",null,""]
[null,null,"",null,""]
[null,null,"",null,""]
[null,null,"",null,""]
[null,null,"",null,""]
[null,null,"",null,""]
[null,null,"",null,""]
[null,null,"",null,""]
[null,null,"",null,""]
[null,null,"",null,""]
[null,null,"",null,""]
[null,null,"",null,""]
[null,null,"",null,""]
[null,null,"",null,""]
[null,null,"",null,""]
[null,null,"",null,""]
[null,null,"",null,""]
[null,null,"",null,""]
[null,null,"",null,""]
[null,null,"",null,""]
[null,null,"",null,""]
[null,null,"",null,""]
[null,null,"",null,""]
[null,null,"",null,""]
[null,null,"",null,""]
[null,null,"",null,""]
[null,null,"",null,""]
[null,null,"",null,""]
[null,null,"",null,""]
[null,null,"",null,""]
[null,null,"",null,""]
[null,null,{"$f":"IF(B1410<>\"\",VLOOKUP(B1410,Peligrosppam,2,FALSE),\"\")","v":""},null,""]
[null,null,"",null,""]
[null,null,"",null,""]
[null,null,"",null,{"$f":"IF(C1413<>\"\",D1413/C1413,\"\")","v":""}]
[null,null,"",null,""]
[null,null,"",null,""]
[null,null,"",null,""]
[null,null,"",null,""]
[null,null,"",null,""]
[null,null,"",null,""]
[null,null,"",null,""]
[null,null,"",null,""]
[null,null,"",null,""]
[null,null,"",null,""]
[null,null,"",null,""]
[null,null,"",null,""]
[null,null,"",null,""]
[null,null,"",null,""]
[null,null,"",null,""]
[null,null,"",null,""]
[null,null,"",null,""]
[null,null,"",null,""]
[null,null,"",null,""]
[null,null,"",null,""]
[null,null,"",null,""]
[null,null,"",null,""]
[null,null,"",null,""]
[null,null,"",null,""]
[null,null,"",null,""]
[null,null,"",null,""]
[null,null,"",null,""]
[null,null,"",null,""]
[null,null,"",null,""]
[null,null,"",null,""]
[null,null,"",null,""]
[null,null,"",null,""]
[null,null,"",null,""]
[null,null,"",null,""]
[null,null,"",null,""]
[null,null,"",null,""]
[null,null,"",null,""]
[null,null,"",null,""]
[null,null,"",null,""]
[null,null,"",null,""]
[null,null,"",null,""]
[null,null,"",null,""]
[null,null,"",null,""]
[null,null,"",null,""]
[null,null,"",null,""]
[null,null,"",null,""]
[null,null,"",null,""]
[null,null,"",null,""]
[null,null,"",null,""]
[null,null,"",null,""]
[null,null,"",null,""]
[null,null,"",null,""]
[null,null,"",null,""]
[null,null,"",null,""]
[null,null,"",null,""]
[null,null,"",null,""]
[null,null,"",null,""]
[null,null,"",null,""]
[null,null,"",null,""]
[null,null,"",null,""]
[null,null,{"$f":"IF(B1474<>\"\",VLOOKUP(B1474,Peligrosppam,2,FALSE),\"\")","v":""},null,""]
[null,null,"",null,""]
[null,null,"",null,""]
[null,null,"",null,{"$f":"IF(C1477<>\"\",D1477/C1477,\"\")","v":""}]
[null,null,"",null,""]
[null,null,"",null,""]
[null,null,"",null,""]
[null,null,"",null,""]
[null,null,"",null,""]
[null,null,"",null,""]
[null,null,"",null,""]
[null,null,"",null,""]
[null,null,"",null,""]
[null,null,"",null,""]
[null,null,"",null,""]
[null,null,"",null,""]
[null,null,"",null,""]
[null,null,"",null,""]
[null,null,"",null,""]
[null,null,"",null,""]
[null,null,"",null,""]
[null,null,"",null,""]
[null,null,"",null,""]
[null,null,"",null,""]
[null,null,"",null,""]
[null,null,"",null,""]
[null,null,"",null,""]
[null,null,"",null,""]
[null,null,"",null,""]
[null,null,"",null,""]
[null,null,"",null,""]
[null,null,"",null,""]
[null,null,"",null,""]
[null,null,"",null,""]
[null,null,"",null,""]
[null,null,"",null,""]
[null,null,"",null,""]
[null,null,"",null,""]
[null,null,"",null,""]
[null,null,"",null,""]
[null,null,"",null,""]
[null,null,"",null,""]
[null,null,"",null,""]
[null,null,"",null,""]
[null,null,"",null,""]
[null,null,"",null,""]
[null,null,"",null,""]
[null,null,"",null,""]
[null,null,"",null,""]
[null,null,"",null,""]
[null,null,"",null,""]
[null,null,"",null,""]
[null,null,"",null,""]
[null,null,"",null,""]
[null,null,"",null,""]
[null,null,"",null,""]
[null,null,"",null,""]
[null,null,"",null,""]
[null,null,"",null,""]
[null,null,"",null,""]
[null,null,"",null,""]
[null,null,"",null,""]
[null,null,"",null,""]
[null,null,"",null,""]
[null,null,{"$f":"IF(B1538<>\"\",VLOOKUP(B1538,Peligrosppam,2,FALSE),\"\")","v":""},null,""]
[null,null,"",null,""]
[null,null,"",null,""]
[null,null,"",null,{"$f":"IF(C1541<>\"\",D1541/C1541,\"\")","v":""}]
[null,null,"",null,""]
[null,null,"",null,""]
[null,null,"",null,""]
[null,null,"",null,""]
[null,null,"",null,""]
[null,null,"",null,""]
[null,null,"",null,""]
[null,null,"",null,""]
[null,null,"",null,""]
[null,null,"",null,""]
[null,null,"",null,""]
[null,null,"",null,""]
[null,null,"",null,""]
[null,null,"",null,""]
[null,null,"",null,""]
[null,null,"",null,""]
[null,null,"",null,""]
[null,null,"",null,""]
[null,null,"",null,""]
[null,null,"",null,""]
[null,null,"",null,""]
[null,null,"",null,""]
[null,null,"",null,""]
[null,null,"",null,""]
[null,null,"",null,""]
[null,null,"",null,""]
[null,null,"",null,""]
[null,null,"",null,""]
[null,null,"",null,""]
[null,null,"",null,""]
[null,null,"",null,""]
[null,null,"",null,""]
[null,null,"",null,""]
[null,null,"",null,""]
[null,null,"",null,""]
[null,null,"",null,""]
[null,null,"",null,""]
[null,null,"",null,""]
[null,null,"",null,""]
[null,null,"",null,""]
[null,null,"",null,""]
[null,null,"",null,""]
[null,null,"",null,""]
[null,null,"",null,""]
[null,null,"",null,""]
[null,null,"",null,""]
[null,null,"",null,""]
[null,null,"",null,""]
[null,null,"",null,""]
[null,null,"",null,""]
[null,null,"",null,""]
[null,null,"",null,""]
[null,null,"",null,""]
[null,null,"",null,""]
[null,null,"",null,""]
[null,null,"",null,""]
[null,null,"",null,""]
[null,null,"",null,""]
[null,null,"",null,""]
[null,null,"",null,""]
[null,null,{"$f":"IF(B1602<>\"\",VLOOKUP(B1602,Peligrosppam,2,FALSE),\"\")","v":""},null,""]
[null,null,"",null,""]
[null,null,"",null,""]
[null,null,"",null,{"$f":"IF(C1605<>\"\",D1605/C1605,\"\")","v":""}]
[null,null,"",null,""]
[null,null,"",null,""]
[null,null,"",null,""]
[null,null,"",null,""]
[null,null,"",null,""]
[null,null,"",null,""]
[null,null,"",null,""]
[null,null,"",null,""]
[null,null,"",null,""]
[null,null,"",null,""]
[null,null,"",null,""]
[null,null,"",null,""]
[null,null,"",null,""]
[null,null,"",null,""]
[null,null,"",null,""]
[null,null,"",null,""]
[null,null,"",null,""]
[null,null,"",null,""]
[null,null,"",null,""]
[null,null,"",null,""]
[null,null,"",null,""]
[null,null,"",null,""]
[null,null,"",null,""]
[null,null,"",null,""]
[null,null,"",null,""]
[null,null,"",null,""]
[null,null,"",null,""]
[null,null,"",null,""]
[null,null,"",null,""]
[null,null,"",null,""]
[null,null,"",null,""]
[null,null,"",null,""]
[null,null,"",null,""]
[null,null,"",null,""]
[null,null,"",null,""]
[null,null,"",null,""]
[null,null,"",null,""]
[null,null,"",null,""]
[null,null,"",null,""]
[null,null,"",null,""]
[null,null,"",null,""]
[null,null,"",null,""]
[null,null,"",null,""]
[null,null,"",null,""]
[null,null,"",null,""]
[null,null,"",null,""]
[null,null,"",null,""]
[null,null,"",null,""]
[null,null,"",null,""]
[null,null,"",null,""]
[null,null,"",null,""]
[null,null,"",null,""]
[null,null,"",null,""]
[null,null,"",null,""]
[null,null,"",null,""]
[null,null,"",null,""]
[null,null,"",null,""]
[null,null,"",null,""]
[null,null,"",null,""]
[null,null,"",null,""]
[null,null,{"$f":"IF(B1666<>\"\",VLOOKUP(B1666,Peligrosppam,2,FALSE),\"\")","v":""},null,""]
[null,null,"",null,""]
[null,null,"",null,""]
[null,null,"",null,{"$f":"IF(C1669<>\"\",D1669/C1669,\"\")","v":""}]
[null,null,"",null,""]
[null,null,"",null,""]
[null,null,"",null,""]
[null,null,"",null,""]
[null,null,"",null,""]
[null,null,"",null,""]
[null,null,"",null,""]
[null,null,"",null,""]
[null,null,"",null,""]
[null,null,"",null,""]
[null,null,"",null,""]
[null,null,"",null,""]
[null,null,"",null,""]
[null,null,"",null,""]
[null,null,"",null,""]
[null,null,"",null,""]
[null,null,"",null,""]
[null,null,"",null,""]
[null,null,"",null,""]
[null,null,"",null,""]
[null,null,"",null,""]
[null,null,"",null,""]
[null,null,"",null,""]
[null,null,"",null,""]
[null,null,"",null,""]
[null,null,"",null,""]
[null,null,"",null,""]
[null,null,"",null,""]
[null,null,"",null,""]
[null,null,"",null,""]
[null,null,"",null,""]
[null,null,"",null,""]
[null,null,"",null,""]
[null,null,"",null,""]
[null,null,"",null,""]
[null,null,"",null,""]
[null,null,"",null,""]
[null,null,"",null,""]
[null,null,"",null,""]
[null,null,"",null,""]
[null,null,"",null,""]
[null,null,"",null,""]
[null,null,"",null,""]
[null,null,"",null,""]
[null,null,"",null,""]
[null,null,"",null,""]
[null,null,"",null,""]
[null,null,"",null,""]
[null,null,"",null,""]
[null,null,"",null,""]
[null,null,"",null,""]
[null,null,"",null,""]
[null,null,"",null,""]
[null,null,"",null,""]
[null,null,"",null,""]
[null,null,"",null,""]
[null,null,"",null,""]
[null,null,"",null,""]
[null,null,"",null,""]
[null,null,"",null,""]
[null,null,{"$f":"IF(B1730<>\"\",VLOOKUP(B1730,Peligrosppam,2,FALSE),\"\")","v":""},null,""]
[null,null,"",null,""]
[null,null,"",null,""]
[null,null,"",null,{"$f":"IF(C1733<>\"\",D1733/C1733,\"\")","v":""}]
[null,null,"",null,""]
[null,null,"",null,""]
[null,null,"",null,""]
[null,null,"",null,""]
[null,null,"",null,""]
[null,null,"",null,""]
[null,null,"",null,""]
[null,null,"",null,""]
[null,null,"",null,""]
[null,null,"",null,""]
[null,null,"",null,""]
[null,null,"",null,""]
[null,null,"",null,""]
[null,null,"",null,""]
[null,null,"",null,""]
[null,null,"",null,""]
[null,null,"",null,""]
[null,null,"",null,""]
[null,null,"",null,""]
[null,null,"",null,""]
[null,null,"",null,""]
[null,null,"",null,""]
[null,null,"",null,""]
[null,null,"",null,""]
[null,null,"",null,""]
[null,null,"",null,""]
[null,null,"",null,""]
[null,null,"",null,""]
[null,null,"",null,""]
[null,null,"",null,""]
[null,null,"",null,""]
[null,null,"",null,""]
[null,null,"",null,""]
[null,null,"",null,""]
[null,null,"",null,""]
[null,null,"",null,""]
[null,null,"",null,""]
[null,null,"",null,""]
[null,null,"",null,""]
[null,null,"",null,""]
[null,null,"",null,""]
[null,null,"",null,""]
[null,null,"",null,""]
[null,null,"",null,""]
[null,null,"",null,""]
[null,null,"",null,""]
[null,null,"",null,""]
[null,null,"",null,""]
[null,null,"",null,""]
[null,null,"",null,""]
[null,null,"",null,""]
[null,null,"",null,""]
[null,null,"",null,""]
[null,null,"",null,""]
[null,null,"",null,""]
[null,null,"",null,""]
[null,null,"",null,""]
[null,null,"",null,""]
[null,null,"",null,""]
[null,null,"",null,""]
[null,null,{"$f":"IF(B1794<>\"\",VLOOKUP(B1794,Peligrosppam,2,FALSE),\"\")","v":""},null,""]
[null,null,"",null,""]
[null,null,"",null,""]
[null,null,"",null,{"$f":"IF(C1797<>\"\",D1797/C1797,\"\")","v":""}]
[null,null,"",null,""]
[null,null,"",null,""]
[null,null,"",null,""]
[null,null,"",null,""]
[null,null,"",null,""]
[null,null,"",null,""]
[null,null,"",null,""]
[null,null,"",null,""]
[null,null,"",null,""]
[null,null,"",null,""]
[null,null,"",null,""]
[null,null,"",null,""]
[null,null,"",null,""]
[null,null,"",null,""]
[null,null,"",null,""]
[null,null,"",null,""]
[null,null,"",null,""]
[null,null,"",null,""]
[null,null,"",null,""]
[null,null,"",null,""]
[null,null,"",null,""]
[null,null,"",null,""]
[null,null,"",null,""]
[null,null,"",null,""]
[null,null,"",null,""]
[null,null,"",null,""]
[null,null,"",null,""]
[null,null,"",null,""]
[null,null,"",null,""]
[null,null,"",null,""]
[null,null,"",null,""]
[null,null,"",null,""]
[null,null,"",null,""]
[null,null,"",null,""]
[null,null,"",null,""]
[null,null,"",null,""]
[null,null,"",null,""]
[null,null,"",null,""]
[null,null,"",null,""]
[null,null,"",null,""]
[null,null,"",null,""]
[null,null,"",null,""]
[null,null,"",null,""]
[null,null,"",null,""]
[null,null,"",null,""]
[null,null,"",null,""]
[null,null,"",null,""]
[null,null,"",null,""]
[null,null,"",null,""]
[null,null,"",null,""]
[null,null,"",null,""]
[null,null,"",null,""]
[null,null,"",null,""]
[null,null,"",null,""]
[null,null,"",null,""]
[null,null,"",null,""]
[null,null,"",null,""]
[null,null,"",null,""]
[null,null,"",null,""]
[null,null,"",null,""]
[null,null,{"$f":"IF(B1858<>\"\",VLOOKUP(B1858,Peligrosppam,2,FALSE),\"\")","v":""},null,""]
[null,null,"",null,""]
[null,null,"",null,""]
[null,null,"",null,{"$f":"IF(C1861<>\"\",D1861/C1861,\"\")","v":""}]
[null,null,"",null,""]
[null,null,"",null,""]
[null,null,"",null,""]
[null,null,"",null,""]
[null,null,"",null,""]
[null,null,"",null,""]
[null,null,"",null,""]
[null,null,"",null,""]
[null,null,"",null,""]
[null,null,"",null,""]
[null,null,"",null,""]
[null,null,"",null,""]
[null,null,"",null,""]
[null,null,"",null,""]
[null,null,"",null,""]
[null,null,"",null,""]
[null,null,"",null,""]
[null,null,"",null,""]
[null,null,"",null,""]
[null,null,"",null,""]
[null,null,"",null,""]
[null,null,"",null,""]
[null,null,"",null,""]
[null,null,"",null,""]
[null,null,"",null,""]
[null,null,"",null,""]
[null,null,"",null,""]
[null,null,"",null,""]
[null,null,"",null,""]
[null,null,"",null,""]
[null,null,"",null,""]
[null,null,"",null,""]
[null,null,"",null,""]
[null,null,"",null,""]
[null,null,"",null,""]
[null,null,"",null,""]
[null,null,"",null,""]
[null,null,"",null,""]
[null,null,"",null,""]
[null,null,"",null,""]
[null,null,"",null,""]
[null,null,"",null,""]
[null,null,"",null,""]
[null,null,"",null,""]
[null,null,"",null,""]
[null,null,"",null,""]
[null,null,"",null,""]
[null,null,"",null,""]
[null,null,"",null,""]
[null,null,"",null,""]
[null,null,"",null,""]
[null,null,"",null,""]
[null,null,"",null,""]
[null,null,"",null,""]
[null,null,"",null,""]
[null,null,"",null,""]
[null,null,"",null,""]
[null,null,"",null,""]
[null,null,"",null,""]
[null,null,"",null,""]
[null,null,{"$f":"IF(B1922<>\"\",VLOOKUP(B1922,Peligrosppam,2,FALSE),\"\")","v":""},null,""]
[null,null,"",null,""]
[null,null,"",null,""]
[null,null,"",null,{"$f":"IF(C1925<>\"\",D1925/C1925,\"\")","v":""}]
[null,null,"",null,""]
[null,null,"",null,""]
[null,null,"",null,""]
[null,null,"",null,""]
[null,null,"",null,""]
[null,null,"",null,""]
[null,null,"",null,""]
[null,null,"",null,""]
[null,null,"",null,""]
[null,null,"",null,""]
[null,null,"",null,""]
[null,null,"",null,""]
[null,null,"",null,""]
[null,null,"",null,""]
[null,null,"",null,""]
[null,null,"",null,""]
[null,null,"",null,""]
[null,null,"",null,""]
[null,null,"",null,""]
[null,null,"",null,""]
[null,null,"",null,""]
[null,null,"",null,""]
[null,null,"",null,""]
[null,null,"",null,""]
[null,null,"",null,""]
[null,null,"",null,""]
[null,null,"",null,""]
[null,null,"",null,""]
[null,null,"",null,""]
[null,null,"",null,""]
[null,null,"",null,""]
[null,null,"",null,""]
[null,null,"",null,""]
[null,null,"",null,""]
[null,null,"",null,""]
[null,null,"",null,""]
[null,null,"",null,""]
[null,null,"",null,""]
[null,null,"",null,""]
[null,null,"",null,""]
[null,null,"",null,""]
[null,null,"",null,""]
[null,null,"",null,""]
[null,null,"",null,""]
[null,null,"",null,""]
[null,null,"",null,""]
[null,null,"",null,""]
[null,null,"",null,""]
[null,null,"",null,""]
[null,null,"",null,""]
[null,null,"",null,""]
[null,null,"",null,""]
[null,null,"",null,""]
[null,null,"",null,""]
[null,null,"",null,""]
[null,null,"",null,""]
[null,null,"",null,""]
[null,null,"",null,""]
[null,null,"",null,""]
[null,null,"",null,""]
[null,null,{"$f":"IF(B1986<>\"\",VLOOKUP(B1986,Peligrosppam,2,FALSE),\"\")","v":""},null,""]
[null,null,"",null,""]
[null,null,"",null,""]
[null,null,"",null,{"$f":"IF(C1989<>\"\",D1989/C1989,\"\")","v":""}]
[null,null,"",null,""]
[null,null,"",null,""]
[null,null,"",null,""]
[null,null,"",null,""]
[null,null,"",null,""]
[null,null,"",null,""]
[null,null,"",null,""]
[null,null,"",null,""]
[null,null,"",null,""]
[null,null,"",null,""]
[null,null,"",null,""]
[null,null,"",null,""]
[null,null,"",null,""]
[null,null,"",null,""]
[null,null,"",null,""]
[null,null,"",null,""]
[null,null,"",null,""]
[null,null,"",null,""]
[null,null,"",null,""]
[null,null,"",null,""]
[null,null,"",null,""]
[null,null,"",null,""]
[null,null,"",null,""]
[null,null,"",null,""]
[null,null,"",null,""]
[null,null,"",null,""]
[null,null,"",null,""]
[null,null,"",null,""]
[null,null,"",null,""]
[null,null,"",null,""]
[null,null,"",null,""]
[null,null,"",null,""]
[null,null,"",null,""]
[null,null,"",null,""]
[null,null,"",null,""]
[null,null,"",null,""]
[null,null,"",null,""]
[null,null,"",null,""]
[null,null,"",null,""]
[null,null,"",null,""]
[null,null,"",null,""]
[null,null,"",null,""]
[null,null,"",null,""]
[null,null,"",null,""]
[null,null,"",null,""]
[null,null,"",null,""]
[null,null,"",null,""]
[null,null,"",null,""]
[null,null,"",null,""]
[null,null,"",null,""]
[null,null,"",null,""]
[null,null,"",null,""]
[null,null,"",null,""]
[null,null,"",null,""]
[null,null,"",null,""]
[null,null,"",null,""]
[null,null,"",null,""]
[null,null,"",null,""]
[null,null,"",null,""]
[null,null,"",null,""]
[null,null,{"$f":"IF(B2050<>\"\",VLOOKUP(B2050,Peligrosppam,2,FALSE),\"\")","v":""},null,""]
[null,null,"",null,""]
[null,null,"",null,""]
[null,null,"",null,{"$f":"IF(C2053<>\"\",D2053/C2053,\"\")","v":""}]
[null,null,"",null,""]
[null,null,"",null,""]
[null,null,"",null,""]
[null,null,"",null,""]
[null,null,"",null,""]
[null,null,"",null,""]
[null,null,"",null,""]
[null,null,"",null,""]
[null,null,"",null,""]
[null,null,"",null,""]
[null,null,"",null,""]
[null,null,"",null,""]
[null,null,"",null,""]
[null,null,"",null,""]
[null,null,"",null,""]
[null,null,"",null,""]
[null,null,"",null,""]
[null,null,"",null,""]
[null,null,"",null,""]
[null,null,"",null,""]
[null,null,"",null,""]
[null,null,"",null,""]
[null,null,"",null,""]
[null,null,"",null,""]
[null,null,"",null,""]
[null,null,"",null,""]
[null,null,"",null,""]
[null,null,"",null,""]
[null,null,"",null,""]
[null,null,"",null,""]
[null,null,"",null,""]
[null,null,"",null,""]
[null,null,"",null,""]
[null,null,"",null,""]
[null,null,"",null,""]
[null,null,"",null,""]
[null,null,"",null,""]
[null,null,"",null,""]
[null,null,"",null,""]
[null,null,"",null,""]
[null,null,"",null,""]
[null,null,"",null,""]
[null,null,"",null,""]
[null,null,"",null,""]
[null,null,"",null,""]
[null,null,"",null,""]
[null,null,"",null,""]
[null,null,"",null,""]
[null,null,"",null,""]
[null,null,"",null,""]
[null,null,"",null,""]
[null,null,"",null,""]
[null,null,"",null,""]
[null,null,"",null,""]
[null,null,"",null,""]
[null,null,"",null,""]
[null,null,"",null,""]
[null,null,"",null,""]
[null,null,"",null,""]
[null,null,"",null,""]
[null,null,{"$f":"IF(B2114<>\"\",VLOOKUP(B2114,Peligrosppam,2,FALSE),\"\")","v":""},null,""]
[null,null,"",null,""]
[null,null,"",null,""]
[null,null,"",null,{"$f":"IF(C2117<>\"\",D2117/C2117,\"\")","v":""}]
[null,null,"",null,""]
[null,null,"",null,""]
[null,null,"",null,""]
[null,null,"",null,""]
[null,null,"",null,""]
[null,null,"",null,""]
[null,null,"",null,""]
[null,null,"",null,""]
[null,null,"",null,""]
[null,null,"",null,""]
[null,null,"",null,""]
[null,null,"",null,""]
[null,null,"",null,""]
[null,null,"",null,""]
[null,null,"",null,""]
[null,null,"",null,""]
[null,null,"",null,""]
[null,null,"",null,""]
[null,null,"",null,""]
[null,null,"",null,""]
[null,null,"",null,""]
[null,null,"",null,""]
[null,null,"",null,""]
[null,null,"",null,""]
[null,null,"",null,""]
[null,null,"",null,""]
[null,null,"",null,""]
[null,null,"",null,""]
[null,null,"",null,""]
[null,null,"",null,""]
[null,null,"",null,""]
[null,null,"",null,""]
[null,null,"",null,""]
[null,null,"",null,""]
[null,null,"",null,""]
[null,null,"",null,""]
[null,null,"",null,""]
[null,null,"",null,""]
[null,null,"",null,""]
[null,null,"",null,""]
[null,null,"",null,""]
[null,null,"",null,""]
[null,null,"",null,""]
[null,null,"",null,""]
[null,null,"",null,""]
[null,null,"",null,""]
[null,null,"",null,""]
[null,null,"",null,""]
[null,null,"",null,""]
[null,null,"",null,""]
[null,null,"",null,""]
[null,null,"",null,""]
[null,null,"",null,""]
[null,null,"",null,""]
[null,null,"",null,""]
[null,null,"",null,""]
[null,null,"",null,""]
[null,null,"",null,""]
[null,null,"",null,""]
[null,null,"",null,""]
[null,null,{"$f":"IF(B2178<>\"\",VLOOKUP(B2178,Peligrosppam,2,FALSE),\"\")","v":""},null,""]
[null,null,"",null,""]
[null,null,"",null,""]
[null,null,"",null,{"$f":"IF(C2181<>\"\",D2181/C2181,\"\")","v":""}]
[null,null,"",null,""]
[null,null,"",null,""]
[null,null,"",null,""]
[null,null,"",null,""]
[null,null,"",null,""]
[null,null,"",null,""]
[null,null,"",null,""]
[null,null,"",null,""]
[null,null,"",null,""]
[null,null,"",null,""]
[null,null,"",null,""]
[null,null,"",null,""]
[null,null,"",null,""]
[null,null,"",null,""]
[null,null,"",null,""]
[null,null,"",null,""]
[null,null,"",null,""]
[null,null,"",null,""]
[null,null,"",null,""]
[null,null,"",null,""]
[null,null,"",null,""]
[null,null,"",null,""]
[null,null,"",null,""]
[null,null,"",null,""]
[null,null,"",null,""]
[null,null,"",null,""]
[null,null,"",null,""]
[null,null,"",null,""]
[null,null,"",null,""]
[null,null,"",null,""]
[null,null,"",null,""]
[null,null,"",null,""]
[null,null,"",null,""]
[null,null,"",null,""]
[null,null,"",null,""]
[null,null,"",null,""]
[null,null,"",null,""]
[null,null,"",null,""]
[null,null,"",null,""]
[null,null,"",null,""]
[null,null,"",null,""]
[null,null,"",null,""]
[null,null,"",null,""]
[null,null,"",null,""]
[null,null,"",null,""]
[null,null,"",null,""]
[null,null,"",null,""]
[null,null,"",null,""]
[null,null,"",null,""]
[null,null,"",null,""]
[null,null,"",null,""]
[null,null,"",null,""]
[null,null,"",null,""]
[null,null,"",null,""]
[null,null,"",null,""]
[null,null,"",null,""]
[null,null,"",null,""]
[null,null,"",null,""]
[null,null,"",null,""]
[null,null,"",null,""]
[null,null,{"$f":"IF(B2242<>\"\",VLOOKUP(B2242,Peligrosppam,2,FALSE),\"\")","v":""},null,""]
[null,null,"",null,""]
[null,null,"",null,""]
[null,null,"",null,{"$f":"IF(C2245<>\"\",D2245/C2245,\"\")","v":""}]
[null,null,"",null,""]
[null,null,"",null,""]
[null,null,"",null,""]
[null,null,"",null,""]
[null,null,"",null,""]
[null,null,"",null,""]
[null,null,"",null,""]
[null,null,"",null,""]
[null,null,"",null,""]
[null,null,"",null,""]
[null,null,"",null,""]
[null,null,"",null,""]
[null,null,"",null,""]
[null,null,"",null,""]
[null,null,"",null,""]
[null,null,"",null,""]
[null,null,"",null,""]
[null,null,"",null,""]
[null,null,"",null,""]
[null,null,"",null,""]
[null,null,"",null,""]
[null,null,"",null,""]
[null,null,"",null,""]
[null,null,"",null,""]
[null,null,"",null,""]
[null,null,"",null,""]
[null,null,"",null,""]
[null,null,"",null,""]
[null,null,"",null,""]
[null,null,"",null,""]
[null,null,"",null,""]
[null,null,"",null,""]
[null,null,"",null,""]
[null,null,"",null,""]
[null,null,"",null,""]
[null,null,"",null,""]
[null,null,"",null,""]
[null,null,"",null,""]
[null,null,"",null,""]
[null,null,"",null,""]
[null,null,"",null,""]
[null,null,"",null,""]
[null,null,"",null,""]
[null,null,"",null,""]
[null,null,"",null,""]
[null,null,"",null,""]
[null,null,"",null,""]
[null,null,"",null,""]
[null,null,"",null,""]
[null,null,"",null,""]
[null,null,"",null,""]
[null,null,"",null,""]
[null,null,"",null,""]
[null,null,"",null,""]
[null,null,"",null,""]
[null,null,"",null,""]
[null,null,"",null,""]
[null,null,"",null,""]
[null,null,"",null,""]
[null,null,"",null,""]
[null,null,{"$f":"IF(B2306<>\"\",VLOOKUP(B2306,Peligrosppam,2,FALSE),\"\")","v":""},null,""]
[null,null,"",null,""]
[null,null,"",null,""]
[null,null,"",null,{"$f":"IF(C2309<>\"\",D2309/C2309,\"\")","v":""}]
[null,null,"",null,""]
[null,null,"",null,""]
[null,null,"",null,""]
[null,null,"",null,""]
[null,null,"",null,""]
[null,null,"",null,""]
[null,null,"",null,""]
[null,null,"",null,""]
[null,null,"",null,""]
[null,null,"",null,""]
[null,null,"",null,""]
[null,null,"",null,""]
[null,null,"",null,""]
[null,null,"",null,""]
[null,null,"",null,""]
[null,null,"",null,""]
[null,null,"",null,""]
[null,null,"",null,""]
[null,null,"",null,""]
[null,null,"",null,""]
[null,null,"",null,""]
[null,null,"",null,""]
[null,null,"",null,""]
[null,null,"",null,""]
[null,null,"",null,""]
[null,null,"",null,""]
[null,null,"",null,""]
[null,null,"",null,""]
[null,null,"",null,""]
[null,null,"",null,""]
[null,null,"",null,""]
[null,null,"",null,""]
[null,null,"",null,""]
[null,null,"",null,""]
[null,null,"",null,""]
[null,null,"",null,""]
[null,null,"",null,""]
[null,null,"",null,""]
[null,null,"",null,""]
[null,null,"",null,""]
[null,null,"",null,""]
[null,null,"",null,""]
[null,null,"",null,""]
[null,null,"",null,""]
[null,null,"",null,""]
[null,null,"",null,""]
[null,null,"",null,""]
[null,null,"",null,""]
[null,null,"",null,""]
[null,null,"",null,""]
[null,null,"",null,""]
[null,null,"",null,""]
[null,null,"",null,""]
[null,null,"",null,""]
[null,null,"",null,""]
[null,null,"",null,""]
[null,null,"",null,""]
[null,null,"",null,""]
[null,null,"",null,""]
[null,null,"",null,""]
[null,null,{"$f":"IF(B2370<>\"\",VLOOKUP(B2370,Peligrosppam,2,FALSE),\"\")","v":""},null,""]
[null,null,"",null,""]
[null,null,"",null,""]
[null,null,"",null,{"$f":"IF(C2373<>\"\",D2373/C2373,\"\")","v":""}]
[null,null,"",null,""]
[null,null,"",null,""]
[null,null,"",null,""]
[null,null,"",null,""]
[null,null,"",null,""]
[null,null,"",null,""]
[null,null,"",null,""]
[null,null,"",null,""]
[null,null,"",null,""]
[null,null,"",null,""]
[null,null,"",null,""]
[null,null,"",null,""]
[null,null,"",null,""]
[null,null,"",null,""]
[null,null,"",null,""]
[null,null,"",null,""]
[null,null,"",null,""]
[null,null,"",null,""]
[null,null,"",null,""]
[null,null,"",null,""]
[null,null,"",null,""]
[null,null,"",null,""]
[null,null,"",null,""]
[null,null,"",null,""]
[null,null,"",null,""]
[null,null,"",null,""]
[null,null,"",null,""]
[null,null,"",null,""]
[null,null,"",null,""]
[null,null,"",null,""]
[null,null,"",null,""]
[null,null,"",null,""]
[null,null,"",null,""]
[null,null,"",null,""]
[null,null,"",null,""]
[null,null,"",null,""]
[null,null,"",null,""]
[null,null,"",null,""]
[null,null,"",null,""]
[null,null,"",null,""]
[null,null,"",null,""]
[null,null,"",null,""]
[null,null,"",null,""]
[null,null,"",null,""]
[null,null,"",null,""]
[null,null,"",null,""]
[null,null,"",null,""]
[null,null,"",null,""]
[null,null,"",null,""]
[null,null,"",null,""]
[null,null,"",null,""]
[null,null,"",null,""]
[null,null,"",null,""]
[null,null,"",null,""]
[null,null,"",null,""]
[null,null,"",null,""]
[null,null,"",null,""]
[null,null,"",null,""]
[null,null,"",null,""]
[null,null,"",null,""]
[null,null,{"$f":"IF(B2434<>\"\",VLOOKUP(B2434,Peligrosppam,2,FALSE),\"\")","v":""},null,""]
[null,null,"",null,""]
[null,null,"",null,""]
[null,null,"",null,{"$f":"IF(C2437<>\"\",D2437/C2437,\"\")","v":""}]
[null,null,"",null,""]
[null,null,"",null,""]
[null,null,"",null,""]
[null,null,"",null,""]
[null,null,"",null,""]
[null,null,"",null,""]
[null,null,"",null,""]
[null,null,"",null,""]
[null,null,"",null,""]
[null,null,"",null,""]
[null,null,"",null,""]
[null,null,"",null,""]
[null,null,"",null,""]
[null,null,"",null,""]
[null,null,"",null,""]
[null,null,"",null,""]
[null,null,"",null,""]
[null,null,"",null,""]
[null,null,"",null,""]
[null,null,"",null,""]
[null,null,"",null,""]
[null,null,"",null,""]
[null,null,"",null,""]
[null,null,"",null,""]
[null,null,"",null,""]
[null,null,"",null,""]
[null,null,"",null,""]
[null,null,"",null,""]
[null,null,"",null,""]
[null,null,"",null,""]
[null,null,"",null,""]
[null,null,"",null,""]
[null,null,"",null,""]
[null,null,"",null,""]
[null,null,"",null,""]
[null,null,"",null,""]
[null,null,"",null,""]
[null,null,"",null,""]
[null,null,"",null,""]
[null,null,"",null,""]
[null,null,"",null,""]
[null,null,"",null,""]
[null,null,"",null,""]
[null,null,"",null,""]
[null,null,"",null,""]
[null,null,"",null,""]
[null,null,"",null,""]
[null,null,"",null,""]
[null,null,"",null,""]
[null,null,"",null,""]
[null,null,"",null,""]
[null,null,"",null,""]
[null,null,"",null,""]
[null,null,"",null,""]
[null,null,"",null,""]
[null,null,"",null,""]
[null,null,"",null,""]
[null,null,"",null,""]
[null,null,"",null,""]
[null,null,"",null,""]
[null,null,{"$f":"IF(B2498<>\"\",VLOOKUP(B2498,Peligrosppam,2,FALSE),\"\")","v":""},null,""]
[null,null,"",null,""]
[null,null,"",null,""]
[null,null,"",null,{"$f":"IF(C2501<>\"\",D2501/C2501,\"\")","v":""}]
[null,null,"",null,""]
[null,null,"",null,""]
[null,null,"",null,""]
[null,null,"",null,""]
[null,null,"",null,""]
[null,null,"",null,""]
[null,null,"",null,""]
[null,null,"",null,""]
[null,null,"",null,""]
[null,null,"",null,""]
[null,null,"",null,""]
[null,null,"",null,""]
[null,null,"",null,""]
[null,null,"",null,""]
[null,null,"",null,""]
[null,null,"",null,""]
[null,null,"",null,""]
[null,null,"",null,""]
[null,null,"",null,""]
[null,null,"",null,""]
[null,null,"",null,""]
[null,null,"",null,""]
[null,null,"",null,""]
[null,null,"",null,""]
[null,null,"",null,""]
[null,null,"",null,""]
[null,null,"",null,""]
[null,null,"",null,""]
[null,null,"",null,""]
[null,null,"",null,""]
[null,null,"",null,""]
[null,null,"",null,""]
[null,null,"",null,""]
[null,null,"",null,""]
[null,null,"",null,""]
[null,null,"",null,""]
[null,null,"",null,""]
[null,null,"",null,""]
[null,null,"",null,""]
[null,null,"",null,""]
[null,null,"",null,""]
[null,null,"",null,""]
[null,null,"",null,""]
[null,null,"",null,""]
[null,null,"",null,""]
[null,null,"",null,""]
[null,null,"",null,""]
[null,null,"",null,""]
[null,null,"",null,""]
[null,null,"",null,""]
[null,null,"",null,""]
[null,null,"",null,""]
[null,null,"",null,""]
[null,null,"",null,""]
[null,null,"",null,""]
[null,null,"",null,""]
[null,null,"",null,""]
[null,null,"",null,""]
[null,null,"",null,""]
[null,null,"",null,""]
[null,null,{"$f":"IF(B2562<>\"\",VLOOKUP(B2562,Peligrosppam,2,FALSE),\"\")","v":""},null,""]
[null,null,"",null,""]
[null,null,"",null,""]
[null,null,"",null,{"$f":"IF(C2565<>\"\",D2565/C2565,\"\")","v":""}]
[null,null,"",null,""]
[null,null,"",null,""]
[null,null,"",null,""]
[null,null,"",null,""]
[null,null,"",null,""]
[null,null,"",null,""]
[null,null,"",null,""]
[null,null,"",null,""]
[null,null,"",null,""]
[null,null,"",null,""]
[null,null,"",null,""]
[null,null,"",null,""]
[null,null,"",null,""]
[null,null,"",null,""]
[null,null,"",null,""]
[null,null,"",null,""]
[null,null,"",null,""]
[null,null,"",null,""]
[null,null,"",null,""]
[null,null,"",null,""]
[null,null,"",null,""]
[null,null,"",null,""]
[null,null,"",null,""]
[null,null,"",null,""]
[null,null,"",null,""]
[null,null,"",null,""]
[null,null,"",null,""]
[null,null,"",null,""]
[null,null,"",null,""]
[null,null,"",null,""]
[null,null,"",null,""]
[null,null,"",null,""]
[null,null,"",null,""]
[null,null,"",null,""]
[null,null,"",null,""]
[null,null,"",null,""]
[null,null,"",null,""]
[null,null,"",null,""]
[null,null,"",null,""]
[null,null,"",null,""]
[null,null,"",null,""]
[null,null,"",null,""]
[null,null,"",null,""]
[null,null,"",null,""]
[null,null,"",null,""]
[null,null,"",null,""]
[null,null,"",null,""]
[null,null,"",null,""]
[null,null,"",null,""]
[null,null,"",null,""]
[null,null,"",null,""]
[null,null,"",null,""]
[null,null,"",null,""]
[null,null,"",null,""]
[null,null,"",null,""]
[null,null,"",null,""]
[null,null,"",null,""]
[null,null,"",null,""]
[null,null,"",null,""]
[null,null,"",null,""]
[null,null,{"$f":"IF(B2626<>\"\",VLOOKUP(B2626,Peligrosppam,2,FALSE),\"\")","v":""},null,""]
[null,null,"",null,""]
[null,null,"",null,""]
[null,null,"",null,{"$f":"IF(C2629<>\"\",D2629/C2629,\"\")","v":""}]
[null,null,"",null,""]
[null,null,"",null,""]
[null,null,"",null,""]
[null,null,"",null,""]
[null,null,"",null,""]
[null,null,"",null,""]
[null,null,"",null,""]
[null,null,"",null,""]
[null,null,"",null,""]
[null,null,"",null,""]
[null,null,"",null,""]
[null,null,"",null,""]
[null,null,"",null,""]
[null,null,"",null,""]
[null,null,"",null,""]
[null,null,"",null,""]
[null,null,"",null,""]
[null,null,"",null,""]
[null,null,"",null,""]
[null,null,"",null,""]
[null,null,"",null,""]
[null,null,"",null,""]
[null,null,"",null,""]
[null,null,"",null,""]
[null,null,"",null,""]
[null,null,"",null,""]
[null,null,"",null,""]
[null,null,"",null,""]
[null,null,"",null,""]
[null,null,"",null,""]
[null,null,"",null,""]
[null,null,"",null,""]
[null,null,"",null,""]
[null,null,"",null,""]
[null,null,"",null,""]
[null,null,"",null,""]
[null,null,"",null,""]
[null,null,"",null,""]
[null,null,"",null,""]
[null,null,"",null,""]
[null,null,"",null,""]
[null,null,"",null,""]
[null,null,"",null,""]
[null,null,"",null,""]
[null,null,"",null,""]
[null,null,"",null,""]
[null,null,"",null,""]
[null,null,"",null,""]
[null,null,"",null,""]
[null,null,"",null,""]
[null,null,"",null,""]
[null,null,"",null,""]
[null,null,"",null,""]
[null,null,"",null,""]
[null,null,"",null,""]
[null,null,"",null,""]
[null,null,"",null,""]
[null,null,"",null,""]
[null,null,"",null,""]
[null,null,"",null,""]
[null,null,{"$f":"IF(B2690<>\"\",VLOOKUP(B2690,Peligrosppam,2,FALSE),\"\")","v":""},null,""]
[null,null,"",null,""]
[null,null,"",null,""]
[null,null,"",null,{"$f":"IF(C2693<>\"\",D2693/C2693,\"\")","v":""}]
[null,null,"",null,""]
[null,null,"",null,""]
[null,null,"",null,""]
[null,null,"",null,""]
[null,null,"",null,""]
[null,null,"",null,""]
[null,null,"",null,""]
[null,null,"",null,""]
[null,null,"",null,""]
[null,null,"",null,""]
[null,null,"",null,""]
[null,null,"",null,""]
[null,null,"",null,""]
[null,null,"",null,""]
[null,null,"",null,""]
[null,null,"",null,""]
[null,null,"",null,""]
[null,null,"",null,""]
[null,null,"",null,""]
[null,null,"",null,""]
[null,null,"",null,""]
[null,null,"",null,""]
[null,null,"",null,""]
[null,null,"",null,""]
[null,null,"",null,""]
[null,null,"",null,""]
[null,null,"",null,""]
[null,null,"",null,""]
[null,null,"",null,""]
[null,null,"",null,""]
[null,null,"",null,""]
[null,null,"",null,""]
[null,null,"",null,""]
[null,null,"",null,""]
[null,null,"",null,""]
[null,null,"",null,""]
[null,null,"",null,""]
[null,null,"",null,""]
[null,null,"",null,""]
[null,null,"",null,""]
[null,null,"",null,""]
[null,null,"",null,""]
[null,null,"",null,""]
[null,null,"",null,""]
[null,null,"",null,""]
[null,null,"",null,""]
[null,null,"",null,""]
[null,null,"",null,""]
[null,null,"",null,""]
[null,null,"",null,""]
[null,null,"",null,""]
[null,null,"",null,""]
[null,null,"",null,""]
[null,null,"",null,""]
[null,null,"",null,""]
[null,null,"",null,""]
[null,null,"",null,""]
[null,null,"",null,""]
[null,null,"",null,""]
[null,null,"",null,""]
[null,null,{"$f":"IF(B2754<>\"\",VLOOKUP(B2754,Peligrosppam,2,FALSE),\"\")","v":""},null,""]
[null,null,"",null,""]
[null,null,"",null,""]
[null,null,"",null,{"$f":"IF(C2757<>\"\",D2757/C2757,\"\")","v":""}]
[null,null,"",null,""]
[null,null,"",null,""]
[null,null,"",null,""]
[null,null,"",null,""]
[null,null,"",null,""]
[null,null,"",null,""]
[null,null,"",null,""]
[null,null,"",null,""]
[null,null,"",null,""]
[null,null,"",null,""]
[null,null,"",null,""]
[null,null,"",null,""]
[null,null,"",null,""]
[null,null,"",null,""]
[null,null,"",null,""]
[null,null,"",null,""]
[null,null,"",null,""]
[null,null,"",null,""]
[null,null,"",null,""]
[null,null,"",null,""]
[null,null,"",null,""]
[null,null,"",null,""]
[null,null,"",null,""]
[null,null,"",null,""]
[null,null,"",null,""]
[null,null,"",null,""]
[null,null,"",null,""]
[null,null,"",null,""]
[null,null,"",null,""]
[null,null,"",null,""]
[null,null,"",null,""]
[null,null,"",null,""]
[null,null,"",null,""]
[null,null,"",null,""]
[null,null,"",null,""]
[null,null,"",null,""]
[null,null,"",null,""]
[null,null,"",null,""]
[null,null,"",null,""]
[null,null,"",null,""]
[null,null,"",null,""]
[null,null,"",null,""]
[null,null,"",null,""]
[null,null,"",null,""]
[null,null,"",null,""]
[null,null,"",null,""]
[null,null,"",null,""]
[null,null,"",null,""]
[null,null,"",null,""]
[null,null,"",null,""]
[null,null,"",null,""]
[null,null,"",null,""]
[null,null,"",null,""]
[null,null,"",null,""]
[null,null,"",null,""]
[null,null,"",null,""]
[null,null,"",null,""]
[null,null,"",null,""]
[null,null,"",null,""]
[null,null,"",null,""]
[null,null,{"$f":"IF(B2818<>\"\",VLOOKUP(B2818,Peligrosppam,2,FALSE),\"\")","v":""},null,""]
[null,null,"",null,""]
[null,null,"",null,""]
[null,null,"",null,{"$f":"IF(C2821<>\"\",D2821/C2821,\"\")","v":""}]
[null,null,"",null,""]
[null,null,"",null,""]
[null,null,"",null,""]
[null,null,"",null,""]
[null,null,"",null,""]
[null,null,"",null,""]
[null,null,"",null,""]
[null,null,"",null,""]
[null,null,"",null,""]
[null,null,"",null,""]
[null,null,"",null,""]
[null,null,"",null,""]
[null,null,"",null,""]
[null,null,"",null,""]
[null,null,"",null,""]
[null,null,"",null,""]
[null,null,"",null,""]
[null,null,"",null,""]
[null,null,"",null,""]
[null,null,"",null,""]
[null,null,"",null,""]
[null,null,"",null,""]
[null,null,"",null,""]
[null,null,"",null,""]
[null,null,"",null,""]
[null,null,"",null,""]
[null,null,"",null,""]
[null,null,"",null,""]
[null,null,"",null,""]
[null,null,"",null,""]
[null,null,"",null,""]
[null,null,"",null,""]
[null,null,"",null,""]
[null,null,"",null,""]
[null,null,"",null,""]
[null,null,"",null,""]
[null,null,"",null,""]
[null,null,"",null,""]
[null,null,"",null,""]
[null,null,"",null,""]
[null,null,"",null,""]
[null,null,"",null,""]
[null,null,"",null,""]
[null,null,"",null,""]
[null,null,"",null,""]
[null,null,"",null,""]
[null,null,"",null,""]
[null,null,"",null,""]
[null,null,"",null,""]
[null,null,"",null,""]
[null,null,"",null,""]
[null,null,"",null,""]
[null,null,"",null,""]
[null,null,"",null,""]
[null,null,"",null,""]
[null,null,"",null,""]
[null,null,"",null,""]
[null,null,"",null,""]
[null,null,"",null,""]
[null,null,"",null,""]
[null,null,{"$f":"IF(B2882<>\"\",VLOOKUP(B2882,Peligrosppam,2,FALSE),\"\")","v":""},null,""]
[null,null,"",null,""]
[null,null,"",null,""]
[null,null,"",null,{"$f":"IF(C2885<>\"\",D2885/C2885,\"\")","v":""}]
[null,null,"",null,""]
[null,null,"",null,""]
[null,null,"",null,""]
[null,null,"",null,""]
[null,null,"",null,""]
[null,null,"",null,""]
[null,null,"",null,""]
[null,null,"",null,""]
[null,null,"",null,""]
[null,null,"",null,""]
[null,null,"",null,""]
[null,null,"",null,""]
[null,null,"",null,""]
[null,null,"",null,""]
[null,null,"",null,""]
[null,null,"",null,""]
[null,null,"",null,""]
[null,null,"",null,""]
[null,null,"",null,""]
[null,null,"",null,""]
[null,null,"",null,""]
[null,null,"",null,""]
[null,null,"",null,""]
[null,null,"",null,""]
[null,null,"",null,""]
[null,null,"",null,""]
[null,null,"",null,""]
[null,null,"",null,""]
[null,null,"",null,""]
[null,null,"",null,""]
[null,null,"",null,""]
[null,null,"",null,""]
[null,null,"",null,""]
[null,null,"",null,""]
[null,null,"",null,""]
[null,null,"",null,""]
[null,null,"",null,""]
[null,null,"",null,""]
[null,null,"",null,""]
[null,null,"",null,""]
[null,null,"",null,""]
[null,null,"",null,""]
[null,null,"",null,""]
[null,null,"",null,""]
[null,null,"",null,""]
[null,null,"",null,""]
[null,null,"",null,""]
[null,null,"",null,""]
[null,null,"",null,""]
[null,null,"",null,""]
[null,null,"",null,""]
[null,null,"",null,""]
[null,null,"",null,""]
[null,null,"",null,""]
[null,null,"",null,""]
[null,null,"",null,""]
[null,null,"",null,""]
[null,null,"",null,""]
[null,null,"",null,""]
[null,null,"",null,""]
[null,null,{"$f":"IF(B2946<>\"\",VLOOKUP(B2946,Peligrosppam,2,FALSE),\"\")","v":""},null,""]
[null,null,"",null,""]
[null,null,"",null,""]
[null,null,"",null,{"$f":"IF(C2949<>\"\",D2949/C2949,\"\")","v":""}]
[null,null,"",null,""]
[null,null,"",null,""]
[null,null,"",null,""]
[null,null,"",null,""]
[null,null,"",null,""]
[null,null,"",null,""]
[null,null,"",null,""]
[null,null,"",null,""]
[null,null,"",null,""]
[null,null,"",null,""]
[null,null,"",null,""]
[null,null,"",null,""]
[null,null,"",null,""]
[null,null,"",null,""]
[null,null,"",null,""]
[null,null,"",null,""]
[null,null,"",null,""]
[null,null,"",null,""]
[null,null,"",null,""]
[null,null,"",null,""]
[null,null,"",null,""]
[null,null,"",null,""]
[null,null,"",null,""]
[null,null,"",null,""]
[null,null,"",null,""]
[null,null,"",null,""]
[null,null,"",null,""]
[null,null,"",null,""]
[null,null,"",null,""]
[null,null,"",null,""]
[null,null,"",null,""]
[null,null,"",null,""]
[null,null,"",null,""]
[null,null,"",null,""]
[null,null,"",null,""]
[null,null,"",null,""]
[null,null,"",null,""]
[null,null,"",null,""]
[null,null,"",null,""]
[null,null,"",null,""]
[null,null,"",null,""]
[null,null,"",null,""]
[null,null,"",null,""]
[null,null,"",null,""]
[null,null,"",null,""]
[null,null,"",null,""]
[null,null,"",null,""]
[null,null,"",null,""]
[null,null,"",null,""]
[null,null,"",null,""]
[null,null,"",null,""]
[null,null,"",null,""]
[null,null,"",null,""]
[null,null,"",null,""]
[null,null,"",null,""]
[null,null,"",null,""]
[null,null,"",null,""]
[null,null,"",null,""]
[null,null,"",null,""]
[null,null,"",null,""]
[null,null,{"$f":"IF(B3010<>\"\",VLOOKUP(B3010,Peligrosppam,2,FALSE),\"\")","v":""},null,""]
[null,null,"",null,""]
[null,null,"",null,""]
[null,null,"",null,{"$f":"IF(C3013<>\"\",D3013/C3013,\"\")","v":""}]
[null,null,"",null,""]
[null,null,"",null,""]
[null,null,"",null,""]
[null,null,"",null,""]
[null,null,"",null,""]
[null,null,"",null,""]
[null,null,"",null,""]
[null,null,"",null,""]
[null,null,"",null,""]
[null,null,"",null,""]
[null,null,"",null,""]
[null,null,"",null,""]
[null,null,"",null,""]
[null,null,"",null,""]
[null,null,"",null,""]
[null,null,"",null,""]
[null,null,"",null,""]
[null,null,"",null,""]
[null,null,"",null,""]
[null,null,"",null,""]
[null,null,"",null,""]
[null,null,"",null,""]
[null,null,"",null,""]
[null,null,"",null,""]
[null,null,"",null,""]
[null,null,"",null,""]
[null,null,"",null,""]
[null,null,"",null,""]
[null,null,"",null,""]
[null,null,"",null,""]
[null,null,"",null,""]
[null,null,"",null,""]
[null,null,"",null,""]
[null,null,"",null,""]
[null,null,"",null,""]
[null,null,"",null,""]
[null,null,"",null,""]
[null,null,"",null,""]
[null,null,"",null,""]
[null,null,"",null,""]
[null,null,"",null,""]
[null,null,"",null,""]
[null,null,"",null,""]
[null,null,"",null,""]
[null,null,"",null,""]
[null,null,"",null,""]
[null,null,"",null,""]
[null,null,"",null,""]
[null,null,"",null,""]
[null,null,"",null,""]
[null,null,"",null,""]
[null,null,"",null,""]
[null,null,"",null,""]
[null,null,"",null,""]
[null,null,"",null,""]
[null,null,"",null,""]
[null,null,"",null,""]
[null,null,"",null,""]
[null,null,"",null,""]
[null,null,"",null,""]
[null,null,{"$f":"IF(B3074<>\"\",VLOOKUP(B3074,Peligrosppam,2,FALSE),\"\")","v":""},null,""]
[null,null,"",null,""]
[null,null,"",null,""]
[null,null,"",null,{"$f":"IF(C3077<>\"\",D3077/C3077,\"\")","v":""}]
[null,null,"",null,""]
[null,null,"",null,""]
[null,null,"",null,""]
[null,null,"",null,""]
[null,null,"",null,""]
[null,null,"",null,""]
[null,null,"",null,""]
[null,null,"",null,""]
[null,null,"",null,""]
[null,null,"",null,""]
[null,null,"",null,""]
[null,null,"",null,""]
[null,null,"",null,""]
[null,null,"",null,""]
[null,null,"",null,""]
[null,null,"",null,""]
[null,null,"",null,""]
[null,null,"",null,""]
[null,null,"",null,""]
[null,null,"",null,""]
[null,null,"",null,""]
[null,null,"",null,""]
[null,null,"",null,""]
[null,null,"",null,""]
[null,null,"",null,""]
[null,null,"",null,""]
[null,null,"",null,""]
[null,null,"",null,""]
[null,null,"",null,""]
[null,null,"",null,""]
[null,null,"",null,""]
[null,null,"",null,""]
[null,null,"",null,""]
[null,null,"",null,""]
[null,null,"",null,""]
[null,null,"",null,""]
[null,null,"",null,""]
[null,null,"",null,""]
[null,null,"",null,""]
[null,null,"",null,""]
[null,null,"",null,""]
[null,null,"",null,""]
[null,null,"",null,""]
[null,null,"",null,""]
[null,null,"",null,""]
[null,null,"",null,""]
[null,null,"",null,""]
[null,null,"",null,""]
[null,null,"",null,""]
[null,null,"",null,""]
[null,null,"",null,""]
[null,null,"",null,""]
[null,null,"",null,""]
[null,null,"",null,""]
[null,null,"",null,""]
[null,null,"",null,""]
[null,null,"",null,""]
[null,null,"",null,""]
[null,null,"",null,""]
[null,null,"",null,""]
[null,null,{"$f":"IF(B3138<>\"\",VLOOKUP(B3138,Peligrosppam,2,FALSE),\"\")","v":""},null,""]
[null,null,"",null,""]
[null,null,"",null,""]
[null,null,"",null,{"$f":"IF(C3141<>\"\",D3141/C3141,\"\")","v":""}]
[null,null,"",null,""]
[null,null,"",null,""]
[null,null,"",null,""]
[null,null,"",null,""]
[null,null,"",null,""]
[null,null,"",null,""]
[null,null,"",null,""]
[null,null,"",null,""]
[null,null,"",null,""]
[null,null,"",null,""]
[null,null,"",null,""]
[null,null,"",null,""]
[null,null,"",null,""]
[null,null,"",null,""]
[null,null,"",null,""]
[null,null,"",null,""]
[null,null,"",null,""]
[null,null,"",null,""]
[null,null,"",null,""]
[null,null,"",null,""]
[null,null,"",null,""]
[null,null,"",null,""]
[null,null,"",null,""]
[null,null,"",null,""]
[null,null,"",null,""]
[null,null,"",null,""]
[null,null,"",null,""]
[null,null,"",null,""]
[null,null,"",null,""]
[null,null,"",null,""]
[null,null,"",null,""]
[null,null,"",null,""]
[null,null,"",null,""]
[null,null,"",null,""]
[null,null,"",null,""]
[null,null,"",null,""]
[null,null,"",null,""]
[null,null,"",null,""]
[null,null,"",null,""]
[null,null,"",null,""]
[null,null,"",null,""]
[null,null,"",null,""]
[null,null,"",null,""]
[null,null,"",null,""]
[null,null,"",null,""]
[null,null,"",null,""]
[null,null,"",null,""]
[null,null,"",null,""]
[null,null,"",null,""]
[null,null,"",null,""]
[null,null,"",null,""]
[null,null,"",null,""]
[null,null,"",null,""]
[null,null,"",null,""]
[null,null,"",null,""]
[null,null,"",null,""]
[null,null,"",null,""]
[null,null,"",null,""]
[null,null,"",null,""]
[null,null,"",null,""]
[null,null,{"$f":"IF(B3202<>\"\",VLOOKUP(B3202,Peligrosppam,2,FALSE),\"\")","v":""},null,""]
[null,null,"",null,""]
[null,null,"",null,""]
[null,null,"",null,{"$f":"IF(C3205<>\"\",D3205/C3205,\"\")","v":""}]
[null,null,"",null,""]
[null,null,"",null,""]
[null,null,"",null,""]
[null,null,"",null,""]
[null,null,"",null,""]
[null,null,"",null,""]
[null,null,"",null,""]
[null,null,"",null,""]
[null,null,"",null,""]
[null,null,"",null,""]
[null,null,"",null,""]
[null,null,"",null,""]
[null,null,"",null,""]
[null,null,"",null,""]
[null,null,"",null,""]
[null,null,"",null,""]
[null,null,"",null,""]
[null,null,"",null,""]
[null,null,"",null,""]
[null,null,"",null,""]
[null,null,"",null,""]
[null,null,"",null,""]
[null,null,"",null,""]
[null,null,"",null,""]
[null,null,"",null,""]
[null,null,"",null,""]
[null,null,"",null,""]
[null,null,"",null,""]
[null,null,"",null,""]
[null,null,"",null,""]
[null,null,"",null,""]
[null,null,"",null,""]
[null,null,"",null,""]
[null,null,"",null,""]
[null,null,"",null,""]
[null,null,"",null,""]
[null,null,"",null,""]
[null,null,"",null,""]
[null,null,"",null,""]
[null,null,"",null,""]
[null,null,"",null,""]
[null,null,"",null,""]
[null,null,"",null,""]
[null,null,"",null,""]
[null,null,"",null,""]
[null,null,"",null,""]
[null,null,"",null,""]
[null,null,"",null,""]
[null,null,"",null,""]
[null,null,"",null,""]
[null,null,"",null,""]
[null,null,"",null,""]
[null,null,"",null,""]
[null,null,"",null,""]
[null,null,"",null,""]
[null,null,"",null,""]
[null,null,"",null,""]
[null,null,"",null,""]
[null,null,"",null,""]
[null,null,"",null,""]
[null,null,{"$f":"IF(B3266<>\"\",VLOOKUP(B3266,Peligrosppam,2,FALSE),\"\")","v":""},null,""]
[null,null,"",null,""]
[null,null,"",null,""]
[null,null,"",null,{"$f":"IF(C3269<>\"\",D3269/C3269,\"\")","v":""}]
[null,null,"",null,""]
[null,null,"",null,""]
[null,null,"",null,""]
[null,null,"",null,""]
[null,null,"",null,""]
[null,null,"",null,""]
[null,null,"",null,""]
[null,null,"",null,""]
[null,null,"",null,""]
[null,null,"",null,""]
[null,null,"",null,""]
[null,null,"",null,""]
[null,null,"",null,""]
[null,null,"",null,""]
[null,null,"",null,""]
[null,null,"",null,""]
[null,null,"",null,""]
[null,null,"",null,""]
[null,null,"",null,""]
[null,null,"",null,""]
[null,null,"",null,""]
[null,null,"",null,""]
[null,null,"",null,""]
[null,null,"",null,""]
[null,null,"",null,""]
[null,null,"",null,""]
[null,null,"",null,""]
[null,null,"",null,""]
[null,null,"",null,""]
[null,null,"",null,""]
[null,null,"",null,""]
[null,null,"",null,""]
[null,null,"",null,""]
[null,null,"",null,""]
[null,null,"",null,""]
[null,null,"",null,""]
[null,null,"",null,""]
[null,null,"",null,""]
[null,null,"",null,""]
[null,null,"",null,""]
[null,null,"",null,""]
[null,null,"",null,""]
[null,null,"",null,""]
[null,null,"",null,""]
[null,null,"",null,""]
[null,null,"",null,""]
[null,null,"",null,""]
[null,null,"",null,""]
[null,null,"",null,""]
[null,null,"",null,""]
[null,null,"",null,""]
[null,null,"",null,""]
[null,null,"",null,""]
[null,null,"",null,""]
[null,null,"",null,""]
[null,null,"",null,""]
[null,null,"",null,""]
[null,null,"",null,""]
[null,null,"",null,""]
[null,null,"",null,""]
[null,null,{"$f":"IF(B3330<>\"\",VLOOKUP(B3330,Peligrosppam,2,FALSE),\"\")","v":""},null,""]
[null,null,"",null,""]
[null,null,"",null,""]
[null,null,"",null,{"$f":"IF(C3333<>\"\",D3333/C3333,\"\")","v":""}]
[null,null,"",null,""]
[null,null,"",null,""]
[null,null,"",null,""]
[null,null,"",null,""]
[null,null,"",null,""]
[null,null,"",null,""]
[null,null,"",null,""]
[null,null,"",null,""]
[null,null,"",null,""]
[null,null,"",null,""]
[null,null,"",null,""]
[null,null,"",null,""]
[null,null,"",null,""]
[null,null,"",null,""]
[null,null,"",null,""]
[null,null,"",null,""]
[null,null,"",null,""]
[null,null,"",null,""]
[null,null,"",null,""]
[null,null,"",null,""]
[null,null,"",null,""]
[null,null,"",null,""]
[null,null,"",null,""]
[null,null,"",null,""]
[null,null,"",null,""]
[null,null,"",null,""]
[null,null,"",null,""]
[null,null,"",null,""]
[null,null,"",null,""]
[null,null,"",null,""]
[null,null,"",null,""]
[null,null,"",null,""]
[null,null,"",null,""]
[null,null,"",null,""]
[null,null,"",null,""]
[null,null,"",null,""]
[null,null,"",null,""]
[null,null,"",null,""]
[null,null,"",null,""]
[null,null,"",null,""]
[null,null,"",null,""]
[null,null,"",null,""]
[null,null,"",null,""]
[null,null,"",null,""]
[null,null,"",null,""]
[null,null,"",null,""]
[null,null,"",null,""]
[null,null,"",null,""]
[null,null,"",null,""]
[null,null,"",null,""]
[null,null,"",null,""]
[null,null,"",null,""]
[null,null,"",null,""]
[null,null,"",null,""]
[null,null,"",null,""]
[null,null,"",null,""]
[null,null,"",null,""]
[null,null,"",null,""]
[null,null,"",null,""]
[null,null,"",null,""]
[null,null,{"$f":"IF(B3394<>\"\",VLOOKUP(B3394,Peligrosppam,2,FALSE),\"\")","v":""},null,""]
[null,null,"",null,""]
[null,null,"",null,""]
[null,null,"",null,{"$f":"IF(C3397<>\"\",D3397/C3397,\"\")","v":""}]
[null,null,"",null,""]
[null,null,"",null,""]
[null,null,"",null,""]
[null,null,"",null,""]
[null,null,"",null,""]
[null,null,"",null,""]
[null,null,"",null,""]
[null,null,"",null,""]
[null,null,"",null,""]
[null,null,"",null,""]
[null,null,"",null,""]
[null,null,"",null,""]
[null,null,"",null,""]
[null,null,"",null,""]
[null,null,"",null,""]
[null,null,"",null,""]
[null,null,"",null,""]
[null,null,"",null,""]
[null,null,"",null,""]
[null,null,"",null,""]
[null,null,"",null,""]
[null,null,"",null,""]
[null,null,"",null,""]
[null,null,"",null,""]
[null,null,"",null,""]
[null,null,"",null,""]
[null,null,"",null,""]
[null,null,"",null,""]
[null,null,"",null,""]
[null,null,"",null,""]
[null,null,"",null,""]
[null,null,"",null,""]
[null,null,"",null,""]
[null,null,"",null,""]
[null,null,"",null,""]
[null,null,"",null,""]
[null,null,"",null,""]
[null,null,"",null,""]
[null,null,"",null,""]
[null,null,"",null,""]
[null,null,"",null,""]
[null,null,"",null,""]
[null,null,"",null,""]
[null,null,"",null,""]
[null,null,"",null,""]
[null,null,"",null,""]
[null,null,"",null,""]
[null,null,"",null,""]
[null,null,"",null,""]
[null,null,"",null,""]
[null,null,"",null,""]
[null,null,"",null,""]
[null,null,"",null,""]
[null,null,"",null,""]
[null,null,"",null,""]
[null,null,"",null,""]
[null,null,"",null,""]
[null,null,"",null,""]
[null,null,"",null,""]
[null,null,"",null,""]
[null,null,{"$f":"IF(B3458<>\"\",VLOOKUP(B3458,Peligrosppam,2,FALSE),\"\")","v":""},null,""]
[null,null,"",null,""]
[null,null,"",null,""]
[null,null,"",null,{"$f":"IF(C3461<>\"\",D3461/C3461,\"\")","v":""}]
[null,null,"",null,""]
[null,null,"",null,""]
[null,null,"",null,""]
[null,null,"",null,""]
[null,null,"",null,""]
[null,null,"",null,""]
[null,null,"",null,""]
[null,null,"",null,""]
[null,null,"",null,""]
[null,null,"",null,""]
[null,null,"",null,""]
[null,null,"",null,""]
[null,null,"",null,""]
[null,null,"",null,""]
[null,null,"",null,""]
[null,null,"",null,""]
[null,null,"",null,""]
[null,null,"",null,""]
[null,null,"",null,""]
[null,null,"",null,""]
[null,null,"",null,""]
[null,null,"",null,""]
[null,null,"",null,""]
[null,null,"",null,""]
[null,null,"",null,""]
[null,null,"",null,""]
[null,null,"",null,""]
[null,null,"",null,""]
[null,null,"",null,""]
[null,null,"",null,""]
[null,null,"",null,""]
[null,null,"",null,""]
[null,null,"",null,""]
[null,null,"",null,""]
[null,null,"",null,""]
[null,null,"",null,""]
[null,null,"",null,""]
[null,null,"",null,""]
[null,null,"",null,""]
[null,null,"",null,""]
[null,null,"",null,""]
[null,null,"",null,""]
[null,null,"",null,""]
[null,null,"",null,""]
[null,null,"",null,""]
[null,null,"",null,""]
[null,null,"",null,""]
[null,null,"",null,""]
[null,null,"",null,""]
[null,null,"",null,""]
[null,null,"",null,""]
[null,null,"",null,""]
[null,null,"",null,""]
[null,null,"",null,""]
[null,null,"",null,""]
[null,null,"",null,""]
[null,null,"",null,""]
[null,null,"",null,""]
[null,null,"",null,""]
[null,null,"",null,""]
[null,null,{"$f":"IF(B3522<>\"\",VLOOKUP(B3522,Peligrosppam,2,FALSE),\"\")","v":""},null,""]
[null,null,"",null,""]
[null,null,"",null,""]
[null,null,"",null,{"$f":"IF(C3525<>\"\",D3525/C3525,\"\")","v":""}]
[null,null,"",null,""]
[null,null,"",null,""]
[null,null,"",null,""]
[null,null,"",null,""]
[null,null,"",null,""]
[null,null,"",null,""]
[null,null,"",null,""]
[null,null,"",null,""]
[null,null,"",null,""]
[null,null,"",null,""]
[null,null,"",null,""]
[null,null,"",null,""]
[null,null,"",null,""]
[null,null,"",null,""]
[null,null,"",null,""]
[null,null,"",null,""]
[null,null,"",null,""]
[null,null,"",null,""]
[null,null,"",null,""]
[null,null,"",null,""]
[null,null,"",null,""]
[null,null,"",null,""]
[null,null,"",null,""]
[null,null,"",null,""]
[null,null,"",null,""]
[null,null,"",null,""]
[null,null,"",null,""]
[null,null,"",null,""]
[null,null,"",null,""]
[null,null,"",null,""]
[null,null,"",null,""]
[null,null,"",null,""]
[null,null,"",null,""]
[null,null,"",null,""]
[null,null,"",null,""]
[null,null,"",null,""]
[null,null,"",null,""]
[null,null,"",null,""]
[null,null,"",null,""]
[null,null,"",null,""]
[null,null,"",null,""]
[null,null,"",null,""]
[null,null,"",null,""]
[null,null,"",null,""]
[null,null,"",null,""]
[null,null,"",null,""]
[null,null,"",null,""]
[null,null,"",null,""]
[null,null,"",null,""]
[null,null,"",null,""]
[null,null,"",null,""]
[null,null,"",null,""]
[null,null,"",null,""]
[null,null,"",null,""]
[null,null,"",null,""]
[null,null,"",null,""]
[null,null,"",null,""]
[null,null,"",null,""]
[null,null,"",null,""]
[null,null,"",null,""]
[null,null,{"$f":"IF(B3586<>\"\",VLOOKUP(B3586,Peligrosppam,2,FALSE),\"\")","v":""},null,""]
[null,null,"",null,""]
[null,null,"",null,""]
[null,null,"",null,{"$f":"IF(C3589<>\"\",D3589/C3589,\"\")","v":""}]
[null,null,"",null,""]
[null,null,"",null,""]
[null,null,"",null,""]
[null,null,"",null,""]
[null,null,"",null,""]
[null,null,"",null,""]
[null,null,"",null,""]
[null,null,"",null,""]
[null,null,"",null,""]
[null,null,"",null,""]
[null,null,"",null,""]
[null,null,"",null,""]
[null,null,"",null,""]
[null,null,"",null,""]
[null,null,"",null,""]
[null,null,"",null,""]
[null,null,"",null,""]
[null,null,"",null,""]
[null,null,"",null,""]
[null,null,"",null,""]
[null,null,"",null,""]
[null,null,"",null,""]
[null,null,"",null,""]
[null,null,"",null,""]
[null,null,"",null,""]
[null,null,"",null,""]
[null,null,"",null,""]
[null,null,"",null,""]
[null,null,"",null,""]
[null,null,"",null,""]
[null,null,"",null,""]
[null,null,"",null,""]
[null,null,"",null,""]
[null,null,"",null,""]
[null,null,"",null,""]
[null,null,"",null,""]
[null,null,"",null,""]
[null,null,"",null,""]
[null,null,"",null,""]
[null,null,"",null,""]
[null,null,"",null,""]
[null,null,"",null,""]
[null,null,"",null,""]
[null,null,"",null,""]
[null,null,"",null,""]
[null,null,"",null,""]
[null,null,"",null,""]
[null,null,"",null,""]
[null,null,"",null,""]
[null,null,"",null,""]
[null,null,"",null,""]
[null,null,"",null,""]
[null,null,"",null,""]
[null,null,"",null,""]
[null,null,"",null,""]
[null,null,"",null,""]
[null,null,"",null,""]
[null,null,"",null,""]
[null,null,"",null,""]
[null,null,"",null,""]
[null,null,{"$f":"IF(B3650<>\"\",VLOOKUP(B3650,Peligrosppam,2,FALSE),\"\")","v":""},null,""]
[null,null,"",null,""]
[null,null,"",null,""]
[null,null,"",null,{"$f":"IF(C3653<>\"\",D3653/C3653,\"\")","v":""}]
[null,null,"",null,""]
[null,null,"",null,""]
[null,null,"",null,""]
[null,null,"",null,""]
[null,null,"",null,""]
[null,null,"",null,""]
[null,null,"",null,""]
[null,null,"",null,""]
[null,null,"",null,""]
[null,null,"",null,""]
[null,null,"",null,""]
[null,null,"",null,""]
[null,null,"",null,""]
[null,null,"",null,""]
[null,null,"",null,""]
[null,null,"",null,""]
[null,null,"",null,""]
[null,null,"",null,""]
[null,null,"",null,""]
[null,null,"",null,""]
[null,null,"",null,""]
[null,null,"",null,""]
[null,null,"",null,""]
[null,null,"",null,""]
[null,null,"",null,""]
[null,null,"",null,""]
[null,null,"",null,""]
[null,null,"",null,""]
[null,null,"",null,""]
[null,null,"",null,""]
[null,null,"",null,""]
[null,null,"",null,""]
[null,null,"",null,""]
[null,null,"",null,""]
[null,null,"",null,""]
[null,null,"",null,""]
[null,null,"",null,""]
[null,null,"",null,""]
[null,null,"",null,""]
[null,null,"",null,""]
[null,null,"",null,""]
[null,null,"",null,""]
[null,null,"",null,""]
[null,null,"",null,""]
[null,null,"",null,""]
[null,null,"",null,""]
[null,null,"",null,""]
[null,null,"",null,""]
[null,null,"",null,""]
[null,null,"",null,""]
[null,null,"",null,""]
[null,null,"",null,""]
[null,null,"",null,""]
[null,null,"",null,""]
[null,null,"",null,""]
[null,null,"",null,""]
[null,null,"",null,""]
[null,null,"",null,""]
[null,null,"",null,""]
[null,null,"",null,""]
[null,null,{"$f":"IF(B3714<>\"\",VLOOKUP(B3714,Peligrosppam,2,FALSE),\"\")","v":""},null,""]
[null,null,"",null,""]
[null,null,"",null,""]
[null,null,"",null,{"$f":"IF(C3717<>\"\",D3717/C3717,\"\")","v":""}]
[null,null,"",null,""]
[null,null,"",null,""]
[null,null,"",null,""]
[null,null,"",null,""]
[null,null,"",null,""]
[null,null,"",null,""]
[null,null,"",null,""]
[null,null,"",null,""]
[null,null,"",null,""]
[null,null,"",null,""]
[null,null,"",null,""]
[null,null,"",null,""]
[null,null,"",null,""]
[null,null,"",null,""]
[null,null,"",null,""]
[null,null,"",null,""]
[null,null,"",null,""]
[null,null,"",null,""]
[null,null,"",null,""]
[null,null,"",null,""]
[null,null,"",null,""]
[null,null,"",null,""]
[null,null,"",null,""]
[null,null,"",null,""]
[null,null,"",null,""]
[null,null,"",null,""]
[null,null,"",null,""]
[null,null,"",null,""]
[null,null,"",null,""]
[null,null,"",null,""]
[null,null,"",null,""]
[null,null,"",null,""]
[null,null,"",null,""]
[null,null,"",null,""]
[null,null,"",null,""]
[null,null,"",null,""]
[null,null,"",null,""]
[null,null,"",null,""]
[null,null,"",null,""]
[null,null,"",null,""]
[null,null,"",null,""]
[null,null,"",null,""]
[null,null,"",null,""]
[null,null,"",null,""]
[null,null,"",null,""]
[null,null,"",null,""]
[null,null,"",null,""]
[null,null,"",null,""]
[null,null,"",null,""]
[null,null,"",null,""]
[null,null,"",null,""]
[null,null,"",null,""]
[null,null,"",null,""]
[null,null,"",null,""]
[null,null,"",null,""]
[null,null,"",null,""]
[null,null,"",null,""]
[null,null,"",null,""]
[null,null,"",null,""]
[null,null,"",null,""]
[null,null,{"$f":"IF(B3778<>\"\",VLOOKUP(B3778,Peligrosppam,2,FALSE),\"\")","v":""},null,""]
[null,null,"",null,""]
[null,null,"",null,""]
[null,null,"",null,{"$f":"IF(C3781<>\"\",D3781/C3781,\"\")","v":""}]
[null,null,"",null,""]
[null,null,"",null,""]
[null,null,"",null,""]
[null,null,"",null,""]
[null,null,"",null,""]
[null,null,"",null,""]
[null,null,"",null,""]
[null,null,"",null,""]
[null,null,"",null,""]
[null,null,"",null,""]
[null,null,"",null,""]
[null,null,"",null,""]
[null,null,"",null,""]
[null,null,"",null,""]
[null,null,"",null,""]
[null,null,"",null,""]
[null,null,"",null,""]
[null,null,"",null,""]
[null,null,"",null,""]
[null,null,"",null,""]
[null,null,"",null,""]
[null,null,"",null,""]
[null,null,"",null,""]
[null,null,"",null,""]
[null,null,"",null,""]
[null,null,"",null,""]
[null,null,"",null,""]
[null,null,"",null,""]
[null,null,"",null,""]
[null,null,"",null,""]
[null,null,"",null,""]
[null,null,"",null,""]
[null,null,"",null,""]
[null,null,"",null,""]
[null,null,"",null,""]
[null,null,"",null,""]
[null,null,"",null,""]
[null,null,"",null,""]
[null,null,"",null,""]
[null,null,"",null,""]
[null,null,"",null,""]
[null,null,"",null,""]
[null,null,"",null,""]
[null,null,"",null,""]
[null,null,"",null,""]
[null,null,"",null,""]
[null,null,"",null,""]
[null,null,"",null,""]
[null,null,"",null,""]
[null,null,"",null,""]
[null,null,"",null,""]
[null,null,"",null,""]
[null,null,"",null,""]
[null,null,"",null,""]
[null,null,"",null,""]
[null,null,"",null,""]
[null,null,"",null,""]
[null,null,"",null,""]
[null,null,"",null,""]
[null,null,"",null,""]
[null,null,{"$f":"IF(B3842<>\"\",VLOOKUP(B3842,Peligrosppam,2,FALSE),\"\")","v":""},null,""]
[null,null,"",null,""]
[null,null,"",null,""]
[null,null,"",null,{"$f":"IF(C3845<>\"\",D3845/C3845,\"\")","v":""}]
[null,null,"",null,""]
[null,null,"",null,""]
[null,null,"",null,""]
[null,null,"",null,""]
[null,null,"",null,""]
[null,null,"",null,""]
[null,null,"",null,""]
[null,null,"",null,""]
[null,null,"",null,""]
[null,null,"",null,""]
[null,null,"",null,""]
[null,null,"",null,""]
[null,null,"",null,""]
[null,null,"",null,""]
[null,null,"",null,""]
[null,null,"",null,""]
[null,null,"",null,""]
[null,null,"",null,""]
[null,null,"",null,""]
[null,null,"",null,""]
[null,null,"",null,""]
[null,null,"",null,""]
[null,null,"",null,""]
[null,null,"",null,""]
[null,null,"",null,""]
[null,null,"",null,""]
[null,null,"",null,""]
[null,null,"",null,""]
[null,null,"",null,""]
[null,null,"",null,""]
[null,null,"",null,""]
[null,null,"",null,""]
[null,null,"",null,""]
[null,null,"",null,""]
[null,null,"",null,""]
[null,null,"",null,""]
[null,null,"",null,""]
[null,null,"",null,""]
[null,null,"",null,""]
[null,null,"",null,""]
[null,null,"",null,""]
[null,null,"",null,""]
[null,null,"",null,""]
[null,null,"",null,""]
[null,null,"",null,""]
[null,null,"",null,""]
[null,null,"",null,""]
[null,null,"",null,""]
[null,null,"",null,""]
[null,null,"",null,""]
[null,null,"",null,""]
[null,null,"",null,""]
[null,null,"",null,""]
[null,null,"",null,""]
[null,null,"",null,""]
[null,null,"",null,""]
[null,null,"",null,""]
[null,null,"",null,""]
[null,null,"",null,""]
[null,null,"",null,""]
[null,null,{"$f":"IF(B3906<>\"\",VLOOKUP(B3906,Peligrosppam,2,FALSE),\"\")","v":""},null,""]
[null,null,"",null,""]
[null,null,"",null,""]
[null,null,"",null,{"$f":"IF(C3909<>\"\",D3909/C3909,\"\")","v":""}]
[null,null,"",null,""]
[null,null,"",null,""]
[null,null,"",null,""]
[null,null,"",null,""]
[null,null,"",null,""]
[null,null,"",null,""]
[null,null,"",null,""]
[null,null,"",null,""]
[null,null,"",null,""]
[null,null,"",null,""]
[null,null,"",null,""]
[null,null,"",null,""]
[null,null,"",null,""]
[null,null,"",null,""]
[null,null,"",null,""]
[null,null,"",null,""]
[null,null,"",null,""]
[null,null,"",null,""]
[null,null,"",null,""]
[null,null,"",null,""]
[null,null,"",null,""]
[null,null,"",null,""]
[null,null,"",null,""]
[null,null,"",null,""]
[null,null,"",null,""]
[null,null,"",null,""]
[null,null,"",null,""]
[null,null,"",null,""]
[null,null,"",null,""]
[null,null,"",null,""]
[null,null,"",null,""]
[null,null,"",null,""]
[null,null,"",null,""]
[null,null,"",null,""]
[null,null,"",null,""]
[null,null,"",null,""]
[null,null,"",null,""]
[null,null,"",null,""]
[null,null,"",null,""]
[null,null,"",null,""]
[null,null,"",null,""]
[null,null,"",null,""]
[null,null,"",null,""]
[null,null,"",null,""]
[null,null,"",null,""]
[null,null,"",null,""]
[null,null,"",null,""]
[null,null,"",null,""]
[null,null,"",null,""]
[null,null,"",null,""]
[null,null,"",null,""]
[null,null,"",null,""]
[null,null,"",null,""]
[null,null,"",null,""]
[null,null,"",null,""]
[null,null,"",null,""]
[null,null,"",null,""]
[null,null,"",null,""]
[null,null,"",null,""]
[null,null,"",null,""]
[null,null,{"$f":"IF(B3970<>\"\",VLOOKUP(B3970,Peligrosppam,2,FALSE),\"\")","v":""},null,""]
[null,null,"",null,""]
[null,null,"",null,""]
[null,null,"",null,{"$f":"IF(C3973<>\"\",D3973/C3973,\"\")","v":""}]
[null,null,"",null,""]
[null,null,"",null,""]
[null,null,"",null,""]
[null,null,"",null,""]
[null,null,"",null,""]
[null,null,"",null,""]
[null,null,"",null,""]
[null,null,"",null,""]
[null,null,"",null,""]
[null,null,"",null,""]
[null,null,"",null,""]
[null,null,"",null,""]
[null,null,"",null,""]
[null,null,"",null,""]
[null,null,"",null,""]
[null,null,"",null,""]
[null,null,"",null,""]
[null,null,"",null,""]
[null,null,"",null,""]
[null,null,"",null,""]
[null,null,"",null,""]
[null,null,"",null,""]
[null,null,"",null,""]
[null,null,"",null,""]
[null,null,"",null,""]
[null,null,"",null,""]
[null,null,"",null,""]
[null,null,"",null,""]
[null,null,"",null,""]
[null,null,"",null,""]
[null,null,"",null,""]
[null,null,"",null,""]
[null,null,"",null,""]
[null,null,"",null,""]
[null,null,"",null,""]
[null,null,"",null,""]
[null,null,"",null,""]
[null,null,"",null,""]
[null,null,"",null,""]
[null,null,"",null,""]
[null,null,"",null,""]
[null,null,"",null,""]
[null,null,"",null,""]
[null,null,"",null,""]
[null,null,"",null,""]
[null,null,"",null,""]
[null,null,"",null,""]
[null,null,"",null,""]
[null,null,"",null,""]
[null,null,"",null,""]
[null,null,"",null,""]
[null,null,"",null,""]
[null,null,"",null,""]
[null,null,"",null,""]
[null,null,"",null,""]
[null,null,"",null,""]
[null,null,"",null,""]
[null,null,"",null,""]
[null,null,"",null,""]
[null,null,"",null,""]
[null,null,{"$f":"IF(B4034<>\"\",VLOOKUP(B4034,Peligrosppam,2,FALSE),\"\")","v":""},null,""]
[null,null,"",null,""]
[null,null,"",null,""]
[null,null,"",null,{"$f":"IF(C4037<>\"\",D4037/C4037,\"\")","v":""}]
[null,null,"",null,""]
[null,null,"",null,""]
[null,null,"",null,""]
[null,null,"",null,""]
[null,null,"",null,""]
[null,null,"",null,""]
[null,null,"",null,""]
[null,null,"",null,""]
[null,null,"",null,""]
[null,null,"",null,""]
[null,null,"",null,""]
[null,null,"",null,""]
[null,null,"",null,""]
[null,null,"",null,""]
[null,null,"",null,""]
[null,null,"",null,""]
[null,null,"",null,""]
[null,null,"",null,""]
[null,null,"",null,""]
[null,null,"",null,""]
[null,null,"",null,""]
[null,null,"",null,""]
[null,null,"",null,""]
[null,null,"",null,""]
[null,null,"",null,""]
[null,null,"",null,""]
[null,null,"",null,""]
[null,null,"",null,""]
[null,null,"",null,""]
[null,null,"",null,""]
[null,null,"",null,""]
[null,null,"",null,""]
[null,null,"",null,""]
[null,null,"",null,""]
[null,null,"",null,""]
[null,null,"",null,""]
[null,null,"",null,""]
[null,null,"",null,""]
[null,null,"",null,""]
[null,null,"",null,""]
[null,null,"",null,""]
[null,null,"",null,""]
[null,null,"",null,""]
[null,null,"",null,""]
[null,null,"",null,""]
[null,null,"",null,""]
[null,null,"",null,""]
[null,null,"",null,""]
[null,null,"",null,""]
[null,null,"",null,""]
[null,null,"",null,""]
[null,null,"",null,""]
[null,null,"",null,""]
[null,null,"",null,""]
[null,null,"",null,""]
[null,null,"",null,""]
[null,null,"",null,""]
[null,null,"",null,""]
[null,null,"",null,""]
[null,null,"",null,""]
[null,null,{"$f":"IF(B4098<>\"\",VLOOKUP(B4098,Peligrosppam,2,FALSE),\"\")","v":""},null,""]
[null,null,"",null,""]
[null,null,"",null,""]
[null,null,"",null,{"$f":"IF(C4101<>\"\",D4101/C4101,\"\")","v":""}]
[null,null,"",null,""]
[null,null,"",null,""]
[null,null,"",null,""]
[null,null,"",null,""]
[null,null,"",null,""]
[null,null,"",null,""]
[null,null,"",null,""]
[null,null,"",null,""]
[null,null,"",null,""]
[null,null,"",null,""]
[null,null,"",null,""]
[null,null,"",null,""]
[null,null,"",null,""]
[null,null,"",null,""]
[null,null,"",null,""]
[null,null,"",null,""]
[null,null,"",null,""]
[null,null,"",null,""]
[null,null,"",null,""]
[null,null,"",null,""]
[null,null,"",null,""]
[null,null,"",null,""]
[null,null,"",null,""]
[null,null,"",null,""]
[null,null,"",null,""]
[null,null,"",null,""]
[null,null,"",null,""]
[null,null,"",null,""]
[null,null,"",null,""]
[null,null,"",null,""]
[null,null,"",null,""]
[null,null,"",null,""]
[null,null,"",null,""]
[null,null,"",null,""]
[null,null,"",null,""]
[null,null,"",null,""]
[null,null,"",null,""]
[null,null,"",null,""]
[null,null,"",null,""]
[null,null,"",null,""]
[null,null,"",null,""]
[null,null,"",null,""]
[null,null,"",null,""]
[null,null,"",null,""]
[null,null,"",null,""]
[null,null,"",null,""]
[null,null,"",null,""]
[null,null,"",null,""]
[null,null,"",null,""]
[null,null,"",null,""]
[null,null,"",null,""]
[null,null,"",null,""]
[null,null,"",null,""]
[null,null,"",null,""]
[null,null,"",null,""]
[null,null,"",null,""]
[null,null,"",null,""]
[null,null,"",null,""]
[null,null,"",null,""]
[null,null,"",null,""]
[null,null,{"$f":"IF(B4162<>\"\",VLOOKUP(B4162,Peligrosppam,2,FALSE),\"\")","v":""},null,""]
[null,null,"",null,""]
[null,null,"",null,""]
[null,null,"",null,{"$f":"IF(C4165<>\"\",D4165/C4165,\"\")","v":""}]
[null,null,"",null,""]
[null,null,"",null,""]
[null,null,"",null,""]
[null,null,"",null,""]
[null,null,"",null,""]
[null,null,"",null,""]
[null,null,"",null,""]
[null,null,"",null,""]
[null,null,"",null,""]
[null,null,"",null,""]
[null,null,"",null,""]
[null,null,"",null,""]
[null,null,"",null,""]
[null,null,"",null,""]
[null,null,"",null,""]
[null,null,"",null,""]
[null,null,"",null,""]
[null,null,"",null,""]
[null,null,"",null,""]
[null,null,"",null,""]
[null,null,"",null,""]
[null,null,"",null,""]
[null,null,"",null,""]
[null,null,"",null,""]
[null,null,"",null,""]
[null,null,"",null,""]
[null,null,"",null,""]
[null,null,"",null,""]
[null,null,"",null,""]
[null,null,"",null,""]
[null,null,"",null,""]
[null,null,"",null,""]
[null,null,"",null,""]
[null,null,"",null,""]
[null,null,"",null,""]
[null,null,"",null,""]
[null,null,"",null,""]
[null,null,"",null,""]
[null,null,"",null,""]
[null,null,"",null,""]
[null,null,"",null,""]
[null,null,"",null,""]
[null,null,"",null,""]
[null,null,"",null,""]
[null,null,"",null,""]
[null,null,"",null,""]
[null,null,"",null,""]
[null,null,"",null,""]
[null,null,"",null,""]
[null,null,"",null,""]
[null,null,"",null,""]
[null,null,"",null,""]
[null,null,"",null,""]
[null,null,"",null,""]
[null,null,"",null,""]
[null,null,"",null,""]
[null,null,"",null,""]
[null,null,"",null,""]
[null,null,"",null,""]
[null,null,"",null,""]
[null,null,{"$f":"IF(B4226<>\"\",VLOOKUP(B4226,Peligrosppam,2,FALSE),\"\")","v":""},null,""]
[null,null,"",null,""]
[null,null,"",null,""]
[null,null,"",null,{"$f":"IF(C4229<>\"\",D4229/C4229,\"\")","v":""}]
[null,null,"",null,""]
[null,null,"",null,""]
[null,null,"",null,""]
[null,null,"",null,""]
[null,null,"",null,""]
[null,null,"",null,""]
[null,null,"",null,""]
[null,null,"",null,""]
[null,null,"",null,""]
[null,null,"",null,""]
[null,null,"",null,""]
[null,null,"",null,""]
[null,null,"",null,""]
[null,null,"",null,""]
[null,null,"",null,""]
[null,null,"",null,""]
[null,null,"",null,""]
[null,null,"",null,""]
[null,null,"",null,""]
[null,null,"",null,""]
[null,null,"",null,""]
[null,null,"",null,""]
[null,null,"",null,""]
[null,null,"",null,""]
[null,null,"",null,""]
[null,null,"",null,""]
[null,null,"",null,""]
[null,null,"",null,""]
[null,null,"",null,""]
[null,null,"",null,""]
[null,null,"",null,""]
[null,null,"",null,""]
[null,null,"",null,""]
[null,null,"",null,""]
[null,null,"",null,""]
[null,null,"",null,""]
[null,null,"",null,""]
[null,null,"",null,""]
[null,null,"",null,""]
[null,null,"",null,""]
[null,null,"",null,""]
[null,null,"",null,""]
[null,null,"",null,""]
[null,null,"",null,""]
[null,null,"",null,""]
[null,null,"",null,""]
[null,null,"",null,""]
[null,null,"",null,""]
[null,null,"",null,""]
[null,null,"",null,""]
[null,null,"",null,""]
[null,null,"",null,""]
[null,null,"",null,""]
[null,null,"",null,""]
[null,null,"",null,""]
[null,null,"",null,""]
[null,null,"",null,""]
[null,null,"",null,""]
[null,null,"",null,""]
[null,null,"",null,""]
[null,null,{"$f":"IF(B4290<>\"\",VLOOKUP(B4290,Peligrosppam,2,FALSE),\"\")","v":""},null,""]
[null,null,"",null,""]
[null,null,"",null,""]
[null,null,"",null,{"$f":"IF(C4293<>\"\",D4293/C4293,\"\")","v":""}]
[null,null,"",null,""]
[null,null,"",null,""]
[null,null,"",null,""]
[null,null,"",null,""]
[null,null,"",null,""]
[null,null,"",null,""]
[null,null,"",null,""]
[null,null,"",null,""]
[null,null,"",null,""]
[null,null,"",null,""]
[null,null,"",null,""]
[null,null,"",null,""]
[null,null,"",null,""]
[null,null,"",null,""]
[null,null,"",null,""]
[null,null,"",null,""]
[null,null,"",null,""]
[null,null,"",null,""]
[null,null,"",null,""]
[null,null,"",null,""]
[null,null,"",null,""]
[null,null,"",null,""]
[null,null,"",null,""]
[null,null,"",null,""]
[null,null,"",null,""]
[null,null,"",null,""]
[null,null,"",null,""]
[null,null,"",null,""]
[null,null,"",null,""]
[null,null,"",null,""]
[null,null,"",null,""]
[null,null,"",null,""]
[null,null,"",null,""]
[null,null,"",null,""]
[null,null,"",null,""]
[null,null,"",null,""]
[null,null,"",null,""]
[null,null,"",null,""]
[null,null,"",null,""]
[null,null,"",null,""]
[null,null,"",null,""]
[null,null,"",null,""]
[null,null,"",null,""]
[null,null,"",null,""]
[null,null,"",null,""]
[null,null,"",null,""]
[null,null,"",null,""]
[null,null,"",null,""]
[null,null,"",null,""]
[null,null,"",null,""]
[null,null,"",null,""]
[null,null,"",null,""]
[null,null,"",null,""]
[null,null,"",null,""]
[null,null,"",null,""]
[null,null,"",null,""]
[null,null,"",null,""]
[null,null,"",null,""]
[null,null,"",null,""]
[null,null,"",null,""]
[null,null,{"$f":"IF(B4354<>\"\",VLOOKUP(B4354,Peligrosppam,2,FALSE),\"\")","v":""},null,""]
[null,null,"",null,""]
[null,null,"",null,""]
[null,null,"",null,{"$f":"IF(C4357<>\"\",D4357/C4357,\"\")","v":""}]
[null,null,"",null,""]
[null,null,"",null,""]
[null,null,"",null,""]
[null,null,"",null,""]
[null,null,"",null,""]
[null,null,"",null,""]
[null,null,"",null,""]
[null,null,"",null,""]
[null,null,"",null,""]
[null,null,"",null,""]
[null,null,"",null,""]
[null,null,"",null,""]
[null,null,"",null,""]
[null,null,"",null,""]
[null,null,"",null,""]
[null,null,"",null,""]
[null,null,"",null,""]
[null,null,"",null,""]
[null,null,"",null,""]
[null,null,"",null,""]
[null,null,"",null,""]
[null,null,"",null,""]
[null,null,"",null,""]
[null,null,"",null,""]
[null,null,"",null,""]
[null,null,"",null,""]
[null,null,"",null,""]
[null,null,"",null,""]
[null,null,"",null,""]
[null,null,"",null,""]
[null,null,"",null,""]
[null,null,"",null,""]
[null,null,"",null,""]
[null,null,"",null,""]
[null,null,"",null,""]
[null,null,"",null,""]
[null,null,"",null,""]
[null,null,"",null,""]
[null,null,"",null,""]
[null,null,"",null,""]
[null,null,"",null,""]
[null,null,"",null,""]
[null,null,"",null,""]
[null,null,"",null,""]
[null,null,"",null,""]
[null,null,"",null,""]
[null,null,"",null,""]
[null,null,"",null,""]
[null,null,"",null,""]
[null,null,"",null,""]
[null,null,"",null,""]
[null,null,"",null,""]
[null,null,"",null,""]
[null,null,"",null,""]
[null,null,"",null,""]
[null,null,"",null,""]
[null,null,"",null,""]
[null,null,"",null,""]
[null,null,"",null,""]
[null,null,"",null,""]
[null,null,{"$f":"IF(B4418<>\"\",VLOOKUP(B4418,Peligrosppam,2,FALSE),\"\")","v":""},null,""]
[null,null,"",null,""]
[null,null,"",null,""]
[null,null,"",null,{"$f":"IF(C4421<>\"\",D4421/C4421,\"\")","v":""}]
[null,null,"",null,""]
[null,null,"",null,""]
[null,null,"",null,""]
[null,null,"",null,""]
[null,null,"",null,""]
[null,null,"",null,""]
[null,null,"",null,""]
[null,null,"",null,""]
[null,null,"",null,""]
[null,null,"",null,""]
[null,null,"",null,""]
[null,null,"",null,""]
[null,null,"",null,""]
[null,null,"",null,""]
[null,null,"",null,""]
[null,null,"",null,""]
[null,null,"",null,""]
[null,null,"",null,""]
[null,null,"",null,""]
[null,null,"",null,""]
[null,null,"",null,""]
[null,null,"",null,""]
[null,null,"",null,""]
[null,null,"",null,""]
[null,null,"",null,""]
[null,null,"",null,""]
[null,null,"",null,""]
[null,null,"",null,""]
[null,null,"",null,""]
[null,null,"",null,""]
[null,null,"",null,""]
[null,null,"",null,""]
[null,null,"",null,""]
[null,null,"",null,""]
[null,null,"",null,""]
[null,null,"",null,""]
[null,null,"",null,""]
[null,null,"",null,""]
[null,null,"",null,""]
[null,null,"",null,""]
[null,null,"",null,""]
[null,null,"",null,""]
[null,null,"",null,""]
[null,null,"",null,""]
[null,null,"",null,""]
[null,null,"",null,""]
[null,null,"",null,""]
[null,null,"",null,""]
[null,null,"",null,""]
[null,null,"",null,""]
[null,null,"",null,""]
[null,null,"",null,""]
[null,null,"",null,""]
[null,null,"",null,""]
[null,null,"",null,""]
[null,null,"",null,""]
[null,null,"",null,""]
[null,null,"",null,""]
[null,null,"",null,""]
[null,null,"",null,""]
[null,null,{"$f":"IF(B4482<>\"\",VLOOKUP(B4482,Peligrosppam,2,FALSE),\"\")","v":""},null,""]
[null,null,"",null,""]
[null,null,"",null,""]
[null,null,"",null,{"$f":"IF(C4485<>\"\",D4485/C4485,\"\")","v":""}]
[null,null,"",null,""]
[null,null,"",null,""]
[null,null,"",null,""]
[null,null,"",null,""]
[null,null,"",null,""]
[null,null,"",null,""]
[null,null,"",null,""]
[null,null,"",null,""]
[null,null,"",null,""]
[null,null,"",null,""]
[null,null,"",null,""]
[null,null,"",null,""]
[null,null,"",null,""]
[null,null,"",null,""]
[null,null,"",null,""]
[null,null,"",null,""]
[null,null,"",null,""]
[null,null,"",null,""]
[null,null,"",null,""]
[null,null,"",null,""]
[null,null,"",null,""]
[null,null,"",null,""]
[null,null,"",null,""]
[null,null,"",null,""]
[null,null,"",null,""]
[null,null,"",null,""]
[null,null,"",null,""]
[null,null,"",null,""]
[null,null,"",null,""]
[null,null,"",null,""]
[null,null,"",null,""]
[null,null,"",null,""]
[null,null,"",null,""]
[null,null,"",null,""]
[null,null,"",null,""]
[null,null,"",null,""]
[null,null,"",null,""]
[null,null,"",null,""]
[null,null,"",null,""]
[null,null,"",null,""]
[null,null,"",null,""]
[null,null,"",null,""]
[null,null,"",null,""]
[null,null,"",null,""]
[null,null,"",null,""]
[null,null,"",null,""]
[null,null,"",null,""]
[null,null,"",null,""]
[null,null,"",null,""]
[null,null,"",null,""]
[null,null,"",null,""]
[null,null,"",null,""]
[null,null,"",null,""]
[null,null,"",null,""]
[null,null,"",null,""]
[null,null,"",null,""]
[null,null,"",null,""]
[null,null,"",null,""]
[null,null,"",null,""]
[null,null,"",null,""]
[null,null,{"$f":"IF(B4546<>\"\",VLOOKUP(B4546,Peligrosppam,2,FALSE),\"\")","v":""},null,""]
[null,null,"",null,""]
[null,null,"",null,""]
[null,null,"",null,{"$f":"IF(C4549<>\"\",D4549/C4549,\"\")","v":""}]
[null,null,"",null,""]
[null,null,"",null,""]
[null,null,"",null,""]
[null,null,"",null,""]
[null,null,"",null,""]
[null,null,"",null,""]
[null,null,"",null,""]
[null,null,"",null,""]
[null,null,"",null,""]
[null,null,"",null,""]
[null,null,"",null,""]
[null,null,"",null,""]
[null,null,"",null,""]
[null,null,"",null,""]
[null,null,"",null,""]
[null,null,"",null,""]
[null,null,"",null,""]
[null,null,"",null,""]
[null,null,"",null,""]
[null,null,"",null,""]
[null,null,"",null,""]
[null,null,"",null,""]
[null,null,"",null,""]
[null,null,"",null,""]
[null,null,"",null,""]
[null,null,"",null,""]
[null,null,"",null,""]
[null,null,"",null,""]
[null,null,"",null,""]
[null,null,"",null,""]
[null,null,"",null,""]
[null,null,"",null,""]
[null,null,"",null,""]
[null,null,"",null,""]
[null,null,"",null,""]
[null,null,"",null,""]
[null,null,"",null,""]
[null,null,"",null,""]
[null,null,"",null,""]
[null,null,"",null,""]
[null,null,"",null,""]
[null,null,"",null,""]
[null,null,"",null,""]
[null,null,"",null,""]
[null,null,"",null,""]
[null,null,"",null,""]
[null,null,"",null,""]
[null,null,"",null,""]
[null,null,"",null,""]
[null,null,"",null,""]
[null,null,"",null,""]
[null,null,"",null,""]
[null,null,"",null,""]
[null,null,"",null,""]
[null,null,"",null,""]
[null,null,"",null,""]
[null,null,"",null,""]
[null,null,"",null,""]
[null,null,"",null,""]
[null,null,"",null,""]
[null,null,{"$f":"IF(B4610<>\"\",VLOOKUP(B4610,Peligrosppam,2,FALSE),\"\")","v":""},null,""]
[null,null,"",null,""]
[null,null,"",null,""]
[null,null,"",null,{"$f":"IF(C4613<>\"\",D4613/C4613,\"\")","v":""}]
[null,null,"",null,""]
[null,null,"",null,""]
[null,null,"",null,""]
[null,null,"",null,""]
[null,null,"",null,""]
[null,null,"",null,""]
[null,null,"",null,""]
[null,null,"",null,""]
[null,null,"",null,""]
[null,null,"",null,""]
[null,null,"",null,""]
[null,null,"",null,""]
[null,null,"",null,""]
[null,null,"",null,""]
[null,null,"",null,""]
[null,null,"",null,""]
[null,null,"",null,""]
[null,null,"",null,""]
[null,null,"",null,""]
[null,null,"",null,""]
[null,null,"",null,""]
[null,null,"",null,""]
[null,null,"",null,""]
[null,null,"",null,""]
[null,null,"",null,""]
[null,null,"",null,""]
[null,null,"",null,""]
[null,null,"",null,""]
[null,null,"",null,""]
[null,null,"",null,""]
[null,null,"",null,""]
[null,null,"",null,""]
[null,null,"",null,""]
[null,null,"",null,""]
[null,null,"",null,""]
[null,null,"",null,""]
[null,null,"",null,""]
[null,null,"",null,""]
[null,null,"",null,""]
[null,null,"",null,""]
[null,null,"",null,""]
[null,null,"",null,""]
[null,null,"",null,""]
[null,null,"",null,""]
[null,null,"",null,""]
[null,null,"",null,""]
[null,null,"",null,""]
[null,null,"",null,""]
[null,null,"",null,""]
[null,null,"",null,""]
[null,null,"",null,""]
[null,null,"",null,""]
[null,null,"",null,""]
[null,null,"",null,""]
[null,null,"",null,""]
[null,null,"",null,""]
[null,null,"",null,""]
[null,null,"",null,""]
[null,null,"",null,""]
[null,null,"",null,""]
[null,null,{"$f":"IF(B4674<>\"\",VLOOKUP(B4674,Peligrosppam,2,FALSE),\"\")","v":""},null,""]
[null,null,"",null,""]
[null,null,"",null,""]
[null,null,"",null,{"$f":"IF(C4677<>\"\",D4677/C4677,\"\")","v":""}]
[null,null,"",null,""]
[null,null,"",null,""]
[null,null,"",null,""]
[null,null,"",null,""]
[null,null,"",null,""]
[null,null,"",null,""]
[null,null,"",null,""]
[null,null,"",null,""]
[null,null,"",null,""]
[null,null,"",null,""]
[null,null,"",null,""]
[null,null,"",null,""]
[null,null,"",null,""]
[null,null,"",null,""]
[null,null,"",null,""]
[null,null,"",null,""]
[null,null,"",null,""]
[null,null,"",null,""]
[null,null,"",null,""]
[null,null,"",null,""]
[null,null,"",null,""]
[null,null,"",null,""]
[null,null,"",null,""]
[null,null,"",null,""]
[null,null,"",null,""]
[null,null,"",null,""]
[null,null,"",null,""]
[null,null,"",null,""]
[null,null,"",null,""]
[null,null,"",null,""]
[null,null,"",null,""]
[null,null,"",null,""]
[null,null,"",null,""]
[null,null,"",null,""]
[null,null,"",null,""]
[null,null,"",null,""]
[null,null,"",null,""]
[null,null,"",null,""]
[null,null,"",null,""]
[null,null,"",null,""]
[null,null,"",null,""]
[null,null,"",null,""]
[null,null,"",null,""]
[null,null,"",null,""]
[null,null,"",null,""]
[null,null,"",null,""]
[null,null,"",null,""]
[null,null,"",null,""]
[null,null,"",null,""]
[null,null,"",null,""]
[null,null,"",null,""]
[null,null,"",null,""]
[null,null,"",null,""]
[null,null,"",null,""]
[null,null,"",null,""]
[null,null,"",null,""]
[null,null,"",null,""]
[null,null,"",null,""]
[null,null,"",null,""]
[null,null,"",null,""]
[null,null,{"$f":"IF(B4738<>\"\",VLOOKUP(B4738,Peligrosppam,2,FALSE),\"\")","v":""},null,""]
[null,null,"",null,""]
[null,null,"",null,""]
[null,null,"",null,{"$f":"IF(C4741<>\"\",D4741/C4741,\"\")","v":""}]
[null,null,"",null,""]
[null,null,"",null,""]
[null,null,"",null,""]
[null,null,"",null,""]
[null,null,"",null,""]
[null,null,"",null,""]
[null,null,"",null,""]
[null,null,"",null,""]
[null,null,"",null,""]
[null,null,"",null,""]
[null,null,"",null,""]
[null,null,"",null,""]
[null,null,"",null,""]
[null,null,"",null,""]
[null,null,"",null,""]
[null,null,"",null,""]
[null,null,"",null,""]
[null,null,"",null,""]
[null,null,"",null,""]
[null,null,"",null,""]
[null,null,"",null,""]
[null,null,"",null,""]
[null,null,"",null,""]
[null,null,"",null,""]
[null,null,"",null,""]
[null,null,"",null,""]
[null,null,"",null,""]
[null,null,"",null,""]
[null,null,"",null,""]
[null,null,"",null,""]
[null,null,"",null,""]
[null,null,"",null,""]
[null,null,"",null,""]
[null,null,"",null,""]
[null,null,"",null,""]
[null,null,"",null,""]
[null,null,"",null,""]
[null,null,"",null,""]
[null,null,"",null,""]
[null,null,"",null,""]
[null,null,"",null,""]
[null,null,"",null,""]
[null,null,"",null,""]
[null,null,"",null,""]
[null,null,"",null,""]
[null,null,"",null,""]
[null,null,"",null,""]
[null,null,"",null,""]
[null,null,"",null,""]
[null,null,"",null,""]
[null,null,"",null,""]
[null,null,"",null,""]
[null,null,"",null,""]
[null,null,"",null,""]
[null,null,"",null,""]
[null,null,"",null,""]
[null,null,"",null,""]
[null,null,"",null,""]
[null,null,"",null,""]
[null,null,"",null,""]
[null,null,{"$f":"IF(B4802<>\"\",VLOOKUP(B4802,Peligrosppam,2,FALSE),\"\")","v":""},null,""]
[null,null,"",null,""]
[null,null,"",null,""]
[null,null,"",null,{"$f":"IF(C4805<>\"\",D4805/C4805,\"\")","v":""}]
[null,null,"",null,""]
[null,null,"",null,""]
[null,null,"",null,""]
[null,null,"",null,""]
[null,null,"",null,""]
[null,null,"",null,""]
[null,null,"",null,""]
[null,null,"",null,""]
[null,null,"",null,""]
[null,null,"",null,""]
[null,null,"",null,""]
[null,null,"",null,""]
[null,null,"",null,""]
[null,null,"",null,""]
[null,null,"",null,""]
[null,null,"",null,""]
[null,null,"",null,""]
[null,null,"",null,""]
[null,null,"",null,""]
[null,null,"",null,""]
[null,null,"",null,""]
[null,null,"",null,""]
[null,null,"",null,""]
[null,null,"",null,""]
[null,null,"",null,""]
[null,null,"",null,""]
[null,null,"",null,""]
[null,null,"",null,""]
[null,null,"",null,""]
[null,null,"",null,""]
[null,null,"",null,""]
[null,null,"",null,""]
[null,null,"",null,""]
[null,null,"",null,""]
[null,null,"",null,""]
[null,null,"",null,""]
[null,null,"",null,""]
[null,null,"",null,""]
[null,null,"",null,""]
[null,null,"",null,""]
[null,null,"",null,""]
[null,null,"",null,""]
[null,null,"",null,""]
[null,null,"",null,""]
[null,null,"",null,""]
[null,null,"",null,""]
[null,null,"",null,""]
[null,null,"",null,""]
[null,null,"",null,""]
[null,null,"",null,""]
[null,null,"",null,""]
[null,null,"",null,""]
[null,null,"",null,""]
[null,null,"",null,""]
[null,null,"",null,""]
[null,null,"",null,""]
[null,null,"",null,""]
[null,null,"",null,""]
[null,null,"",null,""]
[null,null,"",null,""]
[null,null,{"$f":"IF(B4866<>\"\",VLOOKUP(B4866,Peligrosppam,2,FALSE),\"\")","v":""},null,""]
[null,null,"",null,""]
[null,null,"",null,""]
[null,null,"",null,{"$f":"IF(C4869<>\"\",D4869/C4869,\"\")","v":""}]
[null,null,"",null,""]
[null,null,"",null,""]
[null,null,"",null,""]
[null,null,"",null,""]
[null,null,"",null,""]
[null,null,"",null,""]
[null,null,"",null,""]
[null,null,"",null,""]
[null,null,"",null,""]
[null,null,"",null,""]
[null,null,"",null,""]
[null,null,"",null,""]
[null,null,"",null,""]
[null,null,"",null,""]
[null,null,"",null,""]
[null,null,"",null,""]
[null,null,"",null,""]
[null,null,"",null,""]
[null,null,"",null,""]
[null,null,"",null,""]
[null,null,"",null,""]
[null,null,"",null,""]
[null,null,"",null,""]
[null,null,"",null,""]
[null,null,"",null,""]
[null,null,"",null,""]
[null,null,"",null,""]
[null,null,"",null,""]
[null,null,"",null,""]
[null,null,"",null,""]
[null,null,"",null,""]
[null,null,"",null,""]
[null,null,"",null,""]
[null,null,"",null,""]
[null,null,"",null,""]
[null,null,"",null,""]
[null,null,"",null,""]
[null,null,"",null,""]
[null,null,"",null,""]
[null,null,"",null,""]
[null,null,"",null,""]
[null,null,"",null,""]
[null,null,"",null,""]
[null,null,"",null,""]
[null,null,"",null,""]
[null,null,"",null,""]
[null,null,"",null,""]
[null,null,"",null,""]
[null,null,"",null,""]
[null,null,"",null,""]
[null,null,"",null,""]
[null,null,"",null,""]
[null,null,"",null,""]
[null,null,"",null,""]
[null,null,"",null,""]
[null,null,"",null,""]
[null,null,"",null,""]
[null,null,"",null,""]
[null,null,"",null,""]
[null,null,"",null,""]
[null,null,{"$f":"IF(B4930<>\"\",VLOOKUP(B4930,Peligrosppam,2,FALSE),\"\")","v":""},null,""]
[null,null,"",null,""]
[null,null,"",null,""]
[null,null,"",null,{"$f":"IF(C4933<>\"\",D4933/C4933,\"\")","v":""}]
[null,null,"",null,""]
[null,null,"",null,""]
[null,null,"",null,""]
[null,null,"",null,""]
[null,null,"",null,""]
[null,null,"",null,""]
[null,null,"",null,""]
[null,null,"",null,""]
[null,null,"",null,""]
[null,null,"",null,""]
[null,null,"",null,""]
[null,null,"",null,""]
[null,null,"",null,""]
[null,null,"",null,""]
[null,null,"",null,""]
[null,null,"",null,""]
[null,null,"",null,""]
[null,null,"",null,""]
[null,null,"",null,""]
[null,null,"",null,""]
[null,null,"",null,""]
[null,null,"",null,""]
[null,null,"",null,""]
[null,null,"",null,""]
[null,null,"",null,""]
[null,null,"",null,""]
[null,null,"",null,""]
[null,null,"",null,""]
[null,null,"",null,""]
[null,null,"",null,""]
[null,null,"",null,""]
[null,null,"",null,""]
[null,null,"",null,""]
[null,null,"",null,""]
[null,null,"",null,""]
[null,null,"",null,""]
[null,null,"",null,""]
[null,null,"",null,""]
[null,null,"",null,""]
[null,null,"",null,""]
[null,null,"",null,""]
[null,null,"",null,""]
[null,null,"",null,""]
[null,null,"",null,""]
[null,null,"",null,""]
[null,null,"",null,""]
[null,null,"",null,""]
[null,null,"",null,""]
[null,null,"",null,""]
[null,null,"",null,""]
[null,null,"",null,""]
[null,null,"",null,""]
[null,null,"",null,""]
[null,null,"",null,""]
[null,null,"",null,""]
[null,null,"",null,""]
[null,null,"",null,""]
[null,null,"",null,""]
[null,null,"",null,""]
[null,null,"",null,""]
[null,null,{"$f":"IF(B4994<>\"\",VLOOKUP(B4994,Peligrosppam,2,FALSE),\"\")","v":""},null,""]
[null,null,"",null,""]
[null,null,"",null,""]
[null,null,"",null,{"$f":"IF(C4997<>\"\",D4997/C4997,\"\")","v":""}]
[null,null,"",null,""]
[null,null,"",null,""]
[null,null,"",null,""]
["Demasiados datos","X",{"$error":"#N/A"},"X","X"]

{"sheet":"Peligros","index":4,"n_rows":19,"n_cols":2,"rows_kept":19,"cut":false,"hidden":false,"merged":[]}
["Peligros PPAM","Umbral PPAM"]
["Toxicidad aguda categoría 1 (cualquier vía)",20]
["Toxicidad aguda\nCategoría 2 (cualquier vía) o\nCategoría 3 por inhalación",200]
["Toxicidad específica órganos diana exposición única categoría 1",200]
["Explosivos de las divisiones 1.1, 1.2, 1.3, 1.5 o 1.6\nSustancias o mezclas que tengan propiedades explosivas según el SGA y no pertenezcan a las clases de peligro <peróxidos orgánicos> o <sustancias o mezclas que reaccionan espontáneamente>",50]
["Explosivos de la división 1.4",200]
["Gases inflamables categorías 1 o 2",50]
["Aerosoles inflamables o extremadamente inflamables de las categorías 1 o 2, que contengan gases inflamables de las categorías 1 o 2 o líquidos inflamables de la categoría 1",500]
["Aerosoles inflamables o extremadamente inflamables de las categorías 1 o 2, que no contengan gases inflamables de las categorías 1 o 2 o líquidos inflamables de la categoría 1",50000]
["Gases comburentes categoría 1",200]
["Líquidos inflamables categoría 1 o\nLíquidos inflamables categorías 2 o 3 mantenidos a temperatura superior a su punto de ebullición u\nOtros líquidos con punto de inflamación <= 60 C, mantenidos a una temperatura superior a su punto de ebullición",50]
["Líquidos inflamables categorías 2 o 3 u otros líquidos inflamables con punto de inflamación <= 60 C, cuando condiciones como temperatura y presión puedan crear peligro de accidente mayor",200]
["Líquidos inflamables categorías 2 o 3 no comprendidos en las categorías anteriores",50000]
["Sustancias y mezclas que reaccionan espontáneamente de los tipos A o B, o peróxidos orgánicos de los tipos A o B",50]
["Sustancias y mezclas que reaccionan espontáneamente de los tipos C, D, E o F, o peróxidos orgánicos de los tipos C, D, E o F",200]
["Líquidos pirofóricos categoría 1 o\nSólidos pirofóricos categoría 1",200]
["Líquidos comburentes categorías 1, 2 o 3 o\nSólidos comburentes categorías 1, 2 o 3",200]
["Peligroso para el ambiente acuático categoría aguda 1 o crónica 1",200]
["Peligroso para el ambiente acuático categoría crónica 2",500]